{"text_format":"1","workbook":"xlsx","n_sheets":11,"sheets":["Instructions","GHG Calculator","Construction","Facility Operations","Vehicle Operations&Maintenance","Displaced Emissions","Dropdowns","Emissions Calculations","Energy Calculations","FactorMatrix","Matrix_2024"],"not_rendered":{"charts":0,"images":3,"macros":1,"external_links":1,"defined_names":39,"comments":0,"pivot_tables":0},"unopened":[],"bounds":{"document_bytes":16777216,"sheet_cells":100000,"rows_first":2000,"rows_last":500,"rows_between":2000,"halvings":0,"cell_chars":16384,"cell_head_chars":4096},"cells_cut":0,"cells_raw":0,"read":"whole","date_system":"1900"}

{"sheet":"Instructions","index":0,"n_rows":7,"n_cols":2,"rows_kept":7,"cut":false,"hidden":false,"merged":[[6,1,31,17]]}
[]
[]
[]
[]
[null,"Welcome to the FTA's Transit Greenhouse Gas Emissions Estimator, version 3.1"]
[]
[null,"OVERVIEW\nThe Federal Transit Administration's (FTA's) Transit Greenhouse Gas (GHG) Emissions Estimator v3.1 is a spreadsheet tool that allows users to estimate the partial lifecycle GHG emissions and energy use associated with the construction, operations, and maintenance phases of projects across select transit modes. Users input general information about a project, and the tool calculates annual GHG emissions and energy use by project phase. Total annual GHG emissions for a transit project is the sum of amortized construction emissions, annual maintenance emissions, and annual operations emissions, minus annual displaced emissions. The tool also calculates the total GHG emissions and energy use by project phase over the analysis period selected. \n\nThe Estimator was developed in connection with FTA's Greenhouse Gas Emissions from Transit Projects Programmatic Assessment. Although the tool lacks the precision that may be attainable by using more complex emission models or route-specific ridership estimates, it provides a resource to generate coarse but informative estimates of GHG emissions and energy use for a broad range of transit projects. In no case is the use of this tool mandatory, and transit agencies should work with FTA Regions to determine whether to conduct project-specific analyses of GHG emissions and the best approach for doing so.\n\nNAVIGATING THE TOOL\nThe tool asks users to enter information associated with four different elements of a project - Construction; Facility Operations; Vehicle Operations and Maintenance, and Displaced Emissions. Users can navigate to the different data input screens using the buttons on the main calculator page or by clicking the individual tabs. To begin, click the \"GHG Calculator\" tab.  \n\nADDITIONAL INFORMATION\nRefer to the accompanying user guide for detailed instructions on how to use the tool, as well as information about the GHG emissions factors, data sources, and assumptions used in the tool. The User Guide is available on the FTA Environmental Programs website. "]

{"sheet":"GHG Calculator","index":1,"n_rows":71,"n_cols":14,"rows_kept":71,"cut":false,"hidden":false,"merged":[[1,1,1,13],[2,1,2,13],[6,1,6,2],[8,4,9,4],[16,1,16,2],[8,5,8,8],[8,9,9,9],[8,10,8,12],[25,1,25,2],[34,1,34,2],[53,1,59,1],[64,1,70,1],[18,6,18,7],[21,6,21,7],[22,6,22,7],[23,6,23,7],[19,6,19,7],[20,6,20,7]]}
[]
[null,"FTA's TRANSIT GREENHOUSE GAS EMISSIONS ESTIMATOR v3.1"]
[null,"The tables below summarize the construction, facilty operations, vehicle operations and maintenance, and displaced emissions inputs for the project. Users can navigate to the different data input screens using the associated buttons. Once the inputs are added, scroll to the Results section below to view results. "]
[]
[null,"","1. Select State",null,"2. Enter Analysis Period (years)"]
[]
[null,"Construction Information"]
[]
[null,null,null,null,"Transit Mode:","Miles of New Track/Alignment",null,null,null,"Miles of Converted or Upgraded Track/Alignment","Number of Stations",null,null,{"$f":"Dropdowns!B15","v":0}]
[null,null,null,null,null,"Underground","Elevated","At-Grade","Catenary",null,"Underground","Elevated","At-Grade"]
[null,"Structured Parking Spots",{"$f":"Construction!C4","v":0},1,{"$f":"IF(OFFSET(Construction!B$7, $D11+$N$9, 0) = \"\", \"\", OFFSET(Construction!B$7, $D11+$N$9, 0))","v":""},{"$f":"IF(OFFSET(Construction!C$7, $D11+$N$9, 0) = \"\", \"\", OFFSET(Construction!C$7, $D11+$N$9, 0))","v":""},{"$f":"IF(OFFSET(Construction!D$7, $D11+$N$9, 0) = \"\", \"\", OFFSET(Construction!D$7, $D11+$N$9, 0))","v":""},{"$f":"IF(OFFSET(Construction!E$7, $D11+$N$9, 0) = \"\", \"\", OFFSET(Construction!E$7, $D11+$N$9, 0))","v":""},{"$f":"IF(OFFSET(Construction!F$7, $D11+$N$9, 0) = \"\", \"\", OFFSET(Construction!F$7, $D11+$N$9, 0))","v":""},{"$f":"IF(OFFSET(Construction!G$7, $D11+$N$9, 0) = \"\", \"\", OFFSET(Construction!G$7, $D11+$N$9, 0))","v":""},{"$f":"IF(OFFSET(Construction!H$7, $D11+$N$9, 0) = \"\", \"\", OFFSET(Construction!H$7, $D11+$N$9, 0))","v":""},{"$f":"IF(OFFSET(Construction!I$7, $D11+$N$9, 0) = \"\", \"\", OFFSET(Construction!I$7, $D11+$N$9, 0))","v":""},{"$f":"IF(OFFSET(Construction!J$7, $D11+$N$9, 0) = \"\", \"\", OFFSET(Construction!J$7, $D11+$N$9, 0))","v":""}]
[null,null,null,2,{"$f":"IF(OFFSET(Construction!B$7, $D12+$N$9, 0) = \"\", \"\", OFFSET(Construction!B$7, $D12+$N$9, 0))","v":""},{"$f":"IF(OFFSET(Construction!C$7, $D12+$N$9, 0) = \"\", \"\", OFFSET(Construction!C$7, $D12+$N$9, 0))","v":""},{"$f":"IF(OFFSET(Construction!D$7, $D12+$N$9, 0) = \"\", \"\", OFFSET(Construction!D$7, $D12+$N$9, 0))","v":""},{"$f":"IF(OFFSET(Construction!E$7, $D12+$N$9, 0) = \"\", \"\", OFFSET(Construction!E$7, $D12+$N$9, 0))","v":""},{"$f":"IF(OFFSET(Construction!F$7, $D12+$N$9, 0) = \"\", \"\", OFFSET(Construction!F$7, $D12+$N$9, 0))","v":""},{"$f":"IF(OFFSET(Construction!G$7, $D12+$N$9, 0) = \"\", \"\", OFFSET(Construction!G$7, $D12+$N$9, 0))","v":""},{"$f":"IF(OFFSET(Construction!H$7, $D12+$N$9, 0) = \"\", \"\", OFFSET(Construction!H$7, $D12+$N$9, 0))","v":""},{"$f":"IF(OFFSET(Construction!I$7, $D12+$N$9, 0) = \"\", \"\", OFFSET(Construction!I$7, $D12+$N$9, 0))","v":""},{"$f":"IF(OFFSET(Construction!J$7, $D12+$N$9, 0) = \"\", \"\", OFFSET(Construction!J$7, $D12+$N$9, 0))","v":""}]
[null,"Surface Parking Lot Spots",{"$f":"Construction!F4","v":0},3,{"$f":"IF(OFFSET(Construction!B$7, $D13+$N$9, 0) = \"\", \"\", OFFSET(Construction!B$7, $D13+$N$9, 0))","v":""},{"$f":"IF(OFFSET(Construction!C$7, $D13+$N$9, 0) = \"\", \"\", OFFSET(Construction!C$7, $D13+$N$9, 0))","v":""},{"$f":"IF(OFFSET(Construction!D$7, $D13+$N$9, 0) = \"\", \"\", OFFSET(Construction!D$7, $D13+$N$9, 0))","v":""},{"$f":"IF(OFFSET(Construction!E$7, $D13+$N$9, 0) = \"\", \"\", OFFSET(Construction!E$7, $D13+$N$9, 0))","v":""},{"$f":"IF(OFFSET(Construction!F$7, $D13+$N$9, 0) = \"\", \"\", OFFSET(Construction!F$7, $D13+$N$9, 0))","v":""},{"$f":"IF(OFFSET(Construction!G$7, $D13+$N$9, 0) = \"\", \"\", OFFSET(Construction!G$7, $D13+$N$9, 0))","v":""},{"$f":"IF(OFFSET(Construction!H$7, $D13+$N$9, 0) = \"\", \"\", OFFSET(Construction!H$7, $D13+$N$9, 0))","v":""},{"$f":"IF(OFFSET(Construction!I$7, $D13+$N$9, 0) = \"\", \"\", OFFSET(Construction!I$7, $D13+$N$9, 0))","v":""},{"$f":"IF(OFFSET(Construction!J$7, $D13+$N$9, 0) = \"\", \"\", OFFSET(Construction!J$7, $D13+$N$9, 0))","v":""}]
[null,null,null,4,{"$f":"IF(OFFSET(Construction!B$7, $D14+$N$9, 0) = \"\", \"\", OFFSET(Construction!B$7, $D14+$N$9, 0))","v":""},{"$f":"IF(OFFSET(Construction!C$7, $D14+$N$9, 0) = \"\", \"\", OFFSET(Construction!C$7, $D14+$N$9, 0))","v":""},{"$f":"IF(OFFSET(Construction!D$7, $D14+$N$9, 0) = \"\", \"\", OFFSET(Construction!D$7, $D14+$N$9, 0))","v":""},{"$f":"IF(OFFSET(Construction!E$7, $D14+$N$9, 0) = \"\", \"\", OFFSET(Construction!E$7, $D14+$N$9, 0))","v":""},{"$f":"IF(OFFSET(Construction!F$7, $D14+$N$9, 0) = \"\", \"\", OFFSET(Construction!F$7, $D14+$N$9, 0))","v":""},{"$f":"IF(OFFSET(Construction!G$7, $D14+$N$9, 0) = \"\", \"\", OFFSET(Construction!G$7, $D14+$N$9, 0))","v":""},{"$f":"IF(OFFSET(Construction!H$7, $D14+$N$9, 0) = \"\", \"\", OFFSET(Construction!H$7, $D14+$N$9, 0))","v":""},{"$f":"IF(OFFSET(Construction!I$7, $D14+$N$9, 0) = \"\", \"\", OFFSET(Construction!I$7, $D14+$N$9, 0))","v":""},{"$f":"IF(OFFSET(Construction!J$7, $D14+$N$9, 0) = \"\", \"\", OFFSET(Construction!J$7, $D14+$N$9, 0))","v":""}]
[1,"Trees Removed",{"$f":"Construction!H4","v":0},5,{"$f":"IF(OFFSET(Construction!B$7, $D15+$N$9, 0) = \"\", \"\", OFFSET(Construction!B$7, $D15+$N$9, 0))","v":""},{"$f":"IF(OFFSET(Construction!C$7, $D15+$N$9, 0) = \"\", \"\", OFFSET(Construction!C$7, $D15+$N$9, 0))","v":""},{"$f":"IF(OFFSET(Construction!D$7, $D15+$N$9, 0) = \"\", \"\", OFFSET(Construction!D$7, $D15+$N$9, 0))","v":""},{"$f":"IF(OFFSET(Construction!E$7, $D15+$N$9, 0) = \"\", \"\", OFFSET(Construction!E$7, $D15+$N$9, 0))","v":""},{"$f":"IF(OFFSET(Construction!F$7, $D15+$N$9, 0) = \"\", \"\", OFFSET(Construction!F$7, $D15+$N$9, 0))","v":""},{"$f":"IF(OFFSET(Construction!G$7, $D15+$N$9, 0) = \"\", \"\", OFFSET(Construction!G$7, $D15+$N$9, 0))","v":""},{"$f":"IF(OFFSET(Construction!H$7, $D15+$N$9, 0) = \"\", \"\", OFFSET(Construction!H$7, $D15+$N$9, 0))","v":""},{"$f":"IF(OFFSET(Construction!I$7, $D15+$N$9, 0) = \"\", \"\", OFFSET(Construction!I$7, $D15+$N$9, 0))","v":""},{"$f":"IF(OFFSET(Construction!J$7, $D15+$N$9, 0) = \"\", \"\", OFFSET(Construction!J$7, $D15+$N$9, 0))","v":""}]
[2]
[null,"Facility Operations Information"]
[null,null,null,null,null,null,null,null,null,{"$f":"Dropdowns!B16","v":0}]
[null,null,null,null,"Transit Mode","Building Type","Facility Square Footage "]
[null,null,null,1,{"$f":"IF(OFFSET('Facility Operations'!B$4, $D20+$J$18, 0) = \"\", \"\", OFFSET('Facility Operations'!B$4, $D20+$J$18, 0) )","v":""},{"$f":"IF(OFFSET('Facility Operations'!C$4, $D20+$J$18, 0) = \"\", \"\", OFFSET('Facility Operations'!C$4, $D20+$J$18, 0) )","v":""},{"$f":"IF(OFFSET('Facility Operations'!D$4, $D20+$J$18, 0) = \"\", \"\", OFFSET('Facility Operations'!D$4, $D20+$J$18, 0) )","v":""},{"$f":"IF(OFFSET('Facility Operations'!#REF!, $D20+$J$18, 0) = \"\", \"\", OFFSET('Facility Operations'!#REF!, $D20+$J$18, 0) )","v":{"$error":"#REF!"}}]
[null,null,null,2,{"$f":"IF(OFFSET('Facility Operations'!B$4, $D21+$J$18, 0) = \"\", \"\", OFFSET('Facility Operations'!B$4, $D21+$J$18, 0) )","v":""},{"$f":"IF(OFFSET('Facility Operations'!C$4, $D21+$J$18, 0) = \"\", \"\", OFFSET('Facility Operations'!C$4, $D21+$J$18, 0) )","v":""},{"$f":"IF(OFFSET('Facility Operations'!D$4, $D21+$J$18, 0) = \"\", \"\", OFFSET('Facility Operations'!D$4, $D21+$J$18, 0) )","v":""},{"$f":"IF(OFFSET('Facility Operations'!#REF!, $D21+$J$18, 0) = \"\", \"\", OFFSET('Facility Operations'!#REF!, $D21+$J$18, 0) )","v":{"$error":"#REF!"}}]
[null,null,null,3,{"$f":"IF(OFFSET('Facility Operations'!B$4, $D22+$J$18, 0) = \"\", \"\", OFFSET('Facility Operations'!B$4, $D22+$J$18, 0) )","v":""},{"$f":"IF(OFFSET('Facility Operations'!C$4, $D22+$J$18, 0) = \"\", \"\", OFFSET('Facility Operations'!C$4, $D22+$J$18, 0) )","v":""},{"$f":"IF(OFFSET('Facility Operations'!D$4, $D22+$J$18, 0) = \"\", \"\", OFFSET('Facility Operations'!D$4, $D22+$J$18, 0) )","v":""},{"$f":"IF(OFFSET('Facility Operations'!#REF!, $D22+$J$18, 0) = \"\", \"\", OFFSET('Facility Operations'!#REF!, $D22+$J$18, 0) )","v":{"$error":"#REF!"}}]
[null,null,null,4,{"$f":"IF(OFFSET('Facility Operations'!B$4, $D23+$J$18, 0) = \"\", \"\", OFFSET('Facility Operations'!B$4, $D23+$J$18, 0) )","v":""},{"$f":"IF(OFFSET('Facility Operations'!C$4, $D23+$J$18, 0) = \"\", \"\", OFFSET('Facility Operations'!C$4, $D23+$J$18, 0) )","v":""},{"$f":"IF(OFFSET('Facility Operations'!D$4, $D23+$J$18, 0) = \"\", \"\", OFFSET('Facility Operations'!D$4, $D23+$J$18, 0) )","v":""},{"$f":"IF(OFFSET('Facility Operations'!#REF!, $D23+$J$18, 0) = \"\", \"\", OFFSET('Facility Operations'!#REF!, $D23+$J$18, 0) )","v":{"$error":"#REF!"}}]
[null,null,null,5,{"$f":"IF(OFFSET('Facility Operations'!B$4, $D24+$J$18, 0) = \"\", \"\", OFFSET('Facility Operations'!B$4, $D24+$J$18, 0) )","v":""},{"$f":"IF(OFFSET('Facility Operations'!C$4, $D24+$J$18, 0) = \"\", \"\", OFFSET('Facility Operations'!C$4, $D24+$J$18, 0) )","v":""},{"$f":"IF(OFFSET('Facility Operations'!D$4, $D24+$J$18, 0) = \"\", \"\", OFFSET('Facility Operations'!D$4, $D24+$J$18, 0) )","v":""},{"$f":"IF(OFFSET('Facility Operations'!#REF!, $D24+$J$18, 0) = \"\", \"\", OFFSET('Facility Operations'!#REF!, $D24+$J$18, 0) )","v":{"$error":"#REF!"}}]
[null,null,null,5]
[null,"Vehicle Operations & Maintenance Information"]
[null,null,null,null,null,null,null,null,{"$f":"Dropdowns!B17","v":0},0]
[null,null,null,null,"Operation Mode ","Fuel Source","eGrid Subregion (if applicable)","VMT"]
[null,null,null,1,{"$f":"IF(OFFSET('Vehicle Operations&Maintenance'!B$4, $D29+$I$27, 0) = \"\", \"\", OFFSET('Vehicle Operations&Maintenance'!B$4, $D29+$I$27, 0) )","v":""},{"$f":"IF(OFFSET('Vehicle Operations&Maintenance'!C$4, $D29+$I$27, 0) = \"\", \"\", OFFSET('Vehicle Operations&Maintenance'!C$4, $D29+$I$27, 0) )","v":""},{"$f":"IF(OFFSET('Vehicle Operations&Maintenance'!D$4, $D29+$I$27, 0) = \"\", \"\", OFFSET('Vehicle Operations&Maintenance'!D$4, $D29+$I$27, 0) )","v":""},{"$f":"IF(OFFSET('Vehicle Operations&Maintenance'!E$4, $D29+$I$27, 0) = \"\", \"\", OFFSET('Vehicle Operations&Maintenance'!E$4, $D29+$I$27, 0) )","v":""}]
[null,null,null,2,{"$f":"IF(OFFSET('Vehicle Operations&Maintenance'!B$4, $D30+$I$27, 0) = \"\", \"\", OFFSET('Vehicle Operations&Maintenance'!B$4, $D30+$I$27, 0) )","v":""},{"$f":"IF(OFFSET('Vehicle Operations&Maintenance'!C$4, $D30+$I$27, 0) = \"\", \"\", OFFSET('Vehicle Operations&Maintenance'!C$4, $D30+$I$27, 0) )","v":""},{"$f":"IF(OFFSET('Vehicle Operations&Maintenance'!D$4, $D30+$I$27, 0) = \"\", \"\", OFFSET('Vehicle Operations&Maintenance'!D$4, $D30+$I$27, 0) )","v":""},{"$f":"IF(OFFSET('Vehicle Operations&Maintenance'!E$4, $D30+$I$27, 0) = \"\", \"\", OFFSET('Vehicle Operations&Maintenance'!E$4, $D30+$I$27, 0) )","v":""}]
[null,null,null,3,{"$f":"IF(OFFSET('Vehicle Operations&Maintenance'!B$4, $D31+$I$27, 0) = \"\", \"\", OFFSET('Vehicle Operations&Maintenance'!B$4, $D31+$I$27, 0) )","v":""},{"$f":"IF(OFFSET('Vehicle Operations&Maintenance'!C$4, $D31+$I$27, 0) = \"\", \"\", OFFSET('Vehicle Operations&Maintenance'!C$4, $D31+$I$27, 0) )","v":""},{"$f":"IF(OFFSET('Vehicle Operations&Maintenance'!D$4, $D31+$I$27, 0) = \"\", \"\", OFFSET('Vehicle Operations&Maintenance'!D$4, $D31+$I$27, 0) )","v":""},{"$f":"IF(OFFSET('Vehicle Operations&Maintenance'!E$4, $D31+$I$27, 0) = \"\", \"\", OFFSET('Vehicle Operations&Maintenance'!E$4, $D31+$I$27, 0) )","v":""}]
[null,null,null,4,{"$f":"IF(OFFSET('Vehicle Operations&Maintenance'!B$4, $D32+$I$27, 0) = \"\", \"\", OFFSET('Vehicle Operations&Maintenance'!B$4, $D32+$I$27, 0) )","v":""},{"$f":"IF(OFFSET('Vehicle Operations&Maintenance'!C$4, $D32+$I$27, 0) = \"\", \"\", OFFSET('Vehicle Operations&Maintenance'!C$4, $D32+$I$27, 0) )","v":""},{"$f":"IF(OFFSET('Vehicle Operations&Maintenance'!D$4, $D32+$I$27, 0) = \"\", \"\", OFFSET('Vehicle Operations&Maintenance'!D$4, $D32+$I$27, 0) )","v":""},{"$f":"IF(OFFSET('Vehicle Operations&Maintenance'!E$4, $D32+$I$27, 0) = \"\", \"\", OFFSET('Vehicle Operations&Maintenance'!E$4, $D32+$I$27, 0) )","v":""}]
[null,null,null,5,{"$f":"IF(OFFSET('Vehicle Operations&Maintenance'!B$4, $D33+$I$27, 0) = \"\", \"\", OFFSET('Vehicle Operations&Maintenance'!B$4, $D33+$I$27, 0) )","v":""},{"$f":"IF(OFFSET('Vehicle Operations&Maintenance'!C$4, $D33+$I$27, 0) = \"\", \"\", OFFSET('Vehicle Operations&Maintenance'!C$4, $D33+$I$27, 0) )","v":""},{"$f":"IF(OFFSET('Vehicle Operations&Maintenance'!D$4, $D33+$I$27, 0) = \"\", \"\", OFFSET('Vehicle Operations&Maintenance'!D$4, $D33+$I$27, 0) )","v":""},{"$f":"IF(OFFSET('Vehicle Operations&Maintenance'!E$4, $D33+$I$27, 0) = \"\", \"\", OFFSET('Vehicle Operations&Maintenance'!E$4, $D33+$I$27, 0) )","v":""}]
[null,null,null,5]
[null,"Displaced VMT"]
[null,null,null,null,null,null,null,null,null,null,null,{"$f":"Dropdowns!B18","v":0}]
[null,null,null,null,"Operation Mode ","Fuel Source","eGrid Subregion (if applicable)","VMT"]
[null,null,null,1,{"$f":"IF(OFFSET('Displaced Emissions'!B$4,$D38+ $L$36, 0) = \"\", \"\", OFFSET('Displaced Emissions'!B$4,$D38+ $L$36, 0) )","v":""},{"$f":"IF(OFFSET('Displaced Emissions'!C$4,$D38+ $L$36, 0) = \"\", \"\", OFFSET('Displaced Emissions'!C$4,$D38+ $L$36, 0) )","v":""},{"$f":"IF(OFFSET('Displaced Emissions'!D$4,$D38+ $L$36, 0) = \"\", \"\", OFFSET('Displaced Emissions'!D$4,$D38+ $L$36, 0) )","v":""},{"$f":"IF(OFFSET('Displaced Emissions'!E$4,$D38+ $L$36, 0) = \"\", \"\", OFFSET('Displaced Emissions'!E$4,$D38+ $L$36, 0) )","v":""}]
[null,null,null,2,{"$f":"IF(OFFSET('Displaced Emissions'!B$4,$D39+ $L$36, 0) = \"\", \"\", OFFSET('Displaced Emissions'!B$4,$D39+ $L$36, 0) )","v":""},{"$f":"IF(OFFSET('Displaced Emissions'!C$4,$D39+ $L$36, 0) = \"\", \"\", OFFSET('Displaced Emissions'!C$4,$D39+ $L$36, 0) )","v":""},{"$f":"IF(OFFSET('Displaced Emissions'!D$4,$D39+ $L$36, 0) = \"\", \"\", OFFSET('Displaced Emissions'!D$4,$D39+ $L$36, 0) )","v":""},{"$f":"IF(OFFSET('Displaced Emissions'!E$4,$D39+ $L$36, 0) = \"\", \"\", OFFSET('Displaced Emissions'!E$4,$D39+ $L$36, 0) )","v":""}]
[null,null,null,3,{"$f":"IF(OFFSET('Displaced Emissions'!B$4,$D40+ $L$36, 0) = \"\", \"\", OFFSET('Displaced Emissions'!B$4,$D40+ $L$36, 0) )","v":""},{"$f":"IF(OFFSET('Displaced Emissions'!C$4,$D40+ $L$36, 0) = \"\", \"\", OFFSET('Displaced Emissions'!C$4,$D40+ $L$36, 0) )","v":""},{"$f":"IF(OFFSET('Displaced Emissions'!D$4,$D40+ $L$36, 0) = \"\", \"\", OFFSET('Displaced Emissions'!D$4,$D40+ $L$36, 0) )","v":""},{"$f":"IF(OFFSET('Displaced Emissions'!E$4,$D40+ $L$36, 0) = \"\", \"\", OFFSET('Displaced Emissions'!E$4,$D40+ $L$36, 0) )","v":""}]
[null,null,null,4,{"$f":"IF(OFFSET('Displaced Emissions'!B$4,$D41+ $L$36, 0) = \"\", \"\", OFFSET('Displaced Emissions'!B$4,$D41+ $L$36, 0) )","v":""},{"$f":"IF(OFFSET('Displaced Emissions'!C$4,$D41+ $L$36, 0) = \"\", \"\", OFFSET('Displaced Emissions'!C$4,$D41+ $L$36, 0) )","v":""},{"$f":"IF(OFFSET('Displaced Emissions'!D$4,$D41+ $L$36, 0) = \"\", \"\", OFFSET('Displaced Emissions'!D$4,$D41+ $L$36, 0) )","v":""},{"$f":"IF(OFFSET('Displaced Emissions'!E$4,$D41+ $L$36, 0) = \"\", \"\", OFFSET('Displaced Emissions'!E$4,$D41+ $L$36, 0) )","v":""}]
[null,null,null,5,{"$f":"IF(OFFSET('Displaced Emissions'!B$4,$D42+ $L$36, 0) = \"\", \"\", OFFSET('Displaced Emissions'!B$4,$D42+ $L$36, 0) )","v":""},{"$f":"IF(OFFSET('Displaced Emissions'!C$4,$D42+ $L$36, 0) = \"\", \"\", OFFSET('Displaced Emissions'!C$4,$D42+ $L$36, 0) )","v":""},{"$f":"IF(OFFSET('Displaced Emissions'!D$4,$D42+ $L$36, 0) = \"\", \"\", OFFSET('Displaced Emissions'!D$4,$D42+ $L$36, 0) )","v":""},{"$f":"IF(OFFSET('Displaced Emissions'!E$4,$D42+ $L$36, 0) = \"\", \"\", OFFSET('Displaced Emissions'!E$4,$D42+ $L$36, 0) )","v":""}]
[]
[null,null,null,5]
[null,"RESULTS",null,null,{"$f":"IF('Emissions Calculations'!E2, \"\", \"Press 'Calculate Results' above to check for errors and calculate GHG emissions\")","v":"Press 'Calculate Results' above to check for errors and calculate GHG emissions"}]
[null,"Summary Results","GHG Emissions (MTCO2eq)",null,null,null,null,"Energy Use (mmBTU)"]
[null,null,null,"Upstream","Downstream ","Total",null,null,"Upstream","Downstream ","Total"]
[null,null,"Annual",{"$f":"IF( 'Emissions Calculations'!$E$2, SUM(D54:D58)-SUM(D59), \"\")","v":""},{"$f":"IF( 'Emissions Calculations'!$E$2, SUM(E54:E58)-SUM(E59), \"\")","v":""},{"$f":"IF( 'Emissions Calculations'!$E$2, SUM(F54:F58)-SUM(F59), \"\")","v":""},null,"Annual",{"$f":"IF( 'Emissions Calculations'!$E$2, SUM(I54:I58)-SUM(I59), \"\")","v":""},{"$f":"IF( 'Emissions Calculations'!$E$2, SUM(J54:J58)-SUM(J59), \"\")","v":""},{"$f":"IF( 'Emissions Calculations'!$E$2, SUM(K54:K58)-SUM(K59), \"\")","v":""}]
[null,null,"Total Analysis Period",{"$f":"IF( 'Emissions Calculations'!$E$2, SUM(D65:D69)-SUM(D70), \"\")","v":""},{"$f":"IF( 'Emissions Calculations'!$E$2, SUM(E65:E69)-SUM(E70), \"\")","v":""},{"$f":"IF( 'Emissions Calculations'!$E$2, SUM(F65:F69)-SUM(F70), \"\")","v":""},null,"Total Analysis Period",{"$f":"IF( 'Emissions Calculations'!$E$2, SUM(I65:I69)-SUM(I70), \"\")","v":""},{"$f":"IF( 'Emissions Calculations'!$E$2,SUM(J65:J69)-SUM(J70),\"\")","v":""},{"$f":"IF( 'Emissions Calculations'!$E$2, SUM(K65:K69)-SUM(K70), \"\")","v":""}]
[]
[null,"Detailed Results "]
[null,null,"GHG Emissions (MTCO2eq)",null,null,null,null,"Energy Use (mmBTU)"]
[null,null,null,"Upstream","Downstream ","Total ",null,null,"Upstream","Downstream ","Total "]
[null,"Annual Results","Construction ",{"$f":"IF('Emissions Calculations'!$E$2, 'Emissions Calculations'!D153, \"\")","v":""},{"$f":"IF('Emissions Calculations'!$E$2, 'Emissions Calculations'!E153, \"\")","v":""},{"$f":"IF('Emissions Calculations'!$E$2, 'Emissions Calculations'!F153, \"\")","v":""},null,"Construction ",{"$f":"IF('Emissions Calculations'!$E$2, 'Energy Calculations'!D153, \"\")","v":""},{"$f":"IF('Emissions Calculations'!$E$2, 'Energy Calculations'!E153, \"\")","v":""},{"$f":"IF('Emissions Calculations'!$E$2, 'Energy Calculations'!F153, \"\")","v":""}]
[null,null,"Transitway Maintenance",{"$f":"IF('Emissions Calculations'!$E$2, 'Emissions Calculations'!D154, \"\")","v":""},{"$f":"IF('Emissions Calculations'!$E$2, 'Emissions Calculations'!E154, \"\")","v":""},{"$f":"IF('Emissions Calculations'!$E$2, 'Emissions Calculations'!F154, \"\")","v":""},null,"Transitway Maintenance",{"$f":"IF('Emissions Calculations'!$E$2, 'Energy Calculations'!D154, \"\")","v":""},{"$f":"IF('Emissions Calculations'!$E$2, 'Energy Calculations'!E154, \"\")","v":""},{"$f":"IF('Emissions Calculations'!$E$2, 'Energy Calculations'!F154, \"\")","v":""}]
[null,null,"Facility Operations",{"$f":"IF('Emissions Calculations'!$E$2, 'Emissions Calculations'!D155, \"\")","v":""},{"$f":"IF('Emissions Calculations'!$E$2, 'Emissions Calculations'!E155, \"\")","v":""},{"$f":"IF('Emissions Calculations'!$E$2, 'Emissions Calculations'!F155, \"\")","v":""},null,"Facility Operations",{"$f":"IF('Emissions Calculations'!$E$2, 'Energy Calculations'!D155, \"\")","v":""},{"$f":"IF('Emissions Calculations'!$E$2, 'Energy Calculations'!E155, \"\")","v":""},{"$f":"IF('Emissions Calculations'!$E$2, 'Energy Calculations'!F155, \"\")","v":""}]
[null,null,"Vehicle Operations",{"$f":"IF('Emissions Calculations'!$E$2, 'Emissions Calculations'!D156, \"\")","v":""},{"$f":"IF('Emissions Calculations'!$E$2, 'Emissions Calculations'!E156, \"\")","v":""},{"$f":"IF('Emissions Calculations'!$E$2, 'Emissions Calculations'!F156, \"\")","v":""},null,"Vehicle Operations",{"$f":"IF('Emissions Calculations'!$E$2, 'Energy Calculations'!D156, \"\")","v":""},{"$f":"IF('Emissions Calculations'!$E$2, 'Energy Calculations'!E156, \"\")","v":""},{"$f":"IF('Emissions Calculations'!$E$2, 'Energy Calculations'!F156, \"\")","v":""}]
[null,null,"Vehicle Maintenance",{"$f":"IF('Emissions Calculations'!$E$2, 'Emissions Calculations'!D157, \"\")","v":""},{"$f":"IF('Emissions Calculations'!$E$2, 'Emissions Calculations'!E157, \"\")","v":""},{"$f":"IF('Emissions Calculations'!$E$2, 'Emissions Calculations'!F157, \"\")","v":""},null,"Vehicle Maintenance",{"$f":"IF('Emissions Calculations'!$E$2, 'Energy Calculations'!D157, \"\")","v":""},{"$f":"IF('Emissions Calculations'!$E$2, 'Energy Calculations'!E157, \"\")","v":""},{"$f":"IF('Emissions Calculations'!$E$2, 'Energy Calculations'!F157, \"\")","v":""}]
[null,null,"Displaced Emissions",{"$f":"IF('Emissions Calculations'!$E$2, 'Emissions Calculations'!D158, \"\")","v":""},{"$f":"IF('Emissions Calculations'!$E$2, 'Emissions Calculations'!E158, \"\")","v":""},{"$f":"IF('Emissions Calculations'!$E$2, 'Emissions Calculations'!F158, \"\")","v":""},null,"Displaced Emissions",{"$f":"IF('Emissions Calculations'!$E$2, 'Energy Calculations'!D158, \"\")","v":""},{"$f":"IF('Emissions Calculations'!$E$2, 'Energy Calculations'!E158, \"\")","v":""},{"$f":"IF('Emissions Calculations'!$E$2, 'Energy Calculations'!F158, \"\")","v":""}]
[null,null,"Cumulative Emissions",{"$f":"IF('Emissions Calculations'!$E$2, SUM(D54:D58)-SUM(D59), \"\")","v":""},{"$f":"IF('Emissions Calculations'!$E$2, SUM(E54:E58)-SUM(E59), \"\")","v":""},{"$f":"IF('Emissions Calculations'!$E$2, SUM(F54:F58)-SUM(F59), \"\")","v":""},null,"Cumulative Emissions",{"$f":"IF('Emissions Calculations'!$E$2, SUM(I54:I58)-SUM(I59), \"\")","v":""},{"$f":"IF('Emissions Calculations'!$E$2, SUM(J54:J58)-SUM(J59), \"\")","v":""},{"$f":"IF('Emissions Calculations'!$E$2, SUM(K54:K58)-SUM(K59), \"\")","v":""}]
[]
[]
[null,null,"GHG Emissions (MTCO2eq)",null,null,null,null,"Energy Use (mmBTU)"]
[null,null,null,"Upstream","Downstream ","Total",null,null,"Upstream","Downstream ","Total"]
[null,"Total Analysis Period","Construction ",{"$f":"IF(D54=\"\", \"\", D54*Years)","v":""},{"$f":"IF(E54=\"\", \"\", E54*Years)","v":""},{"$f":"IF(F54=\"\", \"\", F54*Years)","v":""},null,"Construction ",{"$f":"IF(I54=\"\", \"\", I54*Years)","v":""},"",""]
[null,null,"Transitway Maintenance",{"$f":"IF(D55=\"\", \"\", D55*Years)","v":""},{"$f":"IF(E55=\"\", \"\", E55*Years)","v":""},"",null,"Transitway Maintenance","","",""]
[null,null,"Facility Operations",{"$f":"IF(D56=\"\", \"\", D56*Years)","v":""},"","",null,"Facility Operations","","",""]
[null,null,"Vehicle Operations",{"$f":"IF(D57=\"\", \"\", D57*Years)","v":""},"","",null,"Vehicle Operations","","",""]
[null,null,"Vehicle Maintenance",{"$f":"IF(D58=\"\", \"\", D58*Years)","v":""},"","",null,"Vehicle Maintenance","","",""]
[null,null,"Displaced Emissions",{"$f":"IF(D59=\"\", \"\", D59*Years)","v":""},"","",null,"Displaced Emissions","","",""]
[null,null,"Cumulative Emissions",{"$f":"IF('Emissions Calculations'!$E$2, SUM(D65:D69)-SUM(D70), \"\")","v":""},{"$f":"IF('Emissions Calculations'!$E$2, SUM(E65:E69)-SUM(E70), \"\")","v":""},{"$f":"IF('Emissions Calculations'!$E$2, SUM(F65:F69)-SUM(F70), \"\")","v":""},null,"Cumulative Emissions",{"$f":"IF('Emissions Calculations'!$E$2, SUM(I65:I69)-SUM(I70), \"\")","v":""},{"$f":"IF('Emissions Calculations'!$E$2, SUM(J65:J69)-SUM(J70), \"\")","v":""},{"$f":"IF('Emissions Calculations'!$E$2, SUM(K65:K69)-SUM(K70), \"\")","v":""}]

{"sheet":"Construction","index":2,"n_rows":7,"n_cols":11,"rows_kept":7,"cut":false,"hidden":false,"merged":[[1,1,1,9],[5,7,5,9],[5,1,6,1],[5,2,5,5],[5,6,6,6],[3,3,3,4],[3,8,3,9]]}
[]
[null,"CONSTRUCTION",null,null,null,null,null,null,null,null,"Return to Calculator"]
[]
[null,"1. Enter # of Structured Parking Spots to be Built:",null,"2. Enter # of Surface Parking Lot Spots to be Built:",null,null,"3. Enter the # of Trees to be Removed:*",null,"*If there will be a net gain in trees, enter the number as a negative (e.g., -5)"]
[]
[null,"4. Select Transit Mode:","5. Enter the Miles of New Track/Lanes and Catenary to be Built",null,null,null,"6. Enter the Miles of Track/Alignment to be Converted or Upgraded ","7. Enter the # of New Stations to be Built"]
[null,null,"Underground","Elevated","At-Grade","Catenary",null,"Underground","Elevated","At-Grade"]

{"sheet":"Facility Operations","index":3,"n_rows":4,"n_cols":5,"rows_kept":4,"cut":false,"hidden":false,"merged":[[1,1,1,3]]}
[]
[null,"FACILITY OPERATIONS",null,null,"Return to Calculator"]
[]
[null,"1. Select Transit Mode:","2. Select Facility Type","3. Enter Size (Square Footage) of Facility"]

{"sheet":"Vehicle Operations&Maintenance","index":4,"n_rows":24,"n_cols":6,"rows_kept":24,"cut":false,"hidden":false,"merged":[[1,1,1,4]]}
[]
[null,"TRANSIT VEHICLE OPERATIONS & MAINTENANCE",null,null,null,"Return to Calculator"]
[]
[null,"1. Select Transit Vehicle Type ","2. Select Fuel Source","3. Select eGrid Subregion (for electric operations)","4. Enter Annual Transit VMT Anticipated"]
[null,null,null,null,null,{"$f":"IF(C5=\"Electric\", TRUE, IF(C5=\"All Electric\", TRUE, IF(C5=\"Plug-in Hybrid Electric\", TRUE, FALSE)))","v":false}]
[null,null,null,null,null,{"$f":"IF(C6=\"Electric\", TRUE, IF(C6=\"All Electric\", TRUE, IF(C6=\"Plug-in Hybrid Electric\", TRUE, FALSE)))","v":false}]
[null,null,null,null,null,false]
[null,null,null,null,null,false]
[null,null,null,null,null,false]
[null,null,null,null,null,false]
[null,null,null,null,null,false]
[null,null,null,null,null,false]
[null,null,null,null,null,false]
[null,null,null,null,null,false]
[null,null,null,null,null,false]
[null,null,null,null,null,false]
[null,null,null,null,null,false]
[null,null,null,null,null,false]
[null,null,null,null,null,false]
[null,null,null,null,null,false]
[null,null,null,null,null,false]
[null,null,null,null,null,false]
[null,null,null,null,null,false]
[null,null,null,null,null,false]

{"sheet":"Displaced Emissions","index":5,"n_rows":24,"n_cols":6,"rows_kept":24,"cut":false,"hidden":false,"merged":[[1,1,1,4]]}
[]
[null,"DISPLACED EMISSIONS",null,null,null,"Return to Calculator"]
[]
[null,"1. Select Vehicle Type","2. Select Fuel Source","3. Select eGrid Subregion (for electric operations)","4. Enter Annual Vehicle VMT Displaced"]
[null,null,null,null,null,{"$f":"IF(C5=\"Electric\", TRUE, IF(C5=\"All Electric\", TRUE, IF(C5=\"Plug-in Hybrid Electric\", TRUE, FALSE)))","v":false}]
[null,null,null,null,null,{"$f":"IF(C6=\"Electric\", TRUE, IF(C6=\"All Electric\", TRUE, IF(C6=\"Plug-in Hybrid Electric\", TRUE, FALSE)))","v":false}]
[null,null,null,null,null,false]
[null,null,null,null,null,false]
[null,null,null,null,null,false]
[null,null,null,null,null,false]
[null,null,null,null,null,false]
[null,null,null,null,null,false]
[null,null,null,null,null,false]
[null,null,null,null,null,false]
[null,null,null,null,null,false]
[null,null,null,null,null,false]
[null,null,null,null,null,false]
[null,null,null,null,null,false]
[null,null,null,null,null,false]
[null,null,null,null,null,false]
[null,null,null,null,null,false]
[null,null,null,null,null,false]
[null,null,null,null,null,false]
[null,null,null,null,null,false]

{"sheet":"Dropdowns","index":6,"n_rows":54,"n_cols":19,"rows_kept":54,"cut":false,"hidden":true,"merged":[]}
[]
[null,"Transit Modes",null,"Maintenance and Operation Modes",null,"Veh Op Modes",null,"Operations Fuels",null,null,"eGRID Subregions","NERC Region",null,"Building Types",null,"States","#1","#2","#3"]
[null,"Heavy Rail",null,"Heavy Rail",null,"Heavy Rail",null,null,null,null,"US Mix","US",null,"Station"]
[null,"Commuter Rail",null,"Commuter Rail",null,"Light Rail or Streetcar",null,"Heavy, Light, Streetcar",null,null,"AKGD","ASCC",null,"Maintenance/Storage Facility",null,"AL",{"$f":"--ISNUMBER(IFERROR(SEARCH('GHG Calculator'!$D$5,P4,1),\"\"))","v":1},{"$f":"IF(Q4=1,COUNTIF($Q$4:Q4,1),\"\")","v":1},{"$f":"IFERROR(INDEX($P$4:$P$54,MATCH(ROWS($R$4:R4),$R$4:$R$54,0)),\"\")","v":"AL"}]
[null,"Light Rail or Streetcar",null,"Light Rail or Streetcar",null,"Commuter Rail",null,"Electric",null,null,"AKMS","ASCC",null,null,null,"AK",{"$f":"--ISNUMBER(IFERROR(SEARCH('GHG Calculator'!$D$5,P5,1),\"\"))","v":1},{"$f":"IF(Q5=1,COUNTIF($Q$4:Q5,1),\"\")","v":2},{"$f":"IFERROR(INDEX($P$4:$P$54,MATCH(ROWS($R$4:R5),$R$4:$R$54,0)),\"\")","v":"AK"}]
[null,"Bus/BRT",null,"Bus/BRT",null,"Bus/BRT",null,null,null,null,"AZNM","WECC",null,null,null,"AZ",{"$f":"--ISNUMBER(IFERROR(SEARCH('GHG Calculator'!$D$5,P6,1),\"\"))","v":1},{"$f":"IF(Q6=1,COUNTIF($Q$4:Q6,1),\"\")","v":3},{"$f":"IFERROR(INDEX($P$4:$P$54,MATCH(ROWS($R$4:R6),$R$4:$R$54,0)),\"\")","v":"AZ"}]
[null,null,null,null,null,"Vanpool",null,"Bus/BRT",null,null,"CAMX","WECC",null,null,null,"AR",{"$f":"--ISNUMBER(IFERROR(SEARCH('GHG Calculator'!$D$5,P7,1),\"\"))","v":1},{"$f":"IF(Q7=1,COUNTIF($Q$4:Q7,1),\"\")","v":4},{"$f":"IFERROR(INDEX($P$4:$P$54,MATCH(ROWS($R$4:R7),$R$4:$R$54,0)),\"\")","v":"AR"}]
[null,null,null,null,null,"School Bus",null,"Diesel",null,null,"ERCT","TRE",null,null,null,"CA",{"$f":"--ISNUMBER(IFERROR(SEARCH('GHG Calculator'!$D$5,P8,1),\"\"))","v":1},{"$f":"IF(Q8=1,COUNTIF($Q$4:Q8,1),\"\")","v":5},{"$f":"IFERROR(INDEX($P$4:$P$54,MATCH(ROWS($R$4:R8),$R$4:$R$54,0)),\"\")","v":"CA"}]
[null,"New or Converted ",null,null,null,"DR Bus",null,"CNG",null,null,"FRCC","FRCC",null,null,null,"CO",{"$f":"--ISNUMBER(IFERROR(SEARCH('GHG Calculator'!$D$5,P9,1),\"\"))","v":1},{"$f":"IF(Q9=1,COUNTIF($Q$4:Q9,1),\"\")","v":6},{"$f":"IFERROR(INDEX($P$4:$P$54,MATCH(ROWS($R$4:R9),$R$4:$R$54,0)),\"\")","v":"CO"}]
[null,"New Construction",null,null,null,"Sedan/Auto",null,"Hybrid Diesel",null,null,"HIMS","HICC",null,null,null,"CT",{"$f":"--ISNUMBER(IFERROR(SEARCH('GHG Calculator'!$D$5,P10,1),\"\"))","v":1},{"$f":"IF(Q10=1,COUNTIF($Q$4:Q10,1),\"\")","v":7},{"$f":"IFERROR(INDEX($P$4:$P$54,MATCH(ROWS($R$4:R10),$R$4:$R$54,0)),\"\")","v":"CT"}]
[null,"Converted or Upgraded",null,null,null,null,null,"Gas",null,null,"HIOA","HICC",null,null,null,"DC",{"$f":"--ISNUMBER(IFERROR(SEARCH('GHG Calculator'!$D$5,P11,1),\"\"))","v":1},{"$f":"IF(Q11=1,COUNTIF($Q$4:Q11,1),\"\")","v":8},{"$f":"IFERROR(INDEX($P$4:$P$54,MATCH(ROWS($R$4:R11),$R$4:$R$54,0)),\"\")","v":"DC"}]
[null,null,null,null,null,null,null,"Electric",null,null,"MROE","MRO",null,null,null,"DE",{"$f":"--ISNUMBER(IFERROR(SEARCH('GHG Calculator'!$D$5,P12,1),\"\"))","v":1},{"$f":"IF(Q12=1,COUNTIF($Q$4:Q12,1),\"\")","v":9},{"$f":"IFERROR(INDEX($P$4:$P$54,MATCH(ROWS($R$4:R12),$R$4:$R$54,0)),\"\")","v":"DE"}]
[null,null,null,null,null,null,null,null,null,null,"MROW","MRO",null,null,null,"FL",{"$f":"--ISNUMBER(IFERROR(SEARCH('GHG Calculator'!$D$5,P13,1),\"\"))","v":1},{"$f":"IF(Q13=1,COUNTIF($Q$4:Q13,1),\"\")","v":10},{"$f":"IFERROR(INDEX($P$4:$P$54,MATCH(ROWS($R$4:R13),$R$4:$R$54,0)),\"\")","v":"FL"}]
[null,"Scroll Controls",null,null,null,null,null,"Vanpool",null,null,"NEWE","NPCC",null,null,null,"GA",{"$f":"--ISNUMBER(IFERROR(SEARCH('GHG Calculator'!$D$5,P14,1),\"\"))","v":1},{"$f":"IF(Q14=1,COUNTIF($Q$4:Q14,1),\"\")","v":11},{"$f":"IFERROR(INDEX($P$4:$P$54,MATCH(ROWS($R$4:R14),$R$4:$R$54,0)),\"\")","v":"GA"}]
[null,0,null,null,null,null,null,"Diesel",null,null,"NWPP","WECC",null,null,null,"HI",{"$f":"--ISNUMBER(IFERROR(SEARCH('GHG Calculator'!$D$5,P15,1),\"\"))","v":1},{"$f":"IF(Q15=1,COUNTIF($Q$4:Q15,1),\"\")","v":12},{"$f":"IFERROR(INDEX($P$4:$P$54,MATCH(ROWS($R$4:R15),$R$4:$R$54,0)),\"\")","v":"HI"}]
[null,0,null,null,null,null,null,"Gas",null,null,"NYCW","NPCC",null,null,null,"ID",{"$f":"--ISNUMBER(IFERROR(SEARCH('GHG Calculator'!$D$5,P16,1),\"\"))","v":1},{"$f":"IF(Q16=1,COUNTIF($Q$4:Q16,1),\"\")","v":13},{"$f":"IFERROR(INDEX($P$4:$P$54,MATCH(ROWS($R$4:R16),$R$4:$R$54,0)),\"\")","v":"ID"}]
[null,0,null,null,null,null,null,null,null,null,"NYLI","NPCC",null,null,null,"IL",{"$f":"--ISNUMBER(IFERROR(SEARCH('GHG Calculator'!$D$5,P17,1),\"\"))","v":1},{"$f":"IF(Q17=1,COUNTIF($Q$4:Q17,1),\"\")","v":14},{"$f":"IFERROR(INDEX($P$4:$P$54,MATCH(ROWS($R$4:R17),$R$4:$R$54,0)),\"\")","v":"IL"}]
[null,0,null,null,null,null,null,"School Bus, Dr Bus",null,null,"NYUP","NPCC",null,null,null,"IN",{"$f":"--ISNUMBER(IFERROR(SEARCH('GHG Calculator'!$D$5,P18,1),\"\"))","v":1},{"$f":"IF(Q18=1,COUNTIF($Q$4:Q18,1),\"\")","v":15},{"$f":"IFERROR(INDEX($P$4:$P$54,MATCH(ROWS($R$4:R18),$R$4:$R$54,0)),\"\")","v":"IN"}]
[null,null,null,null,null,null,null,"Diesel",null,null,"PRMS","US",null,null,null,"IA",{"$f":"--ISNUMBER(IFERROR(SEARCH('GHG Calculator'!$D$5,P19,1),\"\"))","v":1},{"$f":"IF(Q19=1,COUNTIF($Q$4:Q19,1),\"\")","v":16},{"$f":"IFERROR(INDEX($P$4:$P$54,MATCH(ROWS($R$4:R19),$R$4:$R$54,0)),\"\")","v":"IA"}]
[null,null,null,null,null,null,null,"CNG",null,null,"RFCE","RFC",null,null,null,"KS",{"$f":"--ISNUMBER(IFERROR(SEARCH('GHG Calculator'!$D$5,P20,1),\"\"))","v":1},{"$f":"IF(Q20=1,COUNTIF($Q$4:Q20,1),\"\")","v":17},{"$f":"IFERROR(INDEX($P$4:$P$54,MATCH(ROWS($R$4:R20),$R$4:$R$54,0)),\"\")","v":"KS"}]
[null,null,null,null,null,null,null,null,null,null,"RFCM","RFC",null,null,null,"KY",{"$f":"--ISNUMBER(IFERROR(SEARCH('GHG Calculator'!$D$5,P21,1),\"\"))","v":1},{"$f":"IF(Q21=1,COUNTIF($Q$4:Q21,1),\"\")","v":18},{"$f":"IFERROR(INDEX($P$4:$P$54,MATCH(ROWS($R$4:R21),$R$4:$R$54,0)),\"\")","v":"KY"}]
[null,null,null,null,null,null,null,"Sedan/Auto",null,null,"RFCW","RFC",null,null,null,"LA",{"$f":"--ISNUMBER(IFERROR(SEARCH('GHG Calculator'!$D$5,P22,1),\"\"))","v":1},{"$f":"IF(Q22=1,COUNTIF($Q$4:Q22,1),\"\")","v":19},{"$f":"IFERROR(INDEX($P$4:$P$54,MATCH(ROWS($R$4:R22),$R$4:$R$54,0)),\"\")","v":"LA"}]
[null,null,null,null,null,null,null,"Gas",null,null,"RMPA","WECC",null,null,null,"ME",{"$f":"--ISNUMBER(IFERROR(SEARCH('GHG Calculator'!$D$5,P23,1),\"\"))","v":1},{"$f":"IF(Q23=1,COUNTIF($Q$4:Q23,1),\"\")","v":20},{"$f":"IFERROR(INDEX($P$4:$P$54,MATCH(ROWS($R$4:R23),$R$4:$R$54,0)),\"\")","v":"ME"}]
[null,null,null,null,null,null,null,"Diesel",null,null,"SPNO","SPP",null,null,null,"MD",{"$f":"--ISNUMBER(IFERROR(SEARCH('GHG Calculator'!$D$5,P24,1),\"\"))","v":1},{"$f":"IF(Q24=1,COUNTIF($Q$4:Q24,1),\"\")","v":21},{"$f":"IFERROR(INDEX($P$4:$P$54,MATCH(ROWS($R$4:R24),$R$4:$R$54,0)),\"\")","v":"MD"}]
[null,null,null,null,null,null,null,"Hybrid Electric",null,null,"SPSO","SPP",null,null,null,"MA",{"$f":"--ISNUMBER(IFERROR(SEARCH('GHG Calculator'!$D$5,P25,1),\"\"))","v":1},{"$f":"IF(Q25=1,COUNTIF($Q$4:Q25,1),\"\")","v":22},{"$f":"IFERROR(INDEX($P$4:$P$54,MATCH(ROWS($R$4:R25),$R$4:$R$54,0)),\"\")","v":"MA"}]
[null,null,null,null,null,null,null,"All Electric",null,null,"SRMV","SERC",null,null,null,"MI",{"$f":"--ISNUMBER(IFERROR(SEARCH('GHG Calculator'!$D$5,P26,1),\"\"))","v":1},{"$f":"IF(Q26=1,COUNTIF($Q$4:Q26,1),\"\")","v":23},{"$f":"IFERROR(INDEX($P$4:$P$54,MATCH(ROWS($R$4:R26),$R$4:$R$54,0)),\"\")","v":"MI"}]
[null,null,null,null,null,null,null,"Plug-in Hybrid Electric",null,null,"SRMW","SERC",null,null,null,"MN",{"$f":"--ISNUMBER(IFERROR(SEARCH('GHG Calculator'!$D$5,P27,1),\"\"))","v":1},{"$f":"IF(Q27=1,COUNTIF($Q$4:Q27,1),\"\")","v":24},{"$f":"IFERROR(INDEX($P$4:$P$54,MATCH(ROWS($R$4:R27),$R$4:$R$54,0)),\"\")","v":"MN"}]
[null,null,null,null,null,null,null,null,null,null,"SRSO","SERC",null,null,null,"MS",{"$f":"--ISNUMBER(IFERROR(SEARCH('GHG Calculator'!$D$5,P28,1),\"\"))","v":1},{"$f":"IF(Q28=1,COUNTIF($Q$4:Q28,1),\"\")","v":25},{"$f":"IFERROR(INDEX($P$4:$P$54,MATCH(ROWS($R$4:R28),$R$4:$R$54,0)),\"\")","v":"MS"}]
[null,null,null,null,null,null,null,"Commuter",null,null,"SRTV","SERC",null,null,null,"MO",{"$f":"--ISNUMBER(IFERROR(SEARCH('GHG Calculator'!$D$5,P29,1),\"\"))","v":1},{"$f":"IF(Q29=1,COUNTIF($Q$4:Q29,1),\"\")","v":26},{"$f":"IFERROR(INDEX($P$4:$P$54,MATCH(ROWS($R$4:R29),$R$4:$R$54,0)),\"\")","v":"MO"}]
[null,null,null,null,null,null,null,"Electric",null,null,"SRVC","SERC ",null,null,null,"MT",{"$f":"--ISNUMBER(IFERROR(SEARCH('GHG Calculator'!$D$5,P30,1),\"\"))","v":1},{"$f":"IF(Q30=1,COUNTIF($Q$4:Q30,1),\"\")","v":27},{"$f":"IFERROR(INDEX($P$4:$P$54,MATCH(ROWS($R$4:R30),$R$4:$R$54,0)),\"\")","v":"MT"}]
[null,null,null,null,null,null,null,"Diesel",null,null,"100% renewable energy","100% renewable energy",null,null,null,"NE",{"$f":"--ISNUMBER(IFERROR(SEARCH('GHG Calculator'!$D$5,P31,1),\"\"))","v":1},{"$f":"IF(Q31=1,COUNTIF($Q$4:Q31,1),\"\")","v":28},{"$f":"IFERROR(INDEX($P$4:$P$54,MATCH(ROWS($R$4:R31),$R$4:$R$54,0)),\"\")","v":"NE"}]
[null,null,null,null,null,null,null,null,null,null,null,null,null,null,null,"NV",{"$f":"--ISNUMBER(IFERROR(SEARCH('GHG Calculator'!$D$5,P32,1),\"\"))","v":1},{"$f":"IF(Q32=1,COUNTIF($Q$4:Q32,1),\"\")","v":29},{"$f":"IFERROR(INDEX($P$4:$P$54,MATCH(ROWS($R$4:R32),$R$4:$R$54,0)),\"\")","v":"NV"}]
[null,null,null,null,null,null,null,null,null,null,null,null,null,null,null,"NH",{"$f":"--ISNUMBER(IFERROR(SEARCH('GHG Calculator'!$D$5,P33,1),\"\"))","v":1},{"$f":"IF(Q33=1,COUNTIF($Q$4:Q33,1),\"\")","v":30},{"$f":"IFERROR(INDEX($P$4:$P$54,MATCH(ROWS($R$4:R33),$R$4:$R$54,0)),\"\")","v":"NH"}]
[null,null,null,null,null,null,null,null,null,null,null,null,null,null,null,"NJ",{"$f":"--ISNUMBER(IFERROR(SEARCH('GHG Calculator'!$D$5,P34,1),\"\"))","v":1},{"$f":"IF(Q34=1,COUNTIF($Q$4:Q34,1),\"\")","v":31},{"$f":"IFERROR(INDEX($P$4:$P$54,MATCH(ROWS($R$4:R34),$R$4:$R$54,0)),\"\")","v":"NJ"}]
[null,null,null,null,null,null,null,null,null,null,null,null,null,null,null,"NM",{"$f":"--ISNUMBER(IFERROR(SEARCH('GHG Calculator'!$D$5,P35,1),\"\"))","v":1},{"$f":"IF(Q35=1,COUNTIF($Q$4:Q35,1),\"\")","v":32},{"$f":"IFERROR(INDEX($P$4:$P$54,MATCH(ROWS($R$4:R35),$R$4:$R$54,0)),\"\")","v":"NM"}]
[null,null,null,null,null,null,null,null,null,null,null,null,null,null,null,"NY",{"$f":"--ISNUMBER(IFERROR(SEARCH('GHG Calculator'!$D$5,P36,1),\"\"))","v":1},{"$f":"IF(Q36=1,COUNTIF($Q$4:Q36,1),\"\")","v":33},{"$f":"IFERROR(INDEX($P$4:$P$54,MATCH(ROWS($R$4:R36),$R$4:$R$54,0)),\"\")","v":"NY"}]
[null,null,null,null,null,null,null,null,null,null,null,null,null,null,null,"NC",{"$f":"--ISNUMBER(IFERROR(SEARCH('GHG Calculator'!$D$5,P37,1),\"\"))","v":1},{"$f":"IF(Q37=1,COUNTIF($Q$4:Q37,1),\"\")","v":34},{"$f":"IFERROR(INDEX($P$4:$P$54,MATCH(ROWS($R$4:R37),$R$4:$R$54,0)),\"\")","v":"NC"}]
[null,null,null,null,null,null,null,null,null,null,null,null,null,null,null,"ND",{"$f":"--ISNUMBER(IFERROR(SEARCH('GHG Calculator'!$D$5,P38,1),\"\"))","v":1},{"$f":"IF(Q38=1,COUNTIF($Q$4:Q38,1),\"\")","v":35},{"$f":"IFERROR(INDEX($P$4:$P$54,MATCH(ROWS($R$4:R38),$R$4:$R$54,0)),\"\")","v":"ND"}]
[null,null,null,null,null,null,null,null,null,null,null,null,null,null,null,"OH",{"$f":"--ISNUMBER(IFERROR(SEARCH('GHG Calculator'!$D$5,P39,1),\"\"))","v":1},{"$f":"IF(Q39=1,COUNTIF($Q$4:Q39,1),\"\")","v":36},{"$f":"IFERROR(INDEX($P$4:$P$54,MATCH(ROWS($R$4:R39),$R$4:$R$54,0)),\"\")","v":"OH"}]
[null,null,null,null,null,null,null,null,null,null,null,null,null,null,null,"OK",{"$f":"--ISNUMBER(IFERROR(SEARCH('GHG Calculator'!$D$5,P40,1),\"\"))","v":1},{"$f":"IF(Q40=1,COUNTIF($Q$4:Q40,1),\"\")","v":37},{"$f":"IFERROR(INDEX($P$4:$P$54,MATCH(ROWS($R$4:R40),$R$4:$R$54,0)),\"\")","v":"OK"}]
[null,null,null,null,null,null,null,null,null,null,null,null,null,null,null,"OR",{"$f":"--ISNUMBER(IFERROR(SEARCH('GHG Calculator'!$D$5,P41,1),\"\"))","v":1},{"$f":"IF(Q41=1,COUNTIF($Q$4:Q41,1),\"\")","v":38},{"$f":"IFERROR(INDEX($P$4:$P$54,MATCH(ROWS($R$4:R41),$R$4:$R$54,0)),\"\")","v":"OR"}]
[null,null,null,null,null,null,null,null,null,null,null,null,null,null,null,"PA",{"$f":"--ISNUMBER(IFERROR(SEARCH('GHG Calculator'!$D$5,P42,1),\"\"))","v":1},{"$f":"IF(Q42=1,COUNTIF($Q$4:Q42,1),\"\")","v":39},{"$f":"IFERROR(INDEX($P$4:$P$54,MATCH(ROWS($R$4:R42),$R$4:$R$54,0)),\"\")","v":"PA"}]
[null,null,null,null,null,null,null,null,null,null,null,null,null,null,null,"RI",{"$f":"--ISNUMBER(IFERROR(SEARCH('GHG Calculator'!$D$5,P43,1),\"\"))","v":1},{"$f":"IF(Q43=1,COUNTIF($Q$4:Q43,1),\"\")","v":40},{"$f":"IFERROR(INDEX($P$4:$P$54,MATCH(ROWS($R$4:R43),$R$4:$R$54,0)),\"\")","v":"RI"}]
[null,null,null,null,null,null,null,null,null,null,null,null,null,null,null,"SC",{"$f":"--ISNUMBER(IFERROR(SEARCH('GHG Calculator'!$D$5,P44,1),\"\"))","v":1},{"$f":"IF(Q44=1,COUNTIF($Q$4:Q44,1),\"\")","v":41},{"$f":"IFERROR(INDEX($P$4:$P$54,MATCH(ROWS($R$4:R44),$R$4:$R$54,0)),\"\")","v":"SC"}]
[null,null,null,null,null,null,null,null,null,null,null,null,null,null,null,"SD",{"$f":"--ISNUMBER(IFERROR(SEARCH('GHG Calculator'!$D$5,P45,1),\"\"))","v":1},{"$f":"IF(Q45=1,COUNTIF($Q$4:Q45,1),\"\")","v":42},{"$f":"IFERROR(INDEX($P$4:$P$54,MATCH(ROWS($R$4:R45),$R$4:$R$54,0)),\"\")","v":"SD"}]
[null,null,null,null,null,null,null,null,null,null,null,null,null,null,null,"TN",{"$f":"--ISNUMBER(IFERROR(SEARCH('GHG Calculator'!$D$5,P46,1),\"\"))","v":1},{"$f":"IF(Q46=1,COUNTIF($Q$4:Q46,1),\"\")","v":43},{"$f":"IFERROR(INDEX($P$4:$P$54,MATCH(ROWS($R$4:R46),$R$4:$R$54,0)),\"\")","v":"TN"}]
[null,null,null,null,null,null,null,null,null,null,null,null,null,null,null,"TX",{"$f":"--ISNUMBER(IFERROR(SEARCH('GHG Calculator'!$D$5,P47,1),\"\"))","v":1},{"$f":"IF(Q47=1,COUNTIF($Q$4:Q47,1),\"\")","v":44},{"$f":"IFERROR(INDEX($P$4:$P$54,MATCH(ROWS($R$4:R47),$R$4:$R$54,0)),\"\")","v":"TX"}]
[null,null,null,null,null,null,null,null,null,null,null,null,null,null,null,"UT",{"$f":"--ISNUMBER(IFERROR(SEARCH('GHG Calculator'!$D$5,P48,1),\"\"))","v":1},{"$f":"IF(Q48=1,COUNTIF($Q$4:Q48,1),\"\")","v":45},{"$f":"IFERROR(INDEX($P$4:$P$54,MATCH(ROWS($R$4:R48),$R$4:$R$54,0)),\"\")","v":"UT"}]
[null,null,null,null,null,null,null,null,null,null,null,null,null,null,null,"VT",{"$f":"--ISNUMBER(IFERROR(SEARCH('GHG Calculator'!$D$5,P49,1),\"\"))","v":1},{"$f":"IF(Q49=1,COUNTIF($Q$4:Q49,1),\"\")","v":46},{"$f":"IFERROR(INDEX($P$4:$P$54,MATCH(ROWS($R$4:R49),$R$4:$R$54,0)),\"\")","v":"VT"}]
[null,null,null,null,null,null,null,null,null,null,null,null,null,null,null,"VA",{"$f":"--ISNUMBER(IFERROR(SEARCH('GHG Calculator'!$D$5,P50,1),\"\"))","v":1},{"$f":"IF(Q50=1,COUNTIF($Q$4:Q50,1),\"\")","v":47},{"$f":"IFERROR(INDEX($P$4:$P$54,MATCH(ROWS($R$4:R50),$R$4:$R$54,0)),\"\")","v":"VA"}]
[null,null,null,null,null,null,null,null,null,null,null,null,null,null,null,"WA",{"$f":"--ISNUMBER(IFERROR(SEARCH('GHG Calculator'!$D$5,P51,1),\"\"))","v":1},{"$f":"IF(Q51=1,COUNTIF($Q$4:Q51,1),\"\")","v":48},{"$f":"IFERROR(INDEX($P$4:$P$54,MATCH(ROWS($R$4:R51),$R$4:$R$54,0)),\"\")","v":"WA"}]
[null,null,null,null,null,null,null,null,null,null,null,null,null,null,null,"WV",{"$f":"--ISNUMBER(IFERROR(SEARCH('GHG Calculator'!$D$5,P52,1),\"\"))","v":1},{"$f":"IF(Q52=1,COUNTIF($Q$4:Q52,1),\"\")","v":49},{"$f":"IFERROR(INDEX($P$4:$P$54,MATCH(ROWS($R$4:R52),$R$4:$R$54,0)),\"\")","v":"WV"}]
[null,null,null,null,null,null,null,null,null,null,null,null,null,null,null,"WI",{"$f":"--ISNUMBER(IFERROR(SEARCH('GHG Calculator'!$D$5,P53,1),\"\"))","v":1},{"$f":"IF(Q53=1,COUNTIF($Q$4:Q53,1),\"\")","v":50},{"$f":"IFERROR(INDEX($P$4:$P$54,MATCH(ROWS($R$4:R53),$R$4:$R$54,0)),\"\")","v":"WI"}]
[null,null,null,null,null,null,null,null,null,null,null,null,null,null,null,"WY",{"$f":"--ISNUMBER(IFERROR(SEARCH('GHG Calculator'!$D$5,P54,1),\"\"))","v":1},{"$f":"IF(Q54=1,COUNTIF($Q$4:Q54,1),\"\")","v":51},{"$f":"IFERROR(INDEX($P$4:$P$54,MATCH(ROWS($R$4:R54),$R$4:$R$54,0)),\"\")","v":"WY"}]

{"sheet":"Emissions Calculations","index":7,"n_rows":158,"n_cols":40,"rows_kept":158,"cut":false,"hidden":true,"merged":[[31,2,31,4],[4,2,4,5]]}
["SelectState","State","Analysis Period",null,"Error Check (Emissions & Energy Calcs)"]
[{"$f":"B2","v":0},{"$f":"'GHG Calculator'!D5","v":0},{"$f":"'GHG Calculator'!$F$5","v":0},null,false]
[]
["Construction",null,null,null,null,null,null,null,null,null,"Upstream Materials",null,null,null,null,null,null,null,"Upstream Transport Emissions Factor",null,null,null,null,null,null,null,"Downstream Emissions Factor",null,null,null,null,null,null,null,"RESULTS",null,null,"FINAL RESULTS"]
["INPUTS",null,"Miles of New Track/Alignment",null,null,null,null,"Number of Stations",null,null,"Transitway",null,null,null,null,"Station"]
["row","Transit Mode:","Underground","Elevated","At-Grade","Catenary","CONVERTED OR UPGRADED","Underground","Elevated","At-Grade","Underground","Elevated","At-Grade","Catenary","CONVERTED OR UPGRADED","Underground","Elevated","At-Grade","Underground","Elevated","At-Grade","Catenary","Converted or Upgraded","Underground","Elevated","At-Grade","Underground","Elevated","At-Grade","Catenary","CONVERTED OR UPGRADED","Underground","Elevated","At-Grade","UPSTREAM MATERIALS","UPSTREAM TRANSPORT","DOWNSTREAM","UPSTREAM MATERIALS","UPSTREAM TRANSPORT","DOWNSTREAM"]
[1,{"$f":"Construction!B8","v":0},{"$f":"Construction!C8","v":0},{"$f":"Construction!D8","v":0},{"$f":"Construction!E8","v":0},{"$f":"Construction!F8","v":0},{"$f":"Construction!G8","v":0},{"$f":"Construction!H8","v":0},{"$f":"Construction!I8","v":0},{"$f":"Construction!J8","v":0},{"$f":"SUMIFS(FactorMatrix[[UPSTREAMMATERIALSEMISSIONS]:[UPSTREAMMATERIALSEMISSIONS]], FactorMatrix[[MODE]:[MODE]], $B7, FactorMatrix[[PHASE]:[PHASE]], $A$4, FactorMatrix[[GHGSOURCE]:[GHGSOURCE]], \"Track Mile\", FactorMatrix[[TYPE]:[TYPE]], K$6, FactorMatrix[[STATE /REGION]:[STATE /REGION]], StateCalc)","v":0},{"$f":"SUMIFS(FactorMatrix[[UPSTREAMMATERIALSEMISSIONS]:[UPSTREAMMATERIALSEMISSIONS]], FactorMatrix[[MODE]:[MODE]], $B7, FactorMatrix[[PHASE]:[PHASE]], $A$4, FactorMatrix[[GHGSOURCE]:[GHGSOURCE]], \"track mile\", FactorMatrix[[TYPE]:[TYPE]], L$6)","v":0},{"$f":"SUMIFS(FactorMatrix[[UPSTREAMMATERIALSEMISSIONS]:[UPSTREAMMATERIALSEMISSIONS]], FactorMatrix[[MODE]:[MODE]], $B7, FactorMatrix[[PHASE]:[PHASE]], $A$4, FactorMatrix[[GHGSOURCE]:[GHGSOURCE]], \"track mile\", FactorMatrix[[TYPE]:[TYPE]], M$6)","v":0},{"$f":"SUMIFS(FactorMatrix[[UPSTREAMMATERIALSEMISSIONS]:[UPSTREAMMATERIALSEMISSIONS]], FactorMatrix[[MODE]:[MODE]], $B7, FactorMatrix[[PHASE]:[PHASE]], $A$4, FactorMatrix[[GHGSOURCE]:[GHGSOURCE]], \"track mile\", FactorMatrix[[TYPE]:[TYPE]], N$6)","v":0},{"$f":"SUMIFS(FactorMatrix[[UPSTREAMMATERIALSEMISSIONS]:[UPSTREAMMATERIALSEMISSIONS]], FactorMatrix[[MODE]:[MODE]], $B7, FactorMatrix[[PHASE]:[PHASE]], $A$4, FactorMatrix[[GHGSOURCE]:[GHGSOURCE]], \"track mile\", FactorMatrix[[TYPE]:[TYPE]], O$6)","v":0},{"$f":"SUMIFS(FactorMatrix[[UPSTREAMMATERIALSEMISSIONS]:[UPSTREAMMATERIALSEMISSIONS]], FactorMatrix[[MODE]:[MODE]], $B7, FactorMatrix[[PHASE]:[PHASE]], $A$4, FactorMatrix[[GHGSOURCE]:[GHGSOURCE]], \"station\", FactorMatrix[[TYPE]:[TYPE]], P$6)","v":0},{"$f":"SUMIFS(FactorMatrix[[UPSTREAMMATERIALSEMISSIONS]:[UPSTREAMMATERIALSEMISSIONS]], FactorMatrix[[MODE]:[MODE]], $B7, FactorMatrix[[PHASE]:[PHASE]], $A$4, FactorMatrix[[GHGSOURCE]:[GHGSOURCE]], \"station\", FactorMatrix[[TYPE]:[TYPE]], Q$6)","v":0},{"$f":"SUMIFS(FactorMatrix[[UPSTREAMMATERIALSEMISSIONS]:[UPSTREAMMATERIALSEMISSIONS]], FactorMatrix[[MODE]:[MODE]], $B7, FactorMatrix[[PHASE]:[PHASE]], $A$4, FactorMatrix[[GHGSOURCE]:[GHGSOURCE]], \"station\", FactorMatrix[[TYPE]:[TYPE]], R$6)","v":0},{"$f":"SUMIFS(FactorMatrix[[UPSTREAMTRANSPORTEMISSIONS]:[UPSTREAMTRANSPORTEMISSIONS]], FactorMatrix[[MODE]:[MODE]], $B7, FactorMatrix[[PHASE]:[PHASE]], $A$4, FactorMatrix[[GHGSOURCE]:[GHGSOURCE]], \"track mile\", FactorMatrix[[TYPE]:[TYPE]], S$6, FactorMatrix[[STATE /REGION]:[STATE /REGION]], StateCalc)","v":0},{"$f":"SUMIFS(FactorMatrix[[UPSTREAMTRANSPORTEMISSIONS]:[UPSTREAMTRANSPORTEMISSIONS]], FactorMatrix[[MODE]:[MODE]], $B7, FactorMatrix[[PHASE]:[PHASE]], $A$4, FactorMatrix[[GHGSOURCE]:[GHGSOURCE]], \"track mile\", FactorMatrix[[TYPE]:[TYPE]], T$6)","v":0},{"$f":"SUMIFS(FactorMatrix[[UPSTREAMTRANSPORTEMISSIONS]:[UPSTREAMTRANSPORTEMISSIONS]], FactorMatrix[[MODE]:[MODE]], $B7, FactorMatrix[[PHASE]:[PHASE]], $A$4, FactorMatrix[[GHGSOURCE]:[GHGSOURCE]], \"track mile\", FactorMatrix[[TYPE]:[TYPE]], U$6)","v":0},{"$f":"SUMIFS(FactorMatrix[[UPSTREAMTRANSPORTEMISSIONS]:[UPSTREAMTRANSPORTEMISSIONS]], FactorMatrix[[MODE]:[MODE]], $B7, FactorMatrix[[PHASE]:[PHASE]], $A$4, FactorMatrix[[GHGSOURCE]:[GHGSOURCE]], \"track mile\", FactorMatrix[[TYPE]:[TYPE]], V$6)","v":0},{"$f":"SUMIFS(FactorMatrix[[UPSTREAMTRANSPORTEMISSIONS]:[UPSTREAMTRANSPORTEMISSIONS]], FactorMatrix[[MODE]:[MODE]], $B7, FactorMatrix[[PHASE]:[PHASE]], $A$4, FactorMatrix[[GHGSOURCE]:[GHGSOURCE]], \"track mile\", FactorMatrix[[TYPE]:[TYPE]], W$6)","v":0},{"$f":"SUMIFS(FactorMatrix[[UPSTREAMTRANSPORTEMISSIONS]:[UPSTREAMTRANSPORTEMISSIONS]], FactorMatrix[[MODE]:[MODE]], $B7, FactorMatrix[[PHASE]:[PHASE]], $A$4, FactorMatrix[[GHGSOURCE]:[GHGSOURCE]], \"station\", FactorMatrix[[TYPE]:[TYPE]], X$6)","v":0},{"$f":"SUMIFS(FactorMatrix[[UPSTREAMTRANSPORTEMISSIONS]:[UPSTREAMTRANSPORTEMISSIONS]], FactorMatrix[[MODE]:[MODE]], $B7, FactorMatrix[[PHASE]:[PHASE]], $A$4, FactorMatrix[[GHGSOURCE]:[GHGSOURCE]], \"station\", FactorMatrix[[TYPE]:[TYPE]], Y$6)","v":0},{"$f":"SUMIFS(FactorMatrix[[UPSTREAMTRANSPORTEMISSIONS]:[UPSTREAMTRANSPORTEMISSIONS]], FactorMatrix[[MODE]:[MODE]], $B7, FactorMatrix[[PHASE]:[PHASE]], $A$4, FactorMatrix[[GHGSOURCE]:[GHGSOURCE]], \"station\", FactorMatrix[[TYPE]:[TYPE]], Z$6)","v":0},{"$f":"SUMIFS(FactorMatrix[[DOWNSTREAMEMISSIONS]:[DOWNSTREAMEMISSIONS]], FactorMatrix[[MODE]:[MODE]], $B7, FactorMatrix[[PHASE]:[PHASE]], $A$4, FactorMatrix[[GHGSOURCE]:[GHGSOURCE]], \"track mile\", FactorMatrix[[TYPE]:[TYPE]], AA$6, FactorMatrix[[STATE /REGION]:[STATE /REGION]], StateCalc)","v":0},{"$f":"SUMIFS(FactorMatrix[[DOWNSTREAMEMISSIONS]:[DOWNSTREAMEMISSIONS]], FactorMatrix[[MODE]:[MODE]], $B7, FactorMatrix[[PHASE]:[PHASE]], $A$4, FactorMatrix[[GHGSOURCE]:[GHGSOURCE]], \"track mile\", FactorMatrix[[TYPE]:[TYPE]], AB$6)","v":0},{"$f":"SUMIFS(FactorMatrix[[DOWNSTREAMEMISSIONS]:[DOWNSTREAMEMISSIONS]], FactorMatrix[[MODE]:[MODE]], $B7, FactorMatrix[[PHASE]:[PHASE]], $A$4, FactorMatrix[[GHGSOURCE]:[GHGSOURCE]], \"track mile\", FactorMatrix[[TYPE]:[TYPE]], AC$6)","v":0},{"$f":"SUMIFS(FactorMatrix[[DOWNSTREAMEMISSIONS]:[DOWNSTREAMEMISSIONS]], FactorMatrix[[MODE]:[MODE]], $B7, FactorMatrix[[PHASE]:[PHASE]], $A$4, FactorMatrix[[GHGSOURCE]:[GHGSOURCE]], \"track mile\", FactorMatrix[[TYPE]:[TYPE]], AD$6)","v":0},{"$f":"SUMIFS(FactorMatrix[[DOWNSTREAMEMISSIONS]:[DOWNSTREAMEMISSIONS]], FactorMatrix[[MODE]:[MODE]], $B7, FactorMatrix[[PHASE]:[PHASE]], $A$4, FactorMatrix[[GHGSOURCE]:[GHGSOURCE]], \"track mile\", FactorMatrix[[TYPE]:[TYPE]], AE$6)","v":0},{"$f":"SUMIFS(FactorMatrix[[DOWNSTREAMEMISSIONS]:[DOWNSTREAMEMISSIONS]], FactorMatrix[[MODE]:[MODE]], $B7, FactorMatrix[[PHASE]:[PHASE]], $A$4, FactorMatrix[[GHGSOURCE]:[GHGSOURCE]], \"station\", FactorMatrix[[TYPE]:[TYPE]], AF$6)","v":0},{"$f":"SUMIFS(FactorMatrix[[DOWNSTREAMEMISSIONS]:[DOWNSTREAMEMISSIONS]], FactorMatrix[[MODE]:[MODE]], $B7, FactorMatrix[[PHASE]:[PHASE]], $A$4, FactorMatrix[[GHGSOURCE]:[GHGSOURCE]], \"station\", FactorMatrix[[TYPE]:[TYPE]], AG$6)","v":0},{"$f":"SUMIFS(FactorMatrix[[DOWNSTREAMEMISSIONS]:[DOWNSTREAMEMISSIONS]], FactorMatrix[[MODE]:[MODE]], $B7, FactorMatrix[[PHASE]:[PHASE]], $A$4, FactorMatrix[[GHGSOURCE]:[GHGSOURCE]], \"station\", FactorMatrix[[TYPE]:[TYPE]], AH$6)","v":0},{"$f":"SUMPRODUCT($C7:$J7, K7:R7)","v":0},{"$f":"SUMPRODUCT($C7:$J7, S7:Z7)","v":0},{"$f":"SUMPRODUCT($C7:$J7, AA7:AH7)","v":0},{"$f":"SUM(AI7:AI29)","v":0},{"$f":"SUM(AJ7:AJ29)","v":0},{"$f":"SUM(AK7:AK29)","v":0}]
[2,{"$f":"Construction!B9","v":0},{"$f":"Construction!C9","v":0},{"$f":"Construction!D9","v":0},{"$f":"Construction!E9","v":0},{"$f":"Construction!F9","v":0},{"$f":"Construction!G9","v":0},{"$f":"Construction!H9","v":0},{"$f":"Construction!I9","v":0},{"$f":"Construction!J9","v":0},{"$f":"SUMIFS(FactorMatrix[[UPSTREAMMATERIALSEMISSIONS]:[UPSTREAMMATERIALSEMISSIONS]], FactorMatrix[[MODE]:[MODE]], $B8, FactorMatrix[[PHASE]:[PHASE]], $A$4, FactorMatrix[[GHGSOURCE]:[GHGSOURCE]], \"track mile\", FactorMatrix[[TYPE]:[TYPE]], K$6, FactorMatrix[[STATE /REGION]:[STATE /REGION]], StateCalc)","v":0},{"$f":"SUMIFS(FactorMatrix[[UPSTREAMMATERIALSEMISSIONS]:[UPSTREAMMATERIALSEMISSIONS]], FactorMatrix[[MODE]:[MODE]], $B8, FactorMatrix[[PHASE]:[PHASE]], $A$4, FactorMatrix[[GHGSOURCE]:[GHGSOURCE]], \"track mile\", FactorMatrix[[TYPE]:[TYPE]], L$6)","v":0},{"$f":"SUMIFS(FactorMatrix[[UPSTREAMMATERIALSEMISSIONS]:[UPSTREAMMATERIALSEMISSIONS]], FactorMatrix[[MODE]:[MODE]], $B8, FactorMatrix[[PHASE]:[PHASE]], $A$4, FactorMatrix[[GHGSOURCE]:[GHGSOURCE]], \"track mile\", FactorMatrix[[TYPE]:[TYPE]], M$6)","v":0},{"$f":"SUMIFS(FactorMatrix[[UPSTREAMMATERIALSEMISSIONS]:[UPSTREAMMATERIALSEMISSIONS]], FactorMatrix[[MODE]:[MODE]], $B8, FactorMatrix[[PHASE]:[PHASE]], $A$4, FactorMatrix[[GHGSOURCE]:[GHGSOURCE]], \"track mile\", FactorMatrix[[TYPE]:[TYPE]], N$6)","v":0},{"$f":"SUMIFS(FactorMatrix[[UPSTREAMMATERIALSEMISSIONS]:[UPSTREAMMATERIALSEMISSIONS]], FactorMatrix[[MODE]:[MODE]], $B8, FactorMatrix[[PHASE]:[PHASE]], $A$4, FactorMatrix[[GHGSOURCE]:[GHGSOURCE]], \"track mile\", FactorMatrix[[TYPE]:[TYPE]], O$6)","v":0},{"$f":"SUMIFS(FactorMatrix[[UPSTREAMMATERIALSEMISSIONS]:[UPSTREAMMATERIALSEMISSIONS]], FactorMatrix[[MODE]:[MODE]], $B8, FactorMatrix[[PHASE]:[PHASE]], $A$4, FactorMatrix[[GHGSOURCE]:[GHGSOURCE]], \"station\", FactorMatrix[[TYPE]:[TYPE]], P$6)","v":0},{"$f":"SUMIFS(FactorMatrix[[UPSTREAMMATERIALSEMISSIONS]:[UPSTREAMMATERIALSEMISSIONS]], FactorMatrix[[MODE]:[MODE]], $B8, FactorMatrix[[PHASE]:[PHASE]], $A$4, FactorMatrix[[GHGSOURCE]:[GHGSOURCE]], \"station\", FactorMatrix[[TYPE]:[TYPE]], Q$6)","v":0},{"$f":"SUMIFS(FactorMatrix[[UPSTREAMMATERIALSEMISSIONS]:[UPSTREAMMATERIALSEMISSIONS]], FactorMatrix[[MODE]:[MODE]], $B8, FactorMatrix[[PHASE]:[PHASE]], $A$4, FactorMatrix[[GHGSOURCE]:[GHGSOURCE]], \"station\", FactorMatrix[[TYPE]:[TYPE]], R$6)","v":0},{"$f":"SUMIFS(FactorMatrix[[UPSTREAMTRANSPORTEMISSIONS]:[UPSTREAMTRANSPORTEMISSIONS]], FactorMatrix[[MODE]:[MODE]], $B8, FactorMatrix[[PHASE]:[PHASE]], $A$4, FactorMatrix[[GHGSOURCE]:[GHGSOURCE]], \"track mile\", FactorMatrix[[TYPE]:[TYPE]], S$6, FactorMatrix[[STATE /REGION]:[STATE /REGION]], StateCalc)","v":0},{"$f":"SUMIFS(FactorMatrix[[UPSTREAMTRANSPORTEMISSIONS]:[UPSTREAMTRANSPORTEMISSIONS]], FactorMatrix[[MODE]:[MODE]], $B8, FactorMatrix[[PHASE]:[PHASE]], $A$4, FactorMatrix[[GHGSOURCE]:[GHGSOURCE]], \"track mile\", FactorMatrix[[TYPE]:[TYPE]], T$6)","v":0},{"$f":"SUMIFS(FactorMatrix[[UPSTREAMTRANSPORTEMISSIONS]:[UPSTREAMTRANSPORTEMISSIONS]], FactorMatrix[[MODE]:[MODE]], $B8, FactorMatrix[[PHASE]:[PHASE]], $A$4, FactorMatrix[[GHGSOURCE]:[GHGSOURCE]], \"track mile\", FactorMatrix[[TYPE]:[TYPE]], U$6)","v":0},{"$f":"SUMIFS(FactorMatrix[[UPSTREAMTRANSPORTEMISSIONS]:[UPSTREAMTRANSPORTEMISSIONS]], FactorMatrix[[MODE]:[MODE]], $B8, FactorMatrix[[PHASE]:[PHASE]], $A$4, FactorMatrix[[GHGSOURCE]:[GHGSOURCE]], \"track mile\", FactorMatrix[[TYPE]:[TYPE]], V$6)","v":0},{"$f":"SUMIFS(FactorMatrix[[UPSTREAMTRANSPORTEMISSIONS]:[UPSTREAMTRANSPORTEMISSIONS]], FactorMatrix[[MODE]:[MODE]], $B8, FactorMatrix[[PHASE]:[PHASE]], $A$4, FactorMatrix[[GHGSOURCE]:[GHGSOURCE]], \"track mile\", FactorMatrix[[TYPE]:[TYPE]], W$6)","v":0},{"$f":"SUMIFS(FactorMatrix[[UPSTREAMTRANSPORTEMISSIONS]:[UPSTREAMTRANSPORTEMISSIONS]], FactorMatrix[[MODE]:[MODE]], $B8, FactorMatrix[[PHASE]:[PHASE]], $A$4, FactorMatrix[[GHGSOURCE]:[GHGSOURCE]], \"station\", FactorMatrix[[TYPE]:[TYPE]], X$6)","v":0},{"$f":"SUMIFS(FactorMatrix[[UPSTREAMTRANSPORTEMISSIONS]:[UPSTREAMTRANSPORTEMISSIONS]], FactorMatrix[[MODE]:[MODE]], $B8, FactorMatrix[[PHASE]:[PHASE]], $A$4, FactorMatrix[[GHGSOURCE]:[GHGSOURCE]], \"station\", FactorMatrix[[TYPE]:[TYPE]], Y$6)","v":0},{"$f":"SUMIFS(FactorMatrix[[UPSTREAMTRANSPORTEMISSIONS]:[UPSTREAMTRANSPORTEMISSIONS]], FactorMatrix[[MODE]:[MODE]], $B8, FactorMatrix[[PHASE]:[PHASE]], $A$4, FactorMatrix[[GHGSOURCE]:[GHGSOURCE]], \"station\", FactorMatrix[[TYPE]:[TYPE]], Z$6)","v":0},{"$f":"SUMIFS(FactorMatrix[[DOWNSTREAMEMISSIONS]:[DOWNSTREAMEMISSIONS]], FactorMatrix[[MODE]:[MODE]], $B8, FactorMatrix[[PHASE]:[PHASE]], $A$4, FactorMatrix[[GHGSOURCE]:[GHGSOURCE]], \"track mile\", FactorMatrix[[TYPE]:[TYPE]], AA$6, FactorMatrix[[STATE /REGION]:[STATE /REGION]], StateCalc)","v":0},{"$f":"SUMIFS(FactorMatrix[[DOWNSTREAMEMISSIONS]:[DOWNSTREAMEMISSIONS]], FactorMatrix[[MODE]:[MODE]], $B8, FactorMatrix[[PHASE]:[PHASE]], $A$4, FactorMatrix[[GHGSOURCE]:[GHGSOURCE]], \"track mile\", FactorMatrix[[TYPE]:[TYPE]], AB$6)","v":0},{"$f":"SUMIFS(FactorMatrix[[DOWNSTREAMEMISSIONS]:[DOWNSTREAMEMISSIONS]], FactorMatrix[[MODE]:[MODE]], $B8, FactorMatrix[[PHASE]:[PHASE]], $A$4, FactorMatrix[[GHGSOURCE]:[GHGSOURCE]], \"track mile\", FactorMatrix[[TYPE]:[TYPE]], AC$6)","v":0},{"$f":"SUMIFS(FactorMatrix[[DOWNSTREAMEMISSIONS]:[DOWNSTREAMEMISSIONS]], FactorMatrix[[MODE]:[MODE]], $B8, FactorMatrix[[PHASE]:[PHASE]], $A$4, FactorMatrix[[GHGSOURCE]:[GHGSOURCE]], \"track mile\", FactorMatrix[[TYPE]:[TYPE]], AD$6)","v":0},{"$f":"SUMIFS(FactorMatrix[[DOWNSTREAMEMISSIONS]:[DOWNSTREAMEMISSIONS]], FactorMatrix[[MODE]:[MODE]], $B8, FactorMatrix[[PHASE]:[PHASE]], $A$4, FactorMatrix[[GHGSOURCE]:[GHGSOURCE]], \"track mile\", FactorMatrix[[TYPE]:[TYPE]], AE$6)","v":0},{"$f":"SUMIFS(FactorMatrix[[DOWNSTREAMEMISSIONS]:[DOWNSTREAMEMISSIONS]], FactorMatrix[[MODE]:[MODE]], $B8, FactorMatrix[[PHASE]:[PHASE]], $A$4, FactorMatrix[[GHGSOURCE]:[GHGSOURCE]], \"station\", FactorMatrix[[TYPE]:[TYPE]], AF$6)","v":0},{"$f":"SUMIFS(FactorMatrix[[DOWNSTREAMEMISSIONS]:[DOWNSTREAMEMISSIONS]], FactorMatrix[[MODE]:[MODE]], $B8, FactorMatrix[[PHASE]:[PHASE]], $A$4, FactorMatrix[[GHGSOURCE]:[GHGSOURCE]], \"station\", FactorMatrix[[TYPE]:[TYPE]], AG$6)","v":0},{"$f":"SUMIFS(FactorMatrix[[DOWNSTREAMEMISSIONS]:[DOWNSTREAMEMISSIONS]], FactorMatrix[[MODE]:[MODE]], $B8, FactorMatrix[[PHASE]:[PHASE]], $A$4, FactorMatrix[[GHGSOURCE]:[GHGSOURCE]], \"station\", FactorMatrix[[TYPE]:[TYPE]], AH$6)","v":0},{"$f":"SUMPRODUCT($C8:$J8, K8:R8)","v":0},{"$f":"SUMPRODUCT($C8:$J8, S8:Z8)","v":0},{"$f":"SUMPRODUCT($C8:$J8, AA8:AH8)","v":0}]
[3,{"$f":"Construction!B10","v":0},{"$f":"Construction!C10","v":0},{"$f":"Construction!D10","v":0},{"$f":"Construction!E10","v":0},{"$f":"Construction!F10","v":0},{"$f":"Construction!G10","v":0},{"$f":"Construction!H10","v":0},{"$f":"Construction!I10","v":0},{"$f":"Construction!J10","v":0},{"$f":"SUMIFS(FactorMatrix[[UPSTREAMMATERIALSEMISSIONS]:[UPSTREAMMATERIALSEMISSIONS]], FactorMatrix[[MODE]:[MODE]], $B9, FactorMatrix[[PHASE]:[PHASE]], $A$4, FactorMatrix[[GHGSOURCE]:[GHGSOURCE]], \"track mile\", FactorMatrix[[TYPE]:[TYPE]], K$6, FactorMatrix[[STATE /REGION]:[STATE /REGION]], StateCalc)","v":0},{"$f":"SUMIFS(FactorMatrix[[UPSTREAMMATERIALSEMISSIONS]:[UPSTREAMMATERIALSEMISSIONS]], FactorMatrix[[MODE]:[MODE]], $B9, FactorMatrix[[PHASE]:[PHASE]], $A$4, FactorMatrix[[GHGSOURCE]:[GHGSOURCE]], \"track mile\", FactorMatrix[[TYPE]:[TYPE]], L$6)","v":0},{"$f":"SUMIFS(FactorMatrix[[UPSTREAMMATERIALSEMISSIONS]:[UPSTREAMMATERIALSEMISSIONS]], FactorMatrix[[MODE]:[MODE]], $B9, FactorMatrix[[PHASE]:[PHASE]], $A$4, FactorMatrix[[GHGSOURCE]:[GHGSOURCE]], \"track mile\", FactorMatrix[[TYPE]:[TYPE]], M$6)","v":0},{"$f":"SUMIFS(FactorMatrix[[UPSTREAMMATERIALSEMISSIONS]:[UPSTREAMMATERIALSEMISSIONS]], FactorMatrix[[MODE]:[MODE]], $B9, FactorMatrix[[PHASE]:[PHASE]], $A$4, FactorMatrix[[GHGSOURCE]:[GHGSOURCE]], \"track mile\", FactorMatrix[[TYPE]:[TYPE]], N$6)","v":0},{"$f":"SUMIFS(FactorMatrix[[UPSTREAMMATERIALSEMISSIONS]:[UPSTREAMMATERIALSEMISSIONS]], FactorMatrix[[MODE]:[MODE]], $B9, FactorMatrix[[PHASE]:[PHASE]], $A$4, FactorMatrix[[GHGSOURCE]:[GHGSOURCE]], \"track mile\", FactorMatrix[[TYPE]:[TYPE]], O$6)","v":0},{"$f":"SUMIFS(FactorMatrix[[UPSTREAMMATERIALSEMISSIONS]:[UPSTREAMMATERIALSEMISSIONS]], FactorMatrix[[MODE]:[MODE]], $B9, FactorMatrix[[PHASE]:[PHASE]], $A$4, FactorMatrix[[GHGSOURCE]:[GHGSOURCE]], \"station\", FactorMatrix[[TYPE]:[TYPE]], P$6)","v":0},{"$f":"SUMIFS(FactorMatrix[[UPSTREAMMATERIALSEMISSIONS]:[UPSTREAMMATERIALSEMISSIONS]], FactorMatrix[[MODE]:[MODE]], $B9, FactorMatrix[[PHASE]:[PHASE]], $A$4, FactorMatrix[[GHGSOURCE]:[GHGSOURCE]], \"station\", FactorMatrix[[TYPE]:[TYPE]], Q$6)","v":0},{"$f":"SUMIFS(FactorMatrix[[UPSTREAMMATERIALSEMISSIONS]:[UPSTREAMMATERIALSEMISSIONS]], FactorMatrix[[MODE]:[MODE]], $B9, FactorMatrix[[PHASE]:[PHASE]], $A$4, FactorMatrix[[GHGSOURCE]:[GHGSOURCE]], \"station\", FactorMatrix[[TYPE]:[TYPE]], R$6)","v":0},{"$f":"SUMIFS(FactorMatrix[[UPSTREAMTRANSPORTEMISSIONS]:[UPSTREAMTRANSPORTEMISSIONS]], FactorMatrix[[MODE]:[MODE]], $B9, FactorMatrix[[PHASE]:[PHASE]], $A$4, FactorMatrix[[GHGSOURCE]:[GHGSOURCE]], \"track mile\", FactorMatrix[[TYPE]:[TYPE]], S$6, FactorMatrix[[STATE /REGION]:[STATE /REGION]], StateCalc)","v":0},{"$f":"SUMIFS(FactorMatrix[[UPSTREAMTRANSPORTEMISSIONS]:[UPSTREAMTRANSPORTEMISSIONS]], FactorMatrix[[MODE]:[MODE]], $B9, FactorMatrix[[PHASE]:[PHASE]], $A$4, FactorMatrix[[GHGSOURCE]:[GHGSOURCE]], \"track mile\", FactorMatrix[[TYPE]:[TYPE]], T$6)","v":0},{"$f":"SUMIFS(FactorMatrix[[UPSTREAMTRANSPORTEMISSIONS]:[UPSTREAMTRANSPORTEMISSIONS]], FactorMatrix[[MODE]:[MODE]], $B9, FactorMatrix[[PHASE]:[PHASE]], $A$4, FactorMatrix[[GHGSOURCE]:[GHGSOURCE]], \"track mile\", FactorMatrix[[TYPE]:[TYPE]], U$6)","v":0},{"$f":"SUMIFS(FactorMatrix[[UPSTREAMTRANSPORTEMISSIONS]:[UPSTREAMTRANSPORTEMISSIONS]], FactorMatrix[[MODE]:[MODE]], $B9, FactorMatrix[[PHASE]:[PHASE]], $A$4, FactorMatrix[[GHGSOURCE]:[GHGSOURCE]], \"track mile\", FactorMatrix[[TYPE]:[TYPE]], V$6)","v":0},{"$f":"SUMIFS(FactorMatrix[[UPSTREAMTRANSPORTEMISSIONS]:[UPSTREAMTRANSPORTEMISSIONS]], FactorMatrix[[MODE]:[MODE]], $B9, FactorMatrix[[PHASE]:[PHASE]], $A$4, FactorMatrix[[GHGSOURCE]:[GHGSOURCE]], \"track mile\", FactorMatrix[[TYPE]:[TYPE]], W$6)","v":0},{"$f":"SUMIFS(FactorMatrix[[UPSTREAMTRANSPORTEMISSIONS]:[UPSTREAMTRANSPORTEMISSIONS]], FactorMatrix[[MODE]:[MODE]], $B9, FactorMatrix[[PHASE]:[PHASE]], $A$4, FactorMatrix[[GHGSOURCE]:[GHGSOURCE]], \"station\", FactorMatrix[[TYPE]:[TYPE]], X$6)","v":0},{"$f":"SUMIFS(FactorMatrix[[UPSTREAMTRANSPORTEMISSIONS]:[UPSTREAMTRANSPORTEMISSIONS]], FactorMatrix[[MODE]:[MODE]], $B9, FactorMatrix[[PHASE]:[PHASE]], $A$4, FactorMatrix[[GHGSOURCE]:[GHGSOURCE]], \"station\", FactorMatrix[[TYPE]:[TYPE]], Y$6)","v":0},{"$f":"SUMIFS(FactorMatrix[[UPSTREAMTRANSPORTEMISSIONS]:[UPSTREAMTRANSPORTEMISSIONS]], FactorMatrix[[MODE]:[MODE]], $B9, FactorMatrix[[PHASE]:[PHASE]], $A$4, FactorMatrix[[GHGSOURCE]:[GHGSOURCE]], \"station\", FactorMatrix[[TYPE]:[TYPE]], Z$6)","v":0},{"$f":"SUMIFS(FactorMatrix[[DOWNSTREAMEMISSIONS]:[DOWNSTREAMEMISSIONS]], FactorMatrix[[MODE]:[MODE]], $B9, FactorMatrix[[PHASE]:[PHASE]], $A$4, FactorMatrix[[GHGSOURCE]:[GHGSOURCE]], \"track mile\", FactorMatrix[[TYPE]:[TYPE]], AA$6, FactorMatrix[[STATE /REGION]:[STATE /REGION]], StateCalc)","v":0},{"$f":"SUMIFS(FactorMatrix[[DOWNSTREAMEMISSIONS]:[DOWNSTREAMEMISSIONS]], FactorMatrix[[MODE]:[MODE]], $B9, FactorMatrix[[PHASE]:[PHASE]], $A$4, FactorMatrix[[GHGSOURCE]:[GHGSOURCE]], \"track mile\", FactorMatrix[[TYPE]:[TYPE]], AB$6)","v":0},{"$f":"SUMIFS(FactorMatrix[[DOWNSTREAMEMISSIONS]:[DOWNSTREAMEMISSIONS]], FactorMatrix[[MODE]:[MODE]], $B9, FactorMatrix[[PHASE]:[PHASE]], $A$4, FactorMatrix[[GHGSOURCE]:[GHGSOURCE]], \"track mile\", FactorMatrix[[TYPE]:[TYPE]], AC$6)","v":0},{"$f":"SUMIFS(FactorMatrix[[DOWNSTREAMEMISSIONS]:[DOWNSTREAMEMISSIONS]], FactorMatrix[[MODE]:[MODE]], $B9, FactorMatrix[[PHASE]:[PHASE]], $A$4, FactorMatrix[[GHGSOURCE]:[GHGSOURCE]], \"track mile\", FactorMatrix[[TYPE]:[TYPE]], AD$6)","v":0},{"$f":"SUMIFS(FactorMatrix[[DOWNSTREAMEMISSIONS]:[DOWNSTREAMEMISSIONS]], FactorMatrix[[MODE]:[MODE]], $B9, FactorMatrix[[PHASE]:[PHASE]], $A$4, FactorMatrix[[GHGSOURCE]:[GHGSOURCE]], \"track mile\", FactorMatrix[[TYPE]:[TYPE]], AE$6)","v":0},{"$f":"SUMIFS(FactorMatrix[[DOWNSTREAMEMISSIONS]:[DOWNSTREAMEMISSIONS]], FactorMatrix[[MODE]:[MODE]], $B9, FactorMatrix[[PHASE]:[PHASE]], $A$4, FactorMatrix[[GHGSOURCE]:[GHGSOURCE]], \"station\", FactorMatrix[[TYPE]:[TYPE]], AF$6)","v":0},{"$f":"SUMIFS(FactorMatrix[[DOWNSTREAMEMISSIONS]:[DOWNSTREAMEMISSIONS]], FactorMatrix[[MODE]:[MODE]], $B9, FactorMatrix[[PHASE]:[PHASE]], $A$4, FactorMatrix[[GHGSOURCE]:[GHGSOURCE]], \"station\", FactorMatrix[[TYPE]:[TYPE]], AG$6)","v":0},{"$f":"SUMIFS(FactorMatrix[[DOWNSTREAMEMISSIONS]:[DOWNSTREAMEMISSIONS]], FactorMatrix[[MODE]:[MODE]], $B9, FactorMatrix[[PHASE]:[PHASE]], $A$4, FactorMatrix[[GHGSOURCE]:[GHGSOURCE]], \"station\", FactorMatrix[[TYPE]:[TYPE]], AH$6)","v":0},0,0,0,"Annual"]
[4,{"$f":"Construction!B11","v":0},{"$f":"Construction!C11","v":0},{"$f":"Construction!D11","v":0},{"$f":"Construction!E11","v":0},{"$f":"Construction!F11","v":0},{"$f":"Construction!G11","v":0},{"$f":"Construction!H11","v":0},{"$f":"Construction!I11","v":0},{"$f":"Construction!J11","v":0},{"$f":"SUMIFS(FactorMatrix[[UPSTREAMMATERIALSEMISSIONS]:[UPSTREAMMATERIALSEMISSIONS]], FactorMatrix[[MODE]:[MODE]], $B10, FactorMatrix[[PHASE]:[PHASE]], $A$4, FactorMatrix[[GHGSOURCE]:[GHGSOURCE]], \"track mile\", FactorMatrix[[TYPE]:[TYPE]], K$6, FactorMatrix[[STATE /REGION]:[STATE /REGION]], StateCalc)","v":0},{"$f":"SUMIFS(FactorMatrix[[UPSTREAMMATERIALSEMISSIONS]:[UPSTREAMMATERIALSEMISSIONS]], FactorMatrix[[MODE]:[MODE]], $B10, FactorMatrix[[PHASE]:[PHASE]], $A$4, FactorMatrix[[GHGSOURCE]:[GHGSOURCE]], \"track mile\", FactorMatrix[[TYPE]:[TYPE]], L$6)","v":0},{"$f":"SUMIFS(FactorMatrix[[UPSTREAMMATERIALSEMISSIONS]:[UPSTREAMMATERIALSEMISSIONS]], FactorMatrix[[MODE]:[MODE]], $B10, FactorMatrix[[PHASE]:[PHASE]], $A$4, FactorMatrix[[GHGSOURCE]:[GHGSOURCE]], \"track mile\", FactorMatrix[[TYPE]:[TYPE]], M$6)","v":0},{"$f":"SUMIFS(FactorMatrix[[UPSTREAMMATERIALSEMISSIONS]:[UPSTREAMMATERIALSEMISSIONS]], FactorMatrix[[MODE]:[MODE]], $B10, FactorMatrix[[PHASE]:[PHASE]], $A$4, FactorMatrix[[GHGSOURCE]:[GHGSOURCE]], \"track mile\", FactorMatrix[[TYPE]:[TYPE]], N$6)","v":0},{"$f":"SUMIFS(FactorMatrix[[UPSTREAMMATERIALSEMISSIONS]:[UPSTREAMMATERIALSEMISSIONS]], FactorMatrix[[MODE]:[MODE]], $B10, FactorMatrix[[PHASE]:[PHASE]], $A$4, FactorMatrix[[GHGSOURCE]:[GHGSOURCE]], \"track mile\", FactorMatrix[[TYPE]:[TYPE]], O$6)","v":0},{"$f":"SUMIFS(FactorMatrix[[UPSTREAMMATERIALSEMISSIONS]:[UPSTREAMMATERIALSEMISSIONS]], FactorMatrix[[MODE]:[MODE]], $B10, FactorMatrix[[PHASE]:[PHASE]], $A$4, FactorMatrix[[GHGSOURCE]:[GHGSOURCE]], \"station\", FactorMatrix[[TYPE]:[TYPE]], P$6)","v":0},{"$f":"SUMIFS(FactorMatrix[[UPSTREAMMATERIALSEMISSIONS]:[UPSTREAMMATERIALSEMISSIONS]], FactorMatrix[[MODE]:[MODE]], $B10, FactorMatrix[[PHASE]:[PHASE]], $A$4, FactorMatrix[[GHGSOURCE]:[GHGSOURCE]], \"station\", FactorMatrix[[TYPE]:[TYPE]], Q$6)","v":0},{"$f":"SUMIFS(FactorMatrix[[UPSTREAMMATERIALSEMISSIONS]:[UPSTREAMMATERIALSEMISSIONS]], FactorMatrix[[MODE]:[MODE]], $B10, FactorMatrix[[PHASE]:[PHASE]], $A$4, FactorMatrix[[GHGSOURCE]:[GHGSOURCE]], \"station\", FactorMatrix[[TYPE]:[TYPE]], R$6)","v":0},{"$f":"SUMIFS(FactorMatrix[[UPSTREAMTRANSPORTEMISSIONS]:[UPSTREAMTRANSPORTEMISSIONS]], FactorMatrix[[MODE]:[MODE]], $B10, FactorMatrix[[PHASE]:[PHASE]], $A$4, FactorMatrix[[GHGSOURCE]:[GHGSOURCE]], \"track mile\", FactorMatrix[[TYPE]:[TYPE]], S$6, FactorMatrix[[STATE /REGION]:[STATE /REGION]], StateCalc)","v":0},{"$f":"SUMIFS(FactorMatrix[[UPSTREAMTRANSPORTEMISSIONS]:[UPSTREAMTRANSPORTEMISSIONS]], FactorMatrix[[MODE]:[MODE]], $B10, FactorMatrix[[PHASE]:[PHASE]], $A$4, FactorMatrix[[GHGSOURCE]:[GHGSOURCE]], \"track mile\", FactorMatrix[[TYPE]:[TYPE]], T$6)","v":0},{"$f":"SUMIFS(FactorMatrix[[UPSTREAMTRANSPORTEMISSIONS]:[UPSTREAMTRANSPORTEMISSIONS]], FactorMatrix[[MODE]:[MODE]], $B10, FactorMatrix[[PHASE]:[PHASE]], $A$4, FactorMatrix[[GHGSOURCE]:[GHGSOURCE]], \"track mile\", FactorMatrix[[TYPE]:[TYPE]], U$6)","v":0},{"$f":"SUMIFS(FactorMatrix[[UPSTREAMTRANSPORTEMISSIONS]:[UPSTREAMTRANSPORTEMISSIONS]], FactorMatrix[[MODE]:[MODE]], $B10, FactorMatrix[[PHASE]:[PHASE]], $A$4, FactorMatrix[[GHGSOURCE]:[GHGSOURCE]], \"track mile\", FactorMatrix[[TYPE]:[TYPE]], V$6)","v":0},{"$f":"SUMIFS(FactorMatrix[[UPSTREAMTRANSPORTEMISSIONS]:[UPSTREAMTRANSPORTEMISSIONS]], FactorMatrix[[MODE]:[MODE]], $B10, FactorMatrix[[PHASE]:[PHASE]], $A$4, FactorMatrix[[GHGSOURCE]:[GHGSOURCE]], \"track mile\", FactorMatrix[[TYPE]:[TYPE]], W$6)","v":0},{"$f":"SUMIFS(FactorMatrix[[UPSTREAMTRANSPORTEMISSIONS]:[UPSTREAMTRANSPORTEMISSIONS]], FactorMatrix[[MODE]:[MODE]], $B10, FactorMatrix[[PHASE]:[PHASE]], $A$4, FactorMatrix[[GHGSOURCE]:[GHGSOURCE]], \"station\", FactorMatrix[[TYPE]:[TYPE]], X$6)","v":0},{"$f":"SUMIFS(FactorMatrix[[UPSTREAMTRANSPORTEMISSIONS]:[UPSTREAMTRANSPORTEMISSIONS]], FactorMatrix[[MODE]:[MODE]], $B10, FactorMatrix[[PHASE]:[PHASE]], $A$4, FactorMatrix[[GHGSOURCE]:[GHGSOURCE]], \"station\", FactorMatrix[[TYPE]:[TYPE]], Y$6)","v":0},{"$f":"SUMIFS(FactorMatrix[[UPSTREAMTRANSPORTEMISSIONS]:[UPSTREAMTRANSPORTEMISSIONS]], FactorMatrix[[MODE]:[MODE]], $B10, FactorMatrix[[PHASE]:[PHASE]], $A$4, FactorMatrix[[GHGSOURCE]:[GHGSOURCE]], \"station\", FactorMatrix[[TYPE]:[TYPE]], Z$6)","v":0},{"$f":"SUMIFS(FactorMatrix[[DOWNSTREAMEMISSIONS]:[DOWNSTREAMEMISSIONS]], FactorMatrix[[MODE]:[MODE]], $B10, FactorMatrix[[PHASE]:[PHASE]], $A$4, FactorMatrix[[GHGSOURCE]:[GHGSOURCE]], \"track mile\", FactorMatrix[[TYPE]:[TYPE]], AA$6, FactorMatrix[[STATE /REGION]:[STATE /REGION]], StateCalc)","v":0},{"$f":"SUMIFS(FactorMatrix[[DOWNSTREAMEMISSIONS]:[DOWNSTREAMEMISSIONS]], FactorMatrix[[MODE]:[MODE]], $B10, FactorMatrix[[PHASE]:[PHASE]], $A$4, FactorMatrix[[GHGSOURCE]:[GHGSOURCE]], \"track mile\", FactorMatrix[[TYPE]:[TYPE]], AB$6)","v":0},{"$f":"SUMIFS(FactorMatrix[[DOWNSTREAMEMISSIONS]:[DOWNSTREAMEMISSIONS]], FactorMatrix[[MODE]:[MODE]], $B10, FactorMatrix[[PHASE]:[PHASE]], $A$4, FactorMatrix[[GHGSOURCE]:[GHGSOURCE]], \"track mile\", FactorMatrix[[TYPE]:[TYPE]], AC$6)","v":0},{"$f":"SUMIFS(FactorMatrix[[DOWNSTREAMEMISSIONS]:[DOWNSTREAMEMISSIONS]], FactorMatrix[[MODE]:[MODE]], $B10, FactorMatrix[[PHASE]:[PHASE]], $A$4, FactorMatrix[[GHGSOURCE]:[GHGSOURCE]], \"track mile\", FactorMatrix[[TYPE]:[TYPE]], AD$6)","v":0},{"$f":"SUMIFS(FactorMatrix[[DOWNSTREAMEMISSIONS]:[DOWNSTREAMEMISSIONS]], FactorMatrix[[MODE]:[MODE]], $B10, FactorMatrix[[PHASE]:[PHASE]], $A$4, FactorMatrix[[GHGSOURCE]:[GHGSOURCE]], \"track mile\", FactorMatrix[[TYPE]:[TYPE]], AE$6)","v":0},{"$f":"SUMIFS(FactorMatrix[[DOWNSTREAMEMISSIONS]:[DOWNSTREAMEMISSIONS]], FactorMatrix[[MODE]:[MODE]], $B10, FactorMatrix[[PHASE]:[PHASE]], $A$4, FactorMatrix[[GHGSOURCE]:[GHGSOURCE]], \"station\", FactorMatrix[[TYPE]:[TYPE]], AF$6)","v":0},{"$f":"SUMIFS(FactorMatrix[[DOWNSTREAMEMISSIONS]:[DOWNSTREAMEMISSIONS]], FactorMatrix[[MODE]:[MODE]], $B10, FactorMatrix[[PHASE]:[PHASE]], $A$4, FactorMatrix[[GHGSOURCE]:[GHGSOURCE]], \"station\", FactorMatrix[[TYPE]:[TYPE]], AG$6)","v":0},{"$f":"SUMIFS(FactorMatrix[[DOWNSTREAMEMISSIONS]:[DOWNSTREAMEMISSIONS]], FactorMatrix[[MODE]:[MODE]], $B10, FactorMatrix[[PHASE]:[PHASE]], $A$4, FactorMatrix[[GHGSOURCE]:[GHGSOURCE]], \"station\", FactorMatrix[[TYPE]:[TYPE]], AH$6)","v":0},0,0,0]
[5,{"$f":"Construction!B12","v":0},{"$f":"Construction!C12","v":0},{"$f":"Construction!D12","v":0},{"$f":"Construction!E12","v":0},{"$f":"Construction!F12","v":0},{"$f":"Construction!G12","v":0},{"$f":"Construction!H12","v":0},{"$f":"Construction!I12","v":0},{"$f":"Construction!J12","v":0},{"$f":"SUMIFS(FactorMatrix[[UPSTREAMMATERIALSEMISSIONS]:[UPSTREAMMATERIALSEMISSIONS]], FactorMatrix[[MODE]:[MODE]], $B11, FactorMatrix[[PHASE]:[PHASE]], $A$4, FactorMatrix[[GHGSOURCE]:[GHGSOURCE]], \"track mile\", FactorMatrix[[TYPE]:[TYPE]], K$6, FactorMatrix[[STATE /REGION]:[STATE /REGION]], StateCalc)","v":0},{"$f":"SUMIFS(FactorMatrix[[UPSTREAMMATERIALSEMISSIONS]:[UPSTREAMMATERIALSEMISSIONS]], FactorMatrix[[MODE]:[MODE]], $B11, FactorMatrix[[PHASE]:[PHASE]], $A$4, FactorMatrix[[GHGSOURCE]:[GHGSOURCE]], \"track mile\", FactorMatrix[[TYPE]:[TYPE]], L$6)","v":0},{"$f":"SUMIFS(FactorMatrix[[UPSTREAMMATERIALSEMISSIONS]:[UPSTREAMMATERIALSEMISSIONS]], FactorMatrix[[MODE]:[MODE]], $B11, FactorMatrix[[PHASE]:[PHASE]], $A$4, FactorMatrix[[GHGSOURCE]:[GHGSOURCE]], \"track mile\", FactorMatrix[[TYPE]:[TYPE]], M$6)","v":0},{"$f":"SUMIFS(FactorMatrix[[UPSTREAMMATERIALSEMISSIONS]:[UPSTREAMMATERIALSEMISSIONS]], FactorMatrix[[MODE]:[MODE]], $B11, FactorMatrix[[PHASE]:[PHASE]], $A$4, FactorMatrix[[GHGSOURCE]:[GHGSOURCE]], \"track mile\", FactorMatrix[[TYPE]:[TYPE]], N$6)","v":0},{"$f":"SUMIFS(FactorMatrix[[UPSTREAMMATERIALSEMISSIONS]:[UPSTREAMMATERIALSEMISSIONS]], FactorMatrix[[MODE]:[MODE]], $B11, FactorMatrix[[PHASE]:[PHASE]], $A$4, FactorMatrix[[GHGSOURCE]:[GHGSOURCE]], \"track mile\", FactorMatrix[[TYPE]:[TYPE]], O$6)","v":0},{"$f":"SUMIFS(FactorMatrix[[UPSTREAMMATERIALSEMISSIONS]:[UPSTREAMMATERIALSEMISSIONS]], FactorMatrix[[MODE]:[MODE]], $B11, FactorMatrix[[PHASE]:[PHASE]], $A$4, FactorMatrix[[GHGSOURCE]:[GHGSOURCE]], \"station\", FactorMatrix[[TYPE]:[TYPE]], P$6)","v":0},{"$f":"SUMIFS(FactorMatrix[[UPSTREAMMATERIALSEMISSIONS]:[UPSTREAMMATERIALSEMISSIONS]], FactorMatrix[[MODE]:[MODE]], $B11, FactorMatrix[[PHASE]:[PHASE]], $A$4, FactorMatrix[[GHGSOURCE]:[GHGSOURCE]], \"station\", FactorMatrix[[TYPE]:[TYPE]], Q$6)","v":0},{"$f":"SUMIFS(FactorMatrix[[UPSTREAMMATERIALSEMISSIONS]:[UPSTREAMMATERIALSEMISSIONS]], FactorMatrix[[MODE]:[MODE]], $B11, FactorMatrix[[PHASE]:[PHASE]], $A$4, FactorMatrix[[GHGSOURCE]:[GHGSOURCE]], \"station\", FactorMatrix[[TYPE]:[TYPE]], R$6)","v":0},{"$f":"SUMIFS(FactorMatrix[[UPSTREAMTRANSPORTEMISSIONS]:[UPSTREAMTRANSPORTEMISSIONS]], FactorMatrix[[MODE]:[MODE]], $B11, FactorMatrix[[PHASE]:[PHASE]], $A$4, FactorMatrix[[GHGSOURCE]:[GHGSOURCE]], \"track mile\", FactorMatrix[[TYPE]:[TYPE]], S$6, FactorMatrix[[STATE /REGION]:[STATE /REGION]], StateCalc)","v":0},{"$f":"SUMIFS(FactorMatrix[[UPSTREAMTRANSPORTEMISSIONS]:[UPSTREAMTRANSPORTEMISSIONS]], FactorMatrix[[MODE]:[MODE]], $B11, FactorMatrix[[PHASE]:[PHASE]], $A$4, FactorMatrix[[GHGSOURCE]:[GHGSOURCE]], \"track mile\", FactorMatrix[[TYPE]:[TYPE]], T$6)","v":0},{"$f":"SUMIFS(FactorMatrix[[UPSTREAMTRANSPORTEMISSIONS]:[UPSTREAMTRANSPORTEMISSIONS]], FactorMatrix[[MODE]:[MODE]], $B11, FactorMatrix[[PHASE]:[PHASE]], $A$4, FactorMatrix[[GHGSOURCE]:[GHGSOURCE]], \"track mile\", FactorMatrix[[TYPE]:[TYPE]], U$6)","v":0},{"$f":"SUMIFS(FactorMatrix[[UPSTREAMTRANSPORTEMISSIONS]:[UPSTREAMTRANSPORTEMISSIONS]], FactorMatrix[[MODE]:[MODE]], $B11, FactorMatrix[[PHASE]:[PHASE]], $A$4, FactorMatrix[[GHGSOURCE]:[GHGSOURCE]], \"track mile\", FactorMatrix[[TYPE]:[TYPE]], V$6)","v":0},{"$f":"SUMIFS(FactorMatrix[[UPSTREAMTRANSPORTEMISSIONS]:[UPSTREAMTRANSPORTEMISSIONS]], FactorMatrix[[MODE]:[MODE]], $B11, FactorMatrix[[PHASE]:[PHASE]], $A$4, FactorMatrix[[GHGSOURCE]:[GHGSOURCE]], \"track mile\", FactorMatrix[[TYPE]:[TYPE]], W$6)","v":0},{"$f":"SUMIFS(FactorMatrix[[UPSTREAMTRANSPORTEMISSIONS]:[UPSTREAMTRANSPORTEMISSIONS]], FactorMatrix[[MODE]:[MODE]], $B11, FactorMatrix[[PHASE]:[PHASE]], $A$4, FactorMatrix[[GHGSOURCE]:[GHGSOURCE]], \"station\", FactorMatrix[[TYPE]:[TYPE]], X$6)","v":0},{"$f":"SUMIFS(FactorMatrix[[UPSTREAMTRANSPORTEMISSIONS]:[UPSTREAMTRANSPORTEMISSIONS]], FactorMatrix[[MODE]:[MODE]], $B11, FactorMatrix[[PHASE]:[PHASE]], $A$4, FactorMatrix[[GHGSOURCE]:[GHGSOURCE]], \"station\", FactorMatrix[[TYPE]:[TYPE]], Y$6)","v":0},{"$f":"SUMIFS(FactorMatrix[[UPSTREAMTRANSPORTEMISSIONS]:[UPSTREAMTRANSPORTEMISSIONS]], FactorMatrix[[MODE]:[MODE]], $B11, FactorMatrix[[PHASE]:[PHASE]], $A$4, FactorMatrix[[GHGSOURCE]:[GHGSOURCE]], \"station\", FactorMatrix[[TYPE]:[TYPE]], Z$6)","v":0},{"$f":"SUMIFS(FactorMatrix[[DOWNSTREAMEMISSIONS]:[DOWNSTREAMEMISSIONS]], FactorMatrix[[MODE]:[MODE]], $B11, FactorMatrix[[PHASE]:[PHASE]], $A$4, FactorMatrix[[GHGSOURCE]:[GHGSOURCE]], \"track mile\", FactorMatrix[[TYPE]:[TYPE]], AA$6, FactorMatrix[[STATE /REGION]:[STATE /REGION]], StateCalc)","v":0},{"$f":"SUMIFS(FactorMatrix[[DOWNSTREAMEMISSIONS]:[DOWNSTREAMEMISSIONS]], FactorMatrix[[MODE]:[MODE]], $B11, FactorMatrix[[PHASE]:[PHASE]], $A$4, FactorMatrix[[GHGSOURCE]:[GHGSOURCE]], \"track mile\", FactorMatrix[[TYPE]:[TYPE]], AB$6)","v":0},{"$f":"SUMIFS(FactorMatrix[[DOWNSTREAMEMISSIONS]:[DOWNSTREAMEMISSIONS]], FactorMatrix[[MODE]:[MODE]], $B11, FactorMatrix[[PHASE]:[PHASE]], $A$4, FactorMatrix[[GHGSOURCE]:[GHGSOURCE]], \"track mile\", FactorMatrix[[TYPE]:[TYPE]], AC$6)","v":0},{"$f":"SUMIFS(FactorMatrix[[DOWNSTREAMEMISSIONS]:[DOWNSTREAMEMISSIONS]], FactorMatrix[[MODE]:[MODE]], $B11, FactorMatrix[[PHASE]:[PHASE]], $A$4, FactorMatrix[[GHGSOURCE]:[GHGSOURCE]], \"track mile\", FactorMatrix[[TYPE]:[TYPE]], AD$6)","v":0},{"$f":"SUMIFS(FactorMatrix[[DOWNSTREAMEMISSIONS]:[DOWNSTREAMEMISSIONS]], FactorMatrix[[MODE]:[MODE]], $B11, FactorMatrix[[PHASE]:[PHASE]], $A$4, FactorMatrix[[GHGSOURCE]:[GHGSOURCE]], \"track mile\", FactorMatrix[[TYPE]:[TYPE]], AE$6)","v":0},{"$f":"SUMIFS(FactorMatrix[[DOWNSTREAMEMISSIONS]:[DOWNSTREAMEMISSIONS]], FactorMatrix[[MODE]:[MODE]], $B11, FactorMatrix[[PHASE]:[PHASE]], $A$4, FactorMatrix[[GHGSOURCE]:[GHGSOURCE]], \"station\", FactorMatrix[[TYPE]:[TYPE]], AF$6)","v":0},{"$f":"SUMIFS(FactorMatrix[[DOWNSTREAMEMISSIONS]:[DOWNSTREAMEMISSIONS]], FactorMatrix[[MODE]:[MODE]], $B11, FactorMatrix[[PHASE]:[PHASE]], $A$4, FactorMatrix[[GHGSOURCE]:[GHGSOURCE]], \"station\", FactorMatrix[[TYPE]:[TYPE]], AG$6)","v":0},{"$f":"SUMIFS(FactorMatrix[[DOWNSTREAMEMISSIONS]:[DOWNSTREAMEMISSIONS]], FactorMatrix[[MODE]:[MODE]], $B11, FactorMatrix[[PHASE]:[PHASE]], $A$4, FactorMatrix[[GHGSOURCE]:[GHGSOURCE]], \"station\", FactorMatrix[[TYPE]:[TYPE]], AH$6)","v":0},0,0,0,"UPSTREAM MATERIALS","UPSTREAM TRANSPORT","DOWNSTREAM"]
[6,{"$f":"Construction!B13","v":0},{"$f":"Construction!C13","v":0},{"$f":"Construction!D13","v":0},{"$f":"Construction!E13","v":0},{"$f":"Construction!F13","v":0},{"$f":"Construction!G13","v":0},{"$f":"Construction!H13","v":0},{"$f":"Construction!I13","v":0},{"$f":"Construction!J13","v":0},{"$f":"SUMIFS(FactorMatrix[[UPSTREAMMATERIALSEMISSIONS]:[UPSTREAMMATERIALSEMISSIONS]], FactorMatrix[[MODE]:[MODE]], $B12, FactorMatrix[[PHASE]:[PHASE]], $A$4, FactorMatrix[[GHGSOURCE]:[GHGSOURCE]], \"track mile\", FactorMatrix[[TYPE]:[TYPE]], K$6, FactorMatrix[[STATE /REGION]:[STATE /REGION]], StateCalc)","v":0},{"$f":"SUMIFS(FactorMatrix[[UPSTREAMMATERIALSEMISSIONS]:[UPSTREAMMATERIALSEMISSIONS]], FactorMatrix[[MODE]:[MODE]], $B12, FactorMatrix[[PHASE]:[PHASE]], $A$4, FactorMatrix[[GHGSOURCE]:[GHGSOURCE]], \"track mile\", FactorMatrix[[TYPE]:[TYPE]], L$6)","v":0},{"$f":"SUMIFS(FactorMatrix[[UPSTREAMMATERIALSEMISSIONS]:[UPSTREAMMATERIALSEMISSIONS]], FactorMatrix[[MODE]:[MODE]], $B12, FactorMatrix[[PHASE]:[PHASE]], $A$4, FactorMatrix[[GHGSOURCE]:[GHGSOURCE]], \"track mile\", FactorMatrix[[TYPE]:[TYPE]], M$6)","v":0},{"$f":"SUMIFS(FactorMatrix[[UPSTREAMMATERIALSEMISSIONS]:[UPSTREAMMATERIALSEMISSIONS]], FactorMatrix[[MODE]:[MODE]], $B12, FactorMatrix[[PHASE]:[PHASE]], $A$4, FactorMatrix[[GHGSOURCE]:[GHGSOURCE]], \"track mile\", FactorMatrix[[TYPE]:[TYPE]], N$6)","v":0},{"$f":"SUMIFS(FactorMatrix[[UPSTREAMMATERIALSEMISSIONS]:[UPSTREAMMATERIALSEMISSIONS]], FactorMatrix[[MODE]:[MODE]], $B12, FactorMatrix[[PHASE]:[PHASE]], $A$4, FactorMatrix[[GHGSOURCE]:[GHGSOURCE]], \"track mile\", FactorMatrix[[TYPE]:[TYPE]], O$6)","v":0},{"$f":"SUMIFS(FactorMatrix[[UPSTREAMMATERIALSEMISSIONS]:[UPSTREAMMATERIALSEMISSIONS]], FactorMatrix[[MODE]:[MODE]], $B12, FactorMatrix[[PHASE]:[PHASE]], $A$4, FactorMatrix[[GHGSOURCE]:[GHGSOURCE]], \"station\", FactorMatrix[[TYPE]:[TYPE]], P$6)","v":0},{"$f":"SUMIFS(FactorMatrix[[UPSTREAMMATERIALSEMISSIONS]:[UPSTREAMMATERIALSEMISSIONS]], FactorMatrix[[MODE]:[MODE]], $B12, FactorMatrix[[PHASE]:[PHASE]], $A$4, FactorMatrix[[GHGSOURCE]:[GHGSOURCE]], \"station\", FactorMatrix[[TYPE]:[TYPE]], Q$6)","v":0},{"$f":"SUMIFS(FactorMatrix[[UPSTREAMMATERIALSEMISSIONS]:[UPSTREAMMATERIALSEMISSIONS]], FactorMatrix[[MODE]:[MODE]], $B12, FactorMatrix[[PHASE]:[PHASE]], $A$4, FactorMatrix[[GHGSOURCE]:[GHGSOURCE]], \"station\", FactorMatrix[[TYPE]:[TYPE]], R$6)","v":0},{"$f":"SUMIFS(FactorMatrix[[UPSTREAMTRANSPORTEMISSIONS]:[UPSTREAMTRANSPORTEMISSIONS]], FactorMatrix[[MODE]:[MODE]], $B12, FactorMatrix[[PHASE]:[PHASE]], $A$4, FactorMatrix[[GHGSOURCE]:[GHGSOURCE]], \"track mile\", FactorMatrix[[TYPE]:[TYPE]], S$6, FactorMatrix[[STATE /REGION]:[STATE /REGION]], StateCalc)","v":0},{"$f":"SUMIFS(FactorMatrix[[UPSTREAMTRANSPORTEMISSIONS]:[UPSTREAMTRANSPORTEMISSIONS]], FactorMatrix[[MODE]:[MODE]], $B12, FactorMatrix[[PHASE]:[PHASE]], $A$4, FactorMatrix[[GHGSOURCE]:[GHGSOURCE]], \"track mile\", FactorMatrix[[TYPE]:[TYPE]], T$6)","v":0},{"$f":"SUMIFS(FactorMatrix[[UPSTREAMTRANSPORTEMISSIONS]:[UPSTREAMTRANSPORTEMISSIONS]], FactorMatrix[[MODE]:[MODE]], $B12, FactorMatrix[[PHASE]:[PHASE]], $A$4, FactorMatrix[[GHGSOURCE]:[GHGSOURCE]], \"track mile\", FactorMatrix[[TYPE]:[TYPE]], U$6)","v":0},{"$f":"SUMIFS(FactorMatrix[[UPSTREAMTRANSPORTEMISSIONS]:[UPSTREAMTRANSPORTEMISSIONS]], FactorMatrix[[MODE]:[MODE]], $B12, FactorMatrix[[PHASE]:[PHASE]], $A$4, FactorMatrix[[GHGSOURCE]:[GHGSOURCE]], \"track mile\", FactorMatrix[[TYPE]:[TYPE]], V$6)","v":0},{"$f":"SUMIFS(FactorMatrix[[UPSTREAMTRANSPORTEMISSIONS]:[UPSTREAMTRANSPORTEMISSIONS]], FactorMatrix[[MODE]:[MODE]], $B12, FactorMatrix[[PHASE]:[PHASE]], $A$4, FactorMatrix[[GHGSOURCE]:[GHGSOURCE]], \"track mile\", FactorMatrix[[TYPE]:[TYPE]], W$6)","v":0},{"$f":"SUMIFS(FactorMatrix[[UPSTREAMTRANSPORTEMISSIONS]:[UPSTREAMTRANSPORTEMISSIONS]], FactorMatrix[[MODE]:[MODE]], $B12, FactorMatrix[[PHASE]:[PHASE]], $A$4, FactorMatrix[[GHGSOURCE]:[GHGSOURCE]], \"station\", FactorMatrix[[TYPE]:[TYPE]], X$6)","v":0},{"$f":"SUMIFS(FactorMatrix[[UPSTREAMTRANSPORTEMISSIONS]:[UPSTREAMTRANSPORTEMISSIONS]], FactorMatrix[[MODE]:[MODE]], $B12, FactorMatrix[[PHASE]:[PHASE]], $A$4, FactorMatrix[[GHGSOURCE]:[GHGSOURCE]], \"station\", FactorMatrix[[TYPE]:[TYPE]], Y$6)","v":0},{"$f":"SUMIFS(FactorMatrix[[UPSTREAMTRANSPORTEMISSIONS]:[UPSTREAMTRANSPORTEMISSIONS]], FactorMatrix[[MODE]:[MODE]], $B12, FactorMatrix[[PHASE]:[PHASE]], $A$4, FactorMatrix[[GHGSOURCE]:[GHGSOURCE]], \"station\", FactorMatrix[[TYPE]:[TYPE]], Z$6)","v":0},{"$f":"SUMIFS(FactorMatrix[[DOWNSTREAMEMISSIONS]:[DOWNSTREAMEMISSIONS]], FactorMatrix[[MODE]:[MODE]], $B12, FactorMatrix[[PHASE]:[PHASE]], $A$4, FactorMatrix[[GHGSOURCE]:[GHGSOURCE]], \"track mile\", FactorMatrix[[TYPE]:[TYPE]], AA$6, FactorMatrix[[STATE /REGION]:[STATE /REGION]], StateCalc)","v":0},{"$f":"SUMIFS(FactorMatrix[[DOWNSTREAMEMISSIONS]:[DOWNSTREAMEMISSIONS]], FactorMatrix[[MODE]:[MODE]], $B12, FactorMatrix[[PHASE]:[PHASE]], $A$4, FactorMatrix[[GHGSOURCE]:[GHGSOURCE]], \"track mile\", FactorMatrix[[TYPE]:[TYPE]], AB$6)","v":0},{"$f":"SUMIFS(FactorMatrix[[DOWNSTREAMEMISSIONS]:[DOWNSTREAMEMISSIONS]], FactorMatrix[[MODE]:[MODE]], $B12, FactorMatrix[[PHASE]:[PHASE]], $A$4, FactorMatrix[[GHGSOURCE]:[GHGSOURCE]], \"track mile\", FactorMatrix[[TYPE]:[TYPE]], AC$6)","v":0},{"$f":"SUMIFS(FactorMatrix[[DOWNSTREAMEMISSIONS]:[DOWNSTREAMEMISSIONS]], FactorMatrix[[MODE]:[MODE]], $B12, FactorMatrix[[PHASE]:[PHASE]], $A$4, FactorMatrix[[GHGSOURCE]:[GHGSOURCE]], \"track mile\", FactorMatrix[[TYPE]:[TYPE]], AD$6)","v":0},{"$f":"SUMIFS(FactorMatrix[[DOWNSTREAMEMISSIONS]:[DOWNSTREAMEMISSIONS]], FactorMatrix[[MODE]:[MODE]], $B12, FactorMatrix[[PHASE]:[PHASE]], $A$4, FactorMatrix[[GHGSOURCE]:[GHGSOURCE]], \"track mile\", FactorMatrix[[TYPE]:[TYPE]], AE$6)","v":0},{"$f":"SUMIFS(FactorMatrix[[DOWNSTREAMEMISSIONS]:[DOWNSTREAMEMISSIONS]], FactorMatrix[[MODE]:[MODE]], $B12, FactorMatrix[[PHASE]:[PHASE]], $A$4, FactorMatrix[[GHGSOURCE]:[GHGSOURCE]], \"station\", FactorMatrix[[TYPE]:[TYPE]], AF$6)","v":0},{"$f":"SUMIFS(FactorMatrix[[DOWNSTREAMEMISSIONS]:[DOWNSTREAMEMISSIONS]], FactorMatrix[[MODE]:[MODE]], $B12, FactorMatrix[[PHASE]:[PHASE]], $A$4, FactorMatrix[[GHGSOURCE]:[GHGSOURCE]], \"station\", FactorMatrix[[TYPE]:[TYPE]], AG$6)","v":0},{"$f":"SUMIFS(FactorMatrix[[DOWNSTREAMEMISSIONS]:[DOWNSTREAMEMISSIONS]], FactorMatrix[[MODE]:[MODE]], $B12, FactorMatrix[[PHASE]:[PHASE]], $A$4, FactorMatrix[[GHGSOURCE]:[GHGSOURCE]], \"station\", FactorMatrix[[TYPE]:[TYPE]], AH$6)","v":0},0,0,0,{"$f":"AL7/$C$2","v":{"$error":"#DIV/0!"}},{"$f":"AM7/$C$2","v":{"$error":"#DIV/0!"}},{"$f":"AN7/$C$2","v":{"$error":"#DIV/0!"}}]
[7,{"$f":"Construction!B14","v":0},{"$f":"Construction!C14","v":0},{"$f":"Construction!D14","v":0},{"$f":"Construction!E14","v":0},{"$f":"Construction!F14","v":0},{"$f":"Construction!G14","v":0},{"$f":"Construction!H14","v":0},{"$f":"Construction!I14","v":0},{"$f":"Construction!J14","v":0},{"$f":"SUMIFS(FactorMatrix[[UPSTREAMMATERIALSEMISSIONS]:[UPSTREAMMATERIALSEMISSIONS]], FactorMatrix[[MODE]:[MODE]], $B13, FactorMatrix[[PHASE]:[PHASE]], $A$4, FactorMatrix[[GHGSOURCE]:[GHGSOURCE]], \"track mile\", FactorMatrix[[TYPE]:[TYPE]], K$6, FactorMatrix[[STATE /REGION]:[STATE /REGION]], StateCalc)","v":0},{"$f":"SUMIFS(FactorMatrix[[UPSTREAMMATERIALSEMISSIONS]:[UPSTREAMMATERIALSEMISSIONS]], FactorMatrix[[MODE]:[MODE]], $B13, FactorMatrix[[PHASE]:[PHASE]], $A$4, FactorMatrix[[GHGSOURCE]:[GHGSOURCE]], \"track mile\", FactorMatrix[[TYPE]:[TYPE]], L$6)","v":0},{"$f":"SUMIFS(FactorMatrix[[UPSTREAMMATERIALSEMISSIONS]:[UPSTREAMMATERIALSEMISSIONS]], FactorMatrix[[MODE]:[MODE]], $B13, FactorMatrix[[PHASE]:[PHASE]], $A$4, FactorMatrix[[GHGSOURCE]:[GHGSOURCE]], \"track mile\", FactorMatrix[[TYPE]:[TYPE]], M$6)","v":0},{"$f":"SUMIFS(FactorMatrix[[UPSTREAMMATERIALSEMISSIONS]:[UPSTREAMMATERIALSEMISSIONS]], FactorMatrix[[MODE]:[MODE]], $B13, FactorMatrix[[PHASE]:[PHASE]], $A$4, FactorMatrix[[GHGSOURCE]:[GHGSOURCE]], \"track mile\", FactorMatrix[[TYPE]:[TYPE]], N$6)","v":0},{"$f":"SUMIFS(FactorMatrix[[UPSTREAMMATERIALSEMISSIONS]:[UPSTREAMMATERIALSEMISSIONS]], FactorMatrix[[MODE]:[MODE]], $B13, FactorMatrix[[PHASE]:[PHASE]], $A$4, FactorMatrix[[GHGSOURCE]:[GHGSOURCE]], \"track mile\", FactorMatrix[[TYPE]:[TYPE]], O$6)","v":0},{"$f":"SUMIFS(FactorMatrix[[UPSTREAMMATERIALSEMISSIONS]:[UPSTREAMMATERIALSEMISSIONS]], FactorMatrix[[MODE]:[MODE]], $B13, FactorMatrix[[PHASE]:[PHASE]], $A$4, FactorMatrix[[GHGSOURCE]:[GHGSOURCE]], \"station\", FactorMatrix[[TYPE]:[TYPE]], P$6)","v":0},{"$f":"SUMIFS(FactorMatrix[[UPSTREAMMATERIALSEMISSIONS]:[UPSTREAMMATERIALSEMISSIONS]], FactorMatrix[[MODE]:[MODE]], $B13, FactorMatrix[[PHASE]:[PHASE]], $A$4, FactorMatrix[[GHGSOURCE]:[GHGSOURCE]], \"station\", FactorMatrix[[TYPE]:[TYPE]], Q$6)","v":0},{"$f":"SUMIFS(FactorMatrix[[UPSTREAMMATERIALSEMISSIONS]:[UPSTREAMMATERIALSEMISSIONS]], FactorMatrix[[MODE]:[MODE]], $B13, FactorMatrix[[PHASE]:[PHASE]], $A$4, FactorMatrix[[GHGSOURCE]:[GHGSOURCE]], \"station\", FactorMatrix[[TYPE]:[TYPE]], R$6)","v":0},{"$f":"SUMIFS(FactorMatrix[[UPSTREAMTRANSPORTEMISSIONS]:[UPSTREAMTRANSPORTEMISSIONS]], FactorMatrix[[MODE]:[MODE]], $B13, FactorMatrix[[PHASE]:[PHASE]], $A$4, FactorMatrix[[GHGSOURCE]:[GHGSOURCE]], \"track mile\", FactorMatrix[[TYPE]:[TYPE]], S$6, FactorMatrix[[STATE /REGION]:[STATE /REGION]], StateCalc)","v":0},{"$f":"SUMIFS(FactorMatrix[[UPSTREAMTRANSPORTEMISSIONS]:[UPSTREAMTRANSPORTEMISSIONS]], FactorMatrix[[MODE]:[MODE]], $B13, FactorMatrix[[PHASE]:[PHASE]], $A$4, FactorMatrix[[GHGSOURCE]:[GHGSOURCE]], \"track mile\", FactorMatrix[[TYPE]:[TYPE]], T$6)","v":0},{"$f":"SUMIFS(FactorMatrix[[UPSTREAMTRANSPORTEMISSIONS]:[UPSTREAMTRANSPORTEMISSIONS]], FactorMatrix[[MODE]:[MODE]], $B13, FactorMatrix[[PHASE]:[PHASE]], $A$4, FactorMatrix[[GHGSOURCE]:[GHGSOURCE]], \"track mile\", FactorMatrix[[TYPE]:[TYPE]], U$6)","v":0},{"$f":"SUMIFS(FactorMatrix[[UPSTREAMTRANSPORTEMISSIONS]:[UPSTREAMTRANSPORTEMISSIONS]], FactorMatrix[[MODE]:[MODE]], $B13, FactorMatrix[[PHASE]:[PHASE]], $A$4, FactorMatrix[[GHGSOURCE]:[GHGSOURCE]], \"track mile\", FactorMatrix[[TYPE]:[TYPE]], V$6)","v":0},{"$f":"SUMIFS(FactorMatrix[[UPSTREAMTRANSPORTEMISSIONS]:[UPSTREAMTRANSPORTEMISSIONS]], FactorMatrix[[MODE]:[MODE]], $B13, FactorMatrix[[PHASE]:[PHASE]], $A$4, FactorMatrix[[GHGSOURCE]:[GHGSOURCE]], \"track mile\", FactorMatrix[[TYPE]:[TYPE]], W$6)","v":0},{"$f":"SUMIFS(FactorMatrix[[UPSTREAMTRANSPORTEMISSIONS]:[UPSTREAMTRANSPORTEMISSIONS]], FactorMatrix[[MODE]:[MODE]], $B13, FactorMatrix[[PHASE]:[PHASE]], $A$4, FactorMatrix[[GHGSOURCE]:[GHGSOURCE]], \"station\", FactorMatrix[[TYPE]:[TYPE]], X$6)","v":0},{"$f":"SUMIFS(FactorMatrix[[UPSTREAMTRANSPORTEMISSIONS]:[UPSTREAMTRANSPORTEMISSIONS]], FactorMatrix[[MODE]:[MODE]], $B13, FactorMatrix[[PHASE]:[PHASE]], $A$4, FactorMatrix[[GHGSOURCE]:[GHGSOURCE]], \"station\", FactorMatrix[[TYPE]:[TYPE]], Y$6)","v":0},{"$f":"SUMIFS(FactorMatrix[[UPSTREAMTRANSPORTEMISSIONS]:[UPSTREAMTRANSPORTEMISSIONS]], FactorMatrix[[MODE]:[MODE]], $B13, FactorMatrix[[PHASE]:[PHASE]], $A$4, FactorMatrix[[GHGSOURCE]:[GHGSOURCE]], \"station\", FactorMatrix[[TYPE]:[TYPE]], Z$6)","v":0},{"$f":"SUMIFS(FactorMatrix[[DOWNSTREAMEMISSIONS]:[DOWNSTREAMEMISSIONS]], FactorMatrix[[MODE]:[MODE]], $B13, FactorMatrix[[PHASE]:[PHASE]], $A$4, FactorMatrix[[GHGSOURCE]:[GHGSOURCE]], \"track mile\", FactorMatrix[[TYPE]:[TYPE]], AA$6, FactorMatrix[[STATE /REGION]:[STATE /REGION]], StateCalc)","v":0},{"$f":"SUMIFS(FactorMatrix[[DOWNSTREAMEMISSIONS]:[DOWNSTREAMEMISSIONS]], FactorMatrix[[MODE]:[MODE]], $B13, FactorMatrix[[PHASE]:[PHASE]], $A$4, FactorMatrix[[GHGSOURCE]:[GHGSOURCE]], \"track mile\", FactorMatrix[[TYPE]:[TYPE]], AB$6)","v":0},{"$f":"SUMIFS(FactorMatrix[[DOWNSTREAMEMISSIONS]:[DOWNSTREAMEMISSIONS]], FactorMatrix[[MODE]:[MODE]], $B13, FactorMatrix[[PHASE]:[PHASE]], $A$4, FactorMatrix[[GHGSOURCE]:[GHGSOURCE]], \"track mile\", FactorMatrix[[TYPE]:[TYPE]], AC$6)","v":0},{"$f":"SUMIFS(FactorMatrix[[DOWNSTREAMEMISSIONS]:[DOWNSTREAMEMISSIONS]], FactorMatrix[[MODE]:[MODE]], $B13, FactorMatrix[[PHASE]:[PHASE]], $A$4, FactorMatrix[[GHGSOURCE]:[GHGSOURCE]], \"track mile\", FactorMatrix[[TYPE]:[TYPE]], AD$6)","v":0},{"$f":"SUMIFS(FactorMatrix[[DOWNSTREAMEMISSIONS]:[DOWNSTREAMEMISSIONS]], FactorMatrix[[MODE]:[MODE]], $B13, FactorMatrix[[PHASE]:[PHASE]], $A$4, FactorMatrix[[GHGSOURCE]:[GHGSOURCE]], \"track mile\", FactorMatrix[[TYPE]:[TYPE]], AE$6)","v":0},{"$f":"SUMIFS(FactorMatrix[[DOWNSTREAMEMISSIONS]:[DOWNSTREAMEMISSIONS]], FactorMatrix[[MODE]:[MODE]], $B13, FactorMatrix[[PHASE]:[PHASE]], $A$4, FactorMatrix[[GHGSOURCE]:[GHGSOURCE]], \"station\", FactorMatrix[[TYPE]:[TYPE]], AF$6)","v":0},{"$f":"SUMIFS(FactorMatrix[[DOWNSTREAMEMISSIONS]:[DOWNSTREAMEMISSIONS]], FactorMatrix[[MODE]:[MODE]], $B13, FactorMatrix[[PHASE]:[PHASE]], $A$4, FactorMatrix[[GHGSOURCE]:[GHGSOURCE]], \"station\", FactorMatrix[[TYPE]:[TYPE]], AG$6)","v":0},{"$f":"SUMIFS(FactorMatrix[[DOWNSTREAMEMISSIONS]:[DOWNSTREAMEMISSIONS]], FactorMatrix[[MODE]:[MODE]], $B13, FactorMatrix[[PHASE]:[PHASE]], $A$4, FactorMatrix[[GHGSOURCE]:[GHGSOURCE]], \"station\", FactorMatrix[[TYPE]:[TYPE]], AH$6)","v":0},0,0,{"$f":"SUMPRODUCT($C13:$J13, AA13:AH13)","v":0}]
[8,{"$f":"Construction!B15","v":0},{"$f":"Construction!C15","v":0},{"$f":"Construction!D15","v":0},{"$f":"Construction!E15","v":0},{"$f":"Construction!F15","v":0},{"$f":"Construction!G15","v":0},{"$f":"Construction!H15","v":0},{"$f":"Construction!I15","v":0},{"$f":"Construction!J15","v":0},{"$f":"SUMIFS(FactorMatrix[[UPSTREAMMATERIALSEMISSIONS]:[UPSTREAMMATERIALSEMISSIONS]], FactorMatrix[[MODE]:[MODE]], $B14, FactorMatrix[[PHASE]:[PHASE]], $A$4, FactorMatrix[[GHGSOURCE]:[GHGSOURCE]], \"track mile\", FactorMatrix[[TYPE]:[TYPE]], K$6, FactorMatrix[[STATE /REGION]:[STATE /REGION]], StateCalc)","v":0},{"$f":"SUMIFS(FactorMatrix[[UPSTREAMMATERIALSEMISSIONS]:[UPSTREAMMATERIALSEMISSIONS]], FactorMatrix[[MODE]:[MODE]], $B14, FactorMatrix[[PHASE]:[PHASE]], $A$4, FactorMatrix[[GHGSOURCE]:[GHGSOURCE]], \"track mile\", FactorMatrix[[TYPE]:[TYPE]], L$6)","v":0},{"$f":"SUMIFS(FactorMatrix[[UPSTREAMMATERIALSEMISSIONS]:[UPSTREAMMATERIALSEMISSIONS]], FactorMatrix[[MODE]:[MODE]], $B14, FactorMatrix[[PHASE]:[PHASE]], $A$4, FactorMatrix[[GHGSOURCE]:[GHGSOURCE]], \"track mile\", FactorMatrix[[TYPE]:[TYPE]], M$6)","v":0},{"$f":"SUMIFS(FactorMatrix[[UPSTREAMMATERIALSEMISSIONS]:[UPSTREAMMATERIALSEMISSIONS]], FactorMatrix[[MODE]:[MODE]], $B14, FactorMatrix[[PHASE]:[PHASE]], $A$4, FactorMatrix[[GHGSOURCE]:[GHGSOURCE]], \"track mile\", FactorMatrix[[TYPE]:[TYPE]], N$6)","v":0},{"$f":"SUMIFS(FactorMatrix[[UPSTREAMMATERIALSEMISSIONS]:[UPSTREAMMATERIALSEMISSIONS]], FactorMatrix[[MODE]:[MODE]], $B14, FactorMatrix[[PHASE]:[PHASE]], $A$4, FactorMatrix[[GHGSOURCE]:[GHGSOURCE]], \"track mile\", FactorMatrix[[TYPE]:[TYPE]], O$6)","v":0},{"$f":"SUMIFS(FactorMatrix[[UPSTREAMMATERIALSEMISSIONS]:[UPSTREAMMATERIALSEMISSIONS]], FactorMatrix[[MODE]:[MODE]], $B14, FactorMatrix[[PHASE]:[PHASE]], $A$4, FactorMatrix[[GHGSOURCE]:[GHGSOURCE]], \"station\", FactorMatrix[[TYPE]:[TYPE]], P$6)","v":0},{"$f":"SUMIFS(FactorMatrix[[UPSTREAMMATERIALSEMISSIONS]:[UPSTREAMMATERIALSEMISSIONS]], FactorMatrix[[MODE]:[MODE]], $B14, FactorMatrix[[PHASE]:[PHASE]], $A$4, FactorMatrix[[GHGSOURCE]:[GHGSOURCE]], \"station\", FactorMatrix[[TYPE]:[TYPE]], Q$6)","v":0},{"$f":"SUMIFS(FactorMatrix[[UPSTREAMMATERIALSEMISSIONS]:[UPSTREAMMATERIALSEMISSIONS]], FactorMatrix[[MODE]:[MODE]], $B14, FactorMatrix[[PHASE]:[PHASE]], $A$4, FactorMatrix[[GHGSOURCE]:[GHGSOURCE]], \"station\", FactorMatrix[[TYPE]:[TYPE]], R$6)","v":0},{"$f":"SUMIFS(FactorMatrix[[UPSTREAMTRANSPORTEMISSIONS]:[UPSTREAMTRANSPORTEMISSIONS]], FactorMatrix[[MODE]:[MODE]], $B14, FactorMatrix[[PHASE]:[PHASE]], $A$4, FactorMatrix[[GHGSOURCE]:[GHGSOURCE]], \"track mile\", FactorMatrix[[TYPE]:[TYPE]], S$6, FactorMatrix[[STATE /REGION]:[STATE /REGION]], StateCalc)","v":0},{"$f":"SUMIFS(FactorMatrix[[UPSTREAMTRANSPORTEMISSIONS]:[UPSTREAMTRANSPORTEMISSIONS]], FactorMatrix[[MODE]:[MODE]], $B14, FactorMatrix[[PHASE]:[PHASE]], $A$4, FactorMatrix[[GHGSOURCE]:[GHGSOURCE]], \"track mile\", FactorMatrix[[TYPE]:[TYPE]], T$6)","v":0},{"$f":"SUMIFS(FactorMatrix[[UPSTREAMTRANSPORTEMISSIONS]:[UPSTREAMTRANSPORTEMISSIONS]], FactorMatrix[[MODE]:[MODE]], $B14, FactorMatrix[[PHASE]:[PHASE]], $A$4, FactorMatrix[[GHGSOURCE]:[GHGSOURCE]], \"track mile\", FactorMatrix[[TYPE]:[TYPE]], U$6)","v":0},{"$f":"SUMIFS(FactorMatrix[[UPSTREAMTRANSPORTEMISSIONS]:[UPSTREAMTRANSPORTEMISSIONS]], FactorMatrix[[MODE]:[MODE]], $B14, FactorMatrix[[PHASE]:[PHASE]], $A$4, FactorMatrix[[GHGSOURCE]:[GHGSOURCE]], \"track mile\", FactorMatrix[[TYPE]:[TYPE]], V$6)","v":0},{"$f":"SUMIFS(FactorMatrix[[UPSTREAMTRANSPORTEMISSIONS]:[UPSTREAMTRANSPORTEMISSIONS]], FactorMatrix[[MODE]:[MODE]], $B14, FactorMatrix[[PHASE]:[PHASE]], $A$4, FactorMatrix[[GHGSOURCE]:[GHGSOURCE]], \"track mile\", FactorMatrix[[TYPE]:[TYPE]], W$6)","v":0},{"$f":"SUMIFS(FactorMatrix[[UPSTREAMTRANSPORTEMISSIONS]:[UPSTREAMTRANSPORTEMISSIONS]], FactorMatrix[[MODE]:[MODE]], $B14, FactorMatrix[[PHASE]:[PHASE]], $A$4, FactorMatrix[[GHGSOURCE]:[GHGSOURCE]], \"station\", FactorMatrix[[TYPE]:[TYPE]], X$6)","v":0},{"$f":"SUMIFS(FactorMatrix[[UPSTREAMTRANSPORTEMISSIONS]:[UPSTREAMTRANSPORTEMISSIONS]], FactorMatrix[[MODE]:[MODE]], $B14, FactorMatrix[[PHASE]:[PHASE]], $A$4, FactorMatrix[[GHGSOURCE]:[GHGSOURCE]], \"station\", FactorMatrix[[TYPE]:[TYPE]], Y$6)","v":0},{"$f":"SUMIFS(FactorMatrix[[UPSTREAMTRANSPORTEMISSIONS]:[UPSTREAMTRANSPORTEMISSIONS]], FactorMatrix[[MODE]:[MODE]], $B14, FactorMatrix[[PHASE]:[PHASE]], $A$4, FactorMatrix[[GHGSOURCE]:[GHGSOURCE]], \"station\", FactorMatrix[[TYPE]:[TYPE]], Z$6)","v":0},{"$f":"SUMIFS(FactorMatrix[[DOWNSTREAMEMISSIONS]:[DOWNSTREAMEMISSIONS]], FactorMatrix[[MODE]:[MODE]], $B14, FactorMatrix[[PHASE]:[PHASE]], $A$4, FactorMatrix[[GHGSOURCE]:[GHGSOURCE]], \"track mile\", FactorMatrix[[TYPE]:[TYPE]], AA$6, FactorMatrix[[STATE /REGION]:[STATE /REGION]], StateCalc)","v":0},{"$f":"SUMIFS(FactorMatrix[[DOWNSTREAMEMISSIONS]:[DOWNSTREAMEMISSIONS]], FactorMatrix[[MODE]:[MODE]], $B14, FactorMatrix[[PHASE]:[PHASE]], $A$4, FactorMatrix[[GHGSOURCE]:[GHGSOURCE]], \"track mile\", FactorMatrix[[TYPE]:[TYPE]], AB$6)","v":0},{"$f":"SUMIFS(FactorMatrix[[DOWNSTREAMEMISSIONS]:[DOWNSTREAMEMISSIONS]], FactorMatrix[[MODE]:[MODE]], $B14, FactorMatrix[[PHASE]:[PHASE]], $A$4, FactorMatrix[[GHGSOURCE]:[GHGSOURCE]], \"track mile\", FactorMatrix[[TYPE]:[TYPE]], AC$6)","v":0},{"$f":"SUMIFS(FactorMatrix[[DOWNSTREAMEMISSIONS]:[DOWNSTREAMEMISSIONS]], FactorMatrix[[MODE]:[MODE]], $B14, FactorMatrix[[PHASE]:[PHASE]], $A$4, FactorMatrix[[GHGSOURCE]:[GHGSOURCE]], \"track mile\", FactorMatrix[[TYPE]:[TYPE]], AD$6)","v":0},{"$f":"SUMIFS(FactorMatrix[[DOWNSTREAMEMISSIONS]:[DOWNSTREAMEMISSIONS]], FactorMatrix[[MODE]:[MODE]], $B14, FactorMatrix[[PHASE]:[PHASE]], $A$4, FactorMatrix[[GHGSOURCE]:[GHGSOURCE]], \"track mile\", FactorMatrix[[TYPE]:[TYPE]], AE$6)","v":0},{"$f":"SUMIFS(FactorMatrix[[DOWNSTREAMEMISSIONS]:[DOWNSTREAMEMISSIONS]], FactorMatrix[[MODE]:[MODE]], $B14, FactorMatrix[[PHASE]:[PHASE]], $A$4, FactorMatrix[[GHGSOURCE]:[GHGSOURCE]], \"station\", FactorMatrix[[TYPE]:[TYPE]], AF$6)","v":0},{"$f":"SUMIFS(FactorMatrix[[DOWNSTREAMEMISSIONS]:[DOWNSTREAMEMISSIONS]], FactorMatrix[[MODE]:[MODE]], $B14, FactorMatrix[[PHASE]:[PHASE]], $A$4, FactorMatrix[[GHGSOURCE]:[GHGSOURCE]], \"station\", FactorMatrix[[TYPE]:[TYPE]], AG$6)","v":0},{"$f":"SUMIFS(FactorMatrix[[DOWNSTREAMEMISSIONS]:[DOWNSTREAMEMISSIONS]], FactorMatrix[[MODE]:[MODE]], $B14, FactorMatrix[[PHASE]:[PHASE]], $A$4, FactorMatrix[[GHGSOURCE]:[GHGSOURCE]], \"station\", FactorMatrix[[TYPE]:[TYPE]], AH$6)","v":0},0,0,0]
[9,{"$f":"Construction!B16","v":0},{"$f":"Construction!C16","v":0},{"$f":"Construction!D16","v":0},{"$f":"Construction!E16","v":0},{"$f":"Construction!F16","v":0},{"$f":"Construction!G16","v":0},{"$f":"Construction!H16","v":0},{"$f":"Construction!I16","v":0},{"$f":"Construction!J16","v":0},{"$f":"SUMIFS(FactorMatrix[[UPSTREAMMATERIALSEMISSIONS]:[UPSTREAMMATERIALSEMISSIONS]], FactorMatrix[[MODE]:[MODE]], $B15, FactorMatrix[[PHASE]:[PHASE]], $A$4, FactorMatrix[[GHGSOURCE]:[GHGSOURCE]], \"track mile\", FactorMatrix[[TYPE]:[TYPE]], K$6, FactorMatrix[[STATE /REGION]:[STATE /REGION]], StateCalc)","v":0},{"$f":"SUMIFS(FactorMatrix[[UPSTREAMMATERIALSEMISSIONS]:[UPSTREAMMATERIALSEMISSIONS]], FactorMatrix[[MODE]:[MODE]], $B15, FactorMatrix[[PHASE]:[PHASE]], $A$4, FactorMatrix[[GHGSOURCE]:[GHGSOURCE]], \"track mile\", FactorMatrix[[TYPE]:[TYPE]], L$6)","v":0},{"$f":"SUMIFS(FactorMatrix[[UPSTREAMMATERIALSEMISSIONS]:[UPSTREAMMATERIALSEMISSIONS]], FactorMatrix[[MODE]:[MODE]], $B15, FactorMatrix[[PHASE]:[PHASE]], $A$4, FactorMatrix[[GHGSOURCE]:[GHGSOURCE]], \"track mile\", FactorMatrix[[TYPE]:[TYPE]], M$6)","v":0},{"$f":"SUMIFS(FactorMatrix[[UPSTREAMMATERIALSEMISSIONS]:[UPSTREAMMATERIALSEMISSIONS]], FactorMatrix[[MODE]:[MODE]], $B15, FactorMatrix[[PHASE]:[PHASE]], $A$4, FactorMatrix[[GHGSOURCE]:[GHGSOURCE]], \"track mile\", FactorMatrix[[TYPE]:[TYPE]], N$6)","v":0},{"$f":"SUMIFS(FactorMatrix[[UPSTREAMMATERIALSEMISSIONS]:[UPSTREAMMATERIALSEMISSIONS]], FactorMatrix[[MODE]:[MODE]], $B15, FactorMatrix[[PHASE]:[PHASE]], $A$4, FactorMatrix[[GHGSOURCE]:[GHGSOURCE]], \"track mile\", FactorMatrix[[TYPE]:[TYPE]], O$6)","v":0},{"$f":"SUMIFS(FactorMatrix[[UPSTREAMMATERIALSEMISSIONS]:[UPSTREAMMATERIALSEMISSIONS]], FactorMatrix[[MODE]:[MODE]], $B15, FactorMatrix[[PHASE]:[PHASE]], $A$4, FactorMatrix[[GHGSOURCE]:[GHGSOURCE]], \"station\", FactorMatrix[[TYPE]:[TYPE]], P$6)","v":0},{"$f":"SUMIFS(FactorMatrix[[UPSTREAMMATERIALSEMISSIONS]:[UPSTREAMMATERIALSEMISSIONS]], FactorMatrix[[MODE]:[MODE]], $B15, FactorMatrix[[PHASE]:[PHASE]], $A$4, FactorMatrix[[GHGSOURCE]:[GHGSOURCE]], \"station\", FactorMatrix[[TYPE]:[TYPE]], Q$6)","v":0},{"$f":"SUMIFS(FactorMatrix[[UPSTREAMMATERIALSEMISSIONS]:[UPSTREAMMATERIALSEMISSIONS]], FactorMatrix[[MODE]:[MODE]], $B15, FactorMatrix[[PHASE]:[PHASE]], $A$4, FactorMatrix[[GHGSOURCE]:[GHGSOURCE]], \"station\", FactorMatrix[[TYPE]:[TYPE]], R$6)","v":0},{"$f":"SUMIFS(FactorMatrix[[UPSTREAMTRANSPORTEMISSIONS]:[UPSTREAMTRANSPORTEMISSIONS]], FactorMatrix[[MODE]:[MODE]], $B15, FactorMatrix[[PHASE]:[PHASE]], $A$4, FactorMatrix[[GHGSOURCE]:[GHGSOURCE]], \"track mile\", FactorMatrix[[TYPE]:[TYPE]], S$6, FactorMatrix[[STATE /REGION]:[STATE /REGION]], StateCalc)","v":0},{"$f":"SUMIFS(FactorMatrix[[UPSTREAMTRANSPORTEMISSIONS]:[UPSTREAMTRANSPORTEMISSIONS]], FactorMatrix[[MODE]:[MODE]], $B15, FactorMatrix[[PHASE]:[PHASE]], $A$4, FactorMatrix[[GHGSOURCE]:[GHGSOURCE]], \"track mile\", FactorMatrix[[TYPE]:[TYPE]], T$6)","v":0},{"$f":"SUMIFS(FactorMatrix[[UPSTREAMTRANSPORTEMISSIONS]:[UPSTREAMTRANSPORTEMISSIONS]], FactorMatrix[[MODE]:[MODE]], $B15, FactorMatrix[[PHASE]:[PHASE]], $A$4, FactorMatrix[[GHGSOURCE]:[GHGSOURCE]], \"track mile\", FactorMatrix[[TYPE]:[TYPE]], U$6)","v":0},{"$f":"SUMIFS(FactorMatrix[[UPSTREAMTRANSPORTEMISSIONS]:[UPSTREAMTRANSPORTEMISSIONS]], FactorMatrix[[MODE]:[MODE]], $B15, FactorMatrix[[PHASE]:[PHASE]], $A$4, FactorMatrix[[GHGSOURCE]:[GHGSOURCE]], \"track mile\", FactorMatrix[[TYPE]:[TYPE]], V$6)","v":0},{"$f":"SUMIFS(FactorMatrix[[UPSTREAMTRANSPORTEMISSIONS]:[UPSTREAMTRANSPORTEMISSIONS]], FactorMatrix[[MODE]:[MODE]], $B15, FactorMatrix[[PHASE]:[PHASE]], $A$4, FactorMatrix[[GHGSOURCE]:[GHGSOURCE]], \"track mile\", FactorMatrix[[TYPE]:[TYPE]], W$6)","v":0},{"$f":"SUMIFS(FactorMatrix[[UPSTREAMTRANSPORTEMISSIONS]:[UPSTREAMTRANSPORTEMISSIONS]], FactorMatrix[[MODE]:[MODE]], $B15, FactorMatrix[[PHASE]:[PHASE]], $A$4, FactorMatrix[[GHGSOURCE]:[GHGSOURCE]], \"station\", FactorMatrix[[TYPE]:[TYPE]], X$6)","v":0},{"$f":"SUMIFS(FactorMatrix[[UPSTREAMTRANSPORTEMISSIONS]:[UPSTREAMTRANSPORTEMISSIONS]], FactorMatrix[[MODE]:[MODE]], $B15, FactorMatrix[[PHASE]:[PHASE]], $A$4, FactorMatrix[[GHGSOURCE]:[GHGSOURCE]], \"station\", FactorMatrix[[TYPE]:[TYPE]], Y$6)","v":0},{"$f":"SUMIFS(FactorMatrix[[UPSTREAMTRANSPORTEMISSIONS]:[UPSTREAMTRANSPORTEMISSIONS]], FactorMatrix[[MODE]:[MODE]], $B15, FactorMatrix[[PHASE]:[PHASE]], $A$4, FactorMatrix[[GHGSOURCE]:[GHGSOURCE]], \"station\", FactorMatrix[[TYPE]:[TYPE]], Z$6)","v":0},{"$f":"SUMIFS(FactorMatrix[[DOWNSTREAMEMISSIONS]:[DOWNSTREAMEMISSIONS]], FactorMatrix[[MODE]:[MODE]], $B15, FactorMatrix[[PHASE]:[PHASE]], $A$4, FactorMatrix[[GHGSOURCE]:[GHGSOURCE]], \"track mile\", FactorMatrix[[TYPE]:[TYPE]], AA$6, FactorMatrix[[STATE /REGION]:[STATE /REGION]], StateCalc)","v":0},{"$f":"SUMIFS(FactorMatrix[[DOWNSTREAMEMISSIONS]:[DOWNSTREAMEMISSIONS]], FactorMatrix[[MODE]:[MODE]], $B15, FactorMatrix[[PHASE]:[PHASE]], $A$4, FactorMatrix[[GHGSOURCE]:[GHGSOURCE]], \"track mile\", FactorMatrix[[TYPE]:[TYPE]], AB$6)","v":0},{"$f":"SUMIFS(FactorMatrix[[DOWNSTREAMEMISSIONS]:[DOWNSTREAMEMISSIONS]], FactorMatrix[[MODE]:[MODE]], $B15, FactorMatrix[[PHASE]:[PHASE]], $A$4, FactorMatrix[[GHGSOURCE]:[GHGSOURCE]], \"track mile\", FactorMatrix[[TYPE]:[TYPE]], AC$6)","v":0},{"$f":"SUMIFS(FactorMatrix[[DOWNSTREAMEMISSIONS]:[DOWNSTREAMEMISSIONS]], FactorMatrix[[MODE]:[MODE]], $B15, FactorMatrix[[PHASE]:[PHASE]], $A$4, FactorMatrix[[GHGSOURCE]:[GHGSOURCE]], \"track mile\", FactorMatrix[[TYPE]:[TYPE]], AD$6)","v":0},{"$f":"SUMIFS(FactorMatrix[[DOWNSTREAMEMISSIONS]:[DOWNSTREAMEMISSIONS]], FactorMatrix[[MODE]:[MODE]], $B15, FactorMatrix[[PHASE]:[PHASE]], $A$4, FactorMatrix[[GHGSOURCE]:[GHGSOURCE]], \"track mile\", FactorMatrix[[TYPE]:[TYPE]], AE$6)","v":0},{"$f":"SUMIFS(FactorMatrix[[DOWNSTREAMEMISSIONS]:[DOWNSTREAMEMISSIONS]], FactorMatrix[[MODE]:[MODE]], $B15, FactorMatrix[[PHASE]:[PHASE]], $A$4, FactorMatrix[[GHGSOURCE]:[GHGSOURCE]], \"station\", FactorMatrix[[TYPE]:[TYPE]], AF$6)","v":0},{"$f":"SUMIFS(FactorMatrix[[DOWNSTREAMEMISSIONS]:[DOWNSTREAMEMISSIONS]], FactorMatrix[[MODE]:[MODE]], $B15, FactorMatrix[[PHASE]:[PHASE]], $A$4, FactorMatrix[[GHGSOURCE]:[GHGSOURCE]], \"station\", FactorMatrix[[TYPE]:[TYPE]], AG$6)","v":0},{"$f":"SUMIFS(FactorMatrix[[DOWNSTREAMEMISSIONS]:[DOWNSTREAMEMISSIONS]], FactorMatrix[[MODE]:[MODE]], $B15, FactorMatrix[[PHASE]:[PHASE]], $A$4, FactorMatrix[[GHGSOURCE]:[GHGSOURCE]], \"station\", FactorMatrix[[TYPE]:[TYPE]], AH$6)","v":0},0,0,0]
[10,{"$f":"Construction!B17","v":0},{"$f":"Construction!C17","v":0},{"$f":"Construction!D17","v":0},{"$f":"Construction!E17","v":0},{"$f":"Construction!F17","v":0},{"$f":"Construction!G17","v":0},{"$f":"Construction!H17","v":0},{"$f":"Construction!I17","v":0},{"$f":"Construction!J17","v":0},{"$f":"SUMIFS(FactorMatrix[[UPSTREAMMATERIALSEMISSIONS]:[UPSTREAMMATERIALSEMISSIONS]], FactorMatrix[[MODE]:[MODE]], $B16, FactorMatrix[[PHASE]:[PHASE]], $A$4, FactorMatrix[[GHGSOURCE]:[GHGSOURCE]], \"track mile\", FactorMatrix[[TYPE]:[TYPE]], K$6, FactorMatrix[[STATE /REGION]:[STATE /REGION]], StateCalc)","v":0},{"$f":"SUMIFS(FactorMatrix[[UPSTREAMMATERIALSEMISSIONS]:[UPSTREAMMATERIALSEMISSIONS]], FactorMatrix[[MODE]:[MODE]], $B16, FactorMatrix[[PHASE]:[PHASE]], $A$4, FactorMatrix[[GHGSOURCE]:[GHGSOURCE]], \"track mile\", FactorMatrix[[TYPE]:[TYPE]], L$6)","v":0},{"$f":"SUMIFS(FactorMatrix[[UPSTREAMMATERIALSEMISSIONS]:[UPSTREAMMATERIALSEMISSIONS]], FactorMatrix[[MODE]:[MODE]], $B16, FactorMatrix[[PHASE]:[PHASE]], $A$4, FactorMatrix[[GHGSOURCE]:[GHGSOURCE]], \"track mile\", FactorMatrix[[TYPE]:[TYPE]], M$6)","v":0},{"$f":"SUMIFS(FactorMatrix[[UPSTREAMMATERIALSEMISSIONS]:[UPSTREAMMATERIALSEMISSIONS]], FactorMatrix[[MODE]:[MODE]], $B16, FactorMatrix[[PHASE]:[PHASE]], $A$4, FactorMatrix[[GHGSOURCE]:[GHGSOURCE]], \"track mile\", FactorMatrix[[TYPE]:[TYPE]], N$6)","v":0},{"$f":"SUMIFS(FactorMatrix[[UPSTREAMMATERIALSEMISSIONS]:[UPSTREAMMATERIALSEMISSIONS]], FactorMatrix[[MODE]:[MODE]], $B16, FactorMatrix[[PHASE]:[PHASE]], $A$4, FactorMatrix[[GHGSOURCE]:[GHGSOURCE]], \"track mile\", FactorMatrix[[TYPE]:[TYPE]], O$6)","v":0},{"$f":"SUMIFS(FactorMatrix[[UPSTREAMMATERIALSEMISSIONS]:[UPSTREAMMATERIALSEMISSIONS]], FactorMatrix[[MODE]:[MODE]], $B16, FactorMatrix[[PHASE]:[PHASE]], $A$4, FactorMatrix[[GHGSOURCE]:[GHGSOURCE]], \"station\", FactorMatrix[[TYPE]:[TYPE]], P$6)","v":0},{"$f":"SUMIFS(FactorMatrix[[UPSTREAMMATERIALSEMISSIONS]:[UPSTREAMMATERIALSEMISSIONS]], FactorMatrix[[MODE]:[MODE]], $B16, FactorMatrix[[PHASE]:[PHASE]], $A$4, FactorMatrix[[GHGSOURCE]:[GHGSOURCE]], \"station\", FactorMatrix[[TYPE]:[TYPE]], Q$6)","v":0},{"$f":"SUMIFS(FactorMatrix[[UPSTREAMMATERIALSEMISSIONS]:[UPSTREAMMATERIALSEMISSIONS]], FactorMatrix[[MODE]:[MODE]], $B16, FactorMatrix[[PHASE]:[PHASE]], $A$4, FactorMatrix[[GHGSOURCE]:[GHGSOURCE]], \"station\", FactorMatrix[[TYPE]:[TYPE]], R$6)","v":0},{"$f":"SUMIFS(FactorMatrix[[UPSTREAMTRANSPORTEMISSIONS]:[UPSTREAMTRANSPORTEMISSIONS]], FactorMatrix[[MODE]:[MODE]], $B16, FactorMatrix[[PHASE]:[PHASE]], $A$4, FactorMatrix[[GHGSOURCE]:[GHGSOURCE]], \"track mile\", FactorMatrix[[TYPE]:[TYPE]], S$6, FactorMatrix[[STATE /REGION]:[STATE /REGION]], StateCalc)","v":0},{"$f":"SUMIFS(FactorMatrix[[UPSTREAMTRANSPORTEMISSIONS]:[UPSTREAMTRANSPORTEMISSIONS]], FactorMatrix[[MODE]:[MODE]], $B16, FactorMatrix[[PHASE]:[PHASE]], $A$4, FactorMatrix[[GHGSOURCE]:[GHGSOURCE]], \"track mile\", FactorMatrix[[TYPE]:[TYPE]], T$6)","v":0},{"$f":"SUMIFS(FactorMatrix[[UPSTREAMTRANSPORTEMISSIONS]:[UPSTREAMTRANSPORTEMISSIONS]], FactorMatrix[[MODE]:[MODE]], $B16, FactorMatrix[[PHASE]:[PHASE]], $A$4, FactorMatrix[[GHGSOURCE]:[GHGSOURCE]], \"track mile\", FactorMatrix[[TYPE]:[TYPE]], U$6)","v":0},{"$f":"SUMIFS(FactorMatrix[[UPSTREAMTRANSPORTEMISSIONS]:[UPSTREAMTRANSPORTEMISSIONS]], FactorMatrix[[MODE]:[MODE]], $B16, FactorMatrix[[PHASE]:[PHASE]], $A$4, FactorMatrix[[GHGSOURCE]:[GHGSOURCE]], \"track mile\", FactorMatrix[[TYPE]:[TYPE]], V$6)","v":0},{"$f":"SUMIFS(FactorMatrix[[UPSTREAMTRANSPORTEMISSIONS]:[UPSTREAMTRANSPORTEMISSIONS]], FactorMatrix[[MODE]:[MODE]], $B16, FactorMatrix[[PHASE]:[PHASE]], $A$4, FactorMatrix[[GHGSOURCE]:[GHGSOURCE]], \"track mile\", FactorMatrix[[TYPE]:[TYPE]], W$6)","v":0},{"$f":"SUMIFS(FactorMatrix[[UPSTREAMTRANSPORTEMISSIONS]:[UPSTREAMTRANSPORTEMISSIONS]], FactorMatrix[[MODE]:[MODE]], $B16, FactorMatrix[[PHASE]:[PHASE]], $A$4, FactorMatrix[[GHGSOURCE]:[GHGSOURCE]], \"station\", FactorMatrix[[TYPE]:[TYPE]], X$6)","v":0},{"$f":"SUMIFS(FactorMatrix[[UPSTREAMTRANSPORTEMISSIONS]:[UPSTREAMTRANSPORTEMISSIONS]], FactorMatrix[[MODE]:[MODE]], $B16, FactorMatrix[[PHASE]:[PHASE]], $A$4, FactorMatrix[[GHGSOURCE]:[GHGSOURCE]], \"station\", FactorMatrix[[TYPE]:[TYPE]], Y$6)","v":0},{"$f":"SUMIFS(FactorMatrix[[UPSTREAMTRANSPORTEMISSIONS]:[UPSTREAMTRANSPORTEMISSIONS]], FactorMatrix[[MODE]:[MODE]], $B16, FactorMatrix[[PHASE]:[PHASE]], $A$4, FactorMatrix[[GHGSOURCE]:[GHGSOURCE]], \"station\", FactorMatrix[[TYPE]:[TYPE]], Z$6)","v":0},{"$f":"SUMIFS(FactorMatrix[[DOWNSTREAMEMISSIONS]:[DOWNSTREAMEMISSIONS]], FactorMatrix[[MODE]:[MODE]], $B16, FactorMatrix[[PHASE]:[PHASE]], $A$4, FactorMatrix[[GHGSOURCE]:[GHGSOURCE]], \"track mile\", FactorMatrix[[TYPE]:[TYPE]], AA$6, FactorMatrix[[STATE /REGION]:[STATE /REGION]], StateCalc)","v":0},{"$f":"SUMIFS(FactorMatrix[[DOWNSTREAMEMISSIONS]:[DOWNSTREAMEMISSIONS]], FactorMatrix[[MODE]:[MODE]], $B16, FactorMatrix[[PHASE]:[PHASE]], $A$4, FactorMatrix[[GHGSOURCE]:[GHGSOURCE]], \"track mile\", FactorMatrix[[TYPE]:[TYPE]], AB$6)","v":0},{"$f":"SUMIFS(FactorMatrix[[DOWNSTREAMEMISSIONS]:[DOWNSTREAMEMISSIONS]], FactorMatrix[[MODE]:[MODE]], $B16, FactorMatrix[[PHASE]:[PHASE]], $A$4, FactorMatrix[[GHGSOURCE]:[GHGSOURCE]], \"track mile\", FactorMatrix[[TYPE]:[TYPE]], AC$6)","v":0},{"$f":"SUMIFS(FactorMatrix[[DOWNSTREAMEMISSIONS]:[DOWNSTREAMEMISSIONS]], FactorMatrix[[MODE]:[MODE]], $B16, FactorMatrix[[PHASE]:[PHASE]], $A$4, FactorMatrix[[GHGSOURCE]:[GHGSOURCE]], \"track mile\", FactorMatrix[[TYPE]:[TYPE]], AD$6)","v":0},{"$f":"SUMIFS(FactorMatrix[[DOWNSTREAMEMISSIONS]:[DOWNSTREAMEMISSIONS]], FactorMatrix[[MODE]:[MODE]], $B16, FactorMatrix[[PHASE]:[PHASE]], $A$4, FactorMatrix[[GHGSOURCE]:[GHGSOURCE]], \"track mile\", FactorMatrix[[TYPE]:[TYPE]], AE$6)","v":0},{"$f":"SUMIFS(FactorMatrix[[DOWNSTREAMEMISSIONS]:[DOWNSTREAMEMISSIONS]], FactorMatrix[[MODE]:[MODE]], $B16, FactorMatrix[[PHASE]:[PHASE]], $A$4, FactorMatrix[[GHGSOURCE]:[GHGSOURCE]], \"station\", FactorMatrix[[TYPE]:[TYPE]], AF$6)","v":0},{"$f":"SUMIFS(FactorMatrix[[DOWNSTREAMEMISSIONS]:[DOWNSTREAMEMISSIONS]], FactorMatrix[[MODE]:[MODE]], $B16, FactorMatrix[[PHASE]:[PHASE]], $A$4, FactorMatrix[[GHGSOURCE]:[GHGSOURCE]], \"station\", FactorMatrix[[TYPE]:[TYPE]], AG$6)","v":0},{"$f":"SUMIFS(FactorMatrix[[DOWNSTREAMEMISSIONS]:[DOWNSTREAMEMISSIONS]], FactorMatrix[[MODE]:[MODE]], $B16, FactorMatrix[[PHASE]:[PHASE]], $A$4, FactorMatrix[[GHGSOURCE]:[GHGSOURCE]], \"station\", FactorMatrix[[TYPE]:[TYPE]], AH$6)","v":0},0,0,0]
[11,{"$f":"Construction!B18","v":0},{"$f":"Construction!C18","v":0},{"$f":"Construction!D18","v":0},{"$f":"Construction!E18","v":0},{"$f":"Construction!F18","v":0},{"$f":"Construction!G18","v":0},{"$f":"Construction!H18","v":0},{"$f":"Construction!I18","v":0},{"$f":"Construction!J18","v":0},{"$f":"SUMIFS(FactorMatrix[[UPSTREAMMATERIALSEMISSIONS]:[UPSTREAMMATERIALSEMISSIONS]], FactorMatrix[[MODE]:[MODE]], $B17, FactorMatrix[[PHASE]:[PHASE]], $A$4, FactorMatrix[[GHGSOURCE]:[GHGSOURCE]], \"track mile\", FactorMatrix[[TYPE]:[TYPE]], K$6, FactorMatrix[[STATE /REGION]:[STATE /REGION]], StateCalc)","v":0},{"$f":"SUMIFS(FactorMatrix[[UPSTREAMMATERIALSEMISSIONS]:[UPSTREAMMATERIALSEMISSIONS]], FactorMatrix[[MODE]:[MODE]], $B17, FactorMatrix[[PHASE]:[PHASE]], $A$4, FactorMatrix[[GHGSOURCE]:[GHGSOURCE]], \"track mile\", FactorMatrix[[TYPE]:[TYPE]], L$6)","v":0},{"$f":"SUMIFS(FactorMatrix[[UPSTREAMMATERIALSEMISSIONS]:[UPSTREAMMATERIALSEMISSIONS]], FactorMatrix[[MODE]:[MODE]], $B17, FactorMatrix[[PHASE]:[PHASE]], $A$4, FactorMatrix[[GHGSOURCE]:[GHGSOURCE]], \"track mile\", FactorMatrix[[TYPE]:[TYPE]], M$6)","v":0},{"$f":"SUMIFS(FactorMatrix[[UPSTREAMMATERIALSEMISSIONS]:[UPSTREAMMATERIALSEMISSIONS]], FactorMatrix[[MODE]:[MODE]], $B17, FactorMatrix[[PHASE]:[PHASE]], $A$4, FactorMatrix[[GHGSOURCE]:[GHGSOURCE]], \"track mile\", FactorMatrix[[TYPE]:[TYPE]], N$6)","v":0},{"$f":"SUMIFS(FactorMatrix[[UPSTREAMMATERIALSEMISSIONS]:[UPSTREAMMATERIALSEMISSIONS]], FactorMatrix[[MODE]:[MODE]], $B17, FactorMatrix[[PHASE]:[PHASE]], $A$4, FactorMatrix[[GHGSOURCE]:[GHGSOURCE]], \"track mile\", FactorMatrix[[TYPE]:[TYPE]], O$6)","v":0},{"$f":"SUMIFS(FactorMatrix[[UPSTREAMMATERIALSEMISSIONS]:[UPSTREAMMATERIALSEMISSIONS]], FactorMatrix[[MODE]:[MODE]], $B17, FactorMatrix[[PHASE]:[PHASE]], $A$4, FactorMatrix[[GHGSOURCE]:[GHGSOURCE]], \"station\", FactorMatrix[[TYPE]:[TYPE]], P$6)","v":0},{"$f":"SUMIFS(FactorMatrix[[UPSTREAMMATERIALSEMISSIONS]:[UPSTREAMMATERIALSEMISSIONS]], FactorMatrix[[MODE]:[MODE]], $B17, FactorMatrix[[PHASE]:[PHASE]], $A$4, FactorMatrix[[GHGSOURCE]:[GHGSOURCE]], \"station\", FactorMatrix[[TYPE]:[TYPE]], Q$6)","v":0},{"$f":"SUMIFS(FactorMatrix[[UPSTREAMMATERIALSEMISSIONS]:[UPSTREAMMATERIALSEMISSIONS]], FactorMatrix[[MODE]:[MODE]], $B17, FactorMatrix[[PHASE]:[PHASE]], $A$4, FactorMatrix[[GHGSOURCE]:[GHGSOURCE]], \"station\", FactorMatrix[[TYPE]:[TYPE]], R$6)","v":0},{"$f":"SUMIFS(FactorMatrix[[UPSTREAMTRANSPORTEMISSIONS]:[UPSTREAMTRANSPORTEMISSIONS]], FactorMatrix[[MODE]:[MODE]], $B17, FactorMatrix[[PHASE]:[PHASE]], $A$4, FactorMatrix[[GHGSOURCE]:[GHGSOURCE]], \"track mile\", FactorMatrix[[TYPE]:[TYPE]], S$6, FactorMatrix[[STATE /REGION]:[STATE /REGION]], StateCalc)","v":0},{"$f":"SUMIFS(FactorMatrix[[UPSTREAMTRANSPORTEMISSIONS]:[UPSTREAMTRANSPORTEMISSIONS]], FactorMatrix[[MODE]:[MODE]], $B17, FactorMatrix[[PHASE]:[PHASE]], $A$4, FactorMatrix[[GHGSOURCE]:[GHGSOURCE]], \"track mile\", FactorMatrix[[TYPE]:[TYPE]], T$6)","v":0},{"$f":"SUMIFS(FactorMatrix[[UPSTREAMTRANSPORTEMISSIONS]:[UPSTREAMTRANSPORTEMISSIONS]], FactorMatrix[[MODE]:[MODE]], $B17, FactorMatrix[[PHASE]:[PHASE]], $A$4, FactorMatrix[[GHGSOURCE]:[GHGSOURCE]], \"track mile\", FactorMatrix[[TYPE]:[TYPE]], U$6)","v":0},{"$f":"SUMIFS(FactorMatrix[[UPSTREAMTRANSPORTEMISSIONS]:[UPSTREAMTRANSPORTEMISSIONS]], FactorMatrix[[MODE]:[MODE]], $B17, FactorMatrix[[PHASE]:[PHASE]], $A$4, FactorMatrix[[GHGSOURCE]:[GHGSOURCE]], \"track mile\", FactorMatrix[[TYPE]:[TYPE]], V$6)","v":0},{"$f":"SUMIFS(FactorMatrix[[UPSTREAMTRANSPORTEMISSIONS]:[UPSTREAMTRANSPORTEMISSIONS]], FactorMatrix[[MODE]:[MODE]], $B17, FactorMatrix[[PHASE]:[PHASE]], $A$4, FactorMatrix[[GHGSOURCE]:[GHGSOURCE]], \"track mile\", FactorMatrix[[TYPE]:[TYPE]], W$6)","v":0},{"$f":"SUMIFS(FactorMatrix[[UPSTREAMTRANSPORTEMISSIONS]:[UPSTREAMTRANSPORTEMISSIONS]], FactorMatrix[[MODE]:[MODE]], $B17, FactorMatrix[[PHASE]:[PHASE]], $A$4, FactorMatrix[[GHGSOURCE]:[GHGSOURCE]], \"station\", FactorMatrix[[TYPE]:[TYPE]], X$6)","v":0},{"$f":"SUMIFS(FactorMatrix[[UPSTREAMTRANSPORTEMISSIONS]:[UPSTREAMTRANSPORTEMISSIONS]], FactorMatrix[[MODE]:[MODE]], $B17, FactorMatrix[[PHASE]:[PHASE]], $A$4, FactorMatrix[[GHGSOURCE]:[GHGSOURCE]], \"station\", FactorMatrix[[TYPE]:[TYPE]], Y$6)","v":0},{"$f":"SUMIFS(FactorMatrix[[UPSTREAMTRANSPORTEMISSIONS]:[UPSTREAMTRANSPORTEMISSIONS]], FactorMatrix[[MODE]:[MODE]], $B17, FactorMatrix[[PHASE]:[PHASE]], $A$4, FactorMatrix[[GHGSOURCE]:[GHGSOURCE]], \"station\", FactorMatrix[[TYPE]:[TYPE]], Z$6)","v":0},{"$f":"SUMIFS(FactorMatrix[[DOWNSTREAMEMISSIONS]:[DOWNSTREAMEMISSIONS]], FactorMatrix[[MODE]:[MODE]], $B17, FactorMatrix[[PHASE]:[PHASE]], $A$4, FactorMatrix[[GHGSOURCE]:[GHGSOURCE]], \"track mile\", FactorMatrix[[TYPE]:[TYPE]], AA$6, FactorMatrix[[STATE /REGION]:[STATE /REGION]], StateCalc)","v":0},{"$f":"SUMIFS(FactorMatrix[[DOWNSTREAMEMISSIONS]:[DOWNSTREAMEMISSIONS]], FactorMatrix[[MODE]:[MODE]], $B17, FactorMatrix[[PHASE]:[PHASE]], $A$4, FactorMatrix[[GHGSOURCE]:[GHGSOURCE]], \"track mile\", FactorMatrix[[TYPE]:[TYPE]], AB$6)","v":0},{"$f":"SUMIFS(FactorMatrix[[DOWNSTREAMEMISSIONS]:[DOWNSTREAMEMISSIONS]], FactorMatrix[[MODE]:[MODE]], $B17, FactorMatrix[[PHASE]:[PHASE]], $A$4, FactorMatrix[[GHGSOURCE]:[GHGSOURCE]], \"track mile\", FactorMatrix[[TYPE]:[TYPE]], AC$6)","v":0},{"$f":"SUMIFS(FactorMatrix[[DOWNSTREAMEMISSIONS]:[DOWNSTREAMEMISSIONS]], FactorMatrix[[MODE]:[MODE]], $B17, FactorMatrix[[PHASE]:[PHASE]], $A$4, FactorMatrix[[GHGSOURCE]:[GHGSOURCE]], \"track mile\", FactorMatrix[[TYPE]:[TYPE]], AD$6)","v":0},{"$f":"SUMIFS(FactorMatrix[[DOWNSTREAMEMISSIONS]:[DOWNSTREAMEMISSIONS]], FactorMatrix[[MODE]:[MODE]], $B17, FactorMatrix[[PHASE]:[PHASE]], $A$4, FactorMatrix[[GHGSOURCE]:[GHGSOURCE]], \"track mile\", FactorMatrix[[TYPE]:[TYPE]], AE$6)","v":0},{"$f":"SUMIFS(FactorMatrix[[DOWNSTREAMEMISSIONS]:[DOWNSTREAMEMISSIONS]], FactorMatrix[[MODE]:[MODE]], $B17, FactorMatrix[[PHASE]:[PHASE]], $A$4, FactorMatrix[[GHGSOURCE]:[GHGSOURCE]], \"station\", FactorMatrix[[TYPE]:[TYPE]], AF$6)","v":0},{"$f":"SUMIFS(FactorMatrix[[DOWNSTREAMEMISSIONS]:[DOWNSTREAMEMISSIONS]], FactorMatrix[[MODE]:[MODE]], $B17, FactorMatrix[[PHASE]:[PHASE]], $A$4, FactorMatrix[[GHGSOURCE]:[GHGSOURCE]], \"station\", FactorMatrix[[TYPE]:[TYPE]], AG$6)","v":0},{"$f":"SUMIFS(FactorMatrix[[DOWNSTREAMEMISSIONS]:[DOWNSTREAMEMISSIONS]], FactorMatrix[[MODE]:[MODE]], $B17, FactorMatrix[[PHASE]:[PHASE]], $A$4, FactorMatrix[[GHGSOURCE]:[GHGSOURCE]], \"station\", FactorMatrix[[TYPE]:[TYPE]], AH$6)","v":0},0,0,0]
[12,{"$f":"Construction!B19","v":0},{"$f":"Construction!C19","v":0},{"$f":"Construction!D19","v":0},{"$f":"Construction!E19","v":0},{"$f":"Construction!F19","v":0},{"$f":"Construction!G19","v":0},{"$f":"Construction!H19","v":0},{"$f":"Construction!I19","v":0},{"$f":"Construction!J19","v":0},{"$f":"SUMIFS(FactorMatrix[[UPSTREAMMATERIALSEMISSIONS]:[UPSTREAMMATERIALSEMISSIONS]], FactorMatrix[[MODE]:[MODE]], $B18, FactorMatrix[[PHASE]:[PHASE]], $A$4, FactorMatrix[[GHGSOURCE]:[GHGSOURCE]], \"track mile\", FactorMatrix[[TYPE]:[TYPE]], K$6, FactorMatrix[[STATE /REGION]:[STATE /REGION]], StateCalc)","v":0},{"$f":"SUMIFS(FactorMatrix[[UPSTREAMMATERIALSEMISSIONS]:[UPSTREAMMATERIALSEMISSIONS]], FactorMatrix[[MODE]:[MODE]], $B18, FactorMatrix[[PHASE]:[PHASE]], $A$4, FactorMatrix[[GHGSOURCE]:[GHGSOURCE]], \"track mile\", FactorMatrix[[TYPE]:[TYPE]], L$6)","v":0},{"$f":"SUMIFS(FactorMatrix[[UPSTREAMMATERIALSEMISSIONS]:[UPSTREAMMATERIALSEMISSIONS]], FactorMatrix[[MODE]:[MODE]], $B18, FactorMatrix[[PHASE]:[PHASE]], $A$4, FactorMatrix[[GHGSOURCE]:[GHGSOURCE]], \"track mile\", FactorMatrix[[TYPE]:[TYPE]], M$6)","v":0},{"$f":"SUMIFS(FactorMatrix[[UPSTREAMMATERIALSEMISSIONS]:[UPSTREAMMATERIALSEMISSIONS]], FactorMatrix[[MODE]:[MODE]], $B18, FactorMatrix[[PHASE]:[PHASE]], $A$4, FactorMatrix[[GHGSOURCE]:[GHGSOURCE]], \"track mile\", FactorMatrix[[TYPE]:[TYPE]], N$6)","v":0},{"$f":"SUMIFS(FactorMatrix[[UPSTREAMMATERIALSEMISSIONS]:[UPSTREAMMATERIALSEMISSIONS]], FactorMatrix[[MODE]:[MODE]], $B18, FactorMatrix[[PHASE]:[PHASE]], $A$4, FactorMatrix[[GHGSOURCE]:[GHGSOURCE]], \"track mile\", FactorMatrix[[TYPE]:[TYPE]], O$6)","v":0},{"$f":"SUMIFS(FactorMatrix[[UPSTREAMMATERIALSEMISSIONS]:[UPSTREAMMATERIALSEMISSIONS]], FactorMatrix[[MODE]:[MODE]], $B18, FactorMatrix[[PHASE]:[PHASE]], $A$4, FactorMatrix[[GHGSOURCE]:[GHGSOURCE]], \"station\", FactorMatrix[[TYPE]:[TYPE]], P$6)","v":0},{"$f":"SUMIFS(FactorMatrix[[UPSTREAMMATERIALSEMISSIONS]:[UPSTREAMMATERIALSEMISSIONS]], FactorMatrix[[MODE]:[MODE]], $B18, FactorMatrix[[PHASE]:[PHASE]], $A$4, FactorMatrix[[GHGSOURCE]:[GHGSOURCE]], \"station\", FactorMatrix[[TYPE]:[TYPE]], Q$6)","v":0},{"$f":"SUMIFS(FactorMatrix[[UPSTREAMMATERIALSEMISSIONS]:[UPSTREAMMATERIALSEMISSIONS]], FactorMatrix[[MODE]:[MODE]], $B18, FactorMatrix[[PHASE]:[PHASE]], $A$4, FactorMatrix[[GHGSOURCE]:[GHGSOURCE]], \"station\", FactorMatrix[[TYPE]:[TYPE]], R$6)","v":0},{"$f":"SUMIFS(FactorMatrix[[UPSTREAMTRANSPORTEMISSIONS]:[UPSTREAMTRANSPORTEMISSIONS]], FactorMatrix[[MODE]:[MODE]], $B18, FactorMatrix[[PHASE]:[PHASE]], $A$4, FactorMatrix[[GHGSOURCE]:[GHGSOURCE]], \"track mile\", FactorMatrix[[TYPE]:[TYPE]], S$6, FactorMatrix[[STATE /REGION]:[STATE /REGION]], StateCalc)","v":0},{"$f":"SUMIFS(FactorMatrix[[UPSTREAMTRANSPORTEMISSIONS]:[UPSTREAMTRANSPORTEMISSIONS]], FactorMatrix[[MODE]:[MODE]], $B18, FactorMatrix[[PHASE]:[PHASE]], $A$4, FactorMatrix[[GHGSOURCE]:[GHGSOURCE]], \"track mile\", FactorMatrix[[TYPE]:[TYPE]], T$6)","v":0},{"$f":"SUMIFS(FactorMatrix[[UPSTREAMTRANSPORTEMISSIONS]:[UPSTREAMTRANSPORTEMISSIONS]], FactorMatrix[[MODE]:[MODE]], $B18, FactorMatrix[[PHASE]:[PHASE]], $A$4, FactorMatrix[[GHGSOURCE]:[GHGSOURCE]], \"track mile\", FactorMatrix[[TYPE]:[TYPE]], U$6)","v":0},{"$f":"SUMIFS(FactorMatrix[[UPSTREAMTRANSPORTEMISSIONS]:[UPSTREAMTRANSPORTEMISSIONS]], FactorMatrix[[MODE]:[MODE]], $B18, FactorMatrix[[PHASE]:[PHASE]], $A$4, FactorMatrix[[GHGSOURCE]:[GHGSOURCE]], \"track mile\", FactorMatrix[[TYPE]:[TYPE]], V$6)","v":0},{"$f":"SUMIFS(FactorMatrix[[UPSTREAMTRANSPORTEMISSIONS]:[UPSTREAMTRANSPORTEMISSIONS]], FactorMatrix[[MODE]:[MODE]], $B18, FactorMatrix[[PHASE]:[PHASE]], $A$4, FactorMatrix[[GHGSOURCE]:[GHGSOURCE]], \"track mile\", FactorMatrix[[TYPE]:[TYPE]], W$6)","v":0},{"$f":"SUMIFS(FactorMatrix[[UPSTREAMTRANSPORTEMISSIONS]:[UPSTREAMTRANSPORTEMISSIONS]], FactorMatrix[[MODE]:[MODE]], $B18, FactorMatrix[[PHASE]:[PHASE]], $A$4, FactorMatrix[[GHGSOURCE]:[GHGSOURCE]], \"station\", FactorMatrix[[TYPE]:[TYPE]], X$6)","v":0},{"$f":"SUMIFS(FactorMatrix[[UPSTREAMTRANSPORTEMISSIONS]:[UPSTREAMTRANSPORTEMISSIONS]], FactorMatrix[[MODE]:[MODE]], $B18, FactorMatrix[[PHASE]:[PHASE]], $A$4, FactorMatrix[[GHGSOURCE]:[GHGSOURCE]], \"station\", FactorMatrix[[TYPE]:[TYPE]], Y$6)","v":0},{"$f":"SUMIFS(FactorMatrix[[UPSTREAMTRANSPORTEMISSIONS]:[UPSTREAMTRANSPORTEMISSIONS]], FactorMatrix[[MODE]:[MODE]], $B18, FactorMatrix[[PHASE]:[PHASE]], $A$4, FactorMatrix[[GHGSOURCE]:[GHGSOURCE]], \"station\", FactorMatrix[[TYPE]:[TYPE]], Z$6)","v":0},{"$f":"SUMIFS(FactorMatrix[[DOWNSTREAMEMISSIONS]:[DOWNSTREAMEMISSIONS]], FactorMatrix[[MODE]:[MODE]], $B18, FactorMatrix[[PHASE]:[PHASE]], $A$4, FactorMatrix[[GHGSOURCE]:[GHGSOURCE]], \"track mile\", FactorMatrix[[TYPE]:[TYPE]], AA$6, FactorMatrix[[STATE /REGION]:[STATE /REGION]], StateCalc)","v":0},{"$f":"SUMIFS(FactorMatrix[[DOWNSTREAMEMISSIONS]:[DOWNSTREAMEMISSIONS]], FactorMatrix[[MODE]:[MODE]], $B18, FactorMatrix[[PHASE]:[PHASE]], $A$4, FactorMatrix[[GHGSOURCE]:[GHGSOURCE]], \"track mile\", FactorMatrix[[TYPE]:[TYPE]], AB$6)","v":0},{"$f":"SUMIFS(FactorMatrix[[DOWNSTREAMEMISSIONS]:[DOWNSTREAMEMISSIONS]], FactorMatrix[[MODE]:[MODE]], $B18, FactorMatrix[[PHASE]:[PHASE]], $A$4, FactorMatrix[[GHGSOURCE]:[GHGSOURCE]], \"track mile\", FactorMatrix[[TYPE]:[TYPE]], AC$6)","v":0},{"$f":"SUMIFS(FactorMatrix[[DOWNSTREAMEMISSIONS]:[DOWNSTREAMEMISSIONS]], FactorMatrix[[MODE]:[MODE]], $B18, FactorMatrix[[PHASE]:[PHASE]], $A$4, FactorMatrix[[GHGSOURCE]:[GHGSOURCE]], \"track mile\", FactorMatrix[[TYPE]:[TYPE]], AD$6)","v":0},{"$f":"SUMIFS(FactorMatrix[[DOWNSTREAMEMISSIONS]:[DOWNSTREAMEMISSIONS]], FactorMatrix[[MODE]:[MODE]], $B18, FactorMatrix[[PHASE]:[PHASE]], $A$4, FactorMatrix[[GHGSOURCE]:[GHGSOURCE]], \"track mile\", FactorMatrix[[TYPE]:[TYPE]], AE$6)","v":0},{"$f":"SUMIFS(FactorMatrix[[DOWNSTREAMEMISSIONS]:[DOWNSTREAMEMISSIONS]], FactorMatrix[[MODE]:[MODE]], $B18, FactorMatrix[[PHASE]:[PHASE]], $A$4, FactorMatrix[[GHGSOURCE]:[GHGSOURCE]], \"station\", FactorMatrix[[TYPE]:[TYPE]], AF$6)","v":0},{"$f":"SUMIFS(FactorMatrix[[DOWNSTREAMEMISSIONS]:[DOWNSTREAMEMISSIONS]], FactorMatrix[[MODE]:[MODE]], $B18, FactorMatrix[[PHASE]:[PHASE]], $A$4, FactorMatrix[[GHGSOURCE]:[GHGSOURCE]], \"station\", FactorMatrix[[TYPE]:[TYPE]], AG$6)","v":0},{"$f":"SUMIFS(FactorMatrix[[DOWNSTREAMEMISSIONS]:[DOWNSTREAMEMISSIONS]], FactorMatrix[[MODE]:[MODE]], $B18, FactorMatrix[[PHASE]:[PHASE]], $A$4, FactorMatrix[[GHGSOURCE]:[GHGSOURCE]], \"station\", FactorMatrix[[TYPE]:[TYPE]], AH$6)","v":0},0,0,0]
[13,{"$f":"Construction!B20","v":0},{"$f":"Construction!C20","v":0},{"$f":"Construction!D20","v":0},{"$f":"Construction!E20","v":0},{"$f":"Construction!F20","v":0},{"$f":"Construction!G20","v":0},{"$f":"Construction!H20","v":0},{"$f":"Construction!I20","v":0},{"$f":"Construction!J20","v":0},{"$f":"SUMIFS(FactorMatrix[[UPSTREAMMATERIALSEMISSIONS]:[UPSTREAMMATERIALSEMISSIONS]], FactorMatrix[[MODE]:[MODE]], $B19, FactorMatrix[[PHASE]:[PHASE]], $A$4, FactorMatrix[[GHGSOURCE]:[GHGSOURCE]], \"track mile\", FactorMatrix[[TYPE]:[TYPE]], K$6, FactorMatrix[[STATE /REGION]:[STATE /REGION]], StateCalc)","v":0},{"$f":"SUMIFS(FactorMatrix[[UPSTREAMMATERIALSEMISSIONS]:[UPSTREAMMATERIALSEMISSIONS]], FactorMatrix[[MODE]:[MODE]], $B19, FactorMatrix[[PHASE]:[PHASE]], $A$4, FactorMatrix[[GHGSOURCE]:[GHGSOURCE]], \"track mile\", FactorMatrix[[TYPE]:[TYPE]], L$6)","v":0},{"$f":"SUMIFS(FactorMatrix[[UPSTREAMMATERIALSEMISSIONS]:[UPSTREAMMATERIALSEMISSIONS]], FactorMatrix[[MODE]:[MODE]], $B19, FactorMatrix[[PHASE]:[PHASE]], $A$4, FactorMatrix[[GHGSOURCE]:[GHGSOURCE]], \"track mile\", FactorMatrix[[TYPE]:[TYPE]], M$6)","v":0},{"$f":"SUMIFS(FactorMatrix[[UPSTREAMMATERIALSEMISSIONS]:[UPSTREAMMATERIALSEMISSIONS]], FactorMatrix[[MODE]:[MODE]], $B19, FactorMatrix[[PHASE]:[PHASE]], $A$4, FactorMatrix[[GHGSOURCE]:[GHGSOURCE]], \"track mile\", FactorMatrix[[TYPE]:[TYPE]], N$6)","v":0},{"$f":"SUMIFS(FactorMatrix[[UPSTREAMMATERIALSEMISSIONS]:[UPSTREAMMATERIALSEMISSIONS]], FactorMatrix[[MODE]:[MODE]], $B19, FactorMatrix[[PHASE]:[PHASE]], $A$4, FactorMatrix[[GHGSOURCE]:[GHGSOURCE]], \"track mile\", FactorMatrix[[TYPE]:[TYPE]], O$6)","v":0},{"$f":"SUMIFS(FactorMatrix[[UPSTREAMMATERIALSEMISSIONS]:[UPSTREAMMATERIALSEMISSIONS]], FactorMatrix[[MODE]:[MODE]], $B19, FactorMatrix[[PHASE]:[PHASE]], $A$4, FactorMatrix[[GHGSOURCE]:[GHGSOURCE]], \"station\", FactorMatrix[[TYPE]:[TYPE]], P$6)","v":0},{"$f":"SUMIFS(FactorMatrix[[UPSTREAMMATERIALSEMISSIONS]:[UPSTREAMMATERIALSEMISSIONS]], FactorMatrix[[MODE]:[MODE]], $B19, FactorMatrix[[PHASE]:[PHASE]], $A$4, FactorMatrix[[GHGSOURCE]:[GHGSOURCE]], \"station\", FactorMatrix[[TYPE]:[TYPE]], Q$6)","v":0},{"$f":"SUMIFS(FactorMatrix[[UPSTREAMMATERIALSEMISSIONS]:[UPSTREAMMATERIALSEMISSIONS]], FactorMatrix[[MODE]:[MODE]], $B19, FactorMatrix[[PHASE]:[PHASE]], $A$4, FactorMatrix[[GHGSOURCE]:[GHGSOURCE]], \"station\", FactorMatrix[[TYPE]:[TYPE]], R$6)","v":0},{"$f":"SUMIFS(FactorMatrix[[UPSTREAMTRANSPORTEMISSIONS]:[UPSTREAMTRANSPORTEMISSIONS]], FactorMatrix[[MODE]:[MODE]], $B19, FactorMatrix[[PHASE]:[PHASE]], $A$4, FactorMatrix[[GHGSOURCE]:[GHGSOURCE]], \"track mile\", FactorMatrix[[TYPE]:[TYPE]], S$6, FactorMatrix[[STATE /REGION]:[STATE /REGION]], StateCalc)","v":0},{"$f":"SUMIFS(FactorMatrix[[UPSTREAMTRANSPORTEMISSIONS]:[UPSTREAMTRANSPORTEMISSIONS]], FactorMatrix[[MODE]:[MODE]], $B19, FactorMatrix[[PHASE]:[PHASE]], $A$4, FactorMatrix[[GHGSOURCE]:[GHGSOURCE]], \"track mile\", FactorMatrix[[TYPE]:[TYPE]], T$6)","v":0},{"$f":"SUMIFS(FactorMatrix[[UPSTREAMTRANSPORTEMISSIONS]:[UPSTREAMTRANSPORTEMISSIONS]], FactorMatrix[[MODE]:[MODE]], $B19, FactorMatrix[[PHASE]:[PHASE]], $A$4, FactorMatrix[[GHGSOURCE]:[GHGSOURCE]], \"track mile\", FactorMatrix[[TYPE]:[TYPE]], U$6)","v":0},{"$f":"SUMIFS(FactorMatrix[[UPSTREAMTRANSPORTEMISSIONS]:[UPSTREAMTRANSPORTEMISSIONS]], FactorMatrix[[MODE]:[MODE]], $B19, FactorMatrix[[PHASE]:[PHASE]], $A$4, FactorMatrix[[GHGSOURCE]:[GHGSOURCE]], \"track mile\", FactorMatrix[[TYPE]:[TYPE]], V$6)","v":0},{"$f":"SUMIFS(FactorMatrix[[UPSTREAMTRANSPORTEMISSIONS]:[UPSTREAMTRANSPORTEMISSIONS]], FactorMatrix[[MODE]:[MODE]], $B19, FactorMatrix[[PHASE]:[PHASE]], $A$4, FactorMatrix[[GHGSOURCE]:[GHGSOURCE]], \"track mile\", FactorMatrix[[TYPE]:[TYPE]], W$6)","v":0},{"$f":"SUMIFS(FactorMatrix[[UPSTREAMTRANSPORTEMISSIONS]:[UPSTREAMTRANSPORTEMISSIONS]], FactorMatrix[[MODE]:[MODE]], $B19, FactorMatrix[[PHASE]:[PHASE]], $A$4, FactorMatrix[[GHGSOURCE]:[GHGSOURCE]], \"station\", FactorMatrix[[TYPE]:[TYPE]], X$6)","v":0},{"$f":"SUMIFS(FactorMatrix[[UPSTREAMTRANSPORTEMISSIONS]:[UPSTREAMTRANSPORTEMISSIONS]], FactorMatrix[[MODE]:[MODE]], $B19, FactorMatrix[[PHASE]:[PHASE]], $A$4, FactorMatrix[[GHGSOURCE]:[GHGSOURCE]], \"station\", FactorMatrix[[TYPE]:[TYPE]], Y$6)","v":0},{"$f":"SUMIFS(FactorMatrix[[UPSTREAMTRANSPORTEMISSIONS]:[UPSTREAMTRANSPORTEMISSIONS]], FactorMatrix[[MODE]:[MODE]], $B19, FactorMatrix[[PHASE]:[PHASE]], $A$4, FactorMatrix[[GHGSOURCE]:[GHGSOURCE]], \"station\", FactorMatrix[[TYPE]:[TYPE]], Z$6)","v":0},{"$f":"SUMIFS(FactorMatrix[[DOWNSTREAMEMISSIONS]:[DOWNSTREAMEMISSIONS]], FactorMatrix[[MODE]:[MODE]], $B19, FactorMatrix[[PHASE]:[PHASE]], $A$4, FactorMatrix[[GHGSOURCE]:[GHGSOURCE]], \"track mile\", FactorMatrix[[TYPE]:[TYPE]], AA$6, FactorMatrix[[STATE /REGION]:[STATE /REGION]], StateCalc)","v":0},{"$f":"SUMIFS(FactorMatrix[[DOWNSTREAMEMISSIONS]:[DOWNSTREAMEMISSIONS]], FactorMatrix[[MODE]:[MODE]], $B19, FactorMatrix[[PHASE]:[PHASE]], $A$4, FactorMatrix[[GHGSOURCE]:[GHGSOURCE]], \"track mile\", FactorMatrix[[TYPE]:[TYPE]], AB$6)","v":0},{"$f":"SUMIFS(FactorMatrix[[DOWNSTREAMEMISSIONS]:[DOWNSTREAMEMISSIONS]], FactorMatrix[[MODE]:[MODE]], $B19, FactorMatrix[[PHASE]:[PHASE]], $A$4, FactorMatrix[[GHGSOURCE]:[GHGSOURCE]], \"track mile\", FactorMatrix[[TYPE]:[TYPE]], AC$6)","v":0},{"$f":"SUMIFS(FactorMatrix[[DOWNSTREAMEMISSIONS]:[DOWNSTREAMEMISSIONS]], FactorMatrix[[MODE]:[MODE]], $B19, FactorMatrix[[PHASE]:[PHASE]], $A$4, FactorMatrix[[GHGSOURCE]:[GHGSOURCE]], \"track mile\", FactorMatrix[[TYPE]:[TYPE]], AD$6)","v":0},{"$f":"SUMIFS(FactorMatrix[[DOWNSTREAMEMISSIONS]:[DOWNSTREAMEMISSIONS]], FactorMatrix[[MODE]:[MODE]], $B19, FactorMatrix[[PHASE]:[PHASE]], $A$4, FactorMatrix[[GHGSOURCE]:[GHGSOURCE]], \"track mile\", FactorMatrix[[TYPE]:[TYPE]], AE$6)","v":0},{"$f":"SUMIFS(FactorMatrix[[DOWNSTREAMEMISSIONS]:[DOWNSTREAMEMISSIONS]], FactorMatrix[[MODE]:[MODE]], $B19, FactorMatrix[[PHASE]:[PHASE]], $A$4, FactorMatrix[[GHGSOURCE]:[GHGSOURCE]], \"station\", FactorMatrix[[TYPE]:[TYPE]], AF$6)","v":0},{"$f":"SUMIFS(FactorMatrix[[DOWNSTREAMEMISSIONS]:[DOWNSTREAMEMISSIONS]], FactorMatrix[[MODE]:[MODE]], $B19, FactorMatrix[[PHASE]:[PHASE]], $A$4, FactorMatrix[[GHGSOURCE]:[GHGSOURCE]], \"station\", FactorMatrix[[TYPE]:[TYPE]], AG$6)","v":0},{"$f":"SUMIFS(FactorMatrix[[DOWNSTREAMEMISSIONS]:[DOWNSTREAMEMISSIONS]], FactorMatrix[[MODE]:[MODE]], $B19, FactorMatrix[[PHASE]:[PHASE]], $A$4, FactorMatrix[[GHGSOURCE]:[GHGSOURCE]], \"station\", FactorMatrix[[TYPE]:[TYPE]], AH$6)","v":0},0,0,{"$f":"SUMPRODUCT($C19:$J19, AA19:AH19)","v":0}]
[14,{"$f":"Construction!B21","v":0},{"$f":"Construction!C21","v":0},{"$f":"Construction!D21","v":0},{"$f":"Construction!E21","v":0},{"$f":"Construction!F21","v":0},{"$f":"Construction!G21","v":0},{"$f":"Construction!H21","v":0},{"$f":"Construction!I21","v":0},{"$f":"Construction!J21","v":0},{"$f":"SUMIFS(FactorMatrix[[UPSTREAMMATERIALSEMISSIONS]:[UPSTREAMMATERIALSEMISSIONS]], FactorMatrix[[MODE]:[MODE]], $B20, FactorMatrix[[PHASE]:[PHASE]], $A$4, FactorMatrix[[GHGSOURCE]:[GHGSOURCE]], \"track mile\", FactorMatrix[[TYPE]:[TYPE]], K$6, FactorMatrix[[STATE /REGION]:[STATE /REGION]], StateCalc)","v":0},{"$f":"SUMIFS(FactorMatrix[[UPSTREAMMATERIALSEMISSIONS]:[UPSTREAMMATERIALSEMISSIONS]], FactorMatrix[[MODE]:[MODE]], $B20, FactorMatrix[[PHASE]:[PHASE]], $A$4, FactorMatrix[[GHGSOURCE]:[GHGSOURCE]], \"track mile\", FactorMatrix[[TYPE]:[TYPE]], L$6)","v":0},{"$f":"SUMIFS(FactorMatrix[[UPSTREAMMATERIALSEMISSIONS]:[UPSTREAMMATERIALSEMISSIONS]], FactorMatrix[[MODE]:[MODE]], $B20, FactorMatrix[[PHASE]:[PHASE]], $A$4, FactorMatrix[[GHGSOURCE]:[GHGSOURCE]], \"track mile\", FactorMatrix[[TYPE]:[TYPE]], M$6)","v":0},{"$f":"SUMIFS(FactorMatrix[[UPSTREAMMATERIALSEMISSIONS]:[UPSTREAMMATERIALSEMISSIONS]], FactorMatrix[[MODE]:[MODE]], $B20, FactorMatrix[[PHASE]:[PHASE]], $A$4, FactorMatrix[[GHGSOURCE]:[GHGSOURCE]], \"track mile\", FactorMatrix[[TYPE]:[TYPE]], N$6)","v":0},{"$f":"SUMIFS(FactorMatrix[[UPSTREAMMATERIALSEMISSIONS]:[UPSTREAMMATERIALSEMISSIONS]], FactorMatrix[[MODE]:[MODE]], $B20, FactorMatrix[[PHASE]:[PHASE]], $A$4, FactorMatrix[[GHGSOURCE]:[GHGSOURCE]], \"track mile\", FactorMatrix[[TYPE]:[TYPE]], O$6)","v":0},{"$f":"SUMIFS(FactorMatrix[[UPSTREAMMATERIALSEMISSIONS]:[UPSTREAMMATERIALSEMISSIONS]], FactorMatrix[[MODE]:[MODE]], $B20, FactorMatrix[[PHASE]:[PHASE]], $A$4, FactorMatrix[[GHGSOURCE]:[GHGSOURCE]], \"station\", FactorMatrix[[TYPE]:[TYPE]], P$6)","v":0},{"$f":"SUMIFS(FactorMatrix[[UPSTREAMMATERIALSEMISSIONS]:[UPSTREAMMATERIALSEMISSIONS]], FactorMatrix[[MODE]:[MODE]], $B20, FactorMatrix[[PHASE]:[PHASE]], $A$4, FactorMatrix[[GHGSOURCE]:[GHGSOURCE]], \"station\", FactorMatrix[[TYPE]:[TYPE]], Q$6)","v":0},{"$f":"SUMIFS(FactorMatrix[[UPSTREAMMATERIALSEMISSIONS]:[UPSTREAMMATERIALSEMISSIONS]], FactorMatrix[[MODE]:[MODE]], $B20, FactorMatrix[[PHASE]:[PHASE]], $A$4, FactorMatrix[[GHGSOURCE]:[GHGSOURCE]], \"station\", FactorMatrix[[TYPE]:[TYPE]], R$6)","v":0},{"$f":"SUMIFS(FactorMatrix[[UPSTREAMTRANSPORTEMISSIONS]:[UPSTREAMTRANSPORTEMISSIONS]], FactorMatrix[[MODE]:[MODE]], $B20, FactorMatrix[[PHASE]:[PHASE]], $A$4, FactorMatrix[[GHGSOURCE]:[GHGSOURCE]], \"track mile\", FactorMatrix[[TYPE]:[TYPE]], S$6, FactorMatrix[[STATE /REGION]:[STATE /REGION]], StateCalc)","v":0},{"$f":"SUMIFS(FactorMatrix[[UPSTREAMTRANSPORTEMISSIONS]:[UPSTREAMTRANSPORTEMISSIONS]], FactorMatrix[[MODE]:[MODE]], $B20, FactorMatrix[[PHASE]:[PHASE]], $A$4, FactorMatrix[[GHGSOURCE]:[GHGSOURCE]], \"track mile\", FactorMatrix[[TYPE]:[TYPE]], T$6)","v":0},{"$f":"SUMIFS(FactorMatrix[[UPSTREAMTRANSPORTEMISSIONS]:[UPSTREAMTRANSPORTEMISSIONS]], FactorMatrix[[MODE]:[MODE]], $B20, FactorMatrix[[PHASE]:[PHASE]], $A$4, FactorMatrix[[GHGSOURCE]:[GHGSOURCE]], \"track mile\", FactorMatrix[[TYPE]:[TYPE]], U$6)","v":0},{"$f":"SUMIFS(FactorMatrix[[UPSTREAMTRANSPORTEMISSIONS]:[UPSTREAMTRANSPORTEMISSIONS]], FactorMatrix[[MODE]:[MODE]], $B20, FactorMatrix[[PHASE]:[PHASE]], $A$4, FactorMatrix[[GHGSOURCE]:[GHGSOURCE]], \"track mile\", FactorMatrix[[TYPE]:[TYPE]], V$6)","v":0},{"$f":"SUMIFS(FactorMatrix[[UPSTREAMTRANSPORTEMISSIONS]:[UPSTREAMTRANSPORTEMISSIONS]], FactorMatrix[[MODE]:[MODE]], $B20, FactorMatrix[[PHASE]:[PHASE]], $A$4, FactorMatrix[[GHGSOURCE]:[GHGSOURCE]], \"track mile\", FactorMatrix[[TYPE]:[TYPE]], W$6)","v":0},{"$f":"SUMIFS(FactorMatrix[[UPSTREAMTRANSPORTEMISSIONS]:[UPSTREAMTRANSPORTEMISSIONS]], FactorMatrix[[MODE]:[MODE]], $B20, FactorMatrix[[PHASE]:[PHASE]], $A$4, FactorMatrix[[GHGSOURCE]:[GHGSOURCE]], \"station\", FactorMatrix[[TYPE]:[TYPE]], X$6)","v":0},{"$f":"SUMIFS(FactorMatrix[[UPSTREAMTRANSPORTEMISSIONS]:[UPSTREAMTRANSPORTEMISSIONS]], FactorMatrix[[MODE]:[MODE]], $B20, FactorMatrix[[PHASE]:[PHASE]], $A$4, FactorMatrix[[GHGSOURCE]:[GHGSOURCE]], \"station\", FactorMatrix[[TYPE]:[TYPE]], Y$6)","v":0},{"$f":"SUMIFS(FactorMatrix[[UPSTREAMTRANSPORTEMISSIONS]:[UPSTREAMTRANSPORTEMISSIONS]], FactorMatrix[[MODE]:[MODE]], $B20, FactorMatrix[[PHASE]:[PHASE]], $A$4, FactorMatrix[[GHGSOURCE]:[GHGSOURCE]], \"station\", FactorMatrix[[TYPE]:[TYPE]], Z$6)","v":0},{"$f":"SUMIFS(FactorMatrix[[DOWNSTREAMEMISSIONS]:[DOWNSTREAMEMISSIONS]], FactorMatrix[[MODE]:[MODE]], $B20, FactorMatrix[[PHASE]:[PHASE]], $A$4, FactorMatrix[[GHGSOURCE]:[GHGSOURCE]], \"track mile\", FactorMatrix[[TYPE]:[TYPE]], AA$6, FactorMatrix[[STATE /REGION]:[STATE /REGION]], StateCalc)","v":0},{"$f":"SUMIFS(FactorMatrix[[DOWNSTREAMEMISSIONS]:[DOWNSTREAMEMISSIONS]], FactorMatrix[[MODE]:[MODE]], $B20, FactorMatrix[[PHASE]:[PHASE]], $A$4, FactorMatrix[[GHGSOURCE]:[GHGSOURCE]], \"track mile\", FactorMatrix[[TYPE]:[TYPE]], AB$6)","v":0},{"$f":"SUMIFS(FactorMatrix[[DOWNSTREAMEMISSIONS]:[DOWNSTREAMEMISSIONS]], FactorMatrix[[MODE]:[MODE]], $B20, FactorMatrix[[PHASE]:[PHASE]], $A$4, FactorMatrix[[GHGSOURCE]:[GHGSOURCE]], \"track mile\", FactorMatrix[[TYPE]:[TYPE]], AC$6)","v":0},{"$f":"SUMIFS(FactorMatrix[[DOWNSTREAMEMISSIONS]:[DOWNSTREAMEMISSIONS]], FactorMatrix[[MODE]:[MODE]], $B20, FactorMatrix[[PHASE]:[PHASE]], $A$4, FactorMatrix[[GHGSOURCE]:[GHGSOURCE]], \"track mile\", FactorMatrix[[TYPE]:[TYPE]], AD$6)","v":0},{"$f":"SUMIFS(FactorMatrix[[DOWNSTREAMEMISSIONS]:[DOWNSTREAMEMISSIONS]], FactorMatrix[[MODE]:[MODE]], $B20, FactorMatrix[[PHASE]:[PHASE]], $A$4, FactorMatrix[[GHGSOURCE]:[GHGSOURCE]], \"track mile\", FactorMatrix[[TYPE]:[TYPE]], AE$6)","v":0},{"$f":"SUMIFS(FactorMatrix[[DOWNSTREAMEMISSIONS]:[DOWNSTREAMEMISSIONS]], FactorMatrix[[MODE]:[MODE]], $B20, FactorMatrix[[PHASE]:[PHASE]], $A$4, FactorMatrix[[GHGSOURCE]:[GHGSOURCE]], \"station\", FactorMatrix[[TYPE]:[TYPE]], AF$6)","v":0},{"$f":"SUMIFS(FactorMatrix[[DOWNSTREAMEMISSIONS]:[DOWNSTREAMEMISSIONS]], FactorMatrix[[MODE]:[MODE]], $B20, FactorMatrix[[PHASE]:[PHASE]], $A$4, FactorMatrix[[GHGSOURCE]:[GHGSOURCE]], \"station\", FactorMatrix[[TYPE]:[TYPE]], AG$6)","v":0},{"$f":"SUMIFS(FactorMatrix[[DOWNSTREAMEMISSIONS]:[DOWNSTREAMEMISSIONS]], FactorMatrix[[MODE]:[MODE]], $B20, FactorMatrix[[PHASE]:[PHASE]], $A$4, FactorMatrix[[GHGSOURCE]:[GHGSOURCE]], \"station\", FactorMatrix[[TYPE]:[TYPE]], AH$6)","v":0},0,0,0]
[15,{"$f":"Construction!B22","v":0},{"$f":"Construction!C22","v":0},{"$f":"Construction!D22","v":0},{"$f":"Construction!E22","v":0},{"$f":"Construction!F22","v":0},{"$f":"Construction!G22","v":0},{"$f":"Construction!H22","v":0},{"$f":"Construction!I22","v":0},{"$f":"Construction!J22","v":0},{"$f":"SUMIFS(FactorMatrix[[UPSTREAMMATERIALSEMISSIONS]:[UPSTREAMMATERIALSEMISSIONS]], FactorMatrix[[MODE]:[MODE]], $B21, FactorMatrix[[PHASE]:[PHASE]], $A$4, FactorMatrix[[GHGSOURCE]:[GHGSOURCE]], \"track mile\", FactorMatrix[[TYPE]:[TYPE]], K$6, FactorMatrix[[STATE /REGION]:[STATE /REGION]], StateCalc)","v":0},{"$f":"SUMIFS(FactorMatrix[[UPSTREAMMATERIALSEMISSIONS]:[UPSTREAMMATERIALSEMISSIONS]], FactorMatrix[[MODE]:[MODE]], $B21, FactorMatrix[[PHASE]:[PHASE]], $A$4, FactorMatrix[[GHGSOURCE]:[GHGSOURCE]], \"track mile\", FactorMatrix[[TYPE]:[TYPE]], L$6)","v":0},{"$f":"SUMIFS(FactorMatrix[[UPSTREAMMATERIALSEMISSIONS]:[UPSTREAMMATERIALSEMISSIONS]], FactorMatrix[[MODE]:[MODE]], $B21, FactorMatrix[[PHASE]:[PHASE]], $A$4, FactorMatrix[[GHGSOURCE]:[GHGSOURCE]], \"track mile\", FactorMatrix[[TYPE]:[TYPE]], M$6)","v":0},{"$f":"SUMIFS(FactorMatrix[[UPSTREAMMATERIALSEMISSIONS]:[UPSTREAMMATERIALSEMISSIONS]], FactorMatrix[[MODE]:[MODE]], $B21, FactorMatrix[[PHASE]:[PHASE]], $A$4, FactorMatrix[[GHGSOURCE]:[GHGSOURCE]], \"track mile\", FactorMatrix[[TYPE]:[TYPE]], N$6)","v":0},{"$f":"SUMIFS(FactorMatrix[[UPSTREAMMATERIALSEMISSIONS]:[UPSTREAMMATERIALSEMISSIONS]], FactorMatrix[[MODE]:[MODE]], $B21, FactorMatrix[[PHASE]:[PHASE]], $A$4, FactorMatrix[[GHGSOURCE]:[GHGSOURCE]], \"track mile\", FactorMatrix[[TYPE]:[TYPE]], O$6)","v":0},{"$f":"SUMIFS(FactorMatrix[[UPSTREAMMATERIALSEMISSIONS]:[UPSTREAMMATERIALSEMISSIONS]], FactorMatrix[[MODE]:[MODE]], $B21, FactorMatrix[[PHASE]:[PHASE]], $A$4, FactorMatrix[[GHGSOURCE]:[GHGSOURCE]], \"station\", FactorMatrix[[TYPE]:[TYPE]], P$6)","v":0},{"$f":"SUMIFS(FactorMatrix[[UPSTREAMMATERIALSEMISSIONS]:[UPSTREAMMATERIALSEMISSIONS]], FactorMatrix[[MODE]:[MODE]], $B21, FactorMatrix[[PHASE]:[PHASE]], $A$4, FactorMatrix[[GHGSOURCE]:[GHGSOURCE]], \"station\", FactorMatrix[[TYPE]:[TYPE]], Q$6)","v":0},{"$f":"SUMIFS(FactorMatrix[[UPSTREAMMATERIALSEMISSIONS]:[UPSTREAMMATERIALSEMISSIONS]], FactorMatrix[[MODE]:[MODE]], $B21, FactorMatrix[[PHASE]:[PHASE]], $A$4, FactorMatrix[[GHGSOURCE]:[GHGSOURCE]], \"station\", FactorMatrix[[TYPE]:[TYPE]], R$6)","v":0},{"$f":"SUMIFS(FactorMatrix[[UPSTREAMTRANSPORTEMISSIONS]:[UPSTREAMTRANSPORTEMISSIONS]], FactorMatrix[[MODE]:[MODE]], $B21, FactorMatrix[[PHASE]:[PHASE]], $A$4, FactorMatrix[[GHGSOURCE]:[GHGSOURCE]], \"track mile\", FactorMatrix[[TYPE]:[TYPE]], S$6, FactorMatrix[[STATE /REGION]:[STATE /REGION]], StateCalc)","v":0},{"$f":"SUMIFS(FactorMatrix[[UPSTREAMTRANSPORTEMISSIONS]:[UPSTREAMTRANSPORTEMISSIONS]], FactorMatrix[[MODE]:[MODE]], $B21, FactorMatrix[[PHASE]:[PHASE]], $A$4, FactorMatrix[[GHGSOURCE]:[GHGSOURCE]], \"track mile\", FactorMatrix[[TYPE]:[TYPE]], T$6)","v":0},{"$f":"SUMIFS(FactorMatrix[[UPSTREAMTRANSPORTEMISSIONS]:[UPSTREAMTRANSPORTEMISSIONS]], FactorMatrix[[MODE]:[MODE]], $B21, FactorMatrix[[PHASE]:[PHASE]], $A$4, FactorMatrix[[GHGSOURCE]:[GHGSOURCE]], \"track mile\", FactorMatrix[[TYPE]:[TYPE]], U$6)","v":0},{"$f":"SUMIFS(FactorMatrix[[UPSTREAMTRANSPORTEMISSIONS]:[UPSTREAMTRANSPORTEMISSIONS]], FactorMatrix[[MODE]:[MODE]], $B21, FactorMatrix[[PHASE]:[PHASE]], $A$4, FactorMatrix[[GHGSOURCE]:[GHGSOURCE]], \"track mile\", FactorMatrix[[TYPE]:[TYPE]], V$6)","v":0},{"$f":"SUMIFS(FactorMatrix[[UPSTREAMTRANSPORTEMISSIONS]:[UPSTREAMTRANSPORTEMISSIONS]], FactorMatrix[[MODE]:[MODE]], $B21, FactorMatrix[[PHASE]:[PHASE]], $A$4, FactorMatrix[[GHGSOURCE]:[GHGSOURCE]], \"track mile\", FactorMatrix[[TYPE]:[TYPE]], W$6)","v":0},{"$f":"SUMIFS(FactorMatrix[[UPSTREAMTRANSPORTEMISSIONS]:[UPSTREAMTRANSPORTEMISSIONS]], FactorMatrix[[MODE]:[MODE]], $B21, FactorMatrix[[PHASE]:[PHASE]], $A$4, FactorMatrix[[GHGSOURCE]:[GHGSOURCE]], \"station\", FactorMatrix[[TYPE]:[TYPE]], X$6)","v":0},{"$f":"SUMIFS(FactorMatrix[[UPSTREAMTRANSPORTEMISSIONS]:[UPSTREAMTRANSPORTEMISSIONS]], FactorMatrix[[MODE]:[MODE]], $B21, FactorMatrix[[PHASE]:[PHASE]], $A$4, FactorMatrix[[GHGSOURCE]:[GHGSOURCE]], \"station\", FactorMatrix[[TYPE]:[TYPE]], Y$6)","v":0},{"$f":"SUMIFS(FactorMatrix[[UPSTREAMTRANSPORTEMISSIONS]:[UPSTREAMTRANSPORTEMISSIONS]], FactorMatrix[[MODE]:[MODE]], $B21, FactorMatrix[[PHASE]:[PHASE]], $A$4, FactorMatrix[[GHGSOURCE]:[GHGSOURCE]], \"station\", FactorMatrix[[TYPE]:[TYPE]], Z$6)","v":0},{"$f":"SUMIFS(FactorMatrix[[DOWNSTREAMEMISSIONS]:[DOWNSTREAMEMISSIONS]], FactorMatrix[[MODE]:[MODE]], $B21, FactorMatrix[[PHASE]:[PHASE]], $A$4, FactorMatrix[[GHGSOURCE]:[GHGSOURCE]], \"track mile\", FactorMatrix[[TYPE]:[TYPE]], AA$6, FactorMatrix[[STATE /REGION]:[STATE /REGION]], StateCalc)","v":0},{"$f":"SUMIFS(FactorMatrix[[DOWNSTREAMEMISSIONS]:[DOWNSTREAMEMISSIONS]], FactorMatrix[[MODE]:[MODE]], $B21, FactorMatrix[[PHASE]:[PHASE]], $A$4, FactorMatrix[[GHGSOURCE]:[GHGSOURCE]], \"track mile\", FactorMatrix[[TYPE]:[TYPE]], AB$6)","v":0},{"$f":"SUMIFS(FactorMatrix[[DOWNSTREAMEMISSIONS]:[DOWNSTREAMEMISSIONS]], FactorMatrix[[MODE]:[MODE]], $B21, FactorMatrix[[PHASE]:[PHASE]], $A$4, FactorMatrix[[GHGSOURCE]:[GHGSOURCE]], \"track mile\", FactorMatrix[[TYPE]:[TYPE]], AC$6)","v":0},{"$f":"SUMIFS(FactorMatrix[[DOWNSTREAMEMISSIONS]:[DOWNSTREAMEMISSIONS]], FactorMatrix[[MODE]:[MODE]], $B21, FactorMatrix[[PHASE]:[PHASE]], $A$4, FactorMatrix[[GHGSOURCE]:[GHGSOURCE]], \"track mile\", FactorMatrix[[TYPE]:[TYPE]], AD$6)","v":0},{"$f":"SUMIFS(FactorMatrix[[DOWNSTREAMEMISSIONS]:[DOWNSTREAMEMISSIONS]], FactorMatrix[[MODE]:[MODE]], $B21, FactorMatrix[[PHASE]:[PHASE]], $A$4, FactorMatrix[[GHGSOURCE]:[GHGSOURCE]], \"track mile\", FactorMatrix[[TYPE]:[TYPE]], AE$6)","v":0},{"$f":"SUMIFS(FactorMatrix[[DOWNSTREAMEMISSIONS]:[DOWNSTREAMEMISSIONS]], FactorMatrix[[MODE]:[MODE]], $B21, FactorMatrix[[PHASE]:[PHASE]], $A$4, FactorMatrix[[GHGSOURCE]:[GHGSOURCE]], \"station\", FactorMatrix[[TYPE]:[TYPE]], AF$6)","v":0},{"$f":"SUMIFS(FactorMatrix[[DOWNSTREAMEMISSIONS]:[DOWNSTREAMEMISSIONS]], FactorMatrix[[MODE]:[MODE]], $B21, FactorMatrix[[PHASE]:[PHASE]], $A$4, FactorMatrix[[GHGSOURCE]:[GHGSOURCE]], \"station\", FactorMatrix[[TYPE]:[TYPE]], AG$6)","v":0},{"$f":"SUMIFS(FactorMatrix[[DOWNSTREAMEMISSIONS]:[DOWNSTREAMEMISSIONS]], FactorMatrix[[MODE]:[MODE]], $B21, FactorMatrix[[PHASE]:[PHASE]], $A$4, FactorMatrix[[GHGSOURCE]:[GHGSOURCE]], \"station\", FactorMatrix[[TYPE]:[TYPE]], AH$6)","v":0},0,0,0]
[16,{"$f":"Construction!B23","v":0},{"$f":"Construction!C23","v":0},{"$f":"Construction!D23","v":0},{"$f":"Construction!E23","v":0},{"$f":"Construction!F23","v":0},{"$f":"Construction!G23","v":0},{"$f":"Construction!H23","v":0},{"$f":"Construction!I23","v":0},{"$f":"Construction!J23","v":0},{"$f":"SUMIFS(FactorMatrix[[UPSTREAMMATERIALSEMISSIONS]:[UPSTREAMMATERIALSEMISSIONS]], FactorMatrix[[MODE]:[MODE]], $B22, FactorMatrix[[PHASE]:[PHASE]], $A$4, FactorMatrix[[GHGSOURCE]:[GHGSOURCE]], \"track mile\", FactorMatrix[[TYPE]:[TYPE]], K$6, FactorMatrix[[STATE /REGION]:[STATE /REGION]], StateCalc)","v":0},{"$f":"SUMIFS(FactorMatrix[[UPSTREAMMATERIALSEMISSIONS]:[UPSTREAMMATERIALSEMISSIONS]], FactorMatrix[[MODE]:[MODE]], $B22, FactorMatrix[[PHASE]:[PHASE]], $A$4, FactorMatrix[[GHGSOURCE]:[GHGSOURCE]], \"track mile\", FactorMatrix[[TYPE]:[TYPE]], L$6)","v":0},{"$f":"SUMIFS(FactorMatrix[[UPSTREAMMATERIALSEMISSIONS]:[UPSTREAMMATERIALSEMISSIONS]], FactorMatrix[[MODE]:[MODE]], $B22, FactorMatrix[[PHASE]:[PHASE]], $A$4, FactorMatrix[[GHGSOURCE]:[GHGSOURCE]], \"track mile\", FactorMatrix[[TYPE]:[TYPE]], M$6)","v":0},{"$f":"SUMIFS(FactorMatrix[[UPSTREAMMATERIALSEMISSIONS]:[UPSTREAMMATERIALSEMISSIONS]], FactorMatrix[[MODE]:[MODE]], $B22, FactorMatrix[[PHASE]:[PHASE]], $A$4, FactorMatrix[[GHGSOURCE]:[GHGSOURCE]], \"track mile\", FactorMatrix[[TYPE]:[TYPE]], N$6)","v":0},{"$f":"SUMIFS(FactorMatrix[[UPSTREAMMATERIALSEMISSIONS]:[UPSTREAMMATERIALSEMISSIONS]], FactorMatrix[[MODE]:[MODE]], $B22, FactorMatrix[[PHASE]:[PHASE]], $A$4, FactorMatrix[[GHGSOURCE]:[GHGSOURCE]], \"track mile\", FactorMatrix[[TYPE]:[TYPE]], O$6)","v":0},{"$f":"SUMIFS(FactorMatrix[[UPSTREAMMATERIALSEMISSIONS]:[UPSTREAMMATERIALSEMISSIONS]], FactorMatrix[[MODE]:[MODE]], $B22, FactorMatrix[[PHASE]:[PHASE]], $A$4, FactorMatrix[[GHGSOURCE]:[GHGSOURCE]], \"station\", FactorMatrix[[TYPE]:[TYPE]], P$6)","v":0},{"$f":"SUMIFS(FactorMatrix[[UPSTREAMMATERIALSEMISSIONS]:[UPSTREAMMATERIALSEMISSIONS]], FactorMatrix[[MODE]:[MODE]], $B22, FactorMatrix[[PHASE]:[PHASE]], $A$4, FactorMatrix[[GHGSOURCE]:[GHGSOURCE]], \"station\", FactorMatrix[[TYPE]:[TYPE]], Q$6)","v":0},{"$f":"SUMIFS(FactorMatrix[[UPSTREAMMATERIALSEMISSIONS]:[UPSTREAMMATERIALSEMISSIONS]], FactorMatrix[[MODE]:[MODE]], $B22, FactorMatrix[[PHASE]:[PHASE]], $A$4, FactorMatrix[[GHGSOURCE]:[GHGSOURCE]], \"station\", FactorMatrix[[TYPE]:[TYPE]], R$6)","v":0},{"$f":"SUMIFS(FactorMatrix[[UPSTREAMTRANSPORTEMISSIONS]:[UPSTREAMTRANSPORTEMISSIONS]], FactorMatrix[[MODE]:[MODE]], $B22, FactorMatrix[[PHASE]:[PHASE]], $A$4, FactorMatrix[[GHGSOURCE]:[GHGSOURCE]], \"track mile\", FactorMatrix[[TYPE]:[TYPE]], S$6, FactorMatrix[[STATE /REGION]:[STATE /REGION]], StateCalc)","v":0},{"$f":"SUMIFS(FactorMatrix[[UPSTREAMTRANSPORTEMISSIONS]:[UPSTREAMTRANSPORTEMISSIONS]], FactorMatrix[[MODE]:[MODE]], $B22, FactorMatrix[[PHASE]:[PHASE]], $A$4, FactorMatrix[[GHGSOURCE]:[GHGSOURCE]], \"track mile\", FactorMatrix[[TYPE]:[TYPE]], T$6)","v":0},{"$f":"SUMIFS(FactorMatrix[[UPSTREAMTRANSPORTEMISSIONS]:[UPSTREAMTRANSPORTEMISSIONS]], FactorMatrix[[MODE]:[MODE]], $B22, FactorMatrix[[PHASE]:[PHASE]], $A$4, FactorMatrix[[GHGSOURCE]:[GHGSOURCE]], \"track mile\", FactorMatrix[[TYPE]:[TYPE]], U$6)","v":0},{"$f":"SUMIFS(FactorMatrix[[UPSTREAMTRANSPORTEMISSIONS]:[UPSTREAMTRANSPORTEMISSIONS]], FactorMatrix[[MODE]:[MODE]], $B22, FactorMatrix[[PHASE]:[PHASE]], $A$4, FactorMatrix[[GHGSOURCE]:[GHGSOURCE]], \"track mile\", FactorMatrix[[TYPE]:[TYPE]], V$6)","v":0},{"$f":"SUMIFS(FactorMatrix[[UPSTREAMTRANSPORTEMISSIONS]:[UPSTREAMTRANSPORTEMISSIONS]], FactorMatrix[[MODE]:[MODE]], $B22, FactorMatrix[[PHASE]:[PHASE]], $A$4, FactorMatrix[[GHGSOURCE]:[GHGSOURCE]], \"track mile\", FactorMatrix[[TYPE]:[TYPE]], W$6)","v":0},{"$f":"SUMIFS(FactorMatrix[[UPSTREAMTRANSPORTEMISSIONS]:[UPSTREAMTRANSPORTEMISSIONS]], FactorMatrix[[MODE]:[MODE]], $B22, FactorMatrix[[PHASE]:[PHASE]], $A$4, FactorMatrix[[GHGSOURCE]:[GHGSOURCE]], \"station\", FactorMatrix[[TYPE]:[TYPE]], X$6)","v":0},{"$f":"SUMIFS(FactorMatrix[[UPSTREAMTRANSPORTEMISSIONS]:[UPSTREAMTRANSPORTEMISSIONS]], FactorMatrix[[MODE]:[MODE]], $B22, FactorMatrix[[PHASE]:[PHASE]], $A$4, FactorMatrix[[GHGSOURCE]:[GHGSOURCE]], \"station\", FactorMatrix[[TYPE]:[TYPE]], Y$6)","v":0},{"$f":"SUMIFS(FactorMatrix[[UPSTREAMTRANSPORTEMISSIONS]:[UPSTREAMTRANSPORTEMISSIONS]], FactorMatrix[[MODE]:[MODE]], $B22, FactorMatrix[[PHASE]:[PHASE]], $A$4, FactorMatrix[[GHGSOURCE]:[GHGSOURCE]], \"station\", FactorMatrix[[TYPE]:[TYPE]], Z$6)","v":0},{"$f":"SUMIFS(FactorMatrix[[DOWNSTREAMEMISSIONS]:[DOWNSTREAMEMISSIONS]], FactorMatrix[[MODE]:[MODE]], $B22, FactorMatrix[[PHASE]:[PHASE]], $A$4, FactorMatrix[[GHGSOURCE]:[GHGSOURCE]], \"track mile\", FactorMatrix[[TYPE]:[TYPE]], AA$6, FactorMatrix[[STATE /REGION]:[STATE /REGION]], StateCalc)","v":0},{"$f":"SUMIFS(FactorMatrix[[DOWNSTREAMEMISSIONS]:[DOWNSTREAMEMISSIONS]], FactorMatrix[[MODE]:[MODE]], $B22, FactorMatrix[[PHASE]:[PHASE]], $A$4, FactorMatrix[[GHGSOURCE]:[GHGSOURCE]], \"track mile\", FactorMatrix[[TYPE]:[TYPE]], AB$6)","v":0},{"$f":"SUMIFS(FactorMatrix[[DOWNSTREAMEMISSIONS]:[DOWNSTREAMEMISSIONS]], FactorMatrix[[MODE]:[MODE]], $B22, FactorMatrix[[PHASE]:[PHASE]], $A$4, FactorMatrix[[GHGSOURCE]:[GHGSOURCE]], \"track mile\", FactorMatrix[[TYPE]:[TYPE]], AC$6)","v":0},{"$f":"SUMIFS(FactorMatrix[[DOWNSTREAMEMISSIONS]:[DOWNSTREAMEMISSIONS]], FactorMatrix[[MODE]:[MODE]], $B22, FactorMatrix[[PHASE]:[PHASE]], $A$4, FactorMatrix[[GHGSOURCE]:[GHGSOURCE]], \"track mile\", FactorMatrix[[TYPE]:[TYPE]], AD$6)","v":0},{"$f":"SUMIFS(FactorMatrix[[DOWNSTREAMEMISSIONS]:[DOWNSTREAMEMISSIONS]], FactorMatrix[[MODE]:[MODE]], $B22, FactorMatrix[[PHASE]:[PHASE]], $A$4, FactorMatrix[[GHGSOURCE]:[GHGSOURCE]], \"track mile\", FactorMatrix[[TYPE]:[TYPE]], AE$6)","v":0},{"$f":"SUMIFS(FactorMatrix[[DOWNSTREAMEMISSIONS]:[DOWNSTREAMEMISSIONS]], FactorMatrix[[MODE]:[MODE]], $B22, FactorMatrix[[PHASE]:[PHASE]], $A$4, FactorMatrix[[GHGSOURCE]:[GHGSOURCE]], \"station\", FactorMatrix[[TYPE]:[TYPE]], AF$6)","v":0},{"$f":"SUMIFS(FactorMatrix[[DOWNSTREAMEMISSIONS]:[DOWNSTREAMEMISSIONS]], FactorMatrix[[MODE]:[MODE]], $B22, FactorMatrix[[PHASE]:[PHASE]], $A$4, FactorMatrix[[GHGSOURCE]:[GHGSOURCE]], \"station\", FactorMatrix[[TYPE]:[TYPE]], AG$6)","v":0},{"$f":"SUMIFS(FactorMatrix[[DOWNSTREAMEMISSIONS]:[DOWNSTREAMEMISSIONS]], FactorMatrix[[MODE]:[MODE]], $B22, FactorMatrix[[PHASE]:[PHASE]], $A$4, FactorMatrix[[GHGSOURCE]:[GHGSOURCE]], \"station\", FactorMatrix[[TYPE]:[TYPE]], AH$6)","v":0},0,0,0]
[17,{"$f":"Construction!B24","v":0},{"$f":"Construction!C24","v":0},{"$f":"Construction!D24","v":0},{"$f":"Construction!E24","v":0},{"$f":"Construction!F24","v":0},{"$f":"Construction!G24","v":0},{"$f":"Construction!H24","v":0},{"$f":"Construction!I24","v":0},{"$f":"Construction!J24","v":0},{"$f":"SUMIFS(FactorMatrix[[UPSTREAMMATERIALSEMISSIONS]:[UPSTREAMMATERIALSEMISSIONS]], FactorMatrix[[MODE]:[MODE]], $B23, FactorMatrix[[PHASE]:[PHASE]], $A$4, FactorMatrix[[GHGSOURCE]:[GHGSOURCE]], \"track mile\", FactorMatrix[[TYPE]:[TYPE]], K$6, FactorMatrix[[STATE /REGION]:[STATE /REGION]], StateCalc)","v":0},{"$f":"SUMIFS(FactorMatrix[[UPSTREAMMATERIALSEMISSIONS]:[UPSTREAMMATERIALSEMISSIONS]], FactorMatrix[[MODE]:[MODE]], $B23, FactorMatrix[[PHASE]:[PHASE]], $A$4, FactorMatrix[[GHGSOURCE]:[GHGSOURCE]], \"track mile\", FactorMatrix[[TYPE]:[TYPE]], L$6)","v":0},{"$f":"SUMIFS(FactorMatrix[[UPSTREAMMATERIALSEMISSIONS]:[UPSTREAMMATERIALSEMISSIONS]], FactorMatrix[[MODE]:[MODE]], $B23, FactorMatrix[[PHASE]:[PHASE]], $A$4, FactorMatrix[[GHGSOURCE]:[GHGSOURCE]], \"track mile\", FactorMatrix[[TYPE]:[TYPE]], M$6)","v":0},{"$f":"SUMIFS(FactorMatrix[[UPSTREAMMATERIALSEMISSIONS]:[UPSTREAMMATERIALSEMISSIONS]], FactorMatrix[[MODE]:[MODE]], $B23, FactorMatrix[[PHASE]:[PHASE]], $A$4, FactorMatrix[[GHGSOURCE]:[GHGSOURCE]], \"track mile\", FactorMatrix[[TYPE]:[TYPE]], N$6)","v":0},{"$f":"SUMIFS(FactorMatrix[[UPSTREAMMATERIALSEMISSIONS]:[UPSTREAMMATERIALSEMISSIONS]], FactorMatrix[[MODE]:[MODE]], $B23, FactorMatrix[[PHASE]:[PHASE]], $A$4, FactorMatrix[[GHGSOURCE]:[GHGSOURCE]], \"track mile\", FactorMatrix[[TYPE]:[TYPE]], O$6)","v":0},{"$f":"SUMIFS(FactorMatrix[[UPSTREAMMATERIALSEMISSIONS]:[UPSTREAMMATERIALSEMISSIONS]], FactorMatrix[[MODE]:[MODE]], $B23, FactorMatrix[[PHASE]:[PHASE]], $A$4, FactorMatrix[[GHGSOURCE]:[GHGSOURCE]], \"station\", FactorMatrix[[TYPE]:[TYPE]], P$6)","v":0},{"$f":"SUMIFS(FactorMatrix[[UPSTREAMMATERIALSEMISSIONS]:[UPSTREAMMATERIALSEMISSIONS]], FactorMatrix[[MODE]:[MODE]], $B23, FactorMatrix[[PHASE]:[PHASE]], $A$4, FactorMatrix[[GHGSOURCE]:[GHGSOURCE]], \"station\", FactorMatrix[[TYPE]:[TYPE]], Q$6)","v":0},{"$f":"SUMIFS(FactorMatrix[[UPSTREAMMATERIALSEMISSIONS]:[UPSTREAMMATERIALSEMISSIONS]], FactorMatrix[[MODE]:[MODE]], $B23, FactorMatrix[[PHASE]:[PHASE]], $A$4, FactorMatrix[[GHGSOURCE]:[GHGSOURCE]], \"station\", FactorMatrix[[TYPE]:[TYPE]], R$6)","v":0},{"$f":"SUMIFS(FactorMatrix[[UPSTREAMTRANSPORTEMISSIONS]:[UPSTREAMTRANSPORTEMISSIONS]], FactorMatrix[[MODE]:[MODE]], $B23, FactorMatrix[[PHASE]:[PHASE]], $A$4, FactorMatrix[[GHGSOURCE]:[GHGSOURCE]], \"track mile\", FactorMatrix[[TYPE]:[TYPE]], S$6, FactorMatrix[[STATE /REGION]:[STATE /REGION]], StateCalc)","v":0},{"$f":"SUMIFS(FactorMatrix[[UPSTREAMTRANSPORTEMISSIONS]:[UPSTREAMTRANSPORTEMISSIONS]], FactorMatrix[[MODE]:[MODE]], $B23, FactorMatrix[[PHASE]:[PHASE]], $A$4, FactorMatrix[[GHGSOURCE]:[GHGSOURCE]], \"track mile\", FactorMatrix[[TYPE]:[TYPE]], T$6)","v":0},{"$f":"SUMIFS(FactorMatrix[[UPSTREAMTRANSPORTEMISSIONS]:[UPSTREAMTRANSPORTEMISSIONS]], FactorMatrix[[MODE]:[MODE]], $B23, FactorMatrix[[PHASE]:[PHASE]], $A$4, FactorMatrix[[GHGSOURCE]:[GHGSOURCE]], \"track mile\", FactorMatrix[[TYPE]:[TYPE]], U$6)","v":0},{"$f":"SUMIFS(FactorMatrix[[UPSTREAMTRANSPORTEMISSIONS]:[UPSTREAMTRANSPORTEMISSIONS]], FactorMatrix[[MODE]:[MODE]], $B23, FactorMatrix[[PHASE]:[PHASE]], $A$4, FactorMatrix[[GHGSOURCE]:[GHGSOURCE]], \"track mile\", FactorMatrix[[TYPE]:[TYPE]], V$6)","v":0},{"$f":"SUMIFS(FactorMatrix[[UPSTREAMTRANSPORTEMISSIONS]:[UPSTREAMTRANSPORTEMISSIONS]], FactorMatrix[[MODE]:[MODE]], $B23, FactorMatrix[[PHASE]:[PHASE]], $A$4, FactorMatrix[[GHGSOURCE]:[GHGSOURCE]], \"track mile\", FactorMatrix[[TYPE]:[TYPE]], W$6)","v":0},{"$f":"SUMIFS(FactorMatrix[[UPSTREAMTRANSPORTEMISSIONS]:[UPSTREAMTRANSPORTEMISSIONS]], FactorMatrix[[MODE]:[MODE]], $B23, FactorMatrix[[PHASE]:[PHASE]], $A$4, FactorMatrix[[GHGSOURCE]:[GHGSOURCE]], \"station\", FactorMatrix[[TYPE]:[TYPE]], X$6)","v":0},{"$f":"SUMIFS(FactorMatrix[[UPSTREAMTRANSPORTEMISSIONS]:[UPSTREAMTRANSPORTEMISSIONS]], FactorMatrix[[MODE]:[MODE]], $B23, FactorMatrix[[PHASE]:[PHASE]], $A$4, FactorMatrix[[GHGSOURCE]:[GHGSOURCE]], \"station\", FactorMatrix[[TYPE]:[TYPE]], Y$6)","v":0},{"$f":"SUMIFS(FactorMatrix[[UPSTREAMTRANSPORTEMISSIONS]:[UPSTREAMTRANSPORTEMISSIONS]], FactorMatrix[[MODE]:[MODE]], $B23, FactorMatrix[[PHASE]:[PHASE]], $A$4, FactorMatrix[[GHGSOURCE]:[GHGSOURCE]], \"station\", FactorMatrix[[TYPE]:[TYPE]], Z$6)","v":0},{"$f":"SUMIFS(FactorMatrix[[DOWNSTREAMEMISSIONS]:[DOWNSTREAMEMISSIONS]], FactorMatrix[[MODE]:[MODE]], $B23, FactorMatrix[[PHASE]:[PHASE]], $A$4, FactorMatrix[[GHGSOURCE]:[GHGSOURCE]], \"track mile\", FactorMatrix[[TYPE]:[TYPE]], AA$6, FactorMatrix[[STATE /REGION]:[STATE /REGION]], StateCalc)","v":0},{"$f":"SUMIFS(FactorMatrix[[DOWNSTREAMEMISSIONS]:[DOWNSTREAMEMISSIONS]], FactorMatrix[[MODE]:[MODE]], $B23, FactorMatrix[[PHASE]:[PHASE]], $A$4, FactorMatrix[[GHGSOURCE]:[GHGSOURCE]], \"track mile\", FactorMatrix[[TYPE]:[TYPE]], AB$6)","v":0},{"$f":"SUMIFS(FactorMatrix[[DOWNSTREAMEMISSIONS]:[DOWNSTREAMEMISSIONS]], FactorMatrix[[MODE]:[MODE]], $B23, FactorMatrix[[PHASE]:[PHASE]], $A$4, FactorMatrix[[GHGSOURCE]:[GHGSOURCE]], \"track mile\", FactorMatrix[[TYPE]:[TYPE]], AC$6)","v":0},{"$f":"SUMIFS(FactorMatrix[[DOWNSTREAMEMISSIONS]:[DOWNSTREAMEMISSIONS]], FactorMatrix[[MODE]:[MODE]], $B23, FactorMatrix[[PHASE]:[PHASE]], $A$4, FactorMatrix[[GHGSOURCE]:[GHGSOURCE]], \"track mile\", FactorMatrix[[TYPE]:[TYPE]], AD$6)","v":0},{"$f":"SUMIFS(FactorMatrix[[DOWNSTREAMEMISSIONS]:[DOWNSTREAMEMISSIONS]], FactorMatrix[[MODE]:[MODE]], $B23, FactorMatrix[[PHASE]:[PHASE]], $A$4, FactorMatrix[[GHGSOURCE]:[GHGSOURCE]], \"track mile\", FactorMatrix[[TYPE]:[TYPE]], AE$6)","v":0},{"$f":"SUMIFS(FactorMatrix[[DOWNSTREAMEMISSIONS]:[DOWNSTREAMEMISSIONS]], FactorMatrix[[MODE]:[MODE]], $B23, FactorMatrix[[PHASE]:[PHASE]], $A$4, FactorMatrix[[GHGSOURCE]:[GHGSOURCE]], \"station\", FactorMatrix[[TYPE]:[TYPE]], AF$6)","v":0},{"$f":"SUMIFS(FactorMatrix[[DOWNSTREAMEMISSIONS]:[DOWNSTREAMEMISSIONS]], FactorMatrix[[MODE]:[MODE]], $B23, FactorMatrix[[PHASE]:[PHASE]], $A$4, FactorMatrix[[GHGSOURCE]:[GHGSOURCE]], \"station\", FactorMatrix[[TYPE]:[TYPE]], AG$6)","v":0},{"$f":"SUMIFS(FactorMatrix[[DOWNSTREAMEMISSIONS]:[DOWNSTREAMEMISSIONS]], FactorMatrix[[MODE]:[MODE]], $B23, FactorMatrix[[PHASE]:[PHASE]], $A$4, FactorMatrix[[GHGSOURCE]:[GHGSOURCE]], \"station\", FactorMatrix[[TYPE]:[TYPE]], AH$6)","v":0},0,0,0]
[18,{"$f":"Construction!B25","v":0},{"$f":"Construction!C25","v":0},{"$f":"Construction!D25","v":0},{"$f":"Construction!E25","v":0},{"$f":"Construction!F25","v":0},{"$f":"Construction!G25","v":0},{"$f":"Construction!H25","v":0},{"$f":"Construction!I25","v":0},{"$f":"Construction!J25","v":0},{"$f":"SUMIFS(FactorMatrix[[UPSTREAMMATERIALSEMISSIONS]:[UPSTREAMMATERIALSEMISSIONS]], FactorMatrix[[MODE]:[MODE]], $B24, FactorMatrix[[PHASE]:[PHASE]], $A$4, FactorMatrix[[GHGSOURCE]:[GHGSOURCE]], \"track mile\", FactorMatrix[[TYPE]:[TYPE]], K$6, FactorMatrix[[STATE /REGION]:[STATE /REGION]], StateCalc)","v":0},{"$f":"SUMIFS(FactorMatrix[[UPSTREAMMATERIALSEMISSIONS]:[UPSTREAMMATERIALSEMISSIONS]], FactorMatrix[[MODE]:[MODE]], $B24, FactorMatrix[[PHASE]:[PHASE]], $A$4, FactorMatrix[[GHGSOURCE]:[GHGSOURCE]], \"track mile\", FactorMatrix[[TYPE]:[TYPE]], L$6)","v":0},{"$f":"SUMIFS(FactorMatrix[[UPSTREAMMATERIALSEMISSIONS]:[UPSTREAMMATERIALSEMISSIONS]], FactorMatrix[[MODE]:[MODE]], $B24, FactorMatrix[[PHASE]:[PHASE]], $A$4, FactorMatrix[[GHGSOURCE]:[GHGSOURCE]], \"track mile\", FactorMatrix[[TYPE]:[TYPE]], M$6)","v":0},{"$f":"SUMIFS(FactorMatrix[[UPSTREAMMATERIALSEMISSIONS]:[UPSTREAMMATERIALSEMISSIONS]], FactorMatrix[[MODE]:[MODE]], $B24, FactorMatrix[[PHASE]:[PHASE]], $A$4, FactorMatrix[[GHGSOURCE]:[GHGSOURCE]], \"track mile\", FactorMatrix[[TYPE]:[TYPE]], N$6)","v":0},{"$f":"SUMIFS(FactorMatrix[[UPSTREAMMATERIALSEMISSIONS]:[UPSTREAMMATERIALSEMISSIONS]], FactorMatrix[[MODE]:[MODE]], $B24, FactorMatrix[[PHASE]:[PHASE]], $A$4, FactorMatrix[[GHGSOURCE]:[GHGSOURCE]], \"track mile\", FactorMatrix[[TYPE]:[TYPE]], O$6)","v":0},{"$f":"SUMIFS(FactorMatrix[[UPSTREAMMATERIALSEMISSIONS]:[UPSTREAMMATERIALSEMISSIONS]], FactorMatrix[[MODE]:[MODE]], $B24, FactorMatrix[[PHASE]:[PHASE]], $A$4, FactorMatrix[[GHGSOURCE]:[GHGSOURCE]], \"station\", FactorMatrix[[TYPE]:[TYPE]], P$6)","v":0},{"$f":"SUMIFS(FactorMatrix[[UPSTREAMMATERIALSEMISSIONS]:[UPSTREAMMATERIALSEMISSIONS]], FactorMatrix[[MODE]:[MODE]], $B24, FactorMatrix[[PHASE]:[PHASE]], $A$4, FactorMatrix[[GHGSOURCE]:[GHGSOURCE]], \"station\", FactorMatrix[[TYPE]:[TYPE]], Q$6)","v":0},{"$f":"SUMIFS(FactorMatrix[[UPSTREAMMATERIALSEMISSIONS]:[UPSTREAMMATERIALSEMISSIONS]], FactorMatrix[[MODE]:[MODE]], $B24, FactorMatrix[[PHASE]:[PHASE]], $A$4, FactorMatrix[[GHGSOURCE]:[GHGSOURCE]], \"station\", FactorMatrix[[TYPE]:[TYPE]], R$6)","v":0},{"$f":"SUMIFS(FactorMatrix[[UPSTREAMTRANSPORTEMISSIONS]:[UPSTREAMTRANSPORTEMISSIONS]], FactorMatrix[[MODE]:[MODE]], $B24, FactorMatrix[[PHASE]:[PHASE]], $A$4, FactorMatrix[[GHGSOURCE]:[GHGSOURCE]], \"track mile\", FactorMatrix[[TYPE]:[TYPE]], S$6, FactorMatrix[[STATE /REGION]:[STATE /REGION]], StateCalc)","v":0},{"$f":"SUMIFS(FactorMatrix[[UPSTREAMTRANSPORTEMISSIONS]:[UPSTREAMTRANSPORTEMISSIONS]], FactorMatrix[[MODE]:[MODE]], $B24, FactorMatrix[[PHASE]:[PHASE]], $A$4, FactorMatrix[[GHGSOURCE]:[GHGSOURCE]], \"track mile\", FactorMatrix[[TYPE]:[TYPE]], T$6)","v":0},{"$f":"SUMIFS(FactorMatrix[[UPSTREAMTRANSPORTEMISSIONS]:[UPSTREAMTRANSPORTEMISSIONS]], FactorMatrix[[MODE]:[MODE]], $B24, FactorMatrix[[PHASE]:[PHASE]], $A$4, FactorMatrix[[GHGSOURCE]:[GHGSOURCE]], \"track mile\", FactorMatrix[[TYPE]:[TYPE]], U$6)","v":0},{"$f":"SUMIFS(FactorMatrix[[UPSTREAMTRANSPORTEMISSIONS]:[UPSTREAMTRANSPORTEMISSIONS]], FactorMatrix[[MODE]:[MODE]], $B24, FactorMatrix[[PHASE]:[PHASE]], $A$4, FactorMatrix[[GHGSOURCE]:[GHGSOURCE]], \"track mile\", FactorMatrix[[TYPE]:[TYPE]], V$6)","v":0},{"$f":"SUMIFS(FactorMatrix[[UPSTREAMTRANSPORTEMISSIONS]:[UPSTREAMTRANSPORTEMISSIONS]], FactorMatrix[[MODE]:[MODE]], $B24, FactorMatrix[[PHASE]:[PHASE]], $A$4, FactorMatrix[[GHGSOURCE]:[GHGSOURCE]], \"track mile\", FactorMatrix[[TYPE]:[TYPE]], W$6)","v":0},{"$f":"SUMIFS(FactorMatrix[[UPSTREAMTRANSPORTEMISSIONS]:[UPSTREAMTRANSPORTEMISSIONS]], FactorMatrix[[MODE]:[MODE]], $B24, FactorMatrix[[PHASE]:[PHASE]], $A$4, FactorMatrix[[GHGSOURCE]:[GHGSOURCE]], \"station\", FactorMatrix[[TYPE]:[TYPE]], X$6)","v":0},{"$f":"SUMIFS(FactorMatrix[[UPSTREAMTRANSPORTEMISSIONS]:[UPSTREAMTRANSPORTEMISSIONS]], FactorMatrix[[MODE]:[MODE]], $B24, FactorMatrix[[PHASE]:[PHASE]], $A$4, FactorMatrix[[GHGSOURCE]:[GHGSOURCE]], \"station\", FactorMatrix[[TYPE]:[TYPE]], Y$6)","v":0},{"$f":"SUMIFS(FactorMatrix[[UPSTREAMTRANSPORTEMISSIONS]:[UPSTREAMTRANSPORTEMISSIONS]], FactorMatrix[[MODE]:[MODE]], $B24, FactorMatrix[[PHASE]:[PHASE]], $A$4, FactorMatrix[[GHGSOURCE]:[GHGSOURCE]], \"station\", FactorMatrix[[TYPE]:[TYPE]], Z$6)","v":0},{"$f":"SUMIFS(FactorMatrix[[DOWNSTREAMEMISSIONS]:[DOWNSTREAMEMISSIONS]], FactorMatrix[[MODE]:[MODE]], $B24, FactorMatrix[[PHASE]:[PHASE]], $A$4, FactorMatrix[[GHGSOURCE]:[GHGSOURCE]], \"track mile\", FactorMatrix[[TYPE]:[TYPE]], AA$6, FactorMatrix[[STATE /REGION]:[STATE /REGION]], StateCalc)","v":0},{"$f":"SUMIFS(FactorMatrix[[DOWNSTREAMEMISSIONS]:[DOWNSTREAMEMISSIONS]], FactorMatrix[[MODE]:[MODE]], $B24, FactorMatrix[[PHASE]:[PHASE]], $A$4, FactorMatrix[[GHGSOURCE]:[GHGSOURCE]], \"track mile\", FactorMatrix[[TYPE]:[TYPE]], AB$6)","v":0},{"$f":"SUMIFS(FactorMatrix[[DOWNSTREAMEMISSIONS]:[DOWNSTREAMEMISSIONS]], FactorMatrix[[MODE]:[MODE]], $B24, FactorMatrix[[PHASE]:[PHASE]], $A$4, FactorMatrix[[GHGSOURCE]:[GHGSOURCE]], \"track mile\", FactorMatrix[[TYPE]:[TYPE]], AC$6)","v":0},{"$f":"SUMIFS(FactorMatrix[[DOWNSTREAMEMISSIONS]:[DOWNSTREAMEMISSIONS]], FactorMatrix[[MODE]:[MODE]], $B24, FactorMatrix[[PHASE]:[PHASE]], $A$4, FactorMatrix[[GHGSOURCE]:[GHGSOURCE]], \"track mile\", FactorMatrix[[TYPE]:[TYPE]], AD$6)","v":0},{"$f":"SUMIFS(FactorMatrix[[DOWNSTREAMEMISSIONS]:[DOWNSTREAMEMISSIONS]], FactorMatrix[[MODE]:[MODE]], $B24, FactorMatrix[[PHASE]:[PHASE]], $A$4, FactorMatrix[[GHGSOURCE]:[GHGSOURCE]], \"track mile\", FactorMatrix[[TYPE]:[TYPE]], AE$6)","v":0},{"$f":"SUMIFS(FactorMatrix[[DOWNSTREAMEMISSIONS]:[DOWNSTREAMEMISSIONS]], FactorMatrix[[MODE]:[MODE]], $B24, FactorMatrix[[PHASE]:[PHASE]], $A$4, FactorMatrix[[GHGSOURCE]:[GHGSOURCE]], \"station\", FactorMatrix[[TYPE]:[TYPE]], AF$6)","v":0},{"$f":"SUMIFS(FactorMatrix[[DOWNSTREAMEMISSIONS]:[DOWNSTREAMEMISSIONS]], FactorMatrix[[MODE]:[MODE]], $B24, FactorMatrix[[PHASE]:[PHASE]], $A$4, FactorMatrix[[GHGSOURCE]:[GHGSOURCE]], \"station\", FactorMatrix[[TYPE]:[TYPE]], AG$6)","v":0},{"$f":"SUMIFS(FactorMatrix[[DOWNSTREAMEMISSIONS]:[DOWNSTREAMEMISSIONS]], FactorMatrix[[MODE]:[MODE]], $B24, FactorMatrix[[PHASE]:[PHASE]], $A$4, FactorMatrix[[GHGSOURCE]:[GHGSOURCE]], \"station\", FactorMatrix[[TYPE]:[TYPE]], AH$6)","v":0},0,0,0]
[19,{"$f":"Construction!B26","v":0},{"$f":"Construction!C26","v":0},{"$f":"Construction!D26","v":0},{"$f":"Construction!E26","v":0},{"$f":"Construction!F26","v":0},{"$f":"Construction!G26","v":0},{"$f":"Construction!H26","v":0},{"$f":"Construction!I26","v":0},{"$f":"Construction!J26","v":0},{"$f":"SUMIFS(FactorMatrix[[UPSTREAMMATERIALSEMISSIONS]:[UPSTREAMMATERIALSEMISSIONS]], FactorMatrix[[MODE]:[MODE]], $B25, FactorMatrix[[PHASE]:[PHASE]], $A$4, FactorMatrix[[GHGSOURCE]:[GHGSOURCE]], \"track mile\", FactorMatrix[[TYPE]:[TYPE]], K$6, FactorMatrix[[STATE /REGION]:[STATE /REGION]], StateCalc)","v":0},{"$f":"SUMIFS(FactorMatrix[[UPSTREAMMATERIALSEMISSIONS]:[UPSTREAMMATERIALSEMISSIONS]], FactorMatrix[[MODE]:[MODE]], $B25, FactorMatrix[[PHASE]:[PHASE]], $A$4, FactorMatrix[[GHGSOURCE]:[GHGSOURCE]], \"track mile\", FactorMatrix[[TYPE]:[TYPE]], L$6)","v":0},{"$f":"SUMIFS(FactorMatrix[[UPSTREAMMATERIALSEMISSIONS]:[UPSTREAMMATERIALSEMISSIONS]], FactorMatrix[[MODE]:[MODE]], $B25, FactorMatrix[[PHASE]:[PHASE]], $A$4, FactorMatrix[[GHGSOURCE]:[GHGSOURCE]], \"track mile\", FactorMatrix[[TYPE]:[TYPE]], M$6)","v":0},{"$f":"SUMIFS(FactorMatrix[[UPSTREAMMATERIALSEMISSIONS]:[UPSTREAMMATERIALSEMISSIONS]], FactorMatrix[[MODE]:[MODE]], $B25, FactorMatrix[[PHASE]:[PHASE]], $A$4, FactorMatrix[[GHGSOURCE]:[GHGSOURCE]], \"track mile\", FactorMatrix[[TYPE]:[TYPE]], N$6)","v":0},{"$f":"SUMIFS(FactorMatrix[[UPSTREAMMATERIALSEMISSIONS]:[UPSTREAMMATERIALSEMISSIONS]], FactorMatrix[[MODE]:[MODE]], $B25, FactorMatrix[[PHASE]:[PHASE]], $A$4, FactorMatrix[[GHGSOURCE]:[GHGSOURCE]], \"track mile\", FactorMatrix[[TYPE]:[TYPE]], O$6)","v":0},{"$f":"SUMIFS(FactorMatrix[[UPSTREAMMATERIALSEMISSIONS]:[UPSTREAMMATERIALSEMISSIONS]], FactorMatrix[[MODE]:[MODE]], $B25, FactorMatrix[[PHASE]:[PHASE]], $A$4, FactorMatrix[[GHGSOURCE]:[GHGSOURCE]], \"station\", FactorMatrix[[TYPE]:[TYPE]], P$6)","v":0},{"$f":"SUMIFS(FactorMatrix[[UPSTREAMMATERIALSEMISSIONS]:[UPSTREAMMATERIALSEMISSIONS]], FactorMatrix[[MODE]:[MODE]], $B25, FactorMatrix[[PHASE]:[PHASE]], $A$4, FactorMatrix[[GHGSOURCE]:[GHGSOURCE]], \"station\", FactorMatrix[[TYPE]:[TYPE]], Q$6)","v":0},{"$f":"SUMIFS(FactorMatrix[[UPSTREAMMATERIALSEMISSIONS]:[UPSTREAMMATERIALSEMISSIONS]], FactorMatrix[[MODE]:[MODE]], $B25, FactorMatrix[[PHASE]:[PHASE]], $A$4, FactorMatrix[[GHGSOURCE]:[GHGSOURCE]], \"station\", FactorMatrix[[TYPE]:[TYPE]], R$6)","v":0},{"$f":"SUMIFS(FactorMatrix[[UPSTREAMTRANSPORTEMISSIONS]:[UPSTREAMTRANSPORTEMISSIONS]], FactorMatrix[[MODE]:[MODE]], $B25, FactorMatrix[[PHASE]:[PHASE]], $A$4, FactorMatrix[[GHGSOURCE]:[GHGSOURCE]], \"track mile\", FactorMatrix[[TYPE]:[TYPE]], S$6, FactorMatrix[[STATE /REGION]:[STATE /REGION]], StateCalc)","v":0},{"$f":"SUMIFS(FactorMatrix[[UPSTREAMTRANSPORTEMISSIONS]:[UPSTREAMTRANSPORTEMISSIONS]], FactorMatrix[[MODE]:[MODE]], $B25, FactorMatrix[[PHASE]:[PHASE]], $A$4, FactorMatrix[[GHGSOURCE]:[GHGSOURCE]], \"track mile\", FactorMatrix[[TYPE]:[TYPE]], T$6)","v":0},{"$f":"SUMIFS(FactorMatrix[[UPSTREAMTRANSPORTEMISSIONS]:[UPSTREAMTRANSPORTEMISSIONS]], FactorMatrix[[MODE]:[MODE]], $B25, FactorMatrix[[PHASE]:[PHASE]], $A$4, FactorMatrix[[GHGSOURCE]:[GHGSOURCE]], \"track mile\", FactorMatrix[[TYPE]:[TYPE]], U$6)","v":0},{"$f":"SUMIFS(FactorMatrix[[UPSTREAMTRANSPORTEMISSIONS]:[UPSTREAMTRANSPORTEMISSIONS]], FactorMatrix[[MODE]:[MODE]], $B25, FactorMatrix[[PHASE]:[PHASE]], $A$4, FactorMatrix[[GHGSOURCE]:[GHGSOURCE]], \"track mile\", FactorMatrix[[TYPE]:[TYPE]], V$6)","v":0},{"$f":"SUMIFS(FactorMatrix[[UPSTREAMTRANSPORTEMISSIONS]:[UPSTREAMTRANSPORTEMISSIONS]], FactorMatrix[[MODE]:[MODE]], $B25, FactorMatrix[[PHASE]:[PHASE]], $A$4, FactorMatrix[[GHGSOURCE]:[GHGSOURCE]], \"track mile\", FactorMatrix[[TYPE]:[TYPE]], W$6)","v":0},{"$f":"SUMIFS(FactorMatrix[[UPSTREAMTRANSPORTEMISSIONS]:[UPSTREAMTRANSPORTEMISSIONS]], FactorMatrix[[MODE]:[MODE]], $B25, FactorMatrix[[PHASE]:[PHASE]], $A$4, FactorMatrix[[GHGSOURCE]:[GHGSOURCE]], \"station\", FactorMatrix[[TYPE]:[TYPE]], X$6)","v":0},{"$f":"SUMIFS(FactorMatrix[[UPSTREAMTRANSPORTEMISSIONS]:[UPSTREAMTRANSPORTEMISSIONS]], FactorMatrix[[MODE]:[MODE]], $B25, FactorMatrix[[PHASE]:[PHASE]], $A$4, FactorMatrix[[GHGSOURCE]:[GHGSOURCE]], \"station\", FactorMatrix[[TYPE]:[TYPE]], Y$6)","v":0},{"$f":"SUMIFS(FactorMatrix[[UPSTREAMTRANSPORTEMISSIONS]:[UPSTREAMTRANSPORTEMISSIONS]], FactorMatrix[[MODE]:[MODE]], $B25, FactorMatrix[[PHASE]:[PHASE]], $A$4, FactorMatrix[[GHGSOURCE]:[GHGSOURCE]], \"station\", FactorMatrix[[TYPE]:[TYPE]], Z$6)","v":0},{"$f":"SUMIFS(FactorMatrix[[DOWNSTREAMEMISSIONS]:[DOWNSTREAMEMISSIONS]], FactorMatrix[[MODE]:[MODE]], $B25, FactorMatrix[[PHASE]:[PHASE]], $A$4, FactorMatrix[[GHGSOURCE]:[GHGSOURCE]], \"track mile\", FactorMatrix[[TYPE]:[TYPE]], AA$6, FactorMatrix[[STATE /REGION]:[STATE /REGION]], StateCalc)","v":0},{"$f":"SUMIFS(FactorMatrix[[DOWNSTREAMEMISSIONS]:[DOWNSTREAMEMISSIONS]], FactorMatrix[[MODE]:[MODE]], $B25, FactorMatrix[[PHASE]:[PHASE]], $A$4, FactorMatrix[[GHGSOURCE]:[GHGSOURCE]], \"track mile\", FactorMatrix[[TYPE]:[TYPE]], AB$6)","v":0},{"$f":"SUMIFS(FactorMatrix[[DOWNSTREAMEMISSIONS]:[DOWNSTREAMEMISSIONS]], FactorMatrix[[MODE]:[MODE]], $B25, FactorMatrix[[PHASE]:[PHASE]], $A$4, FactorMatrix[[GHGSOURCE]:[GHGSOURCE]], \"track mile\", FactorMatrix[[TYPE]:[TYPE]], AC$6)","v":0},{"$f":"SUMIFS(FactorMatrix[[DOWNSTREAMEMISSIONS]:[DOWNSTREAMEMISSIONS]], FactorMatrix[[MODE]:[MODE]], $B25, FactorMatrix[[PHASE]:[PHASE]], $A$4, FactorMatrix[[GHGSOURCE]:[GHGSOURCE]], \"track mile\", FactorMatrix[[TYPE]:[TYPE]], AD$6)","v":0},{"$f":"SUMIFS(FactorMatrix[[DOWNSTREAMEMISSIONS]:[DOWNSTREAMEMISSIONS]], FactorMatrix[[MODE]:[MODE]], $B25, FactorMatrix[[PHASE]:[PHASE]], $A$4, FactorMatrix[[GHGSOURCE]:[GHGSOURCE]], \"track mile\", FactorMatrix[[TYPE]:[TYPE]], AE$6)","v":0},{"$f":"SUMIFS(FactorMatrix[[DOWNSTREAMEMISSIONS]:[DOWNSTREAMEMISSIONS]], FactorMatrix[[MODE]:[MODE]], $B25, FactorMatrix[[PHASE]:[PHASE]], $A$4, FactorMatrix[[GHGSOURCE]:[GHGSOURCE]], \"station\", FactorMatrix[[TYPE]:[TYPE]], AF$6)","v":0},{"$f":"SUMIFS(FactorMatrix[[DOWNSTREAMEMISSIONS]:[DOWNSTREAMEMISSIONS]], FactorMatrix[[MODE]:[MODE]], $B25, FactorMatrix[[PHASE]:[PHASE]], $A$4, FactorMatrix[[GHGSOURCE]:[GHGSOURCE]], \"station\", FactorMatrix[[TYPE]:[TYPE]], AG$6)","v":0},{"$f":"SUMIFS(FactorMatrix[[DOWNSTREAMEMISSIONS]:[DOWNSTREAMEMISSIONS]], FactorMatrix[[MODE]:[MODE]], $B25, FactorMatrix[[PHASE]:[PHASE]], $A$4, FactorMatrix[[GHGSOURCE]:[GHGSOURCE]], \"station\", FactorMatrix[[TYPE]:[TYPE]], AH$6)","v":0},0,0,0]
[20,{"$f":"Construction!B27","v":0},{"$f":"Construction!C27","v":0},{"$f":"Construction!D27","v":0},{"$f":"Construction!E27","v":0},{"$f":"Construction!F27","v":0},{"$f":"Construction!G27","v":0},{"$f":"Construction!H27","v":0},{"$f":"Construction!I27","v":0},{"$f":"Construction!J27","v":0},{"$f":"SUMIFS(FactorMatrix[[UPSTREAMMATERIALSEMISSIONS]:[UPSTREAMMATERIALSEMISSIONS]], FactorMatrix[[MODE]:[MODE]], $B26, FactorMatrix[[PHASE]:[PHASE]], $A$4, FactorMatrix[[GHGSOURCE]:[GHGSOURCE]], \"track mile\", FactorMatrix[[TYPE]:[TYPE]], K$6, FactorMatrix[[STATE /REGION]:[STATE /REGION]], StateCalc)","v":0},{"$f":"SUMIFS(FactorMatrix[[UPSTREAMMATERIALSEMISSIONS]:[UPSTREAMMATERIALSEMISSIONS]], FactorMatrix[[MODE]:[MODE]], $B26, FactorMatrix[[PHASE]:[PHASE]], $A$4, FactorMatrix[[GHGSOURCE]:[GHGSOURCE]], \"track mile\", FactorMatrix[[TYPE]:[TYPE]], L$6)","v":0},{"$f":"SUMIFS(FactorMatrix[[UPSTREAMMATERIALSEMISSIONS]:[UPSTREAMMATERIALSEMISSIONS]], FactorMatrix[[MODE]:[MODE]], $B26, FactorMatrix[[PHASE]:[PHASE]], $A$4, FactorMatrix[[GHGSOURCE]:[GHGSOURCE]], \"track mile\", FactorMatrix[[TYPE]:[TYPE]], M$6)","v":0},{"$f":"SUMIFS(FactorMatrix[[UPSTREAMMATERIALSEMISSIONS]:[UPSTREAMMATERIALSEMISSIONS]], FactorMatrix[[MODE]:[MODE]], $B26, FactorMatrix[[PHASE]:[PHASE]], $A$4, FactorMatrix[[GHGSOURCE]:[GHGSOURCE]], \"track mile\", FactorMatrix[[TYPE]:[TYPE]], N$6)","v":0},{"$f":"SUMIFS(FactorMatrix[[UPSTREAMMATERIALSEMISSIONS]:[UPSTREAMMATERIALSEMISSIONS]], FactorMatrix[[MODE]:[MODE]], $B26, FactorMatrix[[PHASE]:[PHASE]], $A$4, FactorMatrix[[GHGSOURCE]:[GHGSOURCE]], \"track mile\", FactorMatrix[[TYPE]:[TYPE]], O$6)","v":0},{"$f":"SUMIFS(FactorMatrix[[UPSTREAMMATERIALSEMISSIONS]:[UPSTREAMMATERIALSEMISSIONS]], FactorMatrix[[MODE]:[MODE]], $B26, FactorMatrix[[PHASE]:[PHASE]], $A$4, FactorMatrix[[GHGSOURCE]:[GHGSOURCE]], \"station\", FactorMatrix[[TYPE]:[TYPE]], P$6)","v":0},{"$f":"SUMIFS(FactorMatrix[[UPSTREAMMATERIALSEMISSIONS]:[UPSTREAMMATERIALSEMISSIONS]], FactorMatrix[[MODE]:[MODE]], $B26, FactorMatrix[[PHASE]:[PHASE]], $A$4, FactorMatrix[[GHGSOURCE]:[GHGSOURCE]], \"station\", FactorMatrix[[TYPE]:[TYPE]], Q$6)","v":0},{"$f":"SUMIFS(FactorMatrix[[UPSTREAMMATERIALSEMISSIONS]:[UPSTREAMMATERIALSEMISSIONS]], FactorMatrix[[MODE]:[MODE]], $B26, FactorMatrix[[PHASE]:[PHASE]], $A$4, FactorMatrix[[GHGSOURCE]:[GHGSOURCE]], \"station\", FactorMatrix[[TYPE]:[TYPE]], R$6)","v":0},{"$f":"SUMIFS(FactorMatrix[[UPSTREAMTRANSPORTEMISSIONS]:[UPSTREAMTRANSPORTEMISSIONS]], FactorMatrix[[MODE]:[MODE]], $B26, FactorMatrix[[PHASE]:[PHASE]], $A$4, FactorMatrix[[GHGSOURCE]:[GHGSOURCE]], \"track mile\", FactorMatrix[[TYPE]:[TYPE]], S$6, FactorMatrix[[STATE /REGION]:[STATE /REGION]], StateCalc)","v":0},{"$f":"SUMIFS(FactorMatrix[[UPSTREAMTRANSPORTEMISSIONS]:[UPSTREAMTRANSPORTEMISSIONS]], FactorMatrix[[MODE]:[MODE]], $B26, FactorMatrix[[PHASE]:[PHASE]], $A$4, FactorMatrix[[GHGSOURCE]:[GHGSOURCE]], \"track mile\", FactorMatrix[[TYPE]:[TYPE]], T$6)","v":0},{"$f":"SUMIFS(FactorMatrix[[UPSTREAMTRANSPORTEMISSIONS]:[UPSTREAMTRANSPORTEMISSIONS]], FactorMatrix[[MODE]:[MODE]], $B26, FactorMatrix[[PHASE]:[PHASE]], $A$4, FactorMatrix[[GHGSOURCE]:[GHGSOURCE]], \"track mile\", FactorMatrix[[TYPE]:[TYPE]], U$6)","v":0},{"$f":"SUMIFS(FactorMatrix[[UPSTREAMTRANSPORTEMISSIONS]:[UPSTREAMTRANSPORTEMISSIONS]], FactorMatrix[[MODE]:[MODE]], $B26, FactorMatrix[[PHASE]:[PHASE]], $A$4, FactorMatrix[[GHGSOURCE]:[GHGSOURCE]], \"track mile\", FactorMatrix[[TYPE]:[TYPE]], V$6)","v":0},{"$f":"SUMIFS(FactorMatrix[[UPSTREAMTRANSPORTEMISSIONS]:[UPSTREAMTRANSPORTEMISSIONS]], FactorMatrix[[MODE]:[MODE]], $B26, FactorMatrix[[PHASE]:[PHASE]], $A$4, FactorMatrix[[GHGSOURCE]:[GHGSOURCE]], \"track mile\", FactorMatrix[[TYPE]:[TYPE]], W$6)","v":0},{"$f":"SUMIFS(FactorMatrix[[UPSTREAMTRANSPORTEMISSIONS]:[UPSTREAMTRANSPORTEMISSIONS]], FactorMatrix[[MODE]:[MODE]], $B26, FactorMatrix[[PHASE]:[PHASE]], $A$4, FactorMatrix[[GHGSOURCE]:[GHGSOURCE]], \"station\", FactorMatrix[[TYPE]:[TYPE]], X$6)","v":0},{"$f":"SUMIFS(FactorMatrix[[UPSTREAMTRANSPORTEMISSIONS]:[UPSTREAMTRANSPORTEMISSIONS]], FactorMatrix[[MODE]:[MODE]], $B26, FactorMatrix[[PHASE]:[PHASE]], $A$4, FactorMatrix[[GHGSOURCE]:[GHGSOURCE]], \"station\", FactorMatrix[[TYPE]:[TYPE]], Y$6)","v":0},{"$f":"SUMIFS(FactorMatrix[[UPSTREAMTRANSPORTEMISSIONS]:[UPSTREAMTRANSPORTEMISSIONS]], FactorMatrix[[MODE]:[MODE]], $B26, FactorMatrix[[PHASE]:[PHASE]], $A$4, FactorMatrix[[GHGSOURCE]:[GHGSOURCE]], \"station\", FactorMatrix[[TYPE]:[TYPE]], Z$6)","v":0},{"$f":"SUMIFS(FactorMatrix[[DOWNSTREAMEMISSIONS]:[DOWNSTREAMEMISSIONS]], FactorMatrix[[MODE]:[MODE]], $B26, FactorMatrix[[PHASE]:[PHASE]], $A$4, FactorMatrix[[GHGSOURCE]:[GHGSOURCE]], \"track mile\", FactorMatrix[[TYPE]:[TYPE]], AA$6, FactorMatrix[[STATE /REGION]:[STATE /REGION]], StateCalc)","v":0},{"$f":"SUMIFS(FactorMatrix[[DOWNSTREAMEMISSIONS]:[DOWNSTREAMEMISSIONS]], FactorMatrix[[MODE]:[MODE]], $B26, FactorMatrix[[PHASE]:[PHASE]], $A$4, FactorMatrix[[GHGSOURCE]:[GHGSOURCE]], \"track mile\", FactorMatrix[[TYPE]:[TYPE]], AB$6)","v":0},{"$f":"SUMIFS(FactorMatrix[[DOWNSTREAMEMISSIONS]:[DOWNSTREAMEMISSIONS]], FactorMatrix[[MODE]:[MODE]], $B26, FactorMatrix[[PHASE]:[PHASE]], $A$4, FactorMatrix[[GHGSOURCE]:[GHGSOURCE]], \"track mile\", FactorMatrix[[TYPE]:[TYPE]], AC$6)","v":0},{"$f":"SUMIFS(FactorMatrix[[DOWNSTREAMEMISSIONS]:[DOWNSTREAMEMISSIONS]], FactorMatrix[[MODE]:[MODE]], $B26, FactorMatrix[[PHASE]:[PHASE]], $A$4, FactorMatrix[[GHGSOURCE]:[GHGSOURCE]], \"track mile\", FactorMatrix[[TYPE]:[TYPE]], AD$6)","v":0},{"$f":"SUMIFS(FactorMatrix[[DOWNSTREAMEMISSIONS]:[DOWNSTREAMEMISSIONS]], FactorMatrix[[MODE]:[MODE]], $B26, FactorMatrix[[PHASE]:[PHASE]], $A$4, FactorMatrix[[GHGSOURCE]:[GHGSOURCE]], \"track mile\", FactorMatrix[[TYPE]:[TYPE]], AE$6)","v":0},{"$f":"SUMIFS(FactorMatrix[[DOWNSTREAMEMISSIONS]:[DOWNSTREAMEMISSIONS]], FactorMatrix[[MODE]:[MODE]], $B26, FactorMatrix[[PHASE]:[PHASE]], $A$4, FactorMatrix[[GHGSOURCE]:[GHGSOURCE]], \"station\", FactorMatrix[[TYPE]:[TYPE]], AF$6)","v":0},{"$f":"SUMIFS(FactorMatrix[[DOWNSTREAMEMISSIONS]:[DOWNSTREAMEMISSIONS]], FactorMatrix[[MODE]:[MODE]], $B26, FactorMatrix[[PHASE]:[PHASE]], $A$4, FactorMatrix[[GHGSOURCE]:[GHGSOURCE]], \"station\", FactorMatrix[[TYPE]:[TYPE]], AG$6)","v":0},{"$f":"SUMIFS(FactorMatrix[[DOWNSTREAMEMISSIONS]:[DOWNSTREAMEMISSIONS]], FactorMatrix[[MODE]:[MODE]], $B26, FactorMatrix[[PHASE]:[PHASE]], $A$4, FactorMatrix[[GHGSOURCE]:[GHGSOURCE]], \"station\", FactorMatrix[[TYPE]:[TYPE]], AH$6)","v":0},0,0,0]
["Construction All",null,null,null,"Range for Factors"]
[null,"Structured Parking Spots","Lot Parking Spots","Trees Removed","Structured Parking Spots","Lot Parking Spots","Trees Removed",null,null,null,"Structured Parking Spots","Lot Parking Spots","Trees Removed",null,null,null,null,null,"Structured Parking Spots","Lot Parking Spots","Trees Removed",null,null,null,null,null,"Structured Parking Spots","Lot Parking Spots","Trees Removed",null,null,null,null,null,"UPSTREAM MATERIALS","UPSTREAM TRANSPORT","DOWNSTREAM"]
[null,{"$f":"Construction!C4","v":0},{"$f":"Construction!F4","v":0},{"$f":"Construction!H4","v":0},{"$f":"IF(B29>500,\"Garage > 500\",IF(B29>50,\"Garage 50 0 500\", \"GARAGE < 50\"))","v":"GARAGE < 50"},{"$f":"IF(C29>500,\"Lot > 500\",IF(C29>50,\"Lot 50 0 500\", \"Lot < 50\"))","v":"Lot < 50"},{"$f":"D29","v":0},null,null,null,{"$f":"SUMIFS(FactorMatrix[[UPSTREAMMATERIALSEMISSIONS]:[UPSTREAMMATERIALSEMISSIONS]], FactorMatrix[[MODE]:[MODE]], \"Parking\", FactorMatrix[[PHASE]:[PHASE]], \"CONSTRUCTION\", FactorMatrix[[GHGSOURCE]:[GHGSOURCE]], $E$29)","v":5.3},{"$f":"SUMIFS(FactorMatrix[[UPSTREAMMATERIALSEMISSIONS]:[UPSTREAMMATERIALSEMISSIONS]], FactorMatrix[[MODE]:[MODE]], \"Parking\", FactorMatrix[[PHASE]:[PHASE]], \"CONSTRUCTION\", FactorMatrix[[GHGSOURCE]:[GHGSOURCE]], $F$29)","v":0.17},{"$f":"SUMIFS(FactorMatrix[[UPSTREAMMATERIALSEMISSIONS]:[UPSTREAMMATERIALSEMISSIONS]], FactorMatrix[[MODE]:[MODE]], \"C Storage\")*$C$2","v":0},null,null,null,null,null,{"$f":"SUMIFS(FactorMatrix[[UPSTREAMTRANSPORTEMISSIONS]:[UPSTREAMTRANSPORTEMISSIONS]], FactorMatrix[[MODE]:[MODE]], \"Parking\", FactorMatrix[[PHASE]:[PHASE]], \"CONSTRUCTION\", FactorMatrix[[GHGSOURCE]:[GHGSOURCE]], $E$29)","v":0.14000000000000001},{"$f":"SUMIFS(FactorMatrix[[UPSTREAMTRANSPORTEMISSIONS]:[UPSTREAMTRANSPORTEMISSIONS]], FactorMatrix[[MODE]:[MODE]], \"Parking\", FactorMatrix[[PHASE]:[PHASE]], \"CONSTRUCTION\", FactorMatrix[[GHGSOURCE]:[GHGSOURCE]], $F$29)","v":7.0000000000000007E-2},{"$f":"SUMIFS(FactorMatrix[[UPSTREAMTRANSPORTEMISSIONS]:[UPSTREAMTRANSPORTEMISSIONS]], FactorMatrix[[MODE]:[MODE]], \"C Storage\")*$C$2","v":0},null,null,null,null,null,{"$f":"SUMIFS(FactorMatrix[[DOWNSTREAMEMISSIONS]:[DOWNSTREAMEMISSIONS]], FactorMatrix[[MODE]:[MODE]], \"Parking\", FactorMatrix[[PHASE]:[PHASE]], \"CONSTRUCTION\", FactorMatrix[[GHGSOURCE]:[GHGSOURCE]], $E$29)","v":1},{"$f":"SUMIFS(FactorMatrix[[DOWNSTREAMEMISSIONS]:[DOWNSTREAMEMISSIONS]], FactorMatrix[[MODE]:[MODE]], \"Parking\", FactorMatrix[[PHASE]:[PHASE]], \"CONSTRUCTION\", FactorMatrix[[GHGSOURCE]:[GHGSOURCE]], $F$29)","v":0.18},{"$f":"SUMIFS(FactorMatrix[[DOWNSTREAMEMISSIONS]:[DOWNSTREAMEMISSIONS]], FactorMatrix[[MODE]:[MODE]], \"C Storage\")*$C$2","v":0},null,null,null,null,null,{"$f":"SUMPRODUCT($B29:$D29, K29:M29)","v":0},{"$f":"SUMPRODUCT($B29:$D29, S29:U29)","v":0},{"$f":"SUMPRODUCT($B29:$D29, AA29:AC29)","v":0}]
[]
["Facility Maintenance",null,null,null,null,null,"UPSTREAM MATERIALS",null,null,null,"UPSTREAM TRANSPORT",null,null,null,"DOWNSTREAM",null,null,null,"RESULTS",null,null,"FINAL RESULTS"]
["INPUTS","Transit Mode","Miles of Track/Alignment"]
["row",null,"Underground","Elevated","At-Grade","Converted Upgraded","Underground","Elevated","At-Grade","Converted or Upgraded","Underground","Elevated","At-Grade","Converted or Upgraded","Underground","Elevated","At-Grade","Converted or Upgraded","UPSTREAM MATERIALS","UPSTREAM TRANSPORT","DOWNSTREAM","UPSTREAM MATERIALS","UPSTREAM TRANSPORT","DOWNSTREAM"]
[1,{"$f":"B7","v":0},0,0,0,{"$f":"G7","v":0},{"$f":"SUMIFS(FactorMatrix[[UPSTREAMMATERIALSEMISSIONS]:[UPSTREAMMATERIALSEMISSIONS]], FactorMatrix[[MODE]:[MODE]], $B34, FactorMatrix[[PHASE]:[PHASE]],\"MAINTENANCE\", FactorMatrix[[GHGSOURCE]:[GHGSOURCE]], \"track mile\", FactorMatrix[[TYPE]:[TYPE]], G$33)*Years","v":0},{"$f":"SUMIFS(FactorMatrix[[UPSTREAMMATERIALSEMISSIONS]:[UPSTREAMMATERIALSEMISSIONS]], FactorMatrix[[MODE]:[MODE]], $B34, FactorMatrix[[PHASE]:[PHASE]],\"MAINTENANCE\", FactorMatrix[[GHGSOURCE]:[GHGSOURCE]], \"track mile\", FactorMatrix[[TYPE]:[TYPE]], H$33)*Years","v":0},{"$f":"SUMIFS(FactorMatrix[[UPSTREAMMATERIALSEMISSIONS]:[UPSTREAMMATERIALSEMISSIONS]], FactorMatrix[[MODE]:[MODE]], $B34, FactorMatrix[[PHASE]:[PHASE]],\"MAINTENANCE\", FactorMatrix[[GHGSOURCE]:[GHGSOURCE]], \"track mile\", FactorMatrix[[TYPE]:[TYPE]], I$33)*Years","v":0},{"$f":"SUMIFS(FactorMatrix[[UPSTREAMMATERIALSEMISSIONS]:[UPSTREAMMATERIALSEMISSIONS]], FactorMatrix[[MODE]:[MODE]], $B34, FactorMatrix[[PHASE]:[PHASE]],\"MAINTENANCE\", FactorMatrix[[GHGSOURCE]:[GHGSOURCE]], \"track mile\", FactorMatrix[[TYPE]:[TYPE]], J$33)*Years","v":0},{"$f":"SUMIFS(FactorMatrix[[UPSTREAMTRANSPORTEMISSIONS]:[UPSTREAMTRANSPORTEMISSIONS]], FactorMatrix[[MODE]:[MODE]], $B34, FactorMatrix[[PHASE]:[PHASE]],\"MAINTENANCE\", FactorMatrix[[GHGSOURCE]:[GHGSOURCE]], \"track mile\", FactorMatrix[[TYPE]:[TYPE]], K$33)*Years","v":0},{"$f":"SUMIFS(FactorMatrix[[UPSTREAMTRANSPORTEMISSIONS]:[UPSTREAMTRANSPORTEMISSIONS]], FactorMatrix[[MODE]:[MODE]], $B34, FactorMatrix[[PHASE]:[PHASE]],\"MAINTENANCE\", FactorMatrix[[GHGSOURCE]:[GHGSOURCE]], \"track mile\", FactorMatrix[[TYPE]:[TYPE]], L$33)*Years","v":0},{"$f":"SUMIFS(FactorMatrix[[UPSTREAMTRANSPORTEMISSIONS]:[UPSTREAMTRANSPORTEMISSIONS]], FactorMatrix[[MODE]:[MODE]], $B34, FactorMatrix[[PHASE]:[PHASE]],\"MAINTENANCE\", FactorMatrix[[GHGSOURCE]:[GHGSOURCE]], \"track mile\", FactorMatrix[[TYPE]:[TYPE]], M$33)*Years","v":0},{"$f":"SUMIFS(FactorMatrix[[UPSTREAMTRANSPORTEMISSIONS]:[UPSTREAMTRANSPORTEMISSIONS]], FactorMatrix[[MODE]:[MODE]], $B34, FactorMatrix[[PHASE]:[PHASE]],\"MAINTENANCE\", FactorMatrix[[GHGSOURCE]:[GHGSOURCE]], \"track mile\", FactorMatrix[[TYPE]:[TYPE]], N$33)*Years","v":0},{"$f":"SUMIFS(FactorMatrix[[DOWNSTREAMEMISSIONS]:[DOWNSTREAMEMISSIONS]], FactorMatrix[[MODE]:[MODE]], $B34, FactorMatrix[[PHASE]:[PHASE]],\"MAINTENANCE\", FactorMatrix[[GHGSOURCE]:[GHGSOURCE]], \"track mile\", FactorMatrix[[TYPE]:[TYPE]], O$33)*Years","v":0},{"$f":"SUMIFS(FactorMatrix[[DOWNSTREAMEMISSIONS]:[DOWNSTREAMEMISSIONS]], FactorMatrix[[MODE]:[MODE]], $B34, FactorMatrix[[PHASE]:[PHASE]],\"MAINTENANCE\", FactorMatrix[[GHGSOURCE]:[GHGSOURCE]], \"track mile\", FactorMatrix[[TYPE]:[TYPE]], P$33)*Years","v":0},{"$f":"SUMIFS(FactorMatrix[[DOWNSTREAMEMISSIONS]:[DOWNSTREAMEMISSIONS]], FactorMatrix[[MODE]:[MODE]], $B34, FactorMatrix[[PHASE]:[PHASE]],\"MAINTENANCE\", FactorMatrix[[GHGSOURCE]:[GHGSOURCE]], \"track mile\", FactorMatrix[[TYPE]:[TYPE]], Q$33)*Years","v":0},{"$f":"SUMIFS(FactorMatrix[[DOWNSTREAMEMISSIONS]:[DOWNSTREAMEMISSIONS]], FactorMatrix[[MODE]:[MODE]], $B34, FactorMatrix[[PHASE]:[PHASE]],\"MAINTENANCE\", FactorMatrix[[GHGSOURCE]:[GHGSOURCE]], \"track mile\", FactorMatrix[[TYPE]:[TYPE]], R$33)*Years","v":0},{"$f":" SUMPRODUCT($C34:$F34,G34:J34)","v":0},{"$f":" SUMPRODUCT($C34:$F34,K34:N34)","v":0},{"$f":" SUMPRODUCT($C34:$F34,O34:R34)","v":0},{"$f":"SUM(S34:S53)","v":0},{"$f":"SUM(T34:T53)","v":0},{"$f":"SUM(U34:U53)","v":0}]
[2,0,0,0,0,{"$f":"G8","v":0},{"$f":"SUMIFS(FactorMatrix[[UPSTREAMMATERIALSEMISSIONS]:[UPSTREAMMATERIALSEMISSIONS]], FactorMatrix[[MODE]:[MODE]], $B35, FactorMatrix[[PHASE]:[PHASE]],\"MAINTENANCE\", FactorMatrix[[GHGSOURCE]:[GHGSOURCE]], \"track mile\", FactorMatrix[[TYPE]:[TYPE]], G$33)*Years","v":0},{"$f":"SUMIFS(FactorMatrix[[UPSTREAMMATERIALSEMISSIONS]:[UPSTREAMMATERIALSEMISSIONS]], FactorMatrix[[MODE]:[MODE]], $B35, FactorMatrix[[PHASE]:[PHASE]],\"MAINTENANCE\", FactorMatrix[[GHGSOURCE]:[GHGSOURCE]], \"track mile\", FactorMatrix[[TYPE]:[TYPE]], H$33)*Years","v":0},{"$f":"SUMIFS(FactorMatrix[[UPSTREAMMATERIALSEMISSIONS]:[UPSTREAMMATERIALSEMISSIONS]], FactorMatrix[[MODE]:[MODE]], $B35, FactorMatrix[[PHASE]:[PHASE]],\"MAINTENANCE\", FactorMatrix[[GHGSOURCE]:[GHGSOURCE]], \"track mile\", FactorMatrix[[TYPE]:[TYPE]], I$33)*Years","v":0},{"$f":"SUMIFS(FactorMatrix[[UPSTREAMMATERIALSEMISSIONS]:[UPSTREAMMATERIALSEMISSIONS]], FactorMatrix[[MODE]:[MODE]], $B35, FactorMatrix[[PHASE]:[PHASE]],\"MAINTENANCE\", FactorMatrix[[GHGSOURCE]:[GHGSOURCE]], \"track mile\", FactorMatrix[[TYPE]:[TYPE]], J$33)*Years","v":0},{"$f":"SUMIFS(FactorMatrix[[UPSTREAMTRANSPORTEMISSIONS]:[UPSTREAMTRANSPORTEMISSIONS]], FactorMatrix[[MODE]:[MODE]], $B35, FactorMatrix[[PHASE]:[PHASE]],\"MAINTENANCE\", FactorMatrix[[GHGSOURCE]:[GHGSOURCE]], \"track mile\", FactorMatrix[[TYPE]:[TYPE]], K$33)*Years","v":0},{"$f":"SUMIFS(FactorMatrix[[UPSTREAMTRANSPORTEMISSIONS]:[UPSTREAMTRANSPORTEMISSIONS]], FactorMatrix[[MODE]:[MODE]], $B35, FactorMatrix[[PHASE]:[PHASE]],\"MAINTENANCE\", FactorMatrix[[GHGSOURCE]:[GHGSOURCE]], \"track mile\", FactorMatrix[[TYPE]:[TYPE]], L$33)*Years","v":0},{"$f":"SUMIFS(FactorMatrix[[UPSTREAMTRANSPORTEMISSIONS]:[UPSTREAMTRANSPORTEMISSIONS]], FactorMatrix[[MODE]:[MODE]], $B35, FactorMatrix[[PHASE]:[PHASE]],\"MAINTENANCE\", FactorMatrix[[GHGSOURCE]:[GHGSOURCE]], \"track mile\", FactorMatrix[[TYPE]:[TYPE]], M$33)*Years","v":0},{"$f":"SUMIFS(FactorMatrix[[UPSTREAMTRANSPORTEMISSIONS]:[UPSTREAMTRANSPORTEMISSIONS]], FactorMatrix[[MODE]:[MODE]], $B35, FactorMatrix[[PHASE]:[PHASE]],\"MAINTENANCE\", FactorMatrix[[GHGSOURCE]:[GHGSOURCE]], \"track mile\", FactorMatrix[[TYPE]:[TYPE]], N$33)*Years","v":0},{"$f":"SUMIFS(FactorMatrix[[DOWNSTREAMEMISSIONS]:[DOWNSTREAMEMISSIONS]], FactorMatrix[[MODE]:[MODE]], $B35, FactorMatrix[[PHASE]:[PHASE]],\"MAINTENANCE\", FactorMatrix[[GHGSOURCE]:[GHGSOURCE]], \"track mile\", FactorMatrix[[TYPE]:[TYPE]], O$33)*Years","v":0},{"$f":"SUMIFS(FactorMatrix[[DOWNSTREAMEMISSIONS]:[DOWNSTREAMEMISSIONS]], FactorMatrix[[MODE]:[MODE]], $B35, FactorMatrix[[PHASE]:[PHASE]],\"MAINTENANCE\", FactorMatrix[[GHGSOURCE]:[GHGSOURCE]], \"track mile\", FactorMatrix[[TYPE]:[TYPE]], P$33)*Years","v":0},{"$f":"SUMIFS(FactorMatrix[[DOWNSTREAMEMISSIONS]:[DOWNSTREAMEMISSIONS]], FactorMatrix[[MODE]:[MODE]], $B35, FactorMatrix[[PHASE]:[PHASE]],\"MAINTENANCE\", FactorMatrix[[GHGSOURCE]:[GHGSOURCE]], \"track mile\", FactorMatrix[[TYPE]:[TYPE]], Q$33)*Years","v":0},{"$f":"SUMIFS(FactorMatrix[[DOWNSTREAMEMISSIONS]:[DOWNSTREAMEMISSIONS]], FactorMatrix[[MODE]:[MODE]], $B35, FactorMatrix[[PHASE]:[PHASE]],\"MAINTENANCE\", FactorMatrix[[GHGSOURCE]:[GHGSOURCE]], \"track mile\", FactorMatrix[[TYPE]:[TYPE]], R$33)*Years","v":0},{"$f":" SUMPRODUCT($C35:$F35,G35:J35)","v":0},{"$f":" SUMPRODUCT($C35:$F35,K35:N35)","v":0},{"$f":" SUMPRODUCT($C35:$F35,O35:R35)","v":0}]
[3,0,0,0,0,0,{"$f":"SUMIFS(FactorMatrix[[UPSTREAMMATERIALSEMISSIONS]:[UPSTREAMMATERIALSEMISSIONS]], FactorMatrix[[MODE]:[MODE]], $B36, FactorMatrix[[PHASE]:[PHASE]],\"MAINTENANCE\", FactorMatrix[[GHGSOURCE]:[GHGSOURCE]], \"track mile\", FactorMatrix[[TYPE]:[TYPE]], G$33)*Years","v":0},{"$f":"SUMIFS(FactorMatrix[[UPSTREAMMATERIALSEMISSIONS]:[UPSTREAMMATERIALSEMISSIONS]], FactorMatrix[[MODE]:[MODE]], $B36, FactorMatrix[[PHASE]:[PHASE]],\"MAINTENANCE\", FactorMatrix[[GHGSOURCE]:[GHGSOURCE]], \"track mile\", FactorMatrix[[TYPE]:[TYPE]], H$33)*Years","v":0},{"$f":"SUMIFS(FactorMatrix[[UPSTREAMMATERIALSEMISSIONS]:[UPSTREAMMATERIALSEMISSIONS]], FactorMatrix[[MODE]:[MODE]], $B36, FactorMatrix[[PHASE]:[PHASE]],\"MAINTENANCE\", FactorMatrix[[GHGSOURCE]:[GHGSOURCE]], \"track mile\", FactorMatrix[[TYPE]:[TYPE]], I$33)*Years","v":0},{"$f":"SUMIFS(FactorMatrix[[UPSTREAMMATERIALSEMISSIONS]:[UPSTREAMMATERIALSEMISSIONS]], FactorMatrix[[MODE]:[MODE]], $B36, FactorMatrix[[PHASE]:[PHASE]],\"MAINTENANCE\", FactorMatrix[[GHGSOURCE]:[GHGSOURCE]], \"track mile\", FactorMatrix[[TYPE]:[TYPE]], J$33)*Years","v":0},{"$f":"SUMIFS(FactorMatrix[[UPSTREAMTRANSPORTEMISSIONS]:[UPSTREAMTRANSPORTEMISSIONS]], FactorMatrix[[MODE]:[MODE]], $B36, FactorMatrix[[PHASE]:[PHASE]],\"MAINTENANCE\", FactorMatrix[[GHGSOURCE]:[GHGSOURCE]], \"track mile\", FactorMatrix[[TYPE]:[TYPE]], K$33)*Years","v":0},{"$f":"SUMIFS(FactorMatrix[[UPSTREAMTRANSPORTEMISSIONS]:[UPSTREAMTRANSPORTEMISSIONS]], FactorMatrix[[MODE]:[MODE]], $B36, FactorMatrix[[PHASE]:[PHASE]],\"MAINTENANCE\", FactorMatrix[[GHGSOURCE]:[GHGSOURCE]], \"track mile\", FactorMatrix[[TYPE]:[TYPE]], L$33)*Years","v":0},{"$f":"SUMIFS(FactorMatrix[[UPSTREAMTRANSPORTEMISSIONS]:[UPSTREAMTRANSPORTEMISSIONS]], FactorMatrix[[MODE]:[MODE]], $B36, FactorMatrix[[PHASE]:[PHASE]],\"MAINTENANCE\", FactorMatrix[[GHGSOURCE]:[GHGSOURCE]], \"track mile\", FactorMatrix[[TYPE]:[TYPE]], M$33)*Years","v":0},{"$f":"SUMIFS(FactorMatrix[[UPSTREAMTRANSPORTEMISSIONS]:[UPSTREAMTRANSPORTEMISSIONS]], FactorMatrix[[MODE]:[MODE]], $B36, FactorMatrix[[PHASE]:[PHASE]],\"MAINTENANCE\", FactorMatrix[[GHGSOURCE]:[GHGSOURCE]], \"track mile\", FactorMatrix[[TYPE]:[TYPE]], N$33)*Years","v":0},{"$f":"SUMIFS(FactorMatrix[[DOWNSTREAMEMISSIONS]:[DOWNSTREAMEMISSIONS]], FactorMatrix[[MODE]:[MODE]], $B36, FactorMatrix[[PHASE]:[PHASE]],\"MAINTENANCE\", FactorMatrix[[GHGSOURCE]:[GHGSOURCE]], \"track mile\", FactorMatrix[[TYPE]:[TYPE]], O$33)*Years","v":0},{"$f":"SUMIFS(FactorMatrix[[DOWNSTREAMEMISSIONS]:[DOWNSTREAMEMISSIONS]], FactorMatrix[[MODE]:[MODE]], $B36, FactorMatrix[[PHASE]:[PHASE]],\"MAINTENANCE\", FactorMatrix[[GHGSOURCE]:[GHGSOURCE]], \"track mile\", FactorMatrix[[TYPE]:[TYPE]], P$33)*Years","v":0},{"$f":"SUMIFS(FactorMatrix[[DOWNSTREAMEMISSIONS]:[DOWNSTREAMEMISSIONS]], FactorMatrix[[MODE]:[MODE]], $B36, FactorMatrix[[PHASE]:[PHASE]],\"MAINTENANCE\", FactorMatrix[[GHGSOURCE]:[GHGSOURCE]], \"track mile\", FactorMatrix[[TYPE]:[TYPE]], Q$33)*Years","v":0},{"$f":"SUMIFS(FactorMatrix[[DOWNSTREAMEMISSIONS]:[DOWNSTREAMEMISSIONS]], FactorMatrix[[MODE]:[MODE]], $B36, FactorMatrix[[PHASE]:[PHASE]],\"MAINTENANCE\", FactorMatrix[[GHGSOURCE]:[GHGSOURCE]], \"track mile\", FactorMatrix[[TYPE]:[TYPE]], R$33)*Years","v":0},0,0,0,"Annual"]
[4,0,0,0,0,0,{"$f":"SUMIFS(FactorMatrix[[UPSTREAMMATERIALSEMISSIONS]:[UPSTREAMMATERIALSEMISSIONS]], FactorMatrix[[MODE]:[MODE]], $B37, FactorMatrix[[PHASE]:[PHASE]],\"MAINTENANCE\", FactorMatrix[[GHGSOURCE]:[GHGSOURCE]], \"track mile\", FactorMatrix[[TYPE]:[TYPE]], G$33)*Years","v":0},{"$f":"SUMIFS(FactorMatrix[[UPSTREAMMATERIALSEMISSIONS]:[UPSTREAMMATERIALSEMISSIONS]], FactorMatrix[[MODE]:[MODE]], $B37, FactorMatrix[[PHASE]:[PHASE]],\"MAINTENANCE\", FactorMatrix[[GHGSOURCE]:[GHGSOURCE]], \"track mile\", FactorMatrix[[TYPE]:[TYPE]], H$33)*Years","v":0},{"$f":"SUMIFS(FactorMatrix[[UPSTREAMMATERIALSEMISSIONS]:[UPSTREAMMATERIALSEMISSIONS]], FactorMatrix[[MODE]:[MODE]], $B37, FactorMatrix[[PHASE]:[PHASE]],\"MAINTENANCE\", FactorMatrix[[GHGSOURCE]:[GHGSOURCE]], \"track mile\", FactorMatrix[[TYPE]:[TYPE]], I$33)*Years","v":0},{"$f":"SUMIFS(FactorMatrix[[UPSTREAMMATERIALSEMISSIONS]:[UPSTREAMMATERIALSEMISSIONS]], FactorMatrix[[MODE]:[MODE]], $B37, FactorMatrix[[PHASE]:[PHASE]],\"MAINTENANCE\", FactorMatrix[[GHGSOURCE]:[GHGSOURCE]], \"track mile\", FactorMatrix[[TYPE]:[TYPE]], J$33)*Years","v":0},{"$f":"SUMIFS(FactorMatrix[[UPSTREAMTRANSPORTEMISSIONS]:[UPSTREAMTRANSPORTEMISSIONS]], FactorMatrix[[MODE]:[MODE]], $B37, FactorMatrix[[PHASE]:[PHASE]],\"MAINTENANCE\", FactorMatrix[[GHGSOURCE]:[GHGSOURCE]], \"track mile\", FactorMatrix[[TYPE]:[TYPE]], K$33)*Years","v":0},{"$f":"SUMIFS(FactorMatrix[[UPSTREAMTRANSPORTEMISSIONS]:[UPSTREAMTRANSPORTEMISSIONS]], FactorMatrix[[MODE]:[MODE]], $B37, FactorMatrix[[PHASE]:[PHASE]],\"MAINTENANCE\", FactorMatrix[[GHGSOURCE]:[GHGSOURCE]], \"track mile\", FactorMatrix[[TYPE]:[TYPE]], L$33)*Years","v":0},{"$f":"SUMIFS(FactorMatrix[[UPSTREAMTRANSPORTEMISSIONS]:[UPSTREAMTRANSPORTEMISSIONS]], FactorMatrix[[MODE]:[MODE]], $B37, FactorMatrix[[PHASE]:[PHASE]],\"MAINTENANCE\", FactorMatrix[[GHGSOURCE]:[GHGSOURCE]], \"track mile\", FactorMatrix[[TYPE]:[TYPE]], M$33)*Years","v":0},{"$f":"SUMIFS(FactorMatrix[[UPSTREAMTRANSPORTEMISSIONS]:[UPSTREAMTRANSPORTEMISSIONS]], FactorMatrix[[MODE]:[MODE]], $B37, FactorMatrix[[PHASE]:[PHASE]],\"MAINTENANCE\", FactorMatrix[[GHGSOURCE]:[GHGSOURCE]], \"track mile\", FactorMatrix[[TYPE]:[TYPE]], N$33)*Years","v":0},{"$f":"SUMIFS(FactorMatrix[[DOWNSTREAMEMISSIONS]:[DOWNSTREAMEMISSIONS]], FactorMatrix[[MODE]:[MODE]], $B37, FactorMatrix[[PHASE]:[PHASE]],\"MAINTENANCE\", FactorMatrix[[GHGSOURCE]:[GHGSOURCE]], \"track mile\", FactorMatrix[[TYPE]:[TYPE]], O$33)*Years","v":0},{"$f":"SUMIFS(FactorMatrix[[DOWNSTREAMEMISSIONS]:[DOWNSTREAMEMISSIONS]], FactorMatrix[[MODE]:[MODE]], $B37, FactorMatrix[[PHASE]:[PHASE]],\"MAINTENANCE\", FactorMatrix[[GHGSOURCE]:[GHGSOURCE]], \"track mile\", FactorMatrix[[TYPE]:[TYPE]], P$33)*Years","v":0},{"$f":"SUMIFS(FactorMatrix[[DOWNSTREAMEMISSIONS]:[DOWNSTREAMEMISSIONS]], FactorMatrix[[MODE]:[MODE]], $B37, FactorMatrix[[PHASE]:[PHASE]],\"MAINTENANCE\", FactorMatrix[[GHGSOURCE]:[GHGSOURCE]], \"track mile\", FactorMatrix[[TYPE]:[TYPE]], Q$33)*Years","v":0},{"$f":"SUMIFS(FactorMatrix[[DOWNSTREAMEMISSIONS]:[DOWNSTREAMEMISSIONS]], FactorMatrix[[MODE]:[MODE]], $B37, FactorMatrix[[PHASE]:[PHASE]],\"MAINTENANCE\", FactorMatrix[[GHGSOURCE]:[GHGSOURCE]], \"track mile\", FactorMatrix[[TYPE]:[TYPE]], R$33)*Years","v":0},0,0,0]
[5,0,0,0,0,0,{"$f":"SUMIFS(FactorMatrix[[UPSTREAMMATERIALSEMISSIONS]:[UPSTREAMMATERIALSEMISSIONS]], FactorMatrix[[MODE]:[MODE]], $B38, FactorMatrix[[PHASE]:[PHASE]],\"MAINTENANCE\", FactorMatrix[[GHGSOURCE]:[GHGSOURCE]], \"track mile\", FactorMatrix[[TYPE]:[TYPE]], G$33)*Years","v":0},{"$f":"SUMIFS(FactorMatrix[[UPSTREAMMATERIALSEMISSIONS]:[UPSTREAMMATERIALSEMISSIONS]], FactorMatrix[[MODE]:[MODE]], $B38, FactorMatrix[[PHASE]:[PHASE]],\"MAINTENANCE\", FactorMatrix[[GHGSOURCE]:[GHGSOURCE]], \"track mile\", FactorMatrix[[TYPE]:[TYPE]], H$33)*Years","v":0},{"$f":"SUMIFS(FactorMatrix[[UPSTREAMMATERIALSEMISSIONS]:[UPSTREAMMATERIALSEMISSIONS]], FactorMatrix[[MODE]:[MODE]], $B38, FactorMatrix[[PHASE]:[PHASE]],\"MAINTENANCE\", FactorMatrix[[GHGSOURCE]:[GHGSOURCE]], \"track mile\", FactorMatrix[[TYPE]:[TYPE]], I$33)*Years","v":0},{"$f":"SUMIFS(FactorMatrix[[UPSTREAMMATERIALSEMISSIONS]:[UPSTREAMMATERIALSEMISSIONS]], FactorMatrix[[MODE]:[MODE]], $B38, FactorMatrix[[PHASE]:[PHASE]],\"MAINTENANCE\", FactorMatrix[[GHGSOURCE]:[GHGSOURCE]], \"track mile\", FactorMatrix[[TYPE]:[TYPE]], J$33)*Years","v":0},{"$f":"SUMIFS(FactorMatrix[[UPSTREAMTRANSPORTEMISSIONS]:[UPSTREAMTRANSPORTEMISSIONS]], FactorMatrix[[MODE]:[MODE]], $B38, FactorMatrix[[PHASE]:[PHASE]],\"MAINTENANCE\", FactorMatrix[[GHGSOURCE]:[GHGSOURCE]], \"track mile\", FactorMatrix[[TYPE]:[TYPE]], K$33)*Years","v":0},{"$f":"SUMIFS(FactorMatrix[[UPSTREAMTRANSPORTEMISSIONS]:[UPSTREAMTRANSPORTEMISSIONS]], FactorMatrix[[MODE]:[MODE]], $B38, FactorMatrix[[PHASE]:[PHASE]],\"MAINTENANCE\", FactorMatrix[[GHGSOURCE]:[GHGSOURCE]], \"track mile\", FactorMatrix[[TYPE]:[TYPE]], L$33)*Years","v":0},{"$f":"SUMIFS(FactorMatrix[[UPSTREAMTRANSPORTEMISSIONS]:[UPSTREAMTRANSPORTEMISSIONS]], FactorMatrix[[MODE]:[MODE]], $B38, FactorMatrix[[PHASE]:[PHASE]],\"MAINTENANCE\", FactorMatrix[[GHGSOURCE]:[GHGSOURCE]], \"track mile\", FactorMatrix[[TYPE]:[TYPE]], M$33)*Years","v":0},{"$f":"SUMIFS(FactorMatrix[[UPSTREAMTRANSPORTEMISSIONS]:[UPSTREAMTRANSPORTEMISSIONS]], FactorMatrix[[MODE]:[MODE]], $B38, FactorMatrix[[PHASE]:[PHASE]],\"MAINTENANCE\", FactorMatrix[[GHGSOURCE]:[GHGSOURCE]], \"track mile\", FactorMatrix[[TYPE]:[TYPE]], N$33)*Years","v":0},{"$f":"SUMIFS(FactorMatrix[[DOWNSTREAMEMISSIONS]:[DOWNSTREAMEMISSIONS]], FactorMatrix[[MODE]:[MODE]], $B38, FactorMatrix[[PHASE]:[PHASE]],\"MAINTENANCE\", FactorMatrix[[GHGSOURCE]:[GHGSOURCE]], \"track mile\", FactorMatrix[[TYPE]:[TYPE]], O$33)*Years","v":0},{"$f":"SUMIFS(FactorMatrix[[DOWNSTREAMEMISSIONS]:[DOWNSTREAMEMISSIONS]], FactorMatrix[[MODE]:[MODE]], $B38, FactorMatrix[[PHASE]:[PHASE]],\"MAINTENANCE\", FactorMatrix[[GHGSOURCE]:[GHGSOURCE]], \"track mile\", FactorMatrix[[TYPE]:[TYPE]], P$33)*Years","v":0},{"$f":"SUMIFS(FactorMatrix[[DOWNSTREAMEMISSIONS]:[DOWNSTREAMEMISSIONS]], FactorMatrix[[MODE]:[MODE]], $B38, FactorMatrix[[PHASE]:[PHASE]],\"MAINTENANCE\", FactorMatrix[[GHGSOURCE]:[GHGSOURCE]], \"track mile\", FactorMatrix[[TYPE]:[TYPE]], Q$33)*Years","v":0},{"$f":"SUMIFS(FactorMatrix[[DOWNSTREAMEMISSIONS]:[DOWNSTREAMEMISSIONS]], FactorMatrix[[MODE]:[MODE]], $B38, FactorMatrix[[PHASE]:[PHASE]],\"MAINTENANCE\", FactorMatrix[[GHGSOURCE]:[GHGSOURCE]], \"track mile\", FactorMatrix[[TYPE]:[TYPE]], R$33)*Years","v":0},0,0,0,"UPSTREAM MATERIALS","UPSTREAM TRANSPORT","DOWNSTREAM"]
[6,0,0,0,0,0,{"$f":"SUMIFS(FactorMatrix[[UPSTREAMMATERIALSEMISSIONS]:[UPSTREAMMATERIALSEMISSIONS]], FactorMatrix[[MODE]:[MODE]], $B39, FactorMatrix[[PHASE]:[PHASE]],\"MAINTENANCE\", FactorMatrix[[GHGSOURCE]:[GHGSOURCE]], \"track mile\", FactorMatrix[[TYPE]:[TYPE]], G$33)*Years","v":0},{"$f":"SUMIFS(FactorMatrix[[UPSTREAMMATERIALSEMISSIONS]:[UPSTREAMMATERIALSEMISSIONS]], FactorMatrix[[MODE]:[MODE]], $B39, FactorMatrix[[PHASE]:[PHASE]],\"MAINTENANCE\", FactorMatrix[[GHGSOURCE]:[GHGSOURCE]], \"track mile\", FactorMatrix[[TYPE]:[TYPE]], H$33)*Years","v":0},{"$f":"SUMIFS(FactorMatrix[[UPSTREAMMATERIALSEMISSIONS]:[UPSTREAMMATERIALSEMISSIONS]], FactorMatrix[[MODE]:[MODE]], $B39, FactorMatrix[[PHASE]:[PHASE]],\"MAINTENANCE\", FactorMatrix[[GHGSOURCE]:[GHGSOURCE]], \"track mile\", FactorMatrix[[TYPE]:[TYPE]], I$33)*Years","v":0},{"$f":"SUMIFS(FactorMatrix[[UPSTREAMMATERIALSEMISSIONS]:[UPSTREAMMATERIALSEMISSIONS]], FactorMatrix[[MODE]:[MODE]], $B39, FactorMatrix[[PHASE]:[PHASE]],\"MAINTENANCE\", FactorMatrix[[GHGSOURCE]:[GHGSOURCE]], \"track mile\", FactorMatrix[[TYPE]:[TYPE]], J$33)*Years","v":0},{"$f":"SUMIFS(FactorMatrix[[UPSTREAMTRANSPORTEMISSIONS]:[UPSTREAMTRANSPORTEMISSIONS]], FactorMatrix[[MODE]:[MODE]], $B39, FactorMatrix[[PHASE]:[PHASE]],\"MAINTENANCE\", FactorMatrix[[GHGSOURCE]:[GHGSOURCE]], \"track mile\", FactorMatrix[[TYPE]:[TYPE]], K$33)*Years","v":0},{"$f":"SUMIFS(FactorMatrix[[UPSTREAMTRANSPORTEMISSIONS]:[UPSTREAMTRANSPORTEMISSIONS]], FactorMatrix[[MODE]:[MODE]], $B39, FactorMatrix[[PHASE]:[PHASE]],\"MAINTENANCE\", FactorMatrix[[GHGSOURCE]:[GHGSOURCE]], \"track mile\", FactorMatrix[[TYPE]:[TYPE]], L$33)*Years","v":0},{"$f":"SUMIFS(FactorMatrix[[UPSTREAMTRANSPORTEMISSIONS]:[UPSTREAMTRANSPORTEMISSIONS]], FactorMatrix[[MODE]:[MODE]], $B39, FactorMatrix[[PHASE]:[PHASE]],\"MAINTENANCE\", FactorMatrix[[GHGSOURCE]:[GHGSOURCE]], \"track mile\", FactorMatrix[[TYPE]:[TYPE]], M$33)*Years","v":0},{"$f":"SUMIFS(FactorMatrix[[UPSTREAMTRANSPORTEMISSIONS]:[UPSTREAMTRANSPORTEMISSIONS]], FactorMatrix[[MODE]:[MODE]], $B39, FactorMatrix[[PHASE]:[PHASE]],\"MAINTENANCE\", FactorMatrix[[GHGSOURCE]:[GHGSOURCE]], \"track mile\", FactorMatrix[[TYPE]:[TYPE]], N$33)*Years","v":0},{"$f":"SUMIFS(FactorMatrix[[DOWNSTREAMEMISSIONS]:[DOWNSTREAMEMISSIONS]], FactorMatrix[[MODE]:[MODE]], $B39, FactorMatrix[[PHASE]:[PHASE]],\"MAINTENANCE\", FactorMatrix[[GHGSOURCE]:[GHGSOURCE]], \"track mile\", FactorMatrix[[TYPE]:[TYPE]], O$33)*Years","v":0},{"$f":"SUMIFS(FactorMatrix[[DOWNSTREAMEMISSIONS]:[DOWNSTREAMEMISSIONS]], FactorMatrix[[MODE]:[MODE]], $B39, FactorMatrix[[PHASE]:[PHASE]],\"MAINTENANCE\", FactorMatrix[[GHGSOURCE]:[GHGSOURCE]], \"track mile\", FactorMatrix[[TYPE]:[TYPE]], P$33)*Years","v":0},{"$f":"SUMIFS(FactorMatrix[[DOWNSTREAMEMISSIONS]:[DOWNSTREAMEMISSIONS]], FactorMatrix[[MODE]:[MODE]], $B39, FactorMatrix[[PHASE]:[PHASE]],\"MAINTENANCE\", FactorMatrix[[GHGSOURCE]:[GHGSOURCE]], \"track mile\", FactorMatrix[[TYPE]:[TYPE]], Q$33)*Years","v":0},{"$f":"SUMIFS(FactorMatrix[[DOWNSTREAMEMISSIONS]:[DOWNSTREAMEMISSIONS]], FactorMatrix[[MODE]:[MODE]], $B39, FactorMatrix[[PHASE]:[PHASE]],\"MAINTENANCE\", FactorMatrix[[GHGSOURCE]:[GHGSOURCE]], \"track mile\", FactorMatrix[[TYPE]:[TYPE]], R$33)*Years","v":0},0,0,0,{"$f":"V34/Years","v":{"$error":"#DIV/0!"}},{"$f":"W34/Years","v":{"$error":"#DIV/0!"}},{"$f":"X34/Years","v":{"$error":"#DIV/0!"}}]
[7,0,0,0,0,0,{"$f":"SUMIFS(FactorMatrix[[UPSTREAMMATERIALSEMISSIONS]:[UPSTREAMMATERIALSEMISSIONS]], FactorMatrix[[MODE]:[MODE]], $B40, FactorMatrix[[PHASE]:[PHASE]],\"MAINTENANCE\", FactorMatrix[[GHGSOURCE]:[GHGSOURCE]], \"track mile\", FactorMatrix[[TYPE]:[TYPE]], G$33)*Years","v":0},{"$f":"SUMIFS(FactorMatrix[[UPSTREAMMATERIALSEMISSIONS]:[UPSTREAMMATERIALSEMISSIONS]], FactorMatrix[[MODE]:[MODE]], $B40, FactorMatrix[[PHASE]:[PHASE]],\"MAINTENANCE\", FactorMatrix[[GHGSOURCE]:[GHGSOURCE]], \"track mile\", FactorMatrix[[TYPE]:[TYPE]], H$33)*Years","v":0},{"$f":"SUMIFS(FactorMatrix[[UPSTREAMMATERIALSEMISSIONS]:[UPSTREAMMATERIALSEMISSIONS]], FactorMatrix[[MODE]:[MODE]], $B40, FactorMatrix[[PHASE]:[PHASE]],\"MAINTENANCE\", FactorMatrix[[GHGSOURCE]:[GHGSOURCE]], \"track mile\", FactorMatrix[[TYPE]:[TYPE]], I$33)*Years","v":0},{"$f":"SUMIFS(FactorMatrix[[UPSTREAMMATERIALSEMISSIONS]:[UPSTREAMMATERIALSEMISSIONS]], FactorMatrix[[MODE]:[MODE]], $B40, FactorMatrix[[PHASE]:[PHASE]],\"MAINTENANCE\", FactorMatrix[[GHGSOURCE]:[GHGSOURCE]], \"track mile\", FactorMatrix[[TYPE]:[TYPE]], J$33)*Years","v":0},{"$f":"SUMIFS(FactorMatrix[[UPSTREAMTRANSPORTEMISSIONS]:[UPSTREAMTRANSPORTEMISSIONS]], FactorMatrix[[MODE]:[MODE]], $B40, FactorMatrix[[PHASE]:[PHASE]],\"MAINTENANCE\", FactorMatrix[[GHGSOURCE]:[GHGSOURCE]], \"track mile\", FactorMatrix[[TYPE]:[TYPE]], K$33)*Years","v":0},{"$f":"SUMIFS(FactorMatrix[[UPSTREAMTRANSPORTEMISSIONS]:[UPSTREAMTRANSPORTEMISSIONS]], FactorMatrix[[MODE]:[MODE]], $B40, FactorMatrix[[PHASE]:[PHASE]],\"MAINTENANCE\", FactorMatrix[[GHGSOURCE]:[GHGSOURCE]], \"track mile\", FactorMatrix[[TYPE]:[TYPE]], L$33)*Years","v":0},{"$f":"SUMIFS(FactorMatrix[[UPSTREAMTRANSPORTEMISSIONS]:[UPSTREAMTRANSPORTEMISSIONS]], FactorMatrix[[MODE]:[MODE]], $B40, FactorMatrix[[PHASE]:[PHASE]],\"MAINTENANCE\", FactorMatrix[[GHGSOURCE]:[GHGSOURCE]], \"track mile\", FactorMatrix[[TYPE]:[TYPE]], M$33)*Years","v":0},{"$f":"SUMIFS(FactorMatrix[[UPSTREAMTRANSPORTEMISSIONS]:[UPSTREAMTRANSPORTEMISSIONS]], FactorMatrix[[MODE]:[MODE]], $B40, FactorMatrix[[PHASE]:[PHASE]],\"MAINTENANCE\", FactorMatrix[[GHGSOURCE]:[GHGSOURCE]], \"track mile\", FactorMatrix[[TYPE]:[TYPE]], N$33)*Years","v":0},{"$f":"SUMIFS(FactorMatrix[[DOWNSTREAMEMISSIONS]:[DOWNSTREAMEMISSIONS]], FactorMatrix[[MODE]:[MODE]], $B40, FactorMatrix[[PHASE]:[PHASE]],\"MAINTENANCE\", FactorMatrix[[GHGSOURCE]:[GHGSOURCE]], \"track mile\", FactorMatrix[[TYPE]:[TYPE]], O$33)*Years","v":0},{"$f":"SUMIFS(FactorMatrix[[DOWNSTREAMEMISSIONS]:[DOWNSTREAMEMISSIONS]], FactorMatrix[[MODE]:[MODE]], $B40, FactorMatrix[[PHASE]:[PHASE]],\"MAINTENANCE\", FactorMatrix[[GHGSOURCE]:[GHGSOURCE]], \"track mile\", FactorMatrix[[TYPE]:[TYPE]], P$33)*Years","v":0},{"$f":"SUMIFS(FactorMatrix[[DOWNSTREAMEMISSIONS]:[DOWNSTREAMEMISSIONS]], FactorMatrix[[MODE]:[MODE]], $B40, FactorMatrix[[PHASE]:[PHASE]],\"MAINTENANCE\", FactorMatrix[[GHGSOURCE]:[GHGSOURCE]], \"track mile\", FactorMatrix[[TYPE]:[TYPE]], Q$33)*Years","v":0},{"$f":"SUMIFS(FactorMatrix[[DOWNSTREAMEMISSIONS]:[DOWNSTREAMEMISSIONS]], FactorMatrix[[MODE]:[MODE]], $B40, FactorMatrix[[PHASE]:[PHASE]],\"MAINTENANCE\", FactorMatrix[[GHGSOURCE]:[GHGSOURCE]], \"track mile\", FactorMatrix[[TYPE]:[TYPE]], R$33)*Years","v":0},0,0,0]
[8,0,0,0,0,0,{"$f":"SUMIFS(FactorMatrix[[UPSTREAMMATERIALSEMISSIONS]:[UPSTREAMMATERIALSEMISSIONS]], FactorMatrix[[MODE]:[MODE]], $B41, FactorMatrix[[PHASE]:[PHASE]],\"MAINTENANCE\", FactorMatrix[[GHGSOURCE]:[GHGSOURCE]], \"track mile\", FactorMatrix[[TYPE]:[TYPE]], G$33)*Years","v":0},{"$f":"SUMIFS(FactorMatrix[[UPSTREAMMATERIALSEMISSIONS]:[UPSTREAMMATERIALSEMISSIONS]], FactorMatrix[[MODE]:[MODE]], $B41, FactorMatrix[[PHASE]:[PHASE]],\"MAINTENANCE\", FactorMatrix[[GHGSOURCE]:[GHGSOURCE]], \"track mile\", FactorMatrix[[TYPE]:[TYPE]], H$33)*Years","v":0},{"$f":"SUMIFS(FactorMatrix[[UPSTREAMMATERIALSEMISSIONS]:[UPSTREAMMATERIALSEMISSIONS]], FactorMatrix[[MODE]:[MODE]], $B41, FactorMatrix[[PHASE]:[PHASE]],\"MAINTENANCE\", FactorMatrix[[GHGSOURCE]:[GHGSOURCE]], \"track mile\", FactorMatrix[[TYPE]:[TYPE]], I$33)*Years","v":0},{"$f":"SUMIFS(FactorMatrix[[UPSTREAMMATERIALSEMISSIONS]:[UPSTREAMMATERIALSEMISSIONS]], FactorMatrix[[MODE]:[MODE]], $B41, FactorMatrix[[PHASE]:[PHASE]],\"MAINTENANCE\", FactorMatrix[[GHGSOURCE]:[GHGSOURCE]], \"track mile\", FactorMatrix[[TYPE]:[TYPE]], J$33)*Years","v":0},{"$f":"SUMIFS(FactorMatrix[[UPSTREAMTRANSPORTEMISSIONS]:[UPSTREAMTRANSPORTEMISSIONS]], FactorMatrix[[MODE]:[MODE]], $B41, FactorMatrix[[PHASE]:[PHASE]],\"MAINTENANCE\", FactorMatrix[[GHGSOURCE]:[GHGSOURCE]], \"track mile\", FactorMatrix[[TYPE]:[TYPE]], K$33)*Years","v":0},{"$f":"SUMIFS(FactorMatrix[[UPSTREAMTRANSPORTEMISSIONS]:[UPSTREAMTRANSPORTEMISSIONS]], FactorMatrix[[MODE]:[MODE]], $B41, FactorMatrix[[PHASE]:[PHASE]],\"MAINTENANCE\", FactorMatrix[[GHGSOURCE]:[GHGSOURCE]], \"track mile\", FactorMatrix[[TYPE]:[TYPE]], L$33)*Years","v":0},{"$f":"SUMIFS(FactorMatrix[[UPSTREAMTRANSPORTEMISSIONS]:[UPSTREAMTRANSPORTEMISSIONS]], FactorMatrix[[MODE]:[MODE]], $B41, FactorMatrix[[PHASE]:[PHASE]],\"MAINTENANCE\", FactorMatrix[[GHGSOURCE]:[GHGSOURCE]], \"track mile\", FactorMatrix[[TYPE]:[TYPE]], M$33)*Years","v":0},{"$f":"SUMIFS(FactorMatrix[[UPSTREAMTRANSPORTEMISSIONS]:[UPSTREAMTRANSPORTEMISSIONS]], FactorMatrix[[MODE]:[MODE]], $B41, FactorMatrix[[PHASE]:[PHASE]],\"MAINTENANCE\", FactorMatrix[[GHGSOURCE]:[GHGSOURCE]], \"track mile\", FactorMatrix[[TYPE]:[TYPE]], N$33)*Years","v":0},{"$f":"SUMIFS(FactorMatrix[[DOWNSTREAMEMISSIONS]:[DOWNSTREAMEMISSIONS]], FactorMatrix[[MODE]:[MODE]], $B41, FactorMatrix[[PHASE]:[PHASE]],\"MAINTENANCE\", FactorMatrix[[GHGSOURCE]:[GHGSOURCE]], \"track mile\", FactorMatrix[[TYPE]:[TYPE]], O$33)*Years","v":0},{"$f":"SUMIFS(FactorMatrix[[DOWNSTREAMEMISSIONS]:[DOWNSTREAMEMISSIONS]], FactorMatrix[[MODE]:[MODE]], $B41, FactorMatrix[[PHASE]:[PHASE]],\"MAINTENANCE\", FactorMatrix[[GHGSOURCE]:[GHGSOURCE]], \"track mile\", FactorMatrix[[TYPE]:[TYPE]], P$33)*Years","v":0},{"$f":"SUMIFS(FactorMatrix[[DOWNSTREAMEMISSIONS]:[DOWNSTREAMEMISSIONS]], FactorMatrix[[MODE]:[MODE]], $B41, FactorMatrix[[PHASE]:[PHASE]],\"MAINTENANCE\", FactorMatrix[[GHGSOURCE]:[GHGSOURCE]], \"track mile\", FactorMatrix[[TYPE]:[TYPE]], Q$33)*Years","v":0},{"$f":"SUMIFS(FactorMatrix[[DOWNSTREAMEMISSIONS]:[DOWNSTREAMEMISSIONS]], FactorMatrix[[MODE]:[MODE]], $B41, FactorMatrix[[PHASE]:[PHASE]],\"MAINTENANCE\", FactorMatrix[[GHGSOURCE]:[GHGSOURCE]], \"track mile\", FactorMatrix[[TYPE]:[TYPE]], R$33)*Years","v":0},0,0,0]
[9,0,0,0,0,0,{"$f":"SUMIFS(FactorMatrix[[UPSTREAMMATERIALSEMISSIONS]:[UPSTREAMMATERIALSEMISSIONS]], FactorMatrix[[MODE]:[MODE]], $B42, FactorMatrix[[PHASE]:[PHASE]],\"MAINTENANCE\", FactorMatrix[[GHGSOURCE]:[GHGSOURCE]], \"track mile\", FactorMatrix[[TYPE]:[TYPE]], G$33)*Years","v":0},{"$f":"SUMIFS(FactorMatrix[[UPSTREAMMATERIALSEMISSIONS]:[UPSTREAMMATERIALSEMISSIONS]], FactorMatrix[[MODE]:[MODE]], $B42, FactorMatrix[[PHASE]:[PHASE]],\"MAINTENANCE\", FactorMatrix[[GHGSOURCE]:[GHGSOURCE]], \"track mile\", FactorMatrix[[TYPE]:[TYPE]], H$33)*Years","v":0},{"$f":"SUMIFS(FactorMatrix[[UPSTREAMMATERIALSEMISSIONS]:[UPSTREAMMATERIALSEMISSIONS]], FactorMatrix[[MODE]:[MODE]], $B42, FactorMatrix[[PHASE]:[PHASE]],\"MAINTENANCE\", FactorMatrix[[GHGSOURCE]:[GHGSOURCE]], \"track mile\", FactorMatrix[[TYPE]:[TYPE]], I$33)*Years","v":0},{"$f":"SUMIFS(FactorMatrix[[UPSTREAMMATERIALSEMISSIONS]:[UPSTREAMMATERIALSEMISSIONS]], FactorMatrix[[MODE]:[MODE]], $B42, FactorMatrix[[PHASE]:[PHASE]],\"MAINTENANCE\", FactorMatrix[[GHGSOURCE]:[GHGSOURCE]], \"track mile\", FactorMatrix[[TYPE]:[TYPE]], J$33)*Years","v":0},{"$f":"SUMIFS(FactorMatrix[[UPSTREAMTRANSPORTEMISSIONS]:[UPSTREAMTRANSPORTEMISSIONS]], FactorMatrix[[MODE]:[MODE]], $B42, FactorMatrix[[PHASE]:[PHASE]],\"MAINTENANCE\", FactorMatrix[[GHGSOURCE]:[GHGSOURCE]], \"track mile\", FactorMatrix[[TYPE]:[TYPE]], K$33)*Years","v":0},{"$f":"SUMIFS(FactorMatrix[[UPSTREAMTRANSPORTEMISSIONS]:[UPSTREAMTRANSPORTEMISSIONS]], FactorMatrix[[MODE]:[MODE]], $B42, FactorMatrix[[PHASE]:[PHASE]],\"MAINTENANCE\", FactorMatrix[[GHGSOURCE]:[GHGSOURCE]], \"track mile\", FactorMatrix[[TYPE]:[TYPE]], L$33)*Years","v":0},{"$f":"SUMIFS(FactorMatrix[[UPSTREAMTRANSPORTEMISSIONS]:[UPSTREAMTRANSPORTEMISSIONS]], FactorMatrix[[MODE]:[MODE]], $B42, FactorMatrix[[PHASE]:[PHASE]],\"MAINTENANCE\", FactorMatrix[[GHGSOURCE]:[GHGSOURCE]], \"track mile\", FactorMatrix[[TYPE]:[TYPE]], M$33)*Years","v":0},{"$f":"SUMIFS(FactorMatrix[[UPSTREAMTRANSPORTEMISSIONS]:[UPSTREAMTRANSPORTEMISSIONS]], FactorMatrix[[MODE]:[MODE]], $B42, FactorMatrix[[PHASE]:[PHASE]],\"MAINTENANCE\", FactorMatrix[[GHGSOURCE]:[GHGSOURCE]], \"track mile\", FactorMatrix[[TYPE]:[TYPE]], N$33)*Years","v":0},{"$f":"SUMIFS(FactorMatrix[[DOWNSTREAMEMISSIONS]:[DOWNSTREAMEMISSIONS]], FactorMatrix[[MODE]:[MODE]], $B42, FactorMatrix[[PHASE]:[PHASE]],\"MAINTENANCE\", FactorMatrix[[GHGSOURCE]:[GHGSOURCE]], \"track mile\", FactorMatrix[[TYPE]:[TYPE]], O$33)*Years","v":0},{"$f":"SUMIFS(FactorMatrix[[DOWNSTREAMEMISSIONS]:[DOWNSTREAMEMISSIONS]], FactorMatrix[[MODE]:[MODE]], $B42, FactorMatrix[[PHASE]:[PHASE]],\"MAINTENANCE\", FactorMatrix[[GHGSOURCE]:[GHGSOURCE]], \"track mile\", FactorMatrix[[TYPE]:[TYPE]], P$33)*Years","v":0},{"$f":"SUMIFS(FactorMatrix[[DOWNSTREAMEMISSIONS]:[DOWNSTREAMEMISSIONS]], FactorMatrix[[MODE]:[MODE]], $B42, FactorMatrix[[PHASE]:[PHASE]],\"MAINTENANCE\", FactorMatrix[[GHGSOURCE]:[GHGSOURCE]], \"track mile\", FactorMatrix[[TYPE]:[TYPE]], Q$33)*Years","v":0},{"$f":"SUMIFS(FactorMatrix[[DOWNSTREAMEMISSIONS]:[DOWNSTREAMEMISSIONS]], FactorMatrix[[MODE]:[MODE]], $B42, FactorMatrix[[PHASE]:[PHASE]],\"MAINTENANCE\", FactorMatrix[[GHGSOURCE]:[GHGSOURCE]], \"track mile\", FactorMatrix[[TYPE]:[TYPE]], R$33)*Years","v":0},0,0,0]
[10,0,0,0,0,0,{"$f":"SUMIFS(FactorMatrix[[UPSTREAMMATERIALSEMISSIONS]:[UPSTREAMMATERIALSEMISSIONS]], FactorMatrix[[MODE]:[MODE]], $B43, FactorMatrix[[PHASE]:[PHASE]],\"MAINTENANCE\", FactorMatrix[[GHGSOURCE]:[GHGSOURCE]], \"track mile\", FactorMatrix[[TYPE]:[TYPE]], G$33)*Years","v":0},{"$f":"SUMIFS(FactorMatrix[[UPSTREAMMATERIALSEMISSIONS]:[UPSTREAMMATERIALSEMISSIONS]], FactorMatrix[[MODE]:[MODE]], $B43, FactorMatrix[[PHASE]:[PHASE]],\"MAINTENANCE\", FactorMatrix[[GHGSOURCE]:[GHGSOURCE]], \"track mile\", FactorMatrix[[TYPE]:[TYPE]], H$33)*Years","v":0},{"$f":"SUMIFS(FactorMatrix[[UPSTREAMMATERIALSEMISSIONS]:[UPSTREAMMATERIALSEMISSIONS]], FactorMatrix[[MODE]:[MODE]], $B43, FactorMatrix[[PHASE]:[PHASE]],\"MAINTENANCE\", FactorMatrix[[GHGSOURCE]:[GHGSOURCE]], \"track mile\", FactorMatrix[[TYPE]:[TYPE]], I$33)*Years","v":0},{"$f":"SUMIFS(FactorMatrix[[UPSTREAMMATERIALSEMISSIONS]:[UPSTREAMMATERIALSEMISSIONS]], FactorMatrix[[MODE]:[MODE]], $B43, FactorMatrix[[PHASE]:[PHASE]],\"MAINTENANCE\", FactorMatrix[[GHGSOURCE]:[GHGSOURCE]], \"track mile\", FactorMatrix[[TYPE]:[TYPE]], J$33)*Years","v":0},{"$f":"SUMIFS(FactorMatrix[[UPSTREAMTRANSPORTEMISSIONS]:[UPSTREAMTRANSPORTEMISSIONS]], FactorMatrix[[MODE]:[MODE]], $B43, FactorMatrix[[PHASE]:[PHASE]],\"MAINTENANCE\", FactorMatrix[[GHGSOURCE]:[GHGSOURCE]], \"track mile\", FactorMatrix[[TYPE]:[TYPE]], K$33)*Years","v":0},{"$f":"SUMIFS(FactorMatrix[[UPSTREAMTRANSPORTEMISSIONS]:[UPSTREAMTRANSPORTEMISSIONS]], FactorMatrix[[MODE]:[MODE]], $B43, FactorMatrix[[PHASE]:[PHASE]],\"MAINTENANCE\", FactorMatrix[[GHGSOURCE]:[GHGSOURCE]], \"track mile\", FactorMatrix[[TYPE]:[TYPE]], L$33)*Years","v":0},{"$f":"SUMIFS(FactorMatrix[[UPSTREAMTRANSPORTEMISSIONS]:[UPSTREAMTRANSPORTEMISSIONS]], FactorMatrix[[MODE]:[MODE]], $B43, FactorMatrix[[PHASE]:[PHASE]],\"MAINTENANCE\", FactorMatrix[[GHGSOURCE]:[GHGSOURCE]], \"track mile\", FactorMatrix[[TYPE]:[TYPE]], M$33)*Years","v":0},{"$f":"SUMIFS(FactorMatrix[[UPSTREAMTRANSPORTEMISSIONS]:[UPSTREAMTRANSPORTEMISSIONS]], FactorMatrix[[MODE]:[MODE]], $B43, FactorMatrix[[PHASE]:[PHASE]],\"MAINTENANCE\", FactorMatrix[[GHGSOURCE]:[GHGSOURCE]], \"track mile\", FactorMatrix[[TYPE]:[TYPE]], N$33)*Years","v":0},{"$f":"SUMIFS(FactorMatrix[[DOWNSTREAMEMISSIONS]:[DOWNSTREAMEMISSIONS]], FactorMatrix[[MODE]:[MODE]], $B43, FactorMatrix[[PHASE]:[PHASE]],\"MAINTENANCE\", FactorMatrix[[GHGSOURCE]:[GHGSOURCE]], \"track mile\", FactorMatrix[[TYPE]:[TYPE]], O$33)*Years","v":0},{"$f":"SUMIFS(FactorMatrix[[DOWNSTREAMEMISSIONS]:[DOWNSTREAMEMISSIONS]], FactorMatrix[[MODE]:[MODE]], $B43, FactorMatrix[[PHASE]:[PHASE]],\"MAINTENANCE\", FactorMatrix[[GHGSOURCE]:[GHGSOURCE]], \"track mile\", FactorMatrix[[TYPE]:[TYPE]], P$33)*Years","v":0},{"$f":"SUMIFS(FactorMatrix[[DOWNSTREAMEMISSIONS]:[DOWNSTREAMEMISSIONS]], FactorMatrix[[MODE]:[MODE]], $B43, FactorMatrix[[PHASE]:[PHASE]],\"MAINTENANCE\", FactorMatrix[[GHGSOURCE]:[GHGSOURCE]], \"track mile\", FactorMatrix[[TYPE]:[TYPE]], Q$33)*Years","v":0},{"$f":"SUMIFS(FactorMatrix[[DOWNSTREAMEMISSIONS]:[DOWNSTREAMEMISSIONS]], FactorMatrix[[MODE]:[MODE]], $B43, FactorMatrix[[PHASE]:[PHASE]],\"MAINTENANCE\", FactorMatrix[[GHGSOURCE]:[GHGSOURCE]], \"track mile\", FactorMatrix[[TYPE]:[TYPE]], R$33)*Years","v":0},0,0,0]
[11,0,0,0,0,0,{"$f":"SUMIFS(FactorMatrix[[UPSTREAMMATERIALSEMISSIONS]:[UPSTREAMMATERIALSEMISSIONS]], FactorMatrix[[MODE]:[MODE]], $B44, FactorMatrix[[PHASE]:[PHASE]],\"MAINTENANCE\", FactorMatrix[[GHGSOURCE]:[GHGSOURCE]], \"track mile\", FactorMatrix[[TYPE]:[TYPE]], G$33)*Years","v":0},{"$f":"SUMIFS(FactorMatrix[[UPSTREAMMATERIALSEMISSIONS]:[UPSTREAMMATERIALSEMISSIONS]], FactorMatrix[[MODE]:[MODE]], $B44, FactorMatrix[[PHASE]:[PHASE]],\"MAINTENANCE\", FactorMatrix[[GHGSOURCE]:[GHGSOURCE]], \"track mile\", FactorMatrix[[TYPE]:[TYPE]], H$33)*Years","v":0},{"$f":"SUMIFS(FactorMatrix[[UPSTREAMMATERIALSEMISSIONS]:[UPSTREAMMATERIALSEMISSIONS]], FactorMatrix[[MODE]:[MODE]], $B44, FactorMatrix[[PHASE]:[PHASE]],\"MAINTENANCE\", FactorMatrix[[GHGSOURCE]:[GHGSOURCE]], \"track mile\", FactorMatrix[[TYPE]:[TYPE]], I$33)*Years","v":0},{"$f":"SUMIFS(FactorMatrix[[UPSTREAMMATERIALSEMISSIONS]:[UPSTREAMMATERIALSEMISSIONS]], FactorMatrix[[MODE]:[MODE]], $B44, FactorMatrix[[PHASE]:[PHASE]],\"MAINTENANCE\", FactorMatrix[[GHGSOURCE]:[GHGSOURCE]], \"track mile\", FactorMatrix[[TYPE]:[TYPE]], J$33)*Years","v":0},{"$f":"SUMIFS(FactorMatrix[[UPSTREAMTRANSPORTEMISSIONS]:[UPSTREAMTRANSPORTEMISSIONS]], FactorMatrix[[MODE]:[MODE]], $B44, FactorMatrix[[PHASE]:[PHASE]],\"MAINTENANCE\", FactorMatrix[[GHGSOURCE]:[GHGSOURCE]], \"track mile\", FactorMatrix[[TYPE]:[TYPE]], K$33)*Years","v":0},{"$f":"SUMIFS(FactorMatrix[[UPSTREAMTRANSPORTEMISSIONS]:[UPSTREAMTRANSPORTEMISSIONS]], FactorMatrix[[MODE]:[MODE]], $B44, FactorMatrix[[PHASE]:[PHASE]],\"MAINTENANCE\", FactorMatrix[[GHGSOURCE]:[GHGSOURCE]], \"track mile\", FactorMatrix[[TYPE]:[TYPE]], L$33)*Years","v":0},{"$f":"SUMIFS(FactorMatrix[[UPSTREAMTRANSPORTEMISSIONS]:[UPSTREAMTRANSPORTEMISSIONS]], FactorMatrix[[MODE]:[MODE]], $B44, FactorMatrix[[PHASE]:[PHASE]],\"MAINTENANCE\", FactorMatrix[[GHGSOURCE]:[GHGSOURCE]], \"track mile\", FactorMatrix[[TYPE]:[TYPE]], M$33)*Years","v":0},{"$f":"SUMIFS(FactorMatrix[[UPSTREAMTRANSPORTEMISSIONS]:[UPSTREAMTRANSPORTEMISSIONS]], FactorMatrix[[MODE]:[MODE]], $B44, FactorMatrix[[PHASE]:[PHASE]],\"MAINTENANCE\", FactorMatrix[[GHGSOURCE]:[GHGSOURCE]], \"track mile\", FactorMatrix[[TYPE]:[TYPE]], N$33)*Years","v":0},{"$f":"SUMIFS(FactorMatrix[[DOWNSTREAMEMISSIONS]:[DOWNSTREAMEMISSIONS]], FactorMatrix[[MODE]:[MODE]], $B44, FactorMatrix[[PHASE]:[PHASE]],\"MAINTENANCE\", FactorMatrix[[GHGSOURCE]:[GHGSOURCE]], \"track mile\", FactorMatrix[[TYPE]:[TYPE]], O$33)*Years","v":0},{"$f":"SUMIFS(FactorMatrix[[DOWNSTREAMEMISSIONS]:[DOWNSTREAMEMISSIONS]], FactorMatrix[[MODE]:[MODE]], $B44, FactorMatrix[[PHASE]:[PHASE]],\"MAINTENANCE\", FactorMatrix[[GHGSOURCE]:[GHGSOURCE]], \"track mile\", FactorMatrix[[TYPE]:[TYPE]], P$33)*Years","v":0},{"$f":"SUMIFS(FactorMatrix[[DOWNSTREAMEMISSIONS]:[DOWNSTREAMEMISSIONS]], FactorMatrix[[MODE]:[MODE]], $B44, FactorMatrix[[PHASE]:[PHASE]],\"MAINTENANCE\", FactorMatrix[[GHGSOURCE]:[GHGSOURCE]], \"track mile\", FactorMatrix[[TYPE]:[TYPE]], Q$33)*Years","v":0},{"$f":"SUMIFS(FactorMatrix[[DOWNSTREAMEMISSIONS]:[DOWNSTREAMEMISSIONS]], FactorMatrix[[MODE]:[MODE]], $B44, FactorMatrix[[PHASE]:[PHASE]],\"MAINTENANCE\", FactorMatrix[[GHGSOURCE]:[GHGSOURCE]], \"track mile\", FactorMatrix[[TYPE]:[TYPE]], R$33)*Years","v":0},0,0,0]
[12,0,0,0,0,0,{"$f":"SUMIFS(FactorMatrix[[UPSTREAMMATERIALSEMISSIONS]:[UPSTREAMMATERIALSEMISSIONS]], FactorMatrix[[MODE]:[MODE]], $B45, FactorMatrix[[PHASE]:[PHASE]],\"MAINTENANCE\", FactorMatrix[[GHGSOURCE]:[GHGSOURCE]], \"track mile\", FactorMatrix[[TYPE]:[TYPE]], G$33)*Years","v":0},{"$f":"SUMIFS(FactorMatrix[[UPSTREAMMATERIALSEMISSIONS]:[UPSTREAMMATERIALSEMISSIONS]], FactorMatrix[[MODE]:[MODE]], $B45, FactorMatrix[[PHASE]:[PHASE]],\"MAINTENANCE\", FactorMatrix[[GHGSOURCE]:[GHGSOURCE]], \"track mile\", FactorMatrix[[TYPE]:[TYPE]], H$33)*Years","v":0},{"$f":"SUMIFS(FactorMatrix[[UPSTREAMMATERIALSEMISSIONS]:[UPSTREAMMATERIALSEMISSIONS]], FactorMatrix[[MODE]:[MODE]], $B45, FactorMatrix[[PHASE]:[PHASE]],\"MAINTENANCE\", FactorMatrix[[GHGSOURCE]:[GHGSOURCE]], \"track mile\", FactorMatrix[[TYPE]:[TYPE]], I$33)*Years","v":0},{"$f":"SUMIFS(FactorMatrix[[UPSTREAMMATERIALSEMISSIONS]:[UPSTREAMMATERIALSEMISSIONS]], FactorMatrix[[MODE]:[MODE]], $B45, FactorMatrix[[PHASE]:[PHASE]],\"MAINTENANCE\", FactorMatrix[[GHGSOURCE]:[GHGSOURCE]], \"track mile\", FactorMatrix[[TYPE]:[TYPE]], J$33)*Years","v":0},{"$f":"SUMIFS(FactorMatrix[[UPSTREAMTRANSPORTEMISSIONS]:[UPSTREAMTRANSPORTEMISSIONS]], FactorMatrix[[MODE]:[MODE]], $B45, FactorMatrix[[PHASE]:[PHASE]],\"MAINTENANCE\", FactorMatrix[[GHGSOURCE]:[GHGSOURCE]], \"track mile\", FactorMatrix[[TYPE]:[TYPE]], K$33)*Years","v":0},{"$f":"SUMIFS(FactorMatrix[[UPSTREAMTRANSPORTEMISSIONS]:[UPSTREAMTRANSPORTEMISSIONS]], FactorMatrix[[MODE]:[MODE]], $B45, FactorMatrix[[PHASE]:[PHASE]],\"MAINTENANCE\", FactorMatrix[[GHGSOURCE]:[GHGSOURCE]], \"track mile\", FactorMatrix[[TYPE]:[TYPE]], L$33)*Years","v":0},{"$f":"SUMIFS(FactorMatrix[[UPSTREAMTRANSPORTEMISSIONS]:[UPSTREAMTRANSPORTEMISSIONS]], FactorMatrix[[MODE]:[MODE]], $B45, FactorMatrix[[PHASE]:[PHASE]],\"MAINTENANCE\", FactorMatrix[[GHGSOURCE]:[GHGSOURCE]], \"track mile\", FactorMatrix[[TYPE]:[TYPE]], M$33)*Years","v":0},{"$f":"SUMIFS(FactorMatrix[[UPSTREAMTRANSPORTEMISSIONS]:[UPSTREAMTRANSPORTEMISSIONS]], FactorMatrix[[MODE]:[MODE]], $B45, FactorMatrix[[PHASE]:[PHASE]],\"MAINTENANCE\", FactorMatrix[[GHGSOURCE]:[GHGSOURCE]], \"track mile\", FactorMatrix[[TYPE]:[TYPE]], N$33)*Years","v":0},{"$f":"SUMIFS(FactorMatrix[[DOWNSTREAMEMISSIONS]:[DOWNSTREAMEMISSIONS]], FactorMatrix[[MODE]:[MODE]], $B45, FactorMatrix[[PHASE]:[PHASE]],\"MAINTENANCE\", FactorMatrix[[GHGSOURCE]:[GHGSOURCE]], \"track mile\", FactorMatrix[[TYPE]:[TYPE]], O$33)*Years","v":0},{"$f":"SUMIFS(FactorMatrix[[DOWNSTREAMEMISSIONS]:[DOWNSTREAMEMISSIONS]], FactorMatrix[[MODE]:[MODE]], $B45, FactorMatrix[[PHASE]:[PHASE]],\"MAINTENANCE\", FactorMatrix[[GHGSOURCE]:[GHGSOURCE]], \"track mile\", FactorMatrix[[TYPE]:[TYPE]], P$33)*Years","v":0},{"$f":"SUMIFS(FactorMatrix[[DOWNSTREAMEMISSIONS]:[DOWNSTREAMEMISSIONS]], FactorMatrix[[MODE]:[MODE]], $B45, FactorMatrix[[PHASE]:[PHASE]],\"MAINTENANCE\", FactorMatrix[[GHGSOURCE]:[GHGSOURCE]], \"track mile\", FactorMatrix[[TYPE]:[TYPE]], Q$33)*Years","v":0},{"$f":"SUMIFS(FactorMatrix[[DOWNSTREAMEMISSIONS]:[DOWNSTREAMEMISSIONS]], FactorMatrix[[MODE]:[MODE]], $B45, FactorMatrix[[PHASE]:[PHASE]],\"MAINTENANCE\", FactorMatrix[[GHGSOURCE]:[GHGSOURCE]], \"track mile\", FactorMatrix[[TYPE]:[TYPE]], R$33)*Years","v":0},0,0,0]
[13,0,0,0,0,0,{"$f":"SUMIFS(FactorMatrix[[UPSTREAMMATERIALSEMISSIONS]:[UPSTREAMMATERIALSEMISSIONS]], FactorMatrix[[MODE]:[MODE]], $B46, FactorMatrix[[PHASE]:[PHASE]],\"MAINTENANCE\", FactorMatrix[[GHGSOURCE]:[GHGSOURCE]], \"track mile\", FactorMatrix[[TYPE]:[TYPE]], G$33)*Years","v":0},{"$f":"SUMIFS(FactorMatrix[[UPSTREAMMATERIALSEMISSIONS]:[UPSTREAMMATERIALSEMISSIONS]], FactorMatrix[[MODE]:[MODE]], $B46, FactorMatrix[[PHASE]:[PHASE]],\"MAINTENANCE\", FactorMatrix[[GHGSOURCE]:[GHGSOURCE]], \"track mile\", FactorMatrix[[TYPE]:[TYPE]], H$33)*Years","v":0},{"$f":"SUMIFS(FactorMatrix[[UPSTREAMMATERIALSEMISSIONS]:[UPSTREAMMATERIALSEMISSIONS]], FactorMatrix[[MODE]:[MODE]], $B46, FactorMatrix[[PHASE]:[PHASE]],\"MAINTENANCE\", FactorMatrix[[GHGSOURCE]:[GHGSOURCE]], \"track mile\", FactorMatrix[[TYPE]:[TYPE]], I$33)*Years","v":0},{"$f":"SUMIFS(FactorMatrix[[UPSTREAMMATERIALSEMISSIONS]:[UPSTREAMMATERIALSEMISSIONS]], FactorMatrix[[MODE]:[MODE]], $B46, FactorMatrix[[PHASE]:[PHASE]],\"MAINTENANCE\", FactorMatrix[[GHGSOURCE]:[GHGSOURCE]], \"track mile\", FactorMatrix[[TYPE]:[TYPE]], J$33)*Years","v":0},{"$f":"SUMIFS(FactorMatrix[[UPSTREAMTRANSPORTEMISSIONS]:[UPSTREAMTRANSPORTEMISSIONS]], FactorMatrix[[MODE]:[MODE]], $B46, FactorMatrix[[PHASE]:[PHASE]],\"MAINTENANCE\", FactorMatrix[[GHGSOURCE]:[GHGSOURCE]], \"track mile\", FactorMatrix[[TYPE]:[TYPE]], K$33)*Years","v":0},{"$f":"SUMIFS(FactorMatrix[[UPSTREAMTRANSPORTEMISSIONS]:[UPSTREAMTRANSPORTEMISSIONS]], FactorMatrix[[MODE]:[MODE]], $B46, FactorMatrix[[PHASE]:[PHASE]],\"MAINTENANCE\", FactorMatrix[[GHGSOURCE]:[GHGSOURCE]], \"track mile\", FactorMatrix[[TYPE]:[TYPE]], L$33)*Years","v":0},{"$f":"SUMIFS(FactorMatrix[[UPSTREAMTRANSPORTEMISSIONS]:[UPSTREAMTRANSPORTEMISSIONS]], FactorMatrix[[MODE]:[MODE]], $B46, FactorMatrix[[PHASE]:[PHASE]],\"MAINTENANCE\", FactorMatrix[[GHGSOURCE]:[GHGSOURCE]], \"track mile\", FactorMatrix[[TYPE]:[TYPE]], M$33)*Years","v":0},{"$f":"SUMIFS(FactorMatrix[[UPSTREAMTRANSPORTEMISSIONS]:[UPSTREAMTRANSPORTEMISSIONS]], FactorMatrix[[MODE]:[MODE]], $B46, FactorMatrix[[PHASE]:[PHASE]],\"MAINTENANCE\", FactorMatrix[[GHGSOURCE]:[GHGSOURCE]], \"track mile\", FactorMatrix[[TYPE]:[TYPE]], N$33)*Years","v":0},{"$f":"SUMIFS(FactorMatrix[[DOWNSTREAMEMISSIONS]:[DOWNSTREAMEMISSIONS]], FactorMatrix[[MODE]:[MODE]], $B46, FactorMatrix[[PHASE]:[PHASE]],\"MAINTENANCE\", FactorMatrix[[GHGSOURCE]:[GHGSOURCE]], \"track mile\", FactorMatrix[[TYPE]:[TYPE]], O$33)*Years","v":0},{"$f":"SUMIFS(FactorMatrix[[DOWNSTREAMEMISSIONS]:[DOWNSTREAMEMISSIONS]], FactorMatrix[[MODE]:[MODE]], $B46, FactorMatrix[[PHASE]:[PHASE]],\"MAINTENANCE\", FactorMatrix[[GHGSOURCE]:[GHGSOURCE]], \"track mile\", FactorMatrix[[TYPE]:[TYPE]], P$33)*Years","v":0},{"$f":"SUMIFS(FactorMatrix[[DOWNSTREAMEMISSIONS]:[DOWNSTREAMEMISSIONS]], FactorMatrix[[MODE]:[MODE]], $B46, FactorMatrix[[PHASE]:[PHASE]],\"MAINTENANCE\", FactorMatrix[[GHGSOURCE]:[GHGSOURCE]], \"track mile\", FactorMatrix[[TYPE]:[TYPE]], Q$33)*Years","v":0},{"$f":"SUMIFS(FactorMatrix[[DOWNSTREAMEMISSIONS]:[DOWNSTREAMEMISSIONS]], FactorMatrix[[MODE]:[MODE]], $B46, FactorMatrix[[PHASE]:[PHASE]],\"MAINTENANCE\", FactorMatrix[[GHGSOURCE]:[GHGSOURCE]], \"track mile\", FactorMatrix[[TYPE]:[TYPE]], R$33)*Years","v":0},0,0,0]
[14,0,0,0,0,0,{"$f":"SUMIFS(FactorMatrix[[UPSTREAMMATERIALSEMISSIONS]:[UPSTREAMMATERIALSEMISSIONS]], FactorMatrix[[MODE]:[MODE]], $B47, FactorMatrix[[PHASE]:[PHASE]],\"MAINTENANCE\", FactorMatrix[[GHGSOURCE]:[GHGSOURCE]], \"track mile\", FactorMatrix[[TYPE]:[TYPE]], G$33)*Years","v":0},{"$f":"SUMIFS(FactorMatrix[[UPSTREAMMATERIALSEMISSIONS]:[UPSTREAMMATERIALSEMISSIONS]], FactorMatrix[[MODE]:[MODE]], $B47, FactorMatrix[[PHASE]:[PHASE]],\"MAINTENANCE\", FactorMatrix[[GHGSOURCE]:[GHGSOURCE]], \"track mile\", FactorMatrix[[TYPE]:[TYPE]], H$33)*Years","v":0},{"$f":"SUMIFS(FactorMatrix[[UPSTREAMMATERIALSEMISSIONS]:[UPSTREAMMATERIALSEMISSIONS]], FactorMatrix[[MODE]:[MODE]], $B47, FactorMatrix[[PHASE]:[PHASE]],\"MAINTENANCE\", FactorMatrix[[GHGSOURCE]:[GHGSOURCE]], \"track mile\", FactorMatrix[[TYPE]:[TYPE]], I$33)*Years","v":0},{"$f":"SUMIFS(FactorMatrix[[UPSTREAMMATERIALSEMISSIONS]:[UPSTREAMMATERIALSEMISSIONS]], FactorMatrix[[MODE]:[MODE]], $B47, FactorMatrix[[PHASE]:[PHASE]],\"MAINTENANCE\", FactorMatrix[[GHGSOURCE]:[GHGSOURCE]], \"track mile\", FactorMatrix[[TYPE]:[TYPE]], J$33)*Years","v":0},{"$f":"SUMIFS(FactorMatrix[[UPSTREAMTRANSPORTEMISSIONS]:[UPSTREAMTRANSPORTEMISSIONS]], FactorMatrix[[MODE]:[MODE]], $B47, FactorMatrix[[PHASE]:[PHASE]],\"MAINTENANCE\", FactorMatrix[[GHGSOURCE]:[GHGSOURCE]], \"track mile\", FactorMatrix[[TYPE]:[TYPE]], K$33)*Years","v":0},{"$f":"SUMIFS(FactorMatrix[[UPSTREAMTRANSPORTEMISSIONS]:[UPSTREAMTRANSPORTEMISSIONS]], FactorMatrix[[MODE]:[MODE]], $B47, FactorMatrix[[PHASE]:[PHASE]],\"MAINTENANCE\", FactorMatrix[[GHGSOURCE]:[GHGSOURCE]], \"track mile\", FactorMatrix[[TYPE]:[TYPE]], L$33)*Years","v":0},{"$f":"SUMIFS(FactorMatrix[[UPSTREAMTRANSPORTEMISSIONS]:[UPSTREAMTRANSPORTEMISSIONS]], FactorMatrix[[MODE]:[MODE]], $B47, FactorMatrix[[PHASE]:[PHASE]],\"MAINTENANCE\", FactorMatrix[[GHGSOURCE]:[GHGSOURCE]], \"track mile\", FactorMatrix[[TYPE]:[TYPE]], M$33)*Years","v":0},{"$f":"SUMIFS(FactorMatrix[[UPSTREAMTRANSPORTEMISSIONS]:[UPSTREAMTRANSPORTEMISSIONS]], FactorMatrix[[MODE]:[MODE]], $B47, FactorMatrix[[PHASE]:[PHASE]],\"MAINTENANCE\", FactorMatrix[[GHGSOURCE]:[GHGSOURCE]], \"track mile\", FactorMatrix[[TYPE]:[TYPE]], N$33)*Years","v":0},{"$f":"SUMIFS(FactorMatrix[[DOWNSTREAMEMISSIONS]:[DOWNSTREAMEMISSIONS]], FactorMatrix[[MODE]:[MODE]], $B47, FactorMatrix[[PHASE]:[PHASE]],\"MAINTENANCE\", FactorMatrix[[GHGSOURCE]:[GHGSOURCE]], \"track mile\", FactorMatrix[[TYPE]:[TYPE]], O$33)*Years","v":0},{"$f":"SUMIFS(FactorMatrix[[DOWNSTREAMEMISSIONS]:[DOWNSTREAMEMISSIONS]], FactorMatrix[[MODE]:[MODE]], $B47, FactorMatrix[[PHASE]:[PHASE]],\"MAINTENANCE\", FactorMatrix[[GHGSOURCE]:[GHGSOURCE]], \"track mile\", FactorMatrix[[TYPE]:[TYPE]], P$33)*Years","v":0},{"$f":"SUMIFS(FactorMatrix[[DOWNSTREAMEMISSIONS]:[DOWNSTREAMEMISSIONS]], FactorMatrix[[MODE]:[MODE]], $B47, FactorMatrix[[PHASE]:[PHASE]],\"MAINTENANCE\", FactorMatrix[[GHGSOURCE]:[GHGSOURCE]], \"track mile\", FactorMatrix[[TYPE]:[TYPE]], Q$33)*Years","v":0},{"$f":"SUMIFS(FactorMatrix[[DOWNSTREAMEMISSIONS]:[DOWNSTREAMEMISSIONS]], FactorMatrix[[MODE]:[MODE]], $B47, FactorMatrix[[PHASE]:[PHASE]],\"MAINTENANCE\", FactorMatrix[[GHGSOURCE]:[GHGSOURCE]], \"track mile\", FactorMatrix[[TYPE]:[TYPE]], R$33)*Years","v":0},0,0,0]
[15,0,0,0,0,0,{"$f":"SUMIFS(FactorMatrix[[UPSTREAMMATERIALSEMISSIONS]:[UPSTREAMMATERIALSEMISSIONS]], FactorMatrix[[MODE]:[MODE]], $B48, FactorMatrix[[PHASE]:[PHASE]],\"MAINTENANCE\", FactorMatrix[[GHGSOURCE]:[GHGSOURCE]], \"track mile\", FactorMatrix[[TYPE]:[TYPE]], G$33)*Years","v":0},{"$f":"SUMIFS(FactorMatrix[[UPSTREAMMATERIALSEMISSIONS]:[UPSTREAMMATERIALSEMISSIONS]], FactorMatrix[[MODE]:[MODE]], $B48, FactorMatrix[[PHASE]:[PHASE]],\"MAINTENANCE\", FactorMatrix[[GHGSOURCE]:[GHGSOURCE]], \"track mile\", FactorMatrix[[TYPE]:[TYPE]], H$33)*Years","v":0},{"$f":"SUMIFS(FactorMatrix[[UPSTREAMMATERIALSEMISSIONS]:[UPSTREAMMATERIALSEMISSIONS]], FactorMatrix[[MODE]:[MODE]], $B48, FactorMatrix[[PHASE]:[PHASE]],\"MAINTENANCE\", FactorMatrix[[GHGSOURCE]:[GHGSOURCE]], \"track mile\", FactorMatrix[[TYPE]:[TYPE]], I$33)*Years","v":0},{"$f":"SUMIFS(FactorMatrix[[UPSTREAMMATERIALSEMISSIONS]:[UPSTREAMMATERIALSEMISSIONS]], FactorMatrix[[MODE]:[MODE]], $B48, FactorMatrix[[PHASE]:[PHASE]],\"MAINTENANCE\", FactorMatrix[[GHGSOURCE]:[GHGSOURCE]], \"track mile\", FactorMatrix[[TYPE]:[TYPE]], J$33)*Years","v":0},{"$f":"SUMIFS(FactorMatrix[[UPSTREAMTRANSPORTEMISSIONS]:[UPSTREAMTRANSPORTEMISSIONS]], FactorMatrix[[MODE]:[MODE]], $B48, FactorMatrix[[PHASE]:[PHASE]],\"MAINTENANCE\", FactorMatrix[[GHGSOURCE]:[GHGSOURCE]], \"track mile\", FactorMatrix[[TYPE]:[TYPE]], K$33)*Years","v":0},{"$f":"SUMIFS(FactorMatrix[[UPSTREAMTRANSPORTEMISSIONS]:[UPSTREAMTRANSPORTEMISSIONS]], FactorMatrix[[MODE]:[MODE]], $B48, FactorMatrix[[PHASE]:[PHASE]],\"MAINTENANCE\", FactorMatrix[[GHGSOURCE]:[GHGSOURCE]], \"track mile\", FactorMatrix[[TYPE]:[TYPE]], L$33)*Years","v":0},{"$f":"SUMIFS(FactorMatrix[[UPSTREAMTRANSPORTEMISSIONS]:[UPSTREAMTRANSPORTEMISSIONS]], FactorMatrix[[MODE]:[MODE]], $B48, FactorMatrix[[PHASE]:[PHASE]],\"MAINTENANCE\", FactorMatrix[[GHGSOURCE]:[GHGSOURCE]], \"track mile\", FactorMatrix[[TYPE]:[TYPE]], M$33)*Years","v":0},{"$f":"SUMIFS(FactorMatrix[[UPSTREAMTRANSPORTEMISSIONS]:[UPSTREAMTRANSPORTEMISSIONS]], FactorMatrix[[MODE]:[MODE]], $B48, FactorMatrix[[PHASE]:[PHASE]],\"MAINTENANCE\", FactorMatrix[[GHGSOURCE]:[GHGSOURCE]], \"track mile\", FactorMatrix[[TYPE]:[TYPE]], N$33)*Years","v":0},{"$f":"SUMIFS(FactorMatrix[[DOWNSTREAMEMISSIONS]:[DOWNSTREAMEMISSIONS]], FactorMatrix[[MODE]:[MODE]], $B48, FactorMatrix[[PHASE]:[PHASE]],\"MAINTENANCE\", FactorMatrix[[GHGSOURCE]:[GHGSOURCE]], \"track mile\", FactorMatrix[[TYPE]:[TYPE]], O$33)*Years","v":0},{"$f":"SUMIFS(FactorMatrix[[DOWNSTREAMEMISSIONS]:[DOWNSTREAMEMISSIONS]], FactorMatrix[[MODE]:[MODE]], $B48, FactorMatrix[[PHASE]:[PHASE]],\"MAINTENANCE\", FactorMatrix[[GHGSOURCE]:[GHGSOURCE]], \"track mile\", FactorMatrix[[TYPE]:[TYPE]], P$33)*Years","v":0},{"$f":"SUMIFS(FactorMatrix[[DOWNSTREAMEMISSIONS]:[DOWNSTREAMEMISSIONS]], FactorMatrix[[MODE]:[MODE]], $B48, FactorMatrix[[PHASE]:[PHASE]],\"MAINTENANCE\", FactorMatrix[[GHGSOURCE]:[GHGSOURCE]], \"track mile\", FactorMatrix[[TYPE]:[TYPE]], Q$33)*Years","v":0},{"$f":"SUMIFS(FactorMatrix[[DOWNSTREAMEMISSIONS]:[DOWNSTREAMEMISSIONS]], FactorMatrix[[MODE]:[MODE]], $B48, FactorMatrix[[PHASE]:[PHASE]],\"MAINTENANCE\", FactorMatrix[[GHGSOURCE]:[GHGSOURCE]], \"track mile\", FactorMatrix[[TYPE]:[TYPE]], R$33)*Years","v":0},0,0,0]
[16,0,0,0,0,0,{"$f":"SUMIFS(FactorMatrix[[UPSTREAMMATERIALSEMISSIONS]:[UPSTREAMMATERIALSEMISSIONS]], FactorMatrix[[MODE]:[MODE]], $B49, FactorMatrix[[PHASE]:[PHASE]],\"MAINTENANCE\", FactorMatrix[[GHGSOURCE]:[GHGSOURCE]], \"track mile\", FactorMatrix[[TYPE]:[TYPE]], G$33)*Years","v":0},{"$f":"SUMIFS(FactorMatrix[[UPSTREAMMATERIALSEMISSIONS]:[UPSTREAMMATERIALSEMISSIONS]], FactorMatrix[[MODE]:[MODE]], $B49, FactorMatrix[[PHASE]:[PHASE]],\"MAINTENANCE\", FactorMatrix[[GHGSOURCE]:[GHGSOURCE]], \"track mile\", FactorMatrix[[TYPE]:[TYPE]], H$33)*Years","v":0},{"$f":"SUMIFS(FactorMatrix[[UPSTREAMMATERIALSEMISSIONS]:[UPSTREAMMATERIALSEMISSIONS]], FactorMatrix[[MODE]:[MODE]], $B49, FactorMatrix[[PHASE]:[PHASE]],\"MAINTENANCE\", FactorMatrix[[GHGSOURCE]:[GHGSOURCE]], \"track mile\", FactorMatrix[[TYPE]:[TYPE]], I$33)*Years","v":0},{"$f":"SUMIFS(FactorMatrix[[UPSTREAMMATERIALSEMISSIONS]:[UPSTREAMMATERIALSEMISSIONS]], FactorMatrix[[MODE]:[MODE]], $B49, FactorMatrix[[PHASE]:[PHASE]],\"MAINTENANCE\", FactorMatrix[[GHGSOURCE]:[GHGSOURCE]], \"track mile\", FactorMatrix[[TYPE]:[TYPE]], J$33)*Years","v":0},{"$f":"SUMIFS(FactorMatrix[[UPSTREAMTRANSPORTEMISSIONS]:[UPSTREAMTRANSPORTEMISSIONS]], FactorMatrix[[MODE]:[MODE]], $B49, FactorMatrix[[PHASE]:[PHASE]],\"MAINTENANCE\", FactorMatrix[[GHGSOURCE]:[GHGSOURCE]], \"track mile\", FactorMatrix[[TYPE]:[TYPE]], K$33)*Years","v":0},{"$f":"SUMIFS(FactorMatrix[[UPSTREAMTRANSPORTEMISSIONS]:[UPSTREAMTRANSPORTEMISSIONS]], FactorMatrix[[MODE]:[MODE]], $B49, FactorMatrix[[PHASE]:[PHASE]],\"MAINTENANCE\", FactorMatrix[[GHGSOURCE]:[GHGSOURCE]], \"track mile\", FactorMatrix[[TYPE]:[TYPE]], L$33)*Years","v":0},{"$f":"SUMIFS(FactorMatrix[[UPSTREAMTRANSPORTEMISSIONS]:[UPSTREAMTRANSPORTEMISSIONS]], FactorMatrix[[MODE]:[MODE]], $B49, FactorMatrix[[PHASE]:[PHASE]],\"MAINTENANCE\", FactorMatrix[[GHGSOURCE]:[GHGSOURCE]], \"track mile\", FactorMatrix[[TYPE]:[TYPE]], M$33)*Years","v":0},{"$f":"SUMIFS(FactorMatrix[[UPSTREAMTRANSPORTEMISSIONS]:[UPSTREAMTRANSPORTEMISSIONS]], FactorMatrix[[MODE]:[MODE]], $B49, FactorMatrix[[PHASE]:[PHASE]],\"MAINTENANCE\", FactorMatrix[[GHGSOURCE]:[GHGSOURCE]], \"track mile\", FactorMatrix[[TYPE]:[TYPE]], N$33)*Years","v":0},{"$f":"SUMIFS(FactorMatrix[[DOWNSTREAMEMISSIONS]:[DOWNSTREAMEMISSIONS]], FactorMatrix[[MODE]:[MODE]], $B49, FactorMatrix[[PHASE]:[PHASE]],\"MAINTENANCE\", FactorMatrix[[GHGSOURCE]:[GHGSOURCE]], \"track mile\", FactorMatrix[[TYPE]:[TYPE]], O$33)*Years","v":0},{"$f":"SUMIFS(FactorMatrix[[DOWNSTREAMEMISSIONS]:[DOWNSTREAMEMISSIONS]], FactorMatrix[[MODE]:[MODE]], $B49, FactorMatrix[[PHASE]:[PHASE]],\"MAINTENANCE\", FactorMatrix[[GHGSOURCE]:[GHGSOURCE]], \"track mile\", FactorMatrix[[TYPE]:[TYPE]], P$33)*Years","v":0},{"$f":"SUMIFS(FactorMatrix[[DOWNSTREAMEMISSIONS]:[DOWNSTREAMEMISSIONS]], FactorMatrix[[MODE]:[MODE]], $B49, FactorMatrix[[PHASE]:[PHASE]],\"MAINTENANCE\", FactorMatrix[[GHGSOURCE]:[GHGSOURCE]], \"track mile\", FactorMatrix[[TYPE]:[TYPE]], Q$33)*Years","v":0},{"$f":"SUMIFS(FactorMatrix[[DOWNSTREAMEMISSIONS]:[DOWNSTREAMEMISSIONS]], FactorMatrix[[MODE]:[MODE]], $B49, FactorMatrix[[PHASE]:[PHASE]],\"MAINTENANCE\", FactorMatrix[[GHGSOURCE]:[GHGSOURCE]], \"track mile\", FactorMatrix[[TYPE]:[TYPE]], R$33)*Years","v":0},0,0,0]
[17,0,0,0,0,0,{"$f":"SUMIFS(FactorMatrix[[UPSTREAMMATERIALSEMISSIONS]:[UPSTREAMMATERIALSEMISSIONS]], FactorMatrix[[MODE]:[MODE]], $B50, FactorMatrix[[PHASE]:[PHASE]],\"MAINTENANCE\", FactorMatrix[[GHGSOURCE]:[GHGSOURCE]], \"track mile\", FactorMatrix[[TYPE]:[TYPE]], G$33)*Years","v":0},{"$f":"SUMIFS(FactorMatrix[[UPSTREAMMATERIALSEMISSIONS]:[UPSTREAMMATERIALSEMISSIONS]], FactorMatrix[[MODE]:[MODE]], $B50, FactorMatrix[[PHASE]:[PHASE]],\"MAINTENANCE\", FactorMatrix[[GHGSOURCE]:[GHGSOURCE]], \"track mile\", FactorMatrix[[TYPE]:[TYPE]], H$33)*Years","v":0},{"$f":"SUMIFS(FactorMatrix[[UPSTREAMMATERIALSEMISSIONS]:[UPSTREAMMATERIALSEMISSIONS]], FactorMatrix[[MODE]:[MODE]], $B50, FactorMatrix[[PHASE]:[PHASE]],\"MAINTENANCE\", FactorMatrix[[GHGSOURCE]:[GHGSOURCE]], \"track mile\", FactorMatrix[[TYPE]:[TYPE]], I$33)*Years","v":0},{"$f":"SUMIFS(FactorMatrix[[UPSTREAMMATERIALSEMISSIONS]:[UPSTREAMMATERIALSEMISSIONS]], FactorMatrix[[MODE]:[MODE]], $B50, FactorMatrix[[PHASE]:[PHASE]],\"MAINTENANCE\", FactorMatrix[[GHGSOURCE]:[GHGSOURCE]], \"track mile\", FactorMatrix[[TYPE]:[TYPE]], J$33)*Years","v":0},{"$f":"SUMIFS(FactorMatrix[[UPSTREAMTRANSPORTEMISSIONS]:[UPSTREAMTRANSPORTEMISSIONS]], FactorMatrix[[MODE]:[MODE]], $B50, FactorMatrix[[PHASE]:[PHASE]],\"MAINTENANCE\", FactorMatrix[[GHGSOURCE]:[GHGSOURCE]], \"track mile\", FactorMatrix[[TYPE]:[TYPE]], K$33)*Years","v":0},{"$f":"SUMIFS(FactorMatrix[[UPSTREAMTRANSPORTEMISSIONS]:[UPSTREAMTRANSPORTEMISSIONS]], FactorMatrix[[MODE]:[MODE]], $B50, FactorMatrix[[PHASE]:[PHASE]],\"MAINTENANCE\", FactorMatrix[[GHGSOURCE]:[GHGSOURCE]], \"track mile\", FactorMatrix[[TYPE]:[TYPE]], L$33)*Years","v":0},{"$f":"SUMIFS(FactorMatrix[[UPSTREAMTRANSPORTEMISSIONS]:[UPSTREAMTRANSPORTEMISSIONS]], FactorMatrix[[MODE]:[MODE]], $B50, FactorMatrix[[PHASE]:[PHASE]],\"MAINTENANCE\", FactorMatrix[[GHGSOURCE]:[GHGSOURCE]], \"track mile\", FactorMatrix[[TYPE]:[TYPE]], M$33)*Years","v":0},{"$f":"SUMIFS(FactorMatrix[[UPSTREAMTRANSPORTEMISSIONS]:[UPSTREAMTRANSPORTEMISSIONS]], FactorMatrix[[MODE]:[MODE]], $B50, FactorMatrix[[PHASE]:[PHASE]],\"MAINTENANCE\", FactorMatrix[[GHGSOURCE]:[GHGSOURCE]], \"track mile\", FactorMatrix[[TYPE]:[TYPE]], N$33)*Years","v":0},{"$f":"SUMIFS(FactorMatrix[[DOWNSTREAMEMISSIONS]:[DOWNSTREAMEMISSIONS]], FactorMatrix[[MODE]:[MODE]], $B50, FactorMatrix[[PHASE]:[PHASE]],\"MAINTENANCE\", FactorMatrix[[GHGSOURCE]:[GHGSOURCE]], \"track mile\", FactorMatrix[[TYPE]:[TYPE]], O$33)*Years","v":0},{"$f":"SUMIFS(FactorMatrix[[DOWNSTREAMEMISSIONS]:[DOWNSTREAMEMISSIONS]], FactorMatrix[[MODE]:[MODE]], $B50, FactorMatrix[[PHASE]:[PHASE]],\"MAINTENANCE\", FactorMatrix[[GHGSOURCE]:[GHGSOURCE]], \"track mile\", FactorMatrix[[TYPE]:[TYPE]], P$33)*Years","v":0},{"$f":"SUMIFS(FactorMatrix[[DOWNSTREAMEMISSIONS]:[DOWNSTREAMEMISSIONS]], FactorMatrix[[MODE]:[MODE]], $B50, FactorMatrix[[PHASE]:[PHASE]],\"MAINTENANCE\", FactorMatrix[[GHGSOURCE]:[GHGSOURCE]], \"track mile\", FactorMatrix[[TYPE]:[TYPE]], Q$33)*Years","v":0},{"$f":"SUMIFS(FactorMatrix[[DOWNSTREAMEMISSIONS]:[DOWNSTREAMEMISSIONS]], FactorMatrix[[MODE]:[MODE]], $B50, FactorMatrix[[PHASE]:[PHASE]],\"MAINTENANCE\", FactorMatrix[[GHGSOURCE]:[GHGSOURCE]], \"track mile\", FactorMatrix[[TYPE]:[TYPE]], R$33)*Years","v":0},0,0,0]
[18,0,0,0,0,0,{"$f":"SUMIFS(FactorMatrix[[UPSTREAMMATERIALSEMISSIONS]:[UPSTREAMMATERIALSEMISSIONS]], FactorMatrix[[MODE]:[MODE]], $B51, FactorMatrix[[PHASE]:[PHASE]],\"MAINTENANCE\", FactorMatrix[[GHGSOURCE]:[GHGSOURCE]], \"track mile\", FactorMatrix[[TYPE]:[TYPE]], G$33)*Years","v":0},{"$f":"SUMIFS(FactorMatrix[[UPSTREAMMATERIALSEMISSIONS]:[UPSTREAMMATERIALSEMISSIONS]], FactorMatrix[[MODE]:[MODE]], $B51, FactorMatrix[[PHASE]:[PHASE]],\"MAINTENANCE\", FactorMatrix[[GHGSOURCE]:[GHGSOURCE]], \"track mile\", FactorMatrix[[TYPE]:[TYPE]], H$33)*Years","v":0},{"$f":"SUMIFS(FactorMatrix[[UPSTREAMMATERIALSEMISSIONS]:[UPSTREAMMATERIALSEMISSIONS]], FactorMatrix[[MODE]:[MODE]], $B51, FactorMatrix[[PHASE]:[PHASE]],\"MAINTENANCE\", FactorMatrix[[GHGSOURCE]:[GHGSOURCE]], \"track mile\", FactorMatrix[[TYPE]:[TYPE]], I$33)*Years","v":0},{"$f":"SUMIFS(FactorMatrix[[UPSTREAMMATERIALSEMISSIONS]:[UPSTREAMMATERIALSEMISSIONS]], FactorMatrix[[MODE]:[MODE]], $B51, FactorMatrix[[PHASE]:[PHASE]],\"MAINTENANCE\", FactorMatrix[[GHGSOURCE]:[GHGSOURCE]], \"track mile\", FactorMatrix[[TYPE]:[TYPE]], J$33)*Years","v":0},{"$f":"SUMIFS(FactorMatrix[[UPSTREAMTRANSPORTEMISSIONS]:[UPSTREAMTRANSPORTEMISSIONS]], FactorMatrix[[MODE]:[MODE]], $B51, FactorMatrix[[PHASE]:[PHASE]],\"MAINTENANCE\", FactorMatrix[[GHGSOURCE]:[GHGSOURCE]], \"track mile\", FactorMatrix[[TYPE]:[TYPE]], K$33)*Years","v":0},{"$f":"SUMIFS(FactorMatrix[[UPSTREAMTRANSPORTEMISSIONS]:[UPSTREAMTRANSPORTEMISSIONS]], FactorMatrix[[MODE]:[MODE]], $B51, FactorMatrix[[PHASE]:[PHASE]],\"MAINTENANCE\", FactorMatrix[[GHGSOURCE]:[GHGSOURCE]], \"track mile\", FactorMatrix[[TYPE]:[TYPE]], L$33)*Years","v":0},{"$f":"SUMIFS(FactorMatrix[[UPSTREAMTRANSPORTEMISSIONS]:[UPSTREAMTRANSPORTEMISSIONS]], FactorMatrix[[MODE]:[MODE]], $B51, FactorMatrix[[PHASE]:[PHASE]],\"MAINTENANCE\", FactorMatrix[[GHGSOURCE]:[GHGSOURCE]], \"track mile\", FactorMatrix[[TYPE]:[TYPE]], M$33)*Years","v":0},{"$f":"SUMIFS(FactorMatrix[[UPSTREAMTRANSPORTEMISSIONS]:[UPSTREAMTRANSPORTEMISSIONS]], FactorMatrix[[MODE]:[MODE]], $B51, FactorMatrix[[PHASE]:[PHASE]],\"MAINTENANCE\", FactorMatrix[[GHGSOURCE]:[GHGSOURCE]], \"track mile\", FactorMatrix[[TYPE]:[TYPE]], N$33)*Years","v":0},{"$f":"SUMIFS(FactorMatrix[[DOWNSTREAMEMISSIONS]:[DOWNSTREAMEMISSIONS]], FactorMatrix[[MODE]:[MODE]], $B51, FactorMatrix[[PHASE]:[PHASE]],\"MAINTENANCE\", FactorMatrix[[GHGSOURCE]:[GHGSOURCE]], \"track mile\", FactorMatrix[[TYPE]:[TYPE]], O$33)*Years","v":0},{"$f":"SUMIFS(FactorMatrix[[DOWNSTREAMEMISSIONS]:[DOWNSTREAMEMISSIONS]], FactorMatrix[[MODE]:[MODE]], $B51, FactorMatrix[[PHASE]:[PHASE]],\"MAINTENANCE\", FactorMatrix[[GHGSOURCE]:[GHGSOURCE]], \"track mile\", FactorMatrix[[TYPE]:[TYPE]], P$33)*Years","v":0},{"$f":"SUMIFS(FactorMatrix[[DOWNSTREAMEMISSIONS]:[DOWNSTREAMEMISSIONS]], FactorMatrix[[MODE]:[MODE]], $B51, FactorMatrix[[PHASE]:[PHASE]],\"MAINTENANCE\", FactorMatrix[[GHGSOURCE]:[GHGSOURCE]], \"track mile\", FactorMatrix[[TYPE]:[TYPE]], Q$33)*Years","v":0},{"$f":"SUMIFS(FactorMatrix[[DOWNSTREAMEMISSIONS]:[DOWNSTREAMEMISSIONS]], FactorMatrix[[MODE]:[MODE]], $B51, FactorMatrix[[PHASE]:[PHASE]],\"MAINTENANCE\", FactorMatrix[[GHGSOURCE]:[GHGSOURCE]], \"track mile\", FactorMatrix[[TYPE]:[TYPE]], R$33)*Years","v":0},0,0,0]
[19,0,0,0,0,0,{"$f":"SUMIFS(FactorMatrix[[UPSTREAMMATERIALSEMISSIONS]:[UPSTREAMMATERIALSEMISSIONS]], FactorMatrix[[MODE]:[MODE]], $B52, FactorMatrix[[PHASE]:[PHASE]],\"MAINTENANCE\", FactorMatrix[[GHGSOURCE]:[GHGSOURCE]], \"track mile\", FactorMatrix[[TYPE]:[TYPE]], G$33)*Years","v":0},{"$f":"SUMIFS(FactorMatrix[[UPSTREAMMATERIALSEMISSIONS]:[UPSTREAMMATERIALSEMISSIONS]], FactorMatrix[[MODE]:[MODE]], $B52, FactorMatrix[[PHASE]:[PHASE]],\"MAINTENANCE\", FactorMatrix[[GHGSOURCE]:[GHGSOURCE]], \"track mile\", FactorMatrix[[TYPE]:[TYPE]], H$33)*Years","v":0},{"$f":"SUMIFS(FactorMatrix[[UPSTREAMMATERIALSEMISSIONS]:[UPSTREAMMATERIALSEMISSIONS]], FactorMatrix[[MODE]:[MODE]], $B52, FactorMatrix[[PHASE]:[PHASE]],\"MAINTENANCE\", FactorMatrix[[GHGSOURCE]:[GHGSOURCE]], \"track mile\", FactorMatrix[[TYPE]:[TYPE]], I$33)*Years","v":0},{"$f":"SUMIFS(FactorMatrix[[UPSTREAMMATERIALSEMISSIONS]:[UPSTREAMMATERIALSEMISSIONS]], FactorMatrix[[MODE]:[MODE]], $B52, FactorMatrix[[PHASE]:[PHASE]],\"MAINTENANCE\", FactorMatrix[[GHGSOURCE]:[GHGSOURCE]], \"track mile\", FactorMatrix[[TYPE]:[TYPE]], J$33)*Years","v":0},{"$f":"SUMIFS(FactorMatrix[[UPSTREAMTRANSPORTEMISSIONS]:[UPSTREAMTRANSPORTEMISSIONS]], FactorMatrix[[MODE]:[MODE]], $B52, FactorMatrix[[PHASE]:[PHASE]],\"MAINTENANCE\", FactorMatrix[[GHGSOURCE]:[GHGSOURCE]], \"track mile\", FactorMatrix[[TYPE]:[TYPE]], K$33)*Years","v":0},{"$f":"SUMIFS(FactorMatrix[[UPSTREAMTRANSPORTEMISSIONS]:[UPSTREAMTRANSPORTEMISSIONS]], FactorMatrix[[MODE]:[MODE]], $B52, FactorMatrix[[PHASE]:[PHASE]],\"MAINTENANCE\", FactorMatrix[[GHGSOURCE]:[GHGSOURCE]], \"track mile\", FactorMatrix[[TYPE]:[TYPE]], L$33)*Years","v":0},{"$f":"SUMIFS(FactorMatrix[[UPSTREAMTRANSPORTEMISSIONS]:[UPSTREAMTRANSPORTEMISSIONS]], FactorMatrix[[MODE]:[MODE]], $B52, FactorMatrix[[PHASE]:[PHASE]],\"MAINTENANCE\", FactorMatrix[[GHGSOURCE]:[GHGSOURCE]], \"track mile\", FactorMatrix[[TYPE]:[TYPE]], M$33)*Years","v":0},{"$f":"SUMIFS(FactorMatrix[[UPSTREAMTRANSPORTEMISSIONS]:[UPSTREAMTRANSPORTEMISSIONS]], FactorMatrix[[MODE]:[MODE]], $B52, FactorMatrix[[PHASE]:[PHASE]],\"MAINTENANCE\", FactorMatrix[[GHGSOURCE]:[GHGSOURCE]], \"track mile\", FactorMatrix[[TYPE]:[TYPE]], N$33)*Years","v":0},{"$f":"SUMIFS(FactorMatrix[[DOWNSTREAMEMISSIONS]:[DOWNSTREAMEMISSIONS]], FactorMatrix[[MODE]:[MODE]], $B52, FactorMatrix[[PHASE]:[PHASE]],\"MAINTENANCE\", FactorMatrix[[GHGSOURCE]:[GHGSOURCE]], \"track mile\", FactorMatrix[[TYPE]:[TYPE]], O$33)*Years","v":0},{"$f":"SUMIFS(FactorMatrix[[DOWNSTREAMEMISSIONS]:[DOWNSTREAMEMISSIONS]], FactorMatrix[[MODE]:[MODE]], $B52, FactorMatrix[[PHASE]:[PHASE]],\"MAINTENANCE\", FactorMatrix[[GHGSOURCE]:[GHGSOURCE]], \"track mile\", FactorMatrix[[TYPE]:[TYPE]], P$33)*Years","v":0},{"$f":"SUMIFS(FactorMatrix[[DOWNSTREAMEMISSIONS]:[DOWNSTREAMEMISSIONS]], FactorMatrix[[MODE]:[MODE]], $B52, FactorMatrix[[PHASE]:[PHASE]],\"MAINTENANCE\", FactorMatrix[[GHGSOURCE]:[GHGSOURCE]], \"track mile\", FactorMatrix[[TYPE]:[TYPE]], Q$33)*Years","v":0},{"$f":"SUMIFS(FactorMatrix[[DOWNSTREAMEMISSIONS]:[DOWNSTREAMEMISSIONS]], FactorMatrix[[MODE]:[MODE]], $B52, FactorMatrix[[PHASE]:[PHASE]],\"MAINTENANCE\", FactorMatrix[[GHGSOURCE]:[GHGSOURCE]], \"track mile\", FactorMatrix[[TYPE]:[TYPE]], R$33)*Years","v":0},0,0,0]
[20,0,0,0,0,0,{"$f":"SUMIFS(FactorMatrix[[UPSTREAMMATERIALSEMISSIONS]:[UPSTREAMMATERIALSEMISSIONS]], FactorMatrix[[MODE]:[MODE]], $B53, FactorMatrix[[PHASE]:[PHASE]],\"MAINTENANCE\", FactorMatrix[[GHGSOURCE]:[GHGSOURCE]], \"track mile\", FactorMatrix[[TYPE]:[TYPE]], G$33)*Years","v":0},{"$f":"SUMIFS(FactorMatrix[[UPSTREAMMATERIALSEMISSIONS]:[UPSTREAMMATERIALSEMISSIONS]], FactorMatrix[[MODE]:[MODE]], $B53, FactorMatrix[[PHASE]:[PHASE]],\"MAINTENANCE\", FactorMatrix[[GHGSOURCE]:[GHGSOURCE]], \"track mile\", FactorMatrix[[TYPE]:[TYPE]], H$33)*Years","v":0},{"$f":"SUMIFS(FactorMatrix[[UPSTREAMMATERIALSEMISSIONS]:[UPSTREAMMATERIALSEMISSIONS]], FactorMatrix[[MODE]:[MODE]], $B53, FactorMatrix[[PHASE]:[PHASE]],\"MAINTENANCE\", FactorMatrix[[GHGSOURCE]:[GHGSOURCE]], \"track mile\", FactorMatrix[[TYPE]:[TYPE]], I$33)*Years","v":0},{"$f":"SUMIFS(FactorMatrix[[UPSTREAMMATERIALSEMISSIONS]:[UPSTREAMMATERIALSEMISSIONS]], FactorMatrix[[MODE]:[MODE]], $B53, FactorMatrix[[PHASE]:[PHASE]],\"MAINTENANCE\", FactorMatrix[[GHGSOURCE]:[GHGSOURCE]], \"track mile\", FactorMatrix[[TYPE]:[TYPE]], J$33)*Years","v":0},{"$f":"SUMIFS(FactorMatrix[[UPSTREAMTRANSPORTEMISSIONS]:[UPSTREAMTRANSPORTEMISSIONS]], FactorMatrix[[MODE]:[MODE]], $B53, FactorMatrix[[PHASE]:[PHASE]],\"MAINTENANCE\", FactorMatrix[[GHGSOURCE]:[GHGSOURCE]], \"track mile\", FactorMatrix[[TYPE]:[TYPE]], K$33)*Years","v":0},{"$f":"SUMIFS(FactorMatrix[[UPSTREAMTRANSPORTEMISSIONS]:[UPSTREAMTRANSPORTEMISSIONS]], FactorMatrix[[MODE]:[MODE]], $B53, FactorMatrix[[PHASE]:[PHASE]],\"MAINTENANCE\", FactorMatrix[[GHGSOURCE]:[GHGSOURCE]], \"track mile\", FactorMatrix[[TYPE]:[TYPE]], L$33)*Years","v":0},{"$f":"SUMIFS(FactorMatrix[[UPSTREAMTRANSPORTEMISSIONS]:[UPSTREAMTRANSPORTEMISSIONS]], FactorMatrix[[MODE]:[MODE]], $B53, FactorMatrix[[PHASE]:[PHASE]],\"MAINTENANCE\", FactorMatrix[[GHGSOURCE]:[GHGSOURCE]], \"track mile\", FactorMatrix[[TYPE]:[TYPE]], M$33)*Years","v":0},{"$f":"SUMIFS(FactorMatrix[[UPSTREAMTRANSPORTEMISSIONS]:[UPSTREAMTRANSPORTEMISSIONS]], FactorMatrix[[MODE]:[MODE]], $B53, FactorMatrix[[PHASE]:[PHASE]],\"MAINTENANCE\", FactorMatrix[[GHGSOURCE]:[GHGSOURCE]], \"track mile\", FactorMatrix[[TYPE]:[TYPE]], N$33)*Years","v":0},{"$f":"SUMIFS(FactorMatrix[[DOWNSTREAMEMISSIONS]:[DOWNSTREAMEMISSIONS]], FactorMatrix[[MODE]:[MODE]], $B53, FactorMatrix[[PHASE]:[PHASE]],\"MAINTENANCE\", FactorMatrix[[GHGSOURCE]:[GHGSOURCE]], \"track mile\", FactorMatrix[[TYPE]:[TYPE]], O$33)*Years","v":0},{"$f":"SUMIFS(FactorMatrix[[DOWNSTREAMEMISSIONS]:[DOWNSTREAMEMISSIONS]], FactorMatrix[[MODE]:[MODE]], $B53, FactorMatrix[[PHASE]:[PHASE]],\"MAINTENANCE\", FactorMatrix[[GHGSOURCE]:[GHGSOURCE]], \"track mile\", FactorMatrix[[TYPE]:[TYPE]], P$33)*Years","v":0},{"$f":"SUMIFS(FactorMatrix[[DOWNSTREAMEMISSIONS]:[DOWNSTREAMEMISSIONS]], FactorMatrix[[MODE]:[MODE]], $B53, FactorMatrix[[PHASE]:[PHASE]],\"MAINTENANCE\", FactorMatrix[[GHGSOURCE]:[GHGSOURCE]], \"track mile\", FactorMatrix[[TYPE]:[TYPE]], Q$33)*Years","v":0},{"$f":"SUMIFS(FactorMatrix[[DOWNSTREAMEMISSIONS]:[DOWNSTREAMEMISSIONS]], FactorMatrix[[MODE]:[MODE]], $B53, FactorMatrix[[PHASE]:[PHASE]],\"MAINTENANCE\", FactorMatrix[[GHGSOURCE]:[GHGSOURCE]], \"track mile\", FactorMatrix[[TYPE]:[TYPE]], R$33)*Years","v":0},0,0,0]
[]
["Facility Operations",null,null,null,null,null,null,"RESULTS",null,null,"FINAL RESULTS"]
["INPUTS"]
["row","Transit Mode","Building Type","Square Footage","Upstream Materials","Upstream Transport","Downstream","UPSTREAM MATERIALS","UPSTREAM TRANSPORT","DOWNSTREAM","UPSTREAM MATERIALS","UPSTREAM TRANSPORT","DOWNSTREAM"]
[1,{"$f":"'Facility Operations'!B5","v":0},{"$f":"'Facility Operations'!C5","v":0},{"$f":"'Facility Operations'!D5","v":0},{"$f":"SUMIFS(FactorMatrix[[UPSTREAMMATERIALSEMISSIONS]:[UPSTREAMMATERIALSEMISSIONS]], FactorMatrix[[MODE]:[MODE]], $B58, FactorMatrix[[PHASE]:[PHASE]], \"Operations\", FactorMatrix[[GHGSOURCE]:[GHGSOURCE]], $C58)*Years","v":0},{"$f":"SUMIFS(FactorMatrix[[UPSTREAMTRANSPORTEMISSIONS]:[UPSTREAMTRANSPORTEMISSIONS]], FactorMatrix[[MODE]:[MODE]], $B58, FactorMatrix[[PHASE]:[PHASE]], \"Operations\", FactorMatrix[[GHGSOURCE]:[GHGSOURCE]], $C58)*Years","v":0},{"$f":"SUMIFS(FactorMatrix[[DOWNSTREAMEMISSIONS]:[DOWNSTREAMEMISSIONS]], FactorMatrix[[MODE]:[MODE]], $B58, FactorMatrix[[PHASE]:[PHASE]], \"Operations\", FactorMatrix[[GHGSOURCE]:[GHGSOURCE]], $C58)*Years","v":0},{"$f":"$D58*E58","v":0},{"$f":"$D58*F58","v":0},{"$f":"$D58*G58","v":0},{"$f":"SUM(H58:H77)","v":0},{"$f":"SUM(I58:I77)","v":0},{"$f":"SUM(J58:J77)","v":0}]
[2,{"$f":"'Facility Operations'!B6","v":0},{"$f":"'Facility Operations'!C6","v":0},{"$f":"'Facility Operations'!D6","v":0},{"$f":"SUMIFS(FactorMatrix[[UPSTREAMMATERIALSEMISSIONS]:[UPSTREAMMATERIALSEMISSIONS]], FactorMatrix[[MODE]:[MODE]], $B59, FactorMatrix[[PHASE]:[PHASE]], \"Operations\", FactorMatrix[[GHGSOURCE]:[GHGSOURCE]], $C59)*Years","v":0},{"$f":"SUMIFS(FactorMatrix[[UPSTREAMTRANSPORTEMISSIONS]:[UPSTREAMTRANSPORTEMISSIONS]], FactorMatrix[[MODE]:[MODE]], $B59, FactorMatrix[[PHASE]:[PHASE]], \"Operations\", FactorMatrix[[GHGSOURCE]:[GHGSOURCE]], $C59)*Years","v":0},{"$f":"SUMIFS(FactorMatrix[[DOWNSTREAMEMISSIONS]:[DOWNSTREAMEMISSIONS]], FactorMatrix[[MODE]:[MODE]], $B59, FactorMatrix[[PHASE]:[PHASE]], \"Operations\", FactorMatrix[[GHGSOURCE]:[GHGSOURCE]], $C59)*Years","v":0},{"$f":"$D59*E59","v":0},{"$f":"$D59*F59","v":0},{"$f":"$D59*G59","v":0}]
[3,{"$f":"'Facility Operations'!B7","v":0},{"$f":"'Facility Operations'!C7","v":0},{"$f":"'Facility Operations'!D7","v":0},{"$f":"SUMIFS(FactorMatrix[[UPSTREAMMATERIALSEMISSIONS]:[UPSTREAMMATERIALSEMISSIONS]], FactorMatrix[[MODE]:[MODE]], $B60, FactorMatrix[[PHASE]:[PHASE]], \"Operations\", FactorMatrix[[GHGSOURCE]:[GHGSOURCE]], $C60)*Years","v":0},{"$f":"SUMIFS(FactorMatrix[[UPSTREAMTRANSPORTEMISSIONS]:[UPSTREAMTRANSPORTEMISSIONS]], FactorMatrix[[MODE]:[MODE]], $B60, FactorMatrix[[PHASE]:[PHASE]], \"Operations\", FactorMatrix[[GHGSOURCE]:[GHGSOURCE]], $C60)*Years","v":0},{"$f":"SUMIFS(FactorMatrix[[DOWNSTREAMEMISSIONS]:[DOWNSTREAMEMISSIONS]], FactorMatrix[[MODE]:[MODE]], $B60, FactorMatrix[[PHASE]:[PHASE]], \"Operations\", FactorMatrix[[GHGSOURCE]:[GHGSOURCE]], $C60)*Years","v":0},0,0,{"$f":"$D60*G60","v":0},"Annual"]
[4,{"$f":"'Facility Operations'!B8","v":0},{"$f":"'Facility Operations'!C8","v":0},{"$f":"'Facility Operations'!D8","v":0},{"$f":"SUMIFS(FactorMatrix[[UPSTREAMMATERIALSEMISSIONS]:[UPSTREAMMATERIALSEMISSIONS]], FactorMatrix[[MODE]:[MODE]], $B61, FactorMatrix[[PHASE]:[PHASE]], \"Operations\", FactorMatrix[[GHGSOURCE]:[GHGSOURCE]], $C61)*Years","v":0},{"$f":"SUMIFS(FactorMatrix[[UPSTREAMTRANSPORTEMISSIONS]:[UPSTREAMTRANSPORTEMISSIONS]], FactorMatrix[[MODE]:[MODE]], $B61, FactorMatrix[[PHASE]:[PHASE]], \"Operations\", FactorMatrix[[GHGSOURCE]:[GHGSOURCE]], $C61)*Years","v":0},{"$f":"SUMIFS(FactorMatrix[[DOWNSTREAMEMISSIONS]:[DOWNSTREAMEMISSIONS]], FactorMatrix[[MODE]:[MODE]], $B61, FactorMatrix[[PHASE]:[PHASE]], \"Operations\", FactorMatrix[[GHGSOURCE]:[GHGSOURCE]], $C61)*Years","v":0},0,0,0]
[5,{"$f":"'Facility Operations'!B9","v":0},{"$f":"'Facility Operations'!C9","v":0},{"$f":"'Facility Operations'!D9","v":0},{"$f":"SUMIFS(FactorMatrix[[UPSTREAMMATERIALSEMISSIONS]:[UPSTREAMMATERIALSEMISSIONS]], FactorMatrix[[MODE]:[MODE]], $B62, FactorMatrix[[PHASE]:[PHASE]], \"Operations\", FactorMatrix[[GHGSOURCE]:[GHGSOURCE]], $C62)*Years","v":0},{"$f":"SUMIFS(FactorMatrix[[UPSTREAMTRANSPORTEMISSIONS]:[UPSTREAMTRANSPORTEMISSIONS]], FactorMatrix[[MODE]:[MODE]], $B62, FactorMatrix[[PHASE]:[PHASE]], \"Operations\", FactorMatrix[[GHGSOURCE]:[GHGSOURCE]], $C62)*Years","v":0},{"$f":"SUMIFS(FactorMatrix[[DOWNSTREAMEMISSIONS]:[DOWNSTREAMEMISSIONS]], FactorMatrix[[MODE]:[MODE]], $B62, FactorMatrix[[PHASE]:[PHASE]], \"Operations\", FactorMatrix[[GHGSOURCE]:[GHGSOURCE]], $C62)*Years","v":0},0,0,0,"UPSTREAM MATERIALS","UPSTREAM TRANSPORT","DOWNSTREAM"]
[6,{"$f":"'Facility Operations'!B10","v":0},{"$f":"'Facility Operations'!C10","v":0},{"$f":"'Facility Operations'!D10","v":0},{"$f":"SUMIFS(FactorMatrix[[UPSTREAMMATERIALSEMISSIONS]:[UPSTREAMMATERIALSEMISSIONS]], FactorMatrix[[MODE]:[MODE]], $B63, FactorMatrix[[PHASE]:[PHASE]], \"Operations\", FactorMatrix[[GHGSOURCE]:[GHGSOURCE]], $C63)*Years","v":0},{"$f":"SUMIFS(FactorMatrix[[UPSTREAMTRANSPORTEMISSIONS]:[UPSTREAMTRANSPORTEMISSIONS]], FactorMatrix[[MODE]:[MODE]], $B63, FactorMatrix[[PHASE]:[PHASE]], \"Operations\", FactorMatrix[[GHGSOURCE]:[GHGSOURCE]], $C63)*Years","v":0},{"$f":"SUMIFS(FactorMatrix[[DOWNSTREAMEMISSIONS]:[DOWNSTREAMEMISSIONS]], FactorMatrix[[MODE]:[MODE]], $B63, FactorMatrix[[PHASE]:[PHASE]], \"Operations\", FactorMatrix[[GHGSOURCE]:[GHGSOURCE]], $C63)*Years","v":0},0,0,0,{"$f":"K58/Years","v":{"$error":"#DIV/0!"}},{"$f":"L58/Years","v":{"$error":"#DIV/0!"}},{"$f":"M58/Years","v":{"$error":"#DIV/0!"}}]
[7,{"$f":"'Facility Operations'!B11","v":0},{"$f":"'Facility Operations'!C11","v":0},{"$f":"'Facility Operations'!D11","v":0},{"$f":"SUMIFS(FactorMatrix[[UPSTREAMMATERIALSEMISSIONS]:[UPSTREAMMATERIALSEMISSIONS]], FactorMatrix[[MODE]:[MODE]], $B64, FactorMatrix[[PHASE]:[PHASE]], \"Operations\", FactorMatrix[[GHGSOURCE]:[GHGSOURCE]], $C64)*Years","v":0},{"$f":"SUMIFS(FactorMatrix[[UPSTREAMTRANSPORTEMISSIONS]:[UPSTREAMTRANSPORTEMISSIONS]], FactorMatrix[[MODE]:[MODE]], $B64, FactorMatrix[[PHASE]:[PHASE]], \"Operations\", FactorMatrix[[GHGSOURCE]:[GHGSOURCE]], $C64)*Years","v":0},{"$f":"SUMIFS(FactorMatrix[[DOWNSTREAMEMISSIONS]:[DOWNSTREAMEMISSIONS]], FactorMatrix[[MODE]:[MODE]], $B64, FactorMatrix[[PHASE]:[PHASE]], \"Operations\", FactorMatrix[[GHGSOURCE]:[GHGSOURCE]], $C64)*Years","v":0},0,0,0]
[8,{"$f":"'Facility Operations'!B12","v":0},{"$f":"'Facility Operations'!C12","v":0},{"$f":"'Facility Operations'!D12","v":0},{"$f":"SUMIFS(FactorMatrix[[UPSTREAMMATERIALSEMISSIONS]:[UPSTREAMMATERIALSEMISSIONS]], FactorMatrix[[MODE]:[MODE]], $B65, FactorMatrix[[PHASE]:[PHASE]], \"Operations\", FactorMatrix[[GHGSOURCE]:[GHGSOURCE]], $C65)*Years","v":0},{"$f":"SUMIFS(FactorMatrix[[UPSTREAMTRANSPORTEMISSIONS]:[UPSTREAMTRANSPORTEMISSIONS]], FactorMatrix[[MODE]:[MODE]], $B65, FactorMatrix[[PHASE]:[PHASE]], \"Operations\", FactorMatrix[[GHGSOURCE]:[GHGSOURCE]], $C65)*Years","v":0},{"$f":"SUMIFS(FactorMatrix[[DOWNSTREAMEMISSIONS]:[DOWNSTREAMEMISSIONS]], FactorMatrix[[MODE]:[MODE]], $B65, FactorMatrix[[PHASE]:[PHASE]], \"Operations\", FactorMatrix[[GHGSOURCE]:[GHGSOURCE]], $C65)*Years","v":0},0,0,0]
[9,{"$f":"'Facility Operations'!B13","v":0},{"$f":"'Facility Operations'!C13","v":0},{"$f":"'Facility Operations'!D13","v":0},{"$f":"SUMIFS(FactorMatrix[[UPSTREAMMATERIALSEMISSIONS]:[UPSTREAMMATERIALSEMISSIONS]], FactorMatrix[[MODE]:[MODE]], $B66, FactorMatrix[[PHASE]:[PHASE]], \"Operations\", FactorMatrix[[GHGSOURCE]:[GHGSOURCE]], $C66)*Years","v":0},{"$f":"SUMIFS(FactorMatrix[[UPSTREAMTRANSPORTEMISSIONS]:[UPSTREAMTRANSPORTEMISSIONS]], FactorMatrix[[MODE]:[MODE]], $B66, FactorMatrix[[PHASE]:[PHASE]], \"Operations\", FactorMatrix[[GHGSOURCE]:[GHGSOURCE]], $C66)*Years","v":0},{"$f":"SUMIFS(FactorMatrix[[DOWNSTREAMEMISSIONS]:[DOWNSTREAMEMISSIONS]], FactorMatrix[[MODE]:[MODE]], $B66, FactorMatrix[[PHASE]:[PHASE]], \"Operations\", FactorMatrix[[GHGSOURCE]:[GHGSOURCE]], $C66)*Years","v":0},0,0,0]
[10,{"$f":"'Facility Operations'!B14","v":0},{"$f":"'Facility Operations'!C14","v":0},{"$f":"'Facility Operations'!D14","v":0},{"$f":"SUMIFS(FactorMatrix[[UPSTREAMMATERIALSEMISSIONS]:[UPSTREAMMATERIALSEMISSIONS]], FactorMatrix[[MODE]:[MODE]], $B67, FactorMatrix[[PHASE]:[PHASE]], \"Operations\", FactorMatrix[[GHGSOURCE]:[GHGSOURCE]], $C67)*Years","v":0},{"$f":"SUMIFS(FactorMatrix[[UPSTREAMTRANSPORTEMISSIONS]:[UPSTREAMTRANSPORTEMISSIONS]], FactorMatrix[[MODE]:[MODE]], $B67, FactorMatrix[[PHASE]:[PHASE]], \"Operations\", FactorMatrix[[GHGSOURCE]:[GHGSOURCE]], $C67)*Years","v":0},{"$f":"SUMIFS(FactorMatrix[[DOWNSTREAMEMISSIONS]:[DOWNSTREAMEMISSIONS]], FactorMatrix[[MODE]:[MODE]], $B67, FactorMatrix[[PHASE]:[PHASE]], \"Operations\", FactorMatrix[[GHGSOURCE]:[GHGSOURCE]], $C67)*Years","v":0},0,0,0]
[11,{"$f":"'Facility Operations'!B15","v":0},{"$f":"'Facility Operations'!C15","v":0},{"$f":"'Facility Operations'!D15","v":0},{"$f":"SUMIFS(FactorMatrix[[UPSTREAMMATERIALSEMISSIONS]:[UPSTREAMMATERIALSEMISSIONS]], FactorMatrix[[MODE]:[MODE]], $B68, FactorMatrix[[PHASE]:[PHASE]], \"Operations\", FactorMatrix[[GHGSOURCE]:[GHGSOURCE]], $C68)*Years","v":0},{"$f":"SUMIFS(FactorMatrix[[UPSTREAMTRANSPORTEMISSIONS]:[UPSTREAMTRANSPORTEMISSIONS]], FactorMatrix[[MODE]:[MODE]], $B68, FactorMatrix[[PHASE]:[PHASE]], \"Operations\", FactorMatrix[[GHGSOURCE]:[GHGSOURCE]], $C68)*Years","v":0},{"$f":"SUMIFS(FactorMatrix[[DOWNSTREAMEMISSIONS]:[DOWNSTREAMEMISSIONS]], FactorMatrix[[MODE]:[MODE]], $B68, FactorMatrix[[PHASE]:[PHASE]], \"Operations\", FactorMatrix[[GHGSOURCE]:[GHGSOURCE]], $C68)*Years","v":0},0,0,0]
[12,{"$f":"'Facility Operations'!B16","v":0},{"$f":"'Facility Operations'!C16","v":0},{"$f":"'Facility Operations'!D16","v":0},{"$f":"SUMIFS(FactorMatrix[[UPSTREAMMATERIALSEMISSIONS]:[UPSTREAMMATERIALSEMISSIONS]], FactorMatrix[[MODE]:[MODE]], $B69, FactorMatrix[[PHASE]:[PHASE]], \"Operations\", FactorMatrix[[GHGSOURCE]:[GHGSOURCE]], $C69)*Years","v":0},{"$f":"SUMIFS(FactorMatrix[[UPSTREAMTRANSPORTEMISSIONS]:[UPSTREAMTRANSPORTEMISSIONS]], FactorMatrix[[MODE]:[MODE]], $B69, FactorMatrix[[PHASE]:[PHASE]], \"Operations\", FactorMatrix[[GHGSOURCE]:[GHGSOURCE]], $C69)*Years","v":0},{"$f":"SUMIFS(FactorMatrix[[DOWNSTREAMEMISSIONS]:[DOWNSTREAMEMISSIONS]], FactorMatrix[[MODE]:[MODE]], $B69, FactorMatrix[[PHASE]:[PHASE]], \"Operations\", FactorMatrix[[GHGSOURCE]:[GHGSOURCE]], $C69)*Years","v":0},0,0,0]
[13,{"$f":"'Facility Operations'!B17","v":0},{"$f":"'Facility Operations'!C17","v":0},{"$f":"'Facility Operations'!D17","v":0},{"$f":"SUMIFS(FactorMatrix[[UPSTREAMMATERIALSEMISSIONS]:[UPSTREAMMATERIALSEMISSIONS]], FactorMatrix[[MODE]:[MODE]], $B70, FactorMatrix[[PHASE]:[PHASE]], \"Operations\", FactorMatrix[[GHGSOURCE]:[GHGSOURCE]], $C70)*Years","v":0},{"$f":"SUMIFS(FactorMatrix[[UPSTREAMTRANSPORTEMISSIONS]:[UPSTREAMTRANSPORTEMISSIONS]], FactorMatrix[[MODE]:[MODE]], $B70, FactorMatrix[[PHASE]:[PHASE]], \"Operations\", FactorMatrix[[GHGSOURCE]:[GHGSOURCE]], $C70)*Years","v":0},{"$f":"SUMIFS(FactorMatrix[[DOWNSTREAMEMISSIONS]:[DOWNSTREAMEMISSIONS]], FactorMatrix[[MODE]:[MODE]], $B70, FactorMatrix[[PHASE]:[PHASE]], \"Operations\", FactorMatrix[[GHGSOURCE]:[GHGSOURCE]], $C70)*Years","v":0},0,0,0]
[14,{"$f":"'Facility Operations'!B18","v":0},{"$f":"'Facility Operations'!C18","v":0},{"$f":"'Facility Operations'!D18","v":0},{"$f":"SUMIFS(FactorMatrix[[UPSTREAMMATERIALSEMISSIONS]:[UPSTREAMMATERIALSEMISSIONS]], FactorMatrix[[MODE]:[MODE]], $B71, FactorMatrix[[PHASE]:[PHASE]], \"Operations\", FactorMatrix[[GHGSOURCE]:[GHGSOURCE]], $C71)*Years","v":0},{"$f":"SUMIFS(FactorMatrix[[UPSTREAMTRANSPORTEMISSIONS]:[UPSTREAMTRANSPORTEMISSIONS]], FactorMatrix[[MODE]:[MODE]], $B71, FactorMatrix[[PHASE]:[PHASE]], \"Operations\", FactorMatrix[[GHGSOURCE]:[GHGSOURCE]], $C71)*Years","v":0},{"$f":"SUMIFS(FactorMatrix[[DOWNSTREAMEMISSIONS]:[DOWNSTREAMEMISSIONS]], FactorMatrix[[MODE]:[MODE]], $B71, FactorMatrix[[PHASE]:[PHASE]], \"Operations\", FactorMatrix[[GHGSOURCE]:[GHGSOURCE]], $C71)*Years","v":0},0,0,0]
[15,{"$f":"'Facility Operations'!B19","v":0},{"$f":"'Facility Operations'!C19","v":0},{"$f":"'Facility Operations'!D19","v":0},{"$f":"SUMIFS(FactorMatrix[[UPSTREAMMATERIALSEMISSIONS]:[UPSTREAMMATERIALSEMISSIONS]], FactorMatrix[[MODE]:[MODE]], $B72, FactorMatrix[[PHASE]:[PHASE]], \"Operations\", FactorMatrix[[GHGSOURCE]:[GHGSOURCE]], $C72)*Years","v":0},{"$f":"SUMIFS(FactorMatrix[[UPSTREAMTRANSPORTEMISSIONS]:[UPSTREAMTRANSPORTEMISSIONS]], FactorMatrix[[MODE]:[MODE]], $B72, FactorMatrix[[PHASE]:[PHASE]], \"Operations\", FactorMatrix[[GHGSOURCE]:[GHGSOURCE]], $C72)*Years","v":0},{"$f":"SUMIFS(FactorMatrix[[DOWNSTREAMEMISSIONS]:[DOWNSTREAMEMISSIONS]], FactorMatrix[[MODE]:[MODE]], $B72, FactorMatrix[[PHASE]:[PHASE]], \"Operations\", FactorMatrix[[GHGSOURCE]:[GHGSOURCE]], $C72)*Years","v":0},0,0,0]
[16,{"$f":"'Facility Operations'!B20","v":0},{"$f":"'Facility Operations'!C20","v":0},{"$f":"'Facility Operations'!D20","v":0},{"$f":"SUMIFS(FactorMatrix[[UPSTREAMMATERIALSEMISSIONS]:[UPSTREAMMATERIALSEMISSIONS]], FactorMatrix[[MODE]:[MODE]], $B73, FactorMatrix[[PHASE]:[PHASE]], \"Operations\", FactorMatrix[[GHGSOURCE]:[GHGSOURCE]], $C73)*Years","v":0},{"$f":"SUMIFS(FactorMatrix[[UPSTREAMTRANSPORTEMISSIONS]:[UPSTREAMTRANSPORTEMISSIONS]], FactorMatrix[[MODE]:[MODE]], $B73, FactorMatrix[[PHASE]:[PHASE]], \"Operations\", FactorMatrix[[GHGSOURCE]:[GHGSOURCE]], $C73)*Years","v":0},{"$f":"SUMIFS(FactorMatrix[[DOWNSTREAMEMISSIONS]:[DOWNSTREAMEMISSIONS]], FactorMatrix[[MODE]:[MODE]], $B73, FactorMatrix[[PHASE]:[PHASE]], \"Operations\", FactorMatrix[[GHGSOURCE]:[GHGSOURCE]], $C73)*Years","v":0},0,0,0]
[17,{"$f":"'Facility Operations'!B21","v":0},{"$f":"'Facility Operations'!C21","v":0},{"$f":"'Facility Operations'!D21","v":0},{"$f":"SUMIFS(FactorMatrix[[UPSTREAMMATERIALSEMISSIONS]:[UPSTREAMMATERIALSEMISSIONS]], FactorMatrix[[MODE]:[MODE]], $B74, FactorMatrix[[PHASE]:[PHASE]], \"Operations\", FactorMatrix[[GHGSOURCE]:[GHGSOURCE]], $C74)*Years","v":0},{"$f":"SUMIFS(FactorMatrix[[UPSTREAMTRANSPORTEMISSIONS]:[UPSTREAMTRANSPORTEMISSIONS]], FactorMatrix[[MODE]:[MODE]], $B74, FactorMatrix[[PHASE]:[PHASE]], \"Operations\", FactorMatrix[[GHGSOURCE]:[GHGSOURCE]], $C74)*Years","v":0},{"$f":"SUMIFS(FactorMatrix[[DOWNSTREAMEMISSIONS]:[DOWNSTREAMEMISSIONS]], FactorMatrix[[MODE]:[MODE]], $B74, FactorMatrix[[PHASE]:[PHASE]], \"Operations\", FactorMatrix[[GHGSOURCE]:[GHGSOURCE]], $C74)*Years","v":0},0,0,0]
[18,{"$f":"'Facility Operations'!B22","v":0},{"$f":"'Facility Operations'!C22","v":0},{"$f":"'Facility Operations'!D22","v":0},{"$f":"SUMIFS(FactorMatrix[[UPSTREAMMATERIALSEMISSIONS]:[UPSTREAMMATERIALSEMISSIONS]], FactorMatrix[[MODE]:[MODE]], $B75, FactorMatrix[[PHASE]:[PHASE]], \"Operations\", FactorMatrix[[GHGSOURCE]:[GHGSOURCE]], $C75)*Years","v":0},{"$f":"SUMIFS(FactorMatrix[[UPSTREAMTRANSPORTEMISSIONS]:[UPSTREAMTRANSPORTEMISSIONS]], FactorMatrix[[MODE]:[MODE]], $B75, FactorMatrix[[PHASE]:[PHASE]], \"Operations\", FactorMatrix[[GHGSOURCE]:[GHGSOURCE]], $C75)*Years","v":0},{"$f":"SUMIFS(FactorMatrix[[DOWNSTREAMEMISSIONS]:[DOWNSTREAMEMISSIONS]], FactorMatrix[[MODE]:[MODE]], $B75, FactorMatrix[[PHASE]:[PHASE]], \"Operations\", FactorMatrix[[GHGSOURCE]:[GHGSOURCE]], $C75)*Years","v":0},0,0,0]
[19,{"$f":"'Facility Operations'!B23","v":0},{"$f":"'Facility Operations'!C23","v":0},{"$f":"'Facility Operations'!D23","v":0},{"$f":"SUMIFS(FactorMatrix[[UPSTREAMMATERIALSEMISSIONS]:[UPSTREAMMATERIALSEMISSIONS]], FactorMatrix[[MODE]:[MODE]], $B76, FactorMatrix[[PHASE]:[PHASE]], \"Operations\", FactorMatrix[[GHGSOURCE]:[GHGSOURCE]], $C76)*Years","v":0},{"$f":"SUMIFS(FactorMatrix[[UPSTREAMTRANSPORTEMISSIONS]:[UPSTREAMTRANSPORTEMISSIONS]], FactorMatrix[[MODE]:[MODE]], $B76, FactorMatrix[[PHASE]:[PHASE]], \"Operations\", FactorMatrix[[GHGSOURCE]:[GHGSOURCE]], $C76)*Years","v":0},{"$f":"SUMIFS(FactorMatrix[[DOWNSTREAMEMISSIONS]:[DOWNSTREAMEMISSIONS]], FactorMatrix[[MODE]:[MODE]], $B76, FactorMatrix[[PHASE]:[PHASE]], \"Operations\", FactorMatrix[[GHGSOURCE]:[GHGSOURCE]], $C76)*Years","v":0},0,0,0]
[20,{"$f":"'Facility Operations'!B24","v":0},{"$f":"'Facility Operations'!C24","v":0},{"$f":"'Facility Operations'!D24","v":0},{"$f":"SUMIFS(FactorMatrix[[UPSTREAMMATERIALSEMISSIONS]:[UPSTREAMMATERIALSEMISSIONS]], FactorMatrix[[MODE]:[MODE]], $B77, FactorMatrix[[PHASE]:[PHASE]], \"Operations\", FactorMatrix[[GHGSOURCE]:[GHGSOURCE]], $C77)*Years","v":0},{"$f":"SUMIFS(FactorMatrix[[UPSTREAMTRANSPORTEMISSIONS]:[UPSTREAMTRANSPORTEMISSIONS]], FactorMatrix[[MODE]:[MODE]], $B77, FactorMatrix[[PHASE]:[PHASE]], \"Operations\", FactorMatrix[[GHGSOURCE]:[GHGSOURCE]], $C77)*Years","v":0},{"$f":"SUMIFS(FactorMatrix[[DOWNSTREAMEMISSIONS]:[DOWNSTREAMEMISSIONS]], FactorMatrix[[MODE]:[MODE]], $B77, FactorMatrix[[PHASE]:[PHASE]], \"Operations\", FactorMatrix[[GHGSOURCE]:[GHGSOURCE]], $C77)*Years","v":0},0,0,0]
[]
["Vehicle Operations",null,null,null,null,null,{"$f":"G82/Years","v":{"$error":"#DIV/0!"}},{"$f":"F82*G79","v":{"$error":"#DIV/0!"}},null,"RESULTS",null,null,"FINAL RESULTS"]
["INPUTS",null,null,null,null,null,"Factors"]
["row","Operation Mode ","Fuel Source","eGrid Subregion (if applicable)","NERC Region (Deduced from eGrid)","VMT","Upstream Materials","Upstream Transport","Downstream","UPSTREAM MATERIALS","UPSTREAM TRANSPORT","DOWNSTREAM","UPSTREAM MATERIALS","UPSTREAM TRANSPORT","DOWNSTREAM"]
[1,{"$f":"'Vehicle Operations&Maintenance'!B5","v":0},{"$f":"'Vehicle Operations&Maintenance'!C5","v":0},{"$f":"'Vehicle Operations&Maintenance'!D5","v":0},{"$f":"_xlfn.IFNA(INDEX(Dropdowns!L$3:L$31, MATCH(D82, EGridSubregions, 0)), 0)","v":0},{"$f":"'Vehicle Operations&Maintenance'!E5","v":0},{"$f":"(SUMIFS(FactorMatrix[[UPSTREAMMATERIALSEMISSIONS]:[UPSTREAMMATERIALSEMISSIONS]], FactorMatrix[[MODE]:[MODE]], $B82, FactorMatrix[[PHASE]:[PHASE]], \"Operations\", FactorMatrix[[GHGSOURCE]:[GHGSOURCE]], \"Vehicle\", FactorMatrix[[TYPE]:[TYPE]], $C82, FactorMatrix[[STATE /REGION]:[STATE /REGION]], $D82)*Years\n+\nSUMIFS(FactorMatrix[[UPSTREAMMATERIALSEMISSIONS]:[UPSTREAMMATERIALSEMISSIONS]], FactorMatrix[[MODE]:[MODE]], $B82, FactorMatrix[[PHASE]:[PHASE]], \"Operations\", FactorMatrix[[GHGSOURCE]:[GHGSOURCE]], \"Vehicle\", FactorMatrix[[TYPE]:[TYPE]], $C82, FactorMatrix[[STATE /REGION]:[STATE /REGION]], $E82)*Years)/IF(AND(D82=0, E82=0), 2, 1)","v":0},{"$f":"(SUMIFS(FactorMatrix[[UPSTREAMTRANSPORTEMISSIONS]:[UPSTREAMTRANSPORTEMISSIONS]], FactorMatrix[[MODE]:[MODE]], $B82, FactorMatrix[[PHASE]:[PHASE]], \"Operations\", FactorMatrix[[GHGSOURCE]:[GHGSOURCE]], \"Vehicle\", FactorMatrix[[TYPE]:[TYPE]], $C82, FactorMatrix[[STATE /REGION]:[STATE /REGION]], $D82)*Years\n+\nSUMIFS(FactorMatrix[[UPSTREAMTRANSPORTEMISSIONS]:[UPSTREAMTRANSPORTEMISSIONS]], FactorMatrix[[MODE]:[MODE]], $B82, FactorMatrix[[PHASE]:[PHASE]], \"Operations\", FactorMatrix[[GHGSOURCE]:[GHGSOURCE]], \"Vehicle\", FactorMatrix[[TYPE]:[TYPE]], $C82, FactorMatrix[[STATE /REGION]:[STATE /REGION]], $E82)*Years)/IF(AND(D82=0, E82=0), 2, 1)","v":0},{"$f":"(SUMIFS(FactorMatrix[[DOWNSTREAMEMISSIONS]:[DOWNSTREAMEMISSIONS]], FactorMatrix[[MODE]:[MODE]], $B82, FactorMatrix[[PHASE]:[PHASE]], \"Operations\", FactorMatrix[[GHGSOURCE]:[GHGSOURCE]], \"Vehicle\", FactorMatrix[[TYPE]:[TYPE]], $C82, FactorMatrix[[STATE /REGION]:[STATE /REGION]], $D82)*Years\n+\nSUMIFS(FactorMatrix[[DOWNSTREAMEMISSIONS]:[DOWNSTREAMEMISSIONS]], FactorMatrix[[MODE]:[MODE]], $B82, FactorMatrix[[PHASE]:[PHASE]], \"Operations\", FactorMatrix[[GHGSOURCE]:[GHGSOURCE]], \"Vehicle\", FactorMatrix[[TYPE]:[TYPE]], $C82, FactorMatrix[[STATE /REGION]:[STATE /REGION]], $E82)*Years)/IF(AND(D82=0, E82=0), 2, 1)","v":0},{"$f":"$F82*G82","v":0},{"$f":"$F82*H82","v":0},{"$f":"$F82*I82","v":0},{"$f":"SUM(J82:J101)","v":0},{"$f":"SUM(K82:K101)","v":0},{"$f":"SUM(L82:L101)","v":0}]
[2,{"$f":"'Vehicle Operations&Maintenance'!B6","v":0},{"$f":"'Vehicle Operations&Maintenance'!C6","v":0},{"$f":"'Vehicle Operations&Maintenance'!D6","v":0},{"$f":"_xlfn.IFNA(INDEX(Dropdowns!L$3:L$31, MATCH(D83, EGridSubregions, 0)), 0)","v":0},{"$f":"'Vehicle Operations&Maintenance'!E6","v":0},{"$f":"(SUMIFS(FactorMatrix[[UPSTREAMMATERIALSEMISSIONS]:[UPSTREAMMATERIALSEMISSIONS]], FactorMatrix[[MODE]:[MODE]], $B83, FactorMatrix[[PHASE]:[PHASE]], \"Operations\", FactorMatrix[[GHGSOURCE]:[GHGSOURCE]], \"Vehicle\", FactorMatrix[[TYPE]:[TYPE]], $C83, FactorMatrix[[STATE /REGION]:[STATE /REGION]], $D83)*Years\n+\nSUMIFS(FactorMatrix[[UPSTREAMMATERIALSEMISSIONS]:[UPSTREAMMATERIALSEMISSIONS]], FactorMatrix[[MODE]:[MODE]], $B83, FactorMatrix[[PHASE]:[PHASE]], \"Operations\", FactorMatrix[[GHGSOURCE]:[GHGSOURCE]], \"Vehicle\", FactorMatrix[[TYPE]:[TYPE]], $C83, FactorMatrix[[STATE /REGION]:[STATE /REGION]], $E83)*Years)/IF(AND(D83=0, E83=0), 2, 1)","v":0},{"$f":"(SUMIFS(FactorMatrix[[UPSTREAMTRANSPORTEMISSIONS]:[UPSTREAMTRANSPORTEMISSIONS]], FactorMatrix[[MODE]:[MODE]], $B83, FactorMatrix[[PHASE]:[PHASE]], \"Operations\", FactorMatrix[[GHGSOURCE]:[GHGSOURCE]], \"Vehicle\", FactorMatrix[[TYPE]:[TYPE]], $C83, FactorMatrix[[STATE /REGION]:[STATE /REGION]], $D83)*Years\n+\nSUMIFS(FactorMatrix[[UPSTREAMTRANSPORTEMISSIONS]:[UPSTREAMTRANSPORTEMISSIONS]], FactorMatrix[[MODE]:[MODE]], $B83, FactorMatrix[[PHASE]:[PHASE]], \"Operations\", FactorMatrix[[GHGSOURCE]:[GHGSOURCE]], \"Vehicle\", FactorMatrix[[TYPE]:[TYPE]], $C83, FactorMatrix[[STATE /REGION]:[STATE /REGION]], $E83)*Years)/IF(AND(D83=0, E83=0), 2, 1)","v":0},{"$f":"(SUMIFS(FactorMatrix[[DOWNSTREAMEMISSIONS]:[DOWNSTREAMEMISSIONS]], FactorMatrix[[MODE]:[MODE]], $B83, FactorMatrix[[PHASE]:[PHASE]], \"Operations\", FactorMatrix[[GHGSOURCE]:[GHGSOURCE]], \"Vehicle\", FactorMatrix[[TYPE]:[TYPE]], $C83, FactorMatrix[[STATE /REGION]:[STATE /REGION]], $D83)*Years\n+\nSUMIFS(FactorMatrix[[DOWNSTREAMEMISSIONS]:[DOWNSTREAMEMISSIONS]], FactorMatrix[[MODE]:[MODE]], $B83, FactorMatrix[[PHASE]:[PHASE]], \"Operations\", FactorMatrix[[GHGSOURCE]:[GHGSOURCE]], \"Vehicle\", FactorMatrix[[TYPE]:[TYPE]], $C83, FactorMatrix[[STATE /REGION]:[STATE /REGION]], $E83)*Years)/IF(AND(D83=0, E83=0), 2, 1)","v":0},{"$f":"$F83*G83","v":0},{"$f":"$F83*H83","v":0},{"$f":"$F83*I83","v":0}]
[3,{"$f":"'Vehicle Operations&Maintenance'!B7","v":0},{"$f":"'Vehicle Operations&Maintenance'!C7","v":0},{"$f":"'Vehicle Operations&Maintenance'!D7","v":0},{"$f":"_xlfn.IFNA(INDEX(Dropdowns!L$3:L$31, MATCH(D84, EGridSubregions, 0)), 0)","v":0},{"$f":"'Vehicle Operations&Maintenance'!E7","v":0},{"$f":"(SUMIFS(FactorMatrix[[UPSTREAMMATERIALSEMISSIONS]:[UPSTREAMMATERIALSEMISSIONS]], FactorMatrix[[MODE]:[MODE]], $B84, FactorMatrix[[PHASE]:[PHASE]], \"Operations\", FactorMatrix[[GHGSOURCE]:[GHGSOURCE]], \"Vehicle\", FactorMatrix[[TYPE]:[TYPE]], $C84, FactorMatrix[[STATE /REGION]:[STATE /REGION]], $D84)*Years\n+\nSUMIFS(FactorMatrix[[UPSTREAMMATERIALSEMISSIONS]:[UPSTREAMMATERIALSEMISSIONS]], FactorMatrix[[MODE]:[MODE]], $B84, FactorMatrix[[PHASE]:[PHASE]], \"Operations\", FactorMatrix[[GHGSOURCE]:[GHGSOURCE]], \"Vehicle\", FactorMatrix[[TYPE]:[TYPE]], $C84, FactorMatrix[[STATE /REGION]:[STATE /REGION]], $E84)*Years)/IF(AND(D84=0, E84=0), 2, 1)","v":0},{"$f":"(SUMIFS(FactorMatrix[[UPSTREAMTRANSPORTEMISSIONS]:[UPSTREAMTRANSPORTEMISSIONS]], FactorMatrix[[MODE]:[MODE]], $B84, FactorMatrix[[PHASE]:[PHASE]], \"Operations\", FactorMatrix[[GHGSOURCE]:[GHGSOURCE]], \"Vehicle\", FactorMatrix[[TYPE]:[TYPE]], $C84, FactorMatrix[[STATE /REGION]:[STATE /REGION]], $D84)*Years\n+\nSUMIFS(FactorMatrix[[UPSTREAMTRANSPORTEMISSIONS]:[UPSTREAMTRANSPORTEMISSIONS]], FactorMatrix[[MODE]:[MODE]], $B84, FactorMatrix[[PHASE]:[PHASE]], \"Operations\", FactorMatrix[[GHGSOURCE]:[GHGSOURCE]], \"Vehicle\", FactorMatrix[[TYPE]:[TYPE]], $C84, FactorMatrix[[STATE /REGION]:[STATE /REGION]], $E84)*Years)/IF(AND(D84=0, E84=0), 2, 1)","v":0},{"$f":"(SUMIFS(FactorMatrix[[DOWNSTREAMEMISSIONS]:[DOWNSTREAMEMISSIONS]], FactorMatrix[[MODE]:[MODE]], $B84, FactorMatrix[[PHASE]:[PHASE]], \"Operations\", FactorMatrix[[GHGSOURCE]:[GHGSOURCE]], \"Vehicle\", FactorMatrix[[TYPE]:[TYPE]], $C84, FactorMatrix[[STATE /REGION]:[STATE /REGION]], $D84)*Years\n+\nSUMIFS(FactorMatrix[[DOWNSTREAMEMISSIONS]:[DOWNSTREAMEMISSIONS]], FactorMatrix[[MODE]:[MODE]], $B84, FactorMatrix[[PHASE]:[PHASE]], \"Operations\", FactorMatrix[[GHGSOURCE]:[GHGSOURCE]], \"Vehicle\", FactorMatrix[[TYPE]:[TYPE]], $C84, FactorMatrix[[STATE /REGION]:[STATE /REGION]], $E84)*Years)/IF(AND(D84=0, E84=0), 2, 1)","v":0},0,0,0,"Annual"]
[4,{"$f":"'Vehicle Operations&Maintenance'!B8","v":0},{"$f":"'Vehicle Operations&Maintenance'!C8","v":0},{"$f":"'Vehicle Operations&Maintenance'!D8","v":0},{"$f":"_xlfn.IFNA(INDEX(Dropdowns!L$3:L$31, MATCH(D85, EGridSubregions, 0)), 0)","v":0},{"$f":"'Vehicle Operations&Maintenance'!E8","v":0},{"$f":"(SUMIFS(FactorMatrix[[UPSTREAMMATERIALSEMISSIONS]:[UPSTREAMMATERIALSEMISSIONS]], FactorMatrix[[MODE]:[MODE]], $B85, FactorMatrix[[PHASE]:[PHASE]], \"Operations\", FactorMatrix[[GHGSOURCE]:[GHGSOURCE]], \"Vehicle\", FactorMatrix[[TYPE]:[TYPE]], $C85, FactorMatrix[[STATE /REGION]:[STATE /REGION]], $D85)*Years\n+\nSUMIFS(FactorMatrix[[UPSTREAMMATERIALSEMISSIONS]:[UPSTREAMMATERIALSEMISSIONS]], FactorMatrix[[MODE]:[MODE]], $B85, FactorMatrix[[PHASE]:[PHASE]], \"Operations\", FactorMatrix[[GHGSOURCE]:[GHGSOURCE]], \"Vehicle\", FactorMatrix[[TYPE]:[TYPE]], $C85, FactorMatrix[[STATE /REGION]:[STATE /REGION]], $E85)*Years)/IF(AND(D85=0, E85=0), 2, 1)","v":0},{"$f":"(SUMIFS(FactorMatrix[[UPSTREAMTRANSPORTEMISSIONS]:[UPSTREAMTRANSPORTEMISSIONS]], FactorMatrix[[MODE]:[MODE]], $B85, FactorMatrix[[PHASE]:[PHASE]], \"Operations\", FactorMatrix[[GHGSOURCE]:[GHGSOURCE]], \"Vehicle\", FactorMatrix[[TYPE]:[TYPE]], $C85, FactorMatrix[[STATE /REGION]:[STATE /REGION]], $D85)*Years\n+\nSUMIFS(FactorMatrix[[UPSTREAMTRANSPORTEMISSIONS]:[UPSTREAMTRANSPORTEMISSIONS]], FactorMatrix[[MODE]:[MODE]], $B85, FactorMatrix[[PHASE]:[PHASE]], \"Operations\", FactorMatrix[[GHGSOURCE]:[GHGSOURCE]], \"Vehicle\", FactorMatrix[[TYPE]:[TYPE]], $C85, FactorMatrix[[STATE /REGION]:[STATE /REGION]], $E85)*Years)/IF(AND(D85=0, E85=0), 2, 1)","v":0},{"$f":"(SUMIFS(FactorMatrix[[DOWNSTREAMEMISSIONS]:[DOWNSTREAMEMISSIONS]], FactorMatrix[[MODE]:[MODE]], $B85, FactorMatrix[[PHASE]:[PHASE]], \"Operations\", FactorMatrix[[GHGSOURCE]:[GHGSOURCE]], \"Vehicle\", FactorMatrix[[TYPE]:[TYPE]], $C85, FactorMatrix[[STATE /REGION]:[STATE /REGION]], $D85)*Years\n+\nSUMIFS(FactorMatrix[[DOWNSTREAMEMISSIONS]:[DOWNSTREAMEMISSIONS]], FactorMatrix[[MODE]:[MODE]], $B85, FactorMatrix[[PHASE]:[PHASE]], \"Operations\", FactorMatrix[[GHGSOURCE]:[GHGSOURCE]], \"Vehicle\", FactorMatrix[[TYPE]:[TYPE]], $C85, FactorMatrix[[STATE /REGION]:[STATE /REGION]], $E85)*Years)/IF(AND(D85=0, E85=0), 2, 1)","v":0},0,0,0]
[5,{"$f":"'Vehicle Operations&Maintenance'!B9","v":0},{"$f":"'Vehicle Operations&Maintenance'!C9","v":0},{"$f":"'Vehicle Operations&Maintenance'!D9","v":0},{"$f":"_xlfn.IFNA(INDEX(Dropdowns!L$3:L$31, MATCH(D86, EGridSubregions, 0)), 0)","v":0},{"$f":"'Vehicle Operations&Maintenance'!E9","v":0},{"$f":"(SUMIFS(FactorMatrix[[UPSTREAMMATERIALSEMISSIONS]:[UPSTREAMMATERIALSEMISSIONS]], FactorMatrix[[MODE]:[MODE]], $B86, FactorMatrix[[PHASE]:[PHASE]], \"Operations\", FactorMatrix[[GHGSOURCE]:[GHGSOURCE]], \"Vehicle\", FactorMatrix[[TYPE]:[TYPE]], $C86, FactorMatrix[[STATE /REGION]:[STATE /REGION]], $D86)*Years\n+\nSUMIFS(FactorMatrix[[UPSTREAMMATERIALSEMISSIONS]:[UPSTREAMMATERIALSEMISSIONS]], FactorMatrix[[MODE]:[MODE]], $B86, FactorMatrix[[PHASE]:[PHASE]], \"Operations\", FactorMatrix[[GHGSOURCE]:[GHGSOURCE]], \"Vehicle\", FactorMatrix[[TYPE]:[TYPE]], $C86, FactorMatrix[[STATE /REGION]:[STATE /REGION]], $E86)*Years)/IF(AND(D86=0, E86=0), 2, 1)","v":0},{"$f":"(SUMIFS(FactorMatrix[[UPSTREAMTRANSPORTEMISSIONS]:[UPSTREAMTRANSPORTEMISSIONS]], FactorMatrix[[MODE]:[MODE]], $B86, FactorMatrix[[PHASE]:[PHASE]], \"Operations\", FactorMatrix[[GHGSOURCE]:[GHGSOURCE]], \"Vehicle\", FactorMatrix[[TYPE]:[TYPE]], $C86, FactorMatrix[[STATE /REGION]:[STATE /REGION]], $D86)*Years\n+\nSUMIFS(FactorMatrix[[UPSTREAMTRANSPORTEMISSIONS]:[UPSTREAMTRANSPORTEMISSIONS]], FactorMatrix[[MODE]:[MODE]], $B86, FactorMatrix[[PHASE]:[PHASE]], \"Operations\", FactorMatrix[[GHGSOURCE]:[GHGSOURCE]], \"Vehicle\", FactorMatrix[[TYPE]:[TYPE]], $C86, FactorMatrix[[STATE /REGION]:[STATE /REGION]], $E86)*Years)/IF(AND(D86=0, E86=0), 2, 1)","v":0},{"$f":"(SUMIFS(FactorMatrix[[DOWNSTREAMEMISSIONS]:[DOWNSTREAMEMISSIONS]], FactorMatrix[[MODE]:[MODE]], $B86, FactorMatrix[[PHASE]:[PHASE]], \"Operations\", FactorMatrix[[GHGSOURCE]:[GHGSOURCE]], \"Vehicle\", FactorMatrix[[TYPE]:[TYPE]], $C86, FactorMatrix[[STATE /REGION]:[STATE /REGION]], $D86)*Years\n+\nSUMIFS(FactorMatrix[[DOWNSTREAMEMISSIONS]:[DOWNSTREAMEMISSIONS]], FactorMatrix[[MODE]:[MODE]], $B86, FactorMatrix[[PHASE]:[PHASE]], \"Operations\", FactorMatrix[[GHGSOURCE]:[GHGSOURCE]], \"Vehicle\", FactorMatrix[[TYPE]:[TYPE]], $C86, FactorMatrix[[STATE /REGION]:[STATE /REGION]], $E86)*Years)/IF(AND(D86=0, E86=0), 2, 1)","v":0},0,0,0,"UPSTREAM MATERIALS","UPSTREAM TRANSPORT","DOWNSTREAM"]
[6,{"$f":"'Vehicle Operations&Maintenance'!B10","v":0},{"$f":"'Vehicle Operations&Maintenance'!C10","v":0},{"$f":"'Vehicle Operations&Maintenance'!D10","v":0},{"$f":"_xlfn.IFNA(INDEX(Dropdowns!L$3:L$31, MATCH(D87, EGridSubregions, 0)), 0)","v":0},{"$f":"'Vehicle Operations&Maintenance'!E10","v":0},{"$f":"(SUMIFS(FactorMatrix[[UPSTREAMMATERIALSEMISSIONS]:[UPSTREAMMATERIALSEMISSIONS]], FactorMatrix[[MODE]:[MODE]], $B87, FactorMatrix[[PHASE]:[PHASE]], \"Operations\", FactorMatrix[[GHGSOURCE]:[GHGSOURCE]], \"Vehicle\", FactorMatrix[[TYPE]:[TYPE]], $C87, FactorMatrix[[STATE /REGION]:[STATE /REGION]], $D87)*Years\n+\nSUMIFS(FactorMatrix[[UPSTREAMMATERIALSEMISSIONS]:[UPSTREAMMATERIALSEMISSIONS]], FactorMatrix[[MODE]:[MODE]], $B87, FactorMatrix[[PHASE]:[PHASE]], \"Operations\", FactorMatrix[[GHGSOURCE]:[GHGSOURCE]], \"Vehicle\", FactorMatrix[[TYPE]:[TYPE]], $C87, FactorMatrix[[STATE /REGION]:[STATE /REGION]], $E87)*Years)/IF(AND(D87=0, E87=0), 2, 1)","v":0},{"$f":"(SUMIFS(FactorMatrix[[UPSTREAMTRANSPORTEMISSIONS]:[UPSTREAMTRANSPORTEMISSIONS]], FactorMatrix[[MODE]:[MODE]], $B87, FactorMatrix[[PHASE]:[PHASE]], \"Operations\", FactorMatrix[[GHGSOURCE]:[GHGSOURCE]], \"Vehicle\", FactorMatrix[[TYPE]:[TYPE]], $C87, FactorMatrix[[STATE /REGION]:[STATE /REGION]], $D87)*Years\n+\nSUMIFS(FactorMatrix[[UPSTREAMTRANSPORTEMISSIONS]:[UPSTREAMTRANSPORTEMISSIONS]], FactorMatrix[[MODE]:[MODE]], $B87, FactorMatrix[[PHASE]:[PHASE]], \"Operations\", FactorMatrix[[GHGSOURCE]:[GHGSOURCE]], \"Vehicle\", FactorMatrix[[TYPE]:[TYPE]], $C87, FactorMatrix[[STATE /REGION]:[STATE /REGION]], $E87)*Years)/IF(AND(D87=0, E87=0), 2, 1)","v":0},{"$f":"(SUMIFS(FactorMatrix[[DOWNSTREAMEMISSIONS]:[DOWNSTREAMEMISSIONS]], FactorMatrix[[MODE]:[MODE]], $B87, FactorMatrix[[PHASE]:[PHASE]], \"Operations\", FactorMatrix[[GHGSOURCE]:[GHGSOURCE]], \"Vehicle\", FactorMatrix[[TYPE]:[TYPE]], $C87, FactorMatrix[[STATE /REGION]:[STATE /REGION]], $D87)*Years\n+\nSUMIFS(FactorMatrix[[DOWNSTREAMEMISSIONS]:[DOWNSTREAMEMISSIONS]], FactorMatrix[[MODE]:[MODE]], $B87, FactorMatrix[[PHASE]:[PHASE]], \"Operations\", FactorMatrix[[GHGSOURCE]:[GHGSOURCE]], \"Vehicle\", FactorMatrix[[TYPE]:[TYPE]], $C87, FactorMatrix[[STATE /REGION]:[STATE /REGION]], $E87)*Years)/IF(AND(D87=0, E87=0), 2, 1)","v":0},0,0,0,{"$f":"M82/Years","v":{"$error":"#DIV/0!"}},{"$f":"N82/Years","v":{"$error":"#DIV/0!"}},{"$f":"O82/Years","v":{"$error":"#DIV/0!"}}]
[7,{"$f":"'Vehicle Operations&Maintenance'!B11","v":0},{"$f":"'Vehicle Operations&Maintenance'!C11","v":0},{"$f":"'Vehicle Operations&Maintenance'!D11","v":0},{"$f":"_xlfn.IFNA(INDEX(Dropdowns!L$3:L$31, MATCH(D88, EGridSubregions, 0)), 0)","v":0},{"$f":"'Vehicle Operations&Maintenance'!E11","v":0},{"$f":"(SUMIFS(FactorMatrix[[UPSTREAMMATERIALSEMISSIONS]:[UPSTREAMMATERIALSEMISSIONS]], FactorMatrix[[MODE]:[MODE]], $B88, FactorMatrix[[PHASE]:[PHASE]], \"Operations\", FactorMatrix[[GHGSOURCE]:[GHGSOURCE]], \"Vehicle\", FactorMatrix[[TYPE]:[TYPE]], $C88, FactorMatrix[[STATE /REGION]:[STATE /REGION]], $D88)*Years\n+\nSUMIFS(FactorMatrix[[UPSTREAMMATERIALSEMISSIONS]:[UPSTREAMMATERIALSEMISSIONS]], FactorMatrix[[MODE]:[MODE]], $B88, FactorMatrix[[PHASE]:[PHASE]], \"Operations\", FactorMatrix[[GHGSOURCE]:[GHGSOURCE]], \"Vehicle\", FactorMatrix[[TYPE]:[TYPE]], $C88, FactorMatrix[[STATE /REGION]:[STATE /REGION]], $E88)*Years)/IF(AND(D88=0, E88=0), 2, 1)","v":0},{"$f":"(SUMIFS(FactorMatrix[[UPSTREAMTRANSPORTEMISSIONS]:[UPSTREAMTRANSPORTEMISSIONS]], FactorMatrix[[MODE]:[MODE]], $B88, FactorMatrix[[PHASE]:[PHASE]], \"Operations\", FactorMatrix[[GHGSOURCE]:[GHGSOURCE]], \"Vehicle\", FactorMatrix[[TYPE]:[TYPE]], $C88, FactorMatrix[[STATE /REGION]:[STATE /REGION]], $D88)*Years\n+\nSUMIFS(FactorMatrix[[UPSTREAMTRANSPORTEMISSIONS]:[UPSTREAMTRANSPORTEMISSIONS]], FactorMatrix[[MODE]:[MODE]], $B88, FactorMatrix[[PHASE]:[PHASE]], \"Operations\", FactorMatrix[[GHGSOURCE]:[GHGSOURCE]], \"Vehicle\", FactorMatrix[[TYPE]:[TYPE]], $C88, FactorMatrix[[STATE /REGION]:[STATE /REGION]], $E88)*Years)/IF(AND(D88=0, E88=0), 2, 1)","v":0},{"$f":"(SUMIFS(FactorMatrix[[DOWNSTREAMEMISSIONS]:[DOWNSTREAMEMISSIONS]], FactorMatrix[[MODE]:[MODE]], $B88, FactorMatrix[[PHASE]:[PHASE]], \"Operations\", FactorMatrix[[GHGSOURCE]:[GHGSOURCE]], \"Vehicle\", FactorMatrix[[TYPE]:[TYPE]], $C88, FactorMatrix[[STATE /REGION]:[STATE /REGION]], $D88)*Years\n+\nSUMIFS(FactorMatrix[[DOWNSTREAMEMISSIONS]:[DOWNSTREAMEMISSIONS]], FactorMatrix[[MODE]:[MODE]], $B88, FactorMatrix[[PHASE]:[PHASE]], \"Operations\", FactorMatrix[[GHGSOURCE]:[GHGSOURCE]], \"Vehicle\", FactorMatrix[[TYPE]:[TYPE]], $C88, FactorMatrix[[STATE /REGION]:[STATE /REGION]], $E88)*Years)/IF(AND(D88=0, E88=0), 2, 1)","v":0},0,0,0]
[8,{"$f":"'Vehicle Operations&Maintenance'!B12","v":0},{"$f":"'Vehicle Operations&Maintenance'!C12","v":0},{"$f":"'Vehicle Operations&Maintenance'!D12","v":0},{"$f":"_xlfn.IFNA(INDEX(Dropdowns!L$3:L$31, MATCH(D89, EGridSubregions, 0)), 0)","v":0},{"$f":"'Vehicle Operations&Maintenance'!E12","v":0},{"$f":"(SUMIFS(FactorMatrix[[UPSTREAMMATERIALSEMISSIONS]:[UPSTREAMMATERIALSEMISSIONS]], FactorMatrix[[MODE]:[MODE]], $B89, FactorMatrix[[PHASE]:[PHASE]], \"Operations\", FactorMatrix[[GHGSOURCE]:[GHGSOURCE]], \"Vehicle\", FactorMatrix[[TYPE]:[TYPE]], $C89, FactorMatrix[[STATE /REGION]:[STATE /REGION]], $D89)*Years\n+\nSUMIFS(FactorMatrix[[UPSTREAMMATERIALSEMISSIONS]:[UPSTREAMMATERIALSEMISSIONS]], FactorMatrix[[MODE]:[MODE]], $B89, FactorMatrix[[PHASE]:[PHASE]], \"Operations\", FactorMatrix[[GHGSOURCE]:[GHGSOURCE]], \"Vehicle\", FactorMatrix[[TYPE]:[TYPE]], $C89, FactorMatrix[[STATE /REGION]:[STATE /REGION]], $E89)*Years)/IF(AND(D89=0, E89=0), 2, 1)","v":0},{"$f":"(SUMIFS(FactorMatrix[[UPSTREAMTRANSPORTEMISSIONS]:[UPSTREAMTRANSPORTEMISSIONS]], FactorMatrix[[MODE]:[MODE]], $B89, FactorMatrix[[PHASE]:[PHASE]], \"Operations\", FactorMatrix[[GHGSOURCE]:[GHGSOURCE]], \"Vehicle\", FactorMatrix[[TYPE]:[TYPE]], $C89, FactorMatrix[[STATE /REGION]:[STATE /REGION]], $D89)*Years\n+\nSUMIFS(FactorMatrix[[UPSTREAMTRANSPORTEMISSIONS]:[UPSTREAMTRANSPORTEMISSIONS]], FactorMatrix[[MODE]:[MODE]], $B89, FactorMatrix[[PHASE]:[PHASE]], \"Operations\", FactorMatrix[[GHGSOURCE]:[GHGSOURCE]], \"Vehicle\", FactorMatrix[[TYPE]:[TYPE]], $C89, FactorMatrix[[STATE /REGION]:[STATE /REGION]], $E89)*Years)/IF(AND(D89=0, E89=0), 2, 1)","v":0},{"$f":"(SUMIFS(FactorMatrix[[DOWNSTREAMEMISSIONS]:[DOWNSTREAMEMISSIONS]], FactorMatrix[[MODE]:[MODE]], $B89, FactorMatrix[[PHASE]:[PHASE]], \"Operations\", FactorMatrix[[GHGSOURCE]:[GHGSOURCE]], \"Vehicle\", FactorMatrix[[TYPE]:[TYPE]], $C89, FactorMatrix[[STATE /REGION]:[STATE /REGION]], $D89)*Years\n+\nSUMIFS(FactorMatrix[[DOWNSTREAMEMISSIONS]:[DOWNSTREAMEMISSIONS]], FactorMatrix[[MODE]:[MODE]], $B89, FactorMatrix[[PHASE]:[PHASE]], \"Operations\", FactorMatrix[[GHGSOURCE]:[GHGSOURCE]], \"Vehicle\", FactorMatrix[[TYPE]:[TYPE]], $C89, FactorMatrix[[STATE /REGION]:[STATE /REGION]], $E89)*Years)/IF(AND(D89=0, E89=0), 2, 1)","v":0},0,0,0]
[9,{"$f":"'Vehicle Operations&Maintenance'!B13","v":0},{"$f":"'Vehicle Operations&Maintenance'!C13","v":0},{"$f":"'Vehicle Operations&Maintenance'!D13","v":0},{"$f":"_xlfn.IFNA(INDEX(Dropdowns!L$3:L$31, MATCH(D90, EGridSubregions, 0)), 0)","v":0},{"$f":"'Vehicle Operations&Maintenance'!E13","v":0},{"$f":"(SUMIFS(FactorMatrix[[UPSTREAMMATERIALSEMISSIONS]:[UPSTREAMMATERIALSEMISSIONS]], FactorMatrix[[MODE]:[MODE]], $B90, FactorMatrix[[PHASE]:[PHASE]], \"Operations\", FactorMatrix[[GHGSOURCE]:[GHGSOURCE]], \"Vehicle\", FactorMatrix[[TYPE]:[TYPE]], $C90, FactorMatrix[[STATE /REGION]:[STATE /REGION]], $D90)*Years\n+\nSUMIFS(FactorMatrix[[UPSTREAMMATERIALSEMISSIONS]:[UPSTREAMMATERIALSEMISSIONS]], FactorMatrix[[MODE]:[MODE]], $B90, FactorMatrix[[PHASE]:[PHASE]], \"Operations\", FactorMatrix[[GHGSOURCE]:[GHGSOURCE]], \"Vehicle\", FactorMatrix[[TYPE]:[TYPE]], $C90, FactorMatrix[[STATE /REGION]:[STATE /REGION]], $E90)*Years)/IF(AND(D90=0, E90=0), 2, 1)","v":0},{"$f":"(SUMIFS(FactorMatrix[[UPSTREAMTRANSPORTEMISSIONS]:[UPSTREAMTRANSPORTEMISSIONS]], FactorMatrix[[MODE]:[MODE]], $B90, FactorMatrix[[PHASE]:[PHASE]], \"Operations\", FactorMatrix[[GHGSOURCE]:[GHGSOURCE]], \"Vehicle\", FactorMatrix[[TYPE]:[TYPE]], $C90, FactorMatrix[[STATE /REGION]:[STATE /REGION]], $D90)*Years\n+\nSUMIFS(FactorMatrix[[UPSTREAMTRANSPORTEMISSIONS]:[UPSTREAMTRANSPORTEMISSIONS]], FactorMatrix[[MODE]:[MODE]], $B90, FactorMatrix[[PHASE]:[PHASE]], \"Operations\", FactorMatrix[[GHGSOURCE]:[GHGSOURCE]], \"Vehicle\", FactorMatrix[[TYPE]:[TYPE]], $C90, FactorMatrix[[STATE /REGION]:[STATE /REGION]], $E90)*Years)/IF(AND(D90=0, E90=0), 2, 1)","v":0},{"$f":"(SUMIFS(FactorMatrix[[DOWNSTREAMEMISSIONS]:[DOWNSTREAMEMISSIONS]], FactorMatrix[[MODE]:[MODE]], $B90, FactorMatrix[[PHASE]:[PHASE]], \"Operations\", FactorMatrix[[GHGSOURCE]:[GHGSOURCE]], \"Vehicle\", FactorMatrix[[TYPE]:[TYPE]], $C90, FactorMatrix[[STATE /REGION]:[STATE /REGION]], $D90)*Years\n+\nSUMIFS(FactorMatrix[[DOWNSTREAMEMISSIONS]:[DOWNSTREAMEMISSIONS]], FactorMatrix[[MODE]:[MODE]], $B90, FactorMatrix[[PHASE]:[PHASE]], \"Operations\", FactorMatrix[[GHGSOURCE]:[GHGSOURCE]], \"Vehicle\", FactorMatrix[[TYPE]:[TYPE]], $C90, FactorMatrix[[STATE /REGION]:[STATE /REGION]], $E90)*Years)/IF(AND(D90=0, E90=0), 2, 1)","v":0},0,0,0]
[10,{"$f":"'Vehicle Operations&Maintenance'!B14","v":0},{"$f":"'Vehicle Operations&Maintenance'!C14","v":0},{"$f":"'Vehicle Operations&Maintenance'!D14","v":0},{"$f":"_xlfn.IFNA(INDEX(Dropdowns!L$3:L$31, MATCH(D91, EGridSubregions, 0)), 0)","v":0},{"$f":"'Vehicle Operations&Maintenance'!E14","v":0},{"$f":"(SUMIFS(FactorMatrix[[UPSTREAMMATERIALSEMISSIONS]:[UPSTREAMMATERIALSEMISSIONS]], FactorMatrix[[MODE]:[MODE]], $B91, FactorMatrix[[PHASE]:[PHASE]], \"Operations\", FactorMatrix[[GHGSOURCE]:[GHGSOURCE]], \"Vehicle\", FactorMatrix[[TYPE]:[TYPE]], $C91, FactorMatrix[[STATE /REGION]:[STATE /REGION]], $D91)*Years\n+\nSUMIFS(FactorMatrix[[UPSTREAMMATERIALSEMISSIONS]:[UPSTREAMMATERIALSEMISSIONS]], FactorMatrix[[MODE]:[MODE]], $B91, FactorMatrix[[PHASE]:[PHASE]], \"Operations\", FactorMatrix[[GHGSOURCE]:[GHGSOURCE]], \"Vehicle\", FactorMatrix[[TYPE]:[TYPE]], $C91, FactorMatrix[[STATE /REGION]:[STATE /REGION]], $E91)*Years)/IF(AND(D91=0, E91=0), 2, 1)","v":0},{"$f":"(SUMIFS(FactorMatrix[[UPSTREAMTRANSPORTEMISSIONS]:[UPSTREAMTRANSPORTEMISSIONS]], FactorMatrix[[MODE]:[MODE]], $B91, FactorMatrix[[PHASE]:[PHASE]], \"Operations\", FactorMatrix[[GHGSOURCE]:[GHGSOURCE]], \"Vehicle\", FactorMatrix[[TYPE]:[TYPE]], $C91, FactorMatrix[[STATE /REGION]:[STATE /REGION]], $D91)*Years\n+\nSUMIFS(FactorMatrix[[UPSTREAMTRANSPORTEMISSIONS]:[UPSTREAMTRANSPORTEMISSIONS]], FactorMatrix[[MODE]:[MODE]], $B91, FactorMatrix[[PHASE]:[PHASE]], \"Operations\", FactorMatrix[[GHGSOURCE]:[GHGSOURCE]], \"Vehicle\", FactorMatrix[[TYPE]:[TYPE]], $C91, FactorMatrix[[STATE /REGION]:[STATE /REGION]], $E91)*Years)/IF(AND(D91=0, E91=0), 2, 1)","v":0},{"$f":"(SUMIFS(FactorMatrix[[DOWNSTREAMEMISSIONS]:[DOWNSTREAMEMISSIONS]], FactorMatrix[[MODE]:[MODE]], $B91, FactorMatrix[[PHASE]:[PHASE]], \"Operations\", FactorMatrix[[GHGSOURCE]:[GHGSOURCE]], \"Vehicle\", FactorMatrix[[TYPE]:[TYPE]], $C91, FactorMatrix[[STATE /REGION]:[STATE /REGION]], $D91)*Years\n+\nSUMIFS(FactorMatrix[[DOWNSTREAMEMISSIONS]:[DOWNSTREAMEMISSIONS]], FactorMatrix[[MODE]:[MODE]], $B91, FactorMatrix[[PHASE]:[PHASE]], \"Operations\", FactorMatrix[[GHGSOURCE]:[GHGSOURCE]], \"Vehicle\", FactorMatrix[[TYPE]:[TYPE]], $C91, FactorMatrix[[STATE /REGION]:[STATE /REGION]], $E91)*Years)/IF(AND(D91=0, E91=0), 2, 1)","v":0},0,0,0]
[11,{"$f":"'Vehicle Operations&Maintenance'!B15","v":0},{"$f":"'Vehicle Operations&Maintenance'!C15","v":0},{"$f":"'Vehicle Operations&Maintenance'!D15","v":0},{"$f":"_xlfn.IFNA(INDEX(Dropdowns!L$3:L$31, MATCH(D92, EGridSubregions, 0)), 0)","v":0},{"$f":"'Vehicle Operations&Maintenance'!E15","v":0},{"$f":"(SUMIFS(FactorMatrix[[UPSTREAMMATERIALSEMISSIONS]:[UPSTREAMMATERIALSEMISSIONS]], FactorMatrix[[MODE]:[MODE]], $B92, FactorMatrix[[PHASE]:[PHASE]], \"Operations\", FactorMatrix[[GHGSOURCE]:[GHGSOURCE]], \"Vehicle\", FactorMatrix[[TYPE]:[TYPE]], $C92, FactorMatrix[[STATE /REGION]:[STATE /REGION]], $D92)*Years\n+\nSUMIFS(FactorMatrix[[UPSTREAMMATERIALSEMISSIONS]:[UPSTREAMMATERIALSEMISSIONS]], FactorMatrix[[MODE]:[MODE]], $B92, FactorMatrix[[PHASE]:[PHASE]], \"Operations\", FactorMatrix[[GHGSOURCE]:[GHGSOURCE]], \"Vehicle\", FactorMatrix[[TYPE]:[TYPE]], $C92, FactorMatrix[[STATE /REGION]:[STATE /REGION]], $E92)*Years)/IF(AND(D92=0, E92=0), 2, 1)","v":0},{"$f":"(SUMIFS(FactorMatrix[[UPSTREAMTRANSPORTEMISSIONS]:[UPSTREAMTRANSPORTEMISSIONS]], FactorMatrix[[MODE]:[MODE]], $B92, FactorMatrix[[PHASE]:[PHASE]], \"Operations\", FactorMatrix[[GHGSOURCE]:[GHGSOURCE]], \"Vehicle\", FactorMatrix[[TYPE]:[TYPE]], $C92, FactorMatrix[[STATE /REGION]:[STATE /REGION]], $D92)*Years\n+\nSUMIFS(FactorMatrix[[UPSTREAMTRANSPORTEMISSIONS]:[UPSTREAMTRANSPORTEMISSIONS]], FactorMatrix[[MODE]:[MODE]], $B92, FactorMatrix[[PHASE]:[PHASE]], \"Operations\", FactorMatrix[[GHGSOURCE]:[GHGSOURCE]], \"Vehicle\", FactorMatrix[[TYPE]:[TYPE]], $C92, FactorMatrix[[STATE /REGION]:[STATE /REGION]], $E92)*Years)/IF(AND(D92=0, E92=0), 2, 1)","v":0},{"$f":"(SUMIFS(FactorMatrix[[DOWNSTREAMEMISSIONS]:[DOWNSTREAMEMISSIONS]], FactorMatrix[[MODE]:[MODE]], $B92, FactorMatrix[[PHASE]:[PHASE]], \"Operations\", FactorMatrix[[GHGSOURCE]:[GHGSOURCE]], \"Vehicle\", FactorMatrix[[TYPE]:[TYPE]], $C92, FactorMatrix[[STATE /REGION]:[STATE /REGION]], $D92)*Years\n+\nSUMIFS(FactorMatrix[[DOWNSTREAMEMISSIONS]:[DOWNSTREAMEMISSIONS]], FactorMatrix[[MODE]:[MODE]], $B92, FactorMatrix[[PHASE]:[PHASE]], \"Operations\", FactorMatrix[[GHGSOURCE]:[GHGSOURCE]], \"Vehicle\", FactorMatrix[[TYPE]:[TYPE]], $C92, FactorMatrix[[STATE /REGION]:[STATE /REGION]], $E92)*Years)/IF(AND(D92=0, E92=0), 2, 1)","v":0},0,0,0]
[12,{"$f":"'Vehicle Operations&Maintenance'!B16","v":0},{"$f":"'Vehicle Operations&Maintenance'!C16","v":0},{"$f":"'Vehicle Operations&Maintenance'!D16","v":0},{"$f":"_xlfn.IFNA(INDEX(Dropdowns!L$3:L$31, MATCH(D93, EGridSubregions, 0)), 0)","v":0},{"$f":"'Vehicle Operations&Maintenance'!E16","v":0},{"$f":"(SUMIFS(FactorMatrix[[UPSTREAMMATERIALSEMISSIONS]:[UPSTREAMMATERIALSEMISSIONS]], FactorMatrix[[MODE]:[MODE]], $B93, FactorMatrix[[PHASE]:[PHASE]], \"Operations\", FactorMatrix[[GHGSOURCE]:[GHGSOURCE]], \"Vehicle\", FactorMatrix[[TYPE]:[TYPE]], $C93, FactorMatrix[[STATE /REGION]:[STATE /REGION]], $D93)*Years\n+\nSUMIFS(FactorMatrix[[UPSTREAMMATERIALSEMISSIONS]:[UPSTREAMMATERIALSEMISSIONS]], FactorMatrix[[MODE]:[MODE]], $B93, FactorMatrix[[PHASE]:[PHASE]], \"Operations\", FactorMatrix[[GHGSOURCE]:[GHGSOURCE]], \"Vehicle\", FactorMatrix[[TYPE]:[TYPE]], $C93, FactorMatrix[[STATE /REGION]:[STATE /REGION]], $E93)*Years)/IF(AND(D93=0, E93=0), 2, 1)","v":0},{"$f":"(SUMIFS(FactorMatrix[[UPSTREAMTRANSPORTEMISSIONS]:[UPSTREAMTRANSPORTEMISSIONS]], FactorMatrix[[MODE]:[MODE]], $B93, FactorMatrix[[PHASE]:[PHASE]], \"Operations\", FactorMatrix[[GHGSOURCE]:[GHGSOURCE]], \"Vehicle\", FactorMatrix[[TYPE]:[TYPE]], $C93, FactorMatrix[[STATE /REGION]:[STATE /REGION]], $D93)*Years\n+\nSUMIFS(FactorMatrix[[UPSTREAMTRANSPORTEMISSIONS]:[UPSTREAMTRANSPORTEMISSIONS]], FactorMatrix[[MODE]:[MODE]], $B93, FactorMatrix[[PHASE]:[PHASE]], \"Operations\", FactorMatrix[[GHGSOURCE]:[GHGSOURCE]], \"Vehicle\", FactorMatrix[[TYPE]:[TYPE]], $C93, FactorMatrix[[STATE /REGION]:[STATE /REGION]], $E93)*Years)/IF(AND(D93=0, E93=0), 2, 1)","v":0},{"$f":"(SUMIFS(FactorMatrix[[DOWNSTREAMEMISSIONS]:[DOWNSTREAMEMISSIONS]], FactorMatrix[[MODE]:[MODE]], $B93, FactorMatrix[[PHASE]:[PHASE]], \"Operations\", FactorMatrix[[GHGSOURCE]:[GHGSOURCE]], \"Vehicle\", FactorMatrix[[TYPE]:[TYPE]], $C93, FactorMatrix[[STATE /REGION]:[STATE /REGION]], $D93)*Years\n+\nSUMIFS(FactorMatrix[[DOWNSTREAMEMISSIONS]:[DOWNSTREAMEMISSIONS]], FactorMatrix[[MODE]:[MODE]], $B93, FactorMatrix[[PHASE]:[PHASE]], \"Operations\", FactorMatrix[[GHGSOURCE]:[GHGSOURCE]], \"Vehicle\", FactorMatrix[[TYPE]:[TYPE]], $C93, FactorMatrix[[STATE /REGION]:[STATE /REGION]], $E93)*Years)/IF(AND(D93=0, E93=0), 2, 1)","v":0},0,0,0]
[13,{"$f":"'Vehicle Operations&Maintenance'!B17","v":0},{"$f":"'Vehicle Operations&Maintenance'!C17","v":0},{"$f":"'Vehicle Operations&Maintenance'!D17","v":0},{"$f":"_xlfn.IFNA(INDEX(Dropdowns!L$3:L$31, MATCH(D94, EGridSubregions, 0)), 0)","v":0},{"$f":"'Vehicle Operations&Maintenance'!E17","v":0},{"$f":"(SUMIFS(FactorMatrix[[UPSTREAMMATERIALSEMISSIONS]:[UPSTREAMMATERIALSEMISSIONS]], FactorMatrix[[MODE]:[MODE]], $B94, FactorMatrix[[PHASE]:[PHASE]], \"Operations\", FactorMatrix[[GHGSOURCE]:[GHGSOURCE]], \"Vehicle\", FactorMatrix[[TYPE]:[TYPE]], $C94, FactorMatrix[[STATE /REGION]:[STATE /REGION]], $D94)*Years\n+\nSUMIFS(FactorMatrix[[UPSTREAMMATERIALSEMISSIONS]:[UPSTREAMMATERIALSEMISSIONS]], FactorMatrix[[MODE]:[MODE]], $B94, FactorMatrix[[PHASE]:[PHASE]], \"Operations\", FactorMatrix[[GHGSOURCE]:[GHGSOURCE]], \"Vehicle\", FactorMatrix[[TYPE]:[TYPE]], $C94, FactorMatrix[[STATE /REGION]:[STATE /REGION]], $E94)*Years)/IF(AND(D94=0, E94=0), 2, 1)","v":0},{"$f":"(SUMIFS(FactorMatrix[[UPSTREAMTRANSPORTEMISSIONS]:[UPSTREAMTRANSPORTEMISSIONS]], FactorMatrix[[MODE]:[MODE]], $B94, FactorMatrix[[PHASE]:[PHASE]], \"Operations\", FactorMatrix[[GHGSOURCE]:[GHGSOURCE]], \"Vehicle\", FactorMatrix[[TYPE]:[TYPE]], $C94, FactorMatrix[[STATE /REGION]:[STATE /REGION]], $D94)*Years\n+\nSUMIFS(FactorMatrix[[UPSTREAMTRANSPORTEMISSIONS]:[UPSTREAMTRANSPORTEMISSIONS]], FactorMatrix[[MODE]:[MODE]], $B94, FactorMatrix[[PHASE]:[PHASE]], \"Operations\", FactorMatrix[[GHGSOURCE]:[GHGSOURCE]], \"Vehicle\", FactorMatrix[[TYPE]:[TYPE]], $C94, FactorMatrix[[STATE /REGION]:[STATE /REGION]], $E94)*Years)/IF(AND(D94=0, E94=0), 2, 1)","v":0},{"$f":"(SUMIFS(FactorMatrix[[DOWNSTREAMEMISSIONS]:[DOWNSTREAMEMISSIONS]], FactorMatrix[[MODE]:[MODE]], $B94, FactorMatrix[[PHASE]:[PHASE]], \"Operations\", FactorMatrix[[GHGSOURCE]:[GHGSOURCE]], \"Vehicle\", FactorMatrix[[TYPE]:[TYPE]], $C94, FactorMatrix[[STATE /REGION]:[STATE /REGION]], $D94)*Years\n+\nSUMIFS(FactorMatrix[[DOWNSTREAMEMISSIONS]:[DOWNSTREAMEMISSIONS]], FactorMatrix[[MODE]:[MODE]], $B94, FactorMatrix[[PHASE]:[PHASE]], \"Operations\", FactorMatrix[[GHGSOURCE]:[GHGSOURCE]], \"Vehicle\", FactorMatrix[[TYPE]:[TYPE]], $C94, FactorMatrix[[STATE /REGION]:[STATE /REGION]], $E94)*Years)/IF(AND(D94=0, E94=0), 2, 1)","v":0},0,0,0]
[14,{"$f":"'Vehicle Operations&Maintenance'!B18","v":0},{"$f":"'Vehicle Operations&Maintenance'!C18","v":0},{"$f":"'Vehicle Operations&Maintenance'!D18","v":0},{"$f":"_xlfn.IFNA(INDEX(Dropdowns!L$3:L$31, MATCH(D95, EGridSubregions, 0)), 0)","v":0},{"$f":"'Vehicle Operations&Maintenance'!E18","v":0},{"$f":"(SUMIFS(FactorMatrix[[UPSTREAMMATERIALSEMISSIONS]:[UPSTREAMMATERIALSEMISSIONS]], FactorMatrix[[MODE]:[MODE]], $B95, FactorMatrix[[PHASE]:[PHASE]], \"Operations\", FactorMatrix[[GHGSOURCE]:[GHGSOURCE]], \"Vehicle\", FactorMatrix[[TYPE]:[TYPE]], $C95, FactorMatrix[[STATE /REGION]:[STATE /REGION]], $D95)*Years\n+\nSUMIFS(FactorMatrix[[UPSTREAMMATERIALSEMISSIONS]:[UPSTREAMMATERIALSEMISSIONS]], FactorMatrix[[MODE]:[MODE]], $B95, FactorMatrix[[PHASE]:[PHASE]], \"Operations\", FactorMatrix[[GHGSOURCE]:[GHGSOURCE]], \"Vehicle\", FactorMatrix[[TYPE]:[TYPE]], $C95, FactorMatrix[[STATE /REGION]:[STATE /REGION]], $E95)*Years)/IF(AND(D95=0, E95=0), 2, 1)","v":0},{"$f":"(SUMIFS(FactorMatrix[[UPSTREAMTRANSPORTEMISSIONS]:[UPSTREAMTRANSPORTEMISSIONS]], FactorMatrix[[MODE]:[MODE]], $B95, FactorMatrix[[PHASE]:[PHASE]], \"Operations\", FactorMatrix[[GHGSOURCE]:[GHGSOURCE]], \"Vehicle\", FactorMatrix[[TYPE]:[TYPE]], $C95, FactorMatrix[[STATE /REGION]:[STATE /REGION]], $D95)*Years\n+\nSUMIFS(FactorMatrix[[UPSTREAMTRANSPORTEMISSIONS]:[UPSTREAMTRANSPORTEMISSIONS]], FactorMatrix[[MODE]:[MODE]], $B95, FactorMatrix[[PHASE]:[PHASE]], \"Operations\", FactorMatrix[[GHGSOURCE]:[GHGSOURCE]], \"Vehicle\", FactorMatrix[[TYPE]:[TYPE]], $C95, FactorMatrix[[STATE /REGION]:[STATE /REGION]], $E95)*Years)/IF(AND(D95=0, E95=0), 2, 1)","v":0},{"$f":"(SUMIFS(FactorMatrix[[DOWNSTREAMEMISSIONS]:[DOWNSTREAMEMISSIONS]], FactorMatrix[[MODE]:[MODE]], $B95, FactorMatrix[[PHASE]:[PHASE]], \"Operations\", FactorMatrix[[GHGSOURCE]:[GHGSOURCE]], \"Vehicle\", FactorMatrix[[TYPE]:[TYPE]], $C95, FactorMatrix[[STATE /REGION]:[STATE /REGION]], $D95)*Years\n+\nSUMIFS(FactorMatrix[[DOWNSTREAMEMISSIONS]:[DOWNSTREAMEMISSIONS]], FactorMatrix[[MODE]:[MODE]], $B95, FactorMatrix[[PHASE]:[PHASE]], \"Operations\", FactorMatrix[[GHGSOURCE]:[GHGSOURCE]], \"Vehicle\", FactorMatrix[[TYPE]:[TYPE]], $C95, FactorMatrix[[STATE /REGION]:[STATE /REGION]], $E95)*Years)/IF(AND(D95=0, E95=0), 2, 1)","v":0},0,0,0]
[15,{"$f":"'Vehicle Operations&Maintenance'!B20","v":0},{"$f":"'Vehicle Operations&Maintenance'!C20","v":0},{"$f":"'Vehicle Operations&Maintenance'!D20","v":0},{"$f":"_xlfn.IFNA(INDEX(Dropdowns!L$3:L$31, MATCH(D96, EGridSubregions, 0)), 0)","v":0},{"$f":"'Vehicle Operations&Maintenance'!E20","v":0},{"$f":"(SUMIFS(FactorMatrix[[UPSTREAMMATERIALSEMISSIONS]:[UPSTREAMMATERIALSEMISSIONS]], FactorMatrix[[MODE]:[MODE]], $B96, FactorMatrix[[PHASE]:[PHASE]], \"Operations\", FactorMatrix[[GHGSOURCE]:[GHGSOURCE]], \"Vehicle\", FactorMatrix[[TYPE]:[TYPE]], $C96, FactorMatrix[[STATE /REGION]:[STATE /REGION]], $D96)*Years\n+\nSUMIFS(FactorMatrix[[UPSTREAMMATERIALSEMISSIONS]:[UPSTREAMMATERIALSEMISSIONS]], FactorMatrix[[MODE]:[MODE]], $B96, FactorMatrix[[PHASE]:[PHASE]], \"Operations\", FactorMatrix[[GHGSOURCE]:[GHGSOURCE]], \"Vehicle\", FactorMatrix[[TYPE]:[TYPE]], $C96, FactorMatrix[[STATE /REGION]:[STATE /REGION]], $E96)*Years)/IF(AND(D96=0, E96=0), 2, 1)","v":0},{"$f":"(SUMIFS(FactorMatrix[[UPSTREAMTRANSPORTEMISSIONS]:[UPSTREAMTRANSPORTEMISSIONS]], FactorMatrix[[MODE]:[MODE]], $B96, FactorMatrix[[PHASE]:[PHASE]], \"Operations\", FactorMatrix[[GHGSOURCE]:[GHGSOURCE]], \"Vehicle\", FactorMatrix[[TYPE]:[TYPE]], $C96, FactorMatrix[[STATE /REGION]:[STATE /REGION]], $D96)*Years\n+\nSUMIFS(FactorMatrix[[UPSTREAMTRANSPORTEMISSIONS]:[UPSTREAMTRANSPORTEMISSIONS]], FactorMatrix[[MODE]:[MODE]], $B96, FactorMatrix[[PHASE]:[PHASE]], \"Operations\", FactorMatrix[[GHGSOURCE]:[GHGSOURCE]], \"Vehicle\", FactorMatrix[[TYPE]:[TYPE]], $C96, FactorMatrix[[STATE /REGION]:[STATE /REGION]], $E96)*Years)/IF(AND(D96=0, E96=0), 2, 1)","v":0},{"$f":"(SUMIFS(FactorMatrix[[DOWNSTREAMEMISSIONS]:[DOWNSTREAMEMISSIONS]], FactorMatrix[[MODE]:[MODE]], $B96, FactorMatrix[[PHASE]:[PHASE]], \"Operations\", FactorMatrix[[GHGSOURCE]:[GHGSOURCE]], \"Vehicle\", FactorMatrix[[TYPE]:[TYPE]], $C96, FactorMatrix[[STATE /REGION]:[STATE /REGION]], $D96)*Years\n+\nSUMIFS(FactorMatrix[[DOWNSTREAMEMISSIONS]:[DOWNSTREAMEMISSIONS]], FactorMatrix[[MODE]:[MODE]], $B96, FactorMatrix[[PHASE]:[PHASE]], \"Operations\", FactorMatrix[[GHGSOURCE]:[GHGSOURCE]], \"Vehicle\", FactorMatrix[[TYPE]:[TYPE]], $C96, FactorMatrix[[STATE /REGION]:[STATE /REGION]], $E96)*Years)/IF(AND(D96=0, E96=0), 2, 1)","v":0},0,0,0]
[16,{"$f":"'Vehicle Operations&Maintenance'!B21","v":0},{"$f":"'Vehicle Operations&Maintenance'!C21","v":0},{"$f":"'Vehicle Operations&Maintenance'!D21","v":0},{"$f":"_xlfn.IFNA(INDEX(Dropdowns!L$3:L$31, MATCH(D97, EGridSubregions, 0)), 0)","v":0},{"$f":"'Vehicle Operations&Maintenance'!E21","v":0},{"$f":"(SUMIFS(FactorMatrix[[UPSTREAMMATERIALSEMISSIONS]:[UPSTREAMMATERIALSEMISSIONS]], FactorMatrix[[MODE]:[MODE]], $B97, FactorMatrix[[PHASE]:[PHASE]], \"Operations\", FactorMatrix[[GHGSOURCE]:[GHGSOURCE]], \"Vehicle\", FactorMatrix[[TYPE]:[TYPE]], $C97, FactorMatrix[[STATE /REGION]:[STATE /REGION]], $D97)*Years\n+\nSUMIFS(FactorMatrix[[UPSTREAMMATERIALSEMISSIONS]:[UPSTREAMMATERIALSEMISSIONS]], FactorMatrix[[MODE]:[MODE]], $B97, FactorMatrix[[PHASE]:[PHASE]], \"Operations\", FactorMatrix[[GHGSOURCE]:[GHGSOURCE]], \"Vehicle\", FactorMatrix[[TYPE]:[TYPE]], $C97, FactorMatrix[[STATE /REGION]:[STATE /REGION]], $E97)*Years)/IF(AND(D97=0, E97=0), 2, 1)","v":0},{"$f":"(SUMIFS(FactorMatrix[[UPSTREAMTRANSPORTEMISSIONS]:[UPSTREAMTRANSPORTEMISSIONS]], FactorMatrix[[MODE]:[MODE]], $B97, FactorMatrix[[PHASE]:[PHASE]], \"Operations\", FactorMatrix[[GHGSOURCE]:[GHGSOURCE]], \"Vehicle\", FactorMatrix[[TYPE]:[TYPE]], $C97, FactorMatrix[[STATE /REGION]:[STATE /REGION]], $D97)*Years\n+\nSUMIFS(FactorMatrix[[UPSTREAMTRANSPORTEMISSIONS]:[UPSTREAMTRANSPORTEMISSIONS]], FactorMatrix[[MODE]:[MODE]], $B97, FactorMatrix[[PHASE]:[PHASE]], \"Operations\", FactorMatrix[[GHGSOURCE]:[GHGSOURCE]], \"Vehicle\", FactorMatrix[[TYPE]:[TYPE]], $C97, FactorMatrix[[STATE /REGION]:[STATE /REGION]], $E97)*Years)/IF(AND(D97=0, E97=0), 2, 1)","v":0},{"$f":"(SUMIFS(FactorMatrix[[DOWNSTREAMEMISSIONS]:[DOWNSTREAMEMISSIONS]], FactorMatrix[[MODE]:[MODE]], $B97, FactorMatrix[[PHASE]:[PHASE]], \"Operations\", FactorMatrix[[GHGSOURCE]:[GHGSOURCE]], \"Vehicle\", FactorMatrix[[TYPE]:[TYPE]], $C97, FactorMatrix[[STATE /REGION]:[STATE /REGION]], $D97)*Years\n+\nSUMIFS(FactorMatrix[[DOWNSTREAMEMISSIONS]:[DOWNSTREAMEMISSIONS]], FactorMatrix[[MODE]:[MODE]], $B97, FactorMatrix[[PHASE]:[PHASE]], \"Operations\", FactorMatrix[[GHGSOURCE]:[GHGSOURCE]], \"Vehicle\", FactorMatrix[[TYPE]:[TYPE]], $C97, FactorMatrix[[STATE /REGION]:[STATE /REGION]], $E97)*Years)/IF(AND(D97=0, E97=0), 2, 1)","v":0},0,0,0]
[17,{"$f":"'Vehicle Operations&Maintenance'!B22","v":0},{"$f":"'Vehicle Operations&Maintenance'!C22","v":0},{"$f":"'Vehicle Operations&Maintenance'!D22","v":0},{"$f":"_xlfn.IFNA(INDEX(Dropdowns!L$3:L$31, MATCH(D98, EGridSubregions, 0)), 0)","v":0},{"$f":"'Vehicle Operations&Maintenance'!E22","v":0},{"$f":"(SUMIFS(FactorMatrix[[UPSTREAMMATERIALSEMISSIONS]:[UPSTREAMMATERIALSEMISSIONS]], FactorMatrix[[MODE]:[MODE]], $B98, FactorMatrix[[PHASE]:[PHASE]], \"Operations\", FactorMatrix[[GHGSOURCE]:[GHGSOURCE]], \"Vehicle\", FactorMatrix[[TYPE]:[TYPE]], $C98, FactorMatrix[[STATE /REGION]:[STATE /REGION]], $D98)*Years\n+\nSUMIFS(FactorMatrix[[UPSTREAMMATERIALSEMISSIONS]:[UPSTREAMMATERIALSEMISSIONS]], FactorMatrix[[MODE]:[MODE]], $B98, FactorMatrix[[PHASE]:[PHASE]], \"Operations\", FactorMatrix[[GHGSOURCE]:[GHGSOURCE]], \"Vehicle\", FactorMatrix[[TYPE]:[TYPE]], $C98, FactorMatrix[[STATE /REGION]:[STATE /REGION]], $E98)*Years)/IF(AND(D98=0, E98=0), 2, 1)","v":0},{"$f":"(SUMIFS(FactorMatrix[[UPSTREAMTRANSPORTEMISSIONS]:[UPSTREAMTRANSPORTEMISSIONS]], FactorMatrix[[MODE]:[MODE]], $B98, FactorMatrix[[PHASE]:[PHASE]], \"Operations\", FactorMatrix[[GHGSOURCE]:[GHGSOURCE]], \"Vehicle\", FactorMatrix[[TYPE]:[TYPE]], $C98, FactorMatrix[[STATE /REGION]:[STATE /REGION]], $D98)*Years\n+\nSUMIFS(FactorMatrix[[UPSTREAMTRANSPORTEMISSIONS]:[UPSTREAMTRANSPORTEMISSIONS]], FactorMatrix[[MODE]:[MODE]], $B98, FactorMatrix[[PHASE]:[PHASE]], \"Operations\", FactorMatrix[[GHGSOURCE]:[GHGSOURCE]], \"Vehicle\", FactorMatrix[[TYPE]:[TYPE]], $C98, FactorMatrix[[STATE /REGION]:[STATE /REGION]], $E98)*Years)/IF(AND(D98=0, E98=0), 2, 1)","v":0},{"$f":"(SUMIFS(FactorMatrix[[DOWNSTREAMEMISSIONS]:[DOWNSTREAMEMISSIONS]], FactorMatrix[[MODE]:[MODE]], $B98, FactorMatrix[[PHASE]:[PHASE]], \"Operations\", FactorMatrix[[GHGSOURCE]:[GHGSOURCE]], \"Vehicle\", FactorMatrix[[TYPE]:[TYPE]], $C98, FactorMatrix[[STATE /REGION]:[STATE /REGION]], $D98)*Years\n+\nSUMIFS(FactorMatrix[[DOWNSTREAMEMISSIONS]:[DOWNSTREAMEMISSIONS]], FactorMatrix[[MODE]:[MODE]], $B98, FactorMatrix[[PHASE]:[PHASE]], \"Operations\", FactorMatrix[[GHGSOURCE]:[GHGSOURCE]], \"Vehicle\", FactorMatrix[[TYPE]:[TYPE]], $C98, FactorMatrix[[STATE /REGION]:[STATE /REGION]], $E98)*Years)/IF(AND(D98=0, E98=0), 2, 1)","v":0},0,0,0]
[18,{"$f":"'Vehicle Operations&Maintenance'!B23","v":0},{"$f":"'Vehicle Operations&Maintenance'!C23","v":0},{"$f":"'Vehicle Operations&Maintenance'!D23","v":0},{"$f":"_xlfn.IFNA(INDEX(Dropdowns!L$3:L$31, MATCH(D99, EGridSubregions, 0)), 0)","v":0},{"$f":"'Vehicle Operations&Maintenance'!E23","v":0},{"$f":"(SUMIFS(FactorMatrix[[UPSTREAMMATERIALSEMISSIONS]:[UPSTREAMMATERIALSEMISSIONS]], FactorMatrix[[MODE]:[MODE]], $B99, FactorMatrix[[PHASE]:[PHASE]], \"Operations\", FactorMatrix[[GHGSOURCE]:[GHGSOURCE]], \"Vehicle\", FactorMatrix[[TYPE]:[TYPE]], $C99, FactorMatrix[[STATE /REGION]:[STATE /REGION]], $D99)*Years\n+\nSUMIFS(FactorMatrix[[UPSTREAMMATERIALSEMISSIONS]:[UPSTREAMMATERIALSEMISSIONS]], FactorMatrix[[MODE]:[MODE]], $B99, FactorMatrix[[PHASE]:[PHASE]], \"Operations\", FactorMatrix[[GHGSOURCE]:[GHGSOURCE]], \"Vehicle\", FactorMatrix[[TYPE]:[TYPE]], $C99, FactorMatrix[[STATE /REGION]:[STATE /REGION]], $E99)*Years)/IF(AND(D99=0, E99=0), 2, 1)","v":0},{"$f":"(SUMIFS(FactorMatrix[[UPSTREAMTRANSPORTEMISSIONS]:[UPSTREAMTRANSPORTEMISSIONS]], FactorMatrix[[MODE]:[MODE]], $B99, FactorMatrix[[PHASE]:[PHASE]], \"Operations\", FactorMatrix[[GHGSOURCE]:[GHGSOURCE]], \"Vehicle\", FactorMatrix[[TYPE]:[TYPE]], $C99, FactorMatrix[[STATE /REGION]:[STATE /REGION]], $D99)*Years\n+\nSUMIFS(FactorMatrix[[UPSTREAMTRANSPORTEMISSIONS]:[UPSTREAMTRANSPORTEMISSIONS]], FactorMatrix[[MODE]:[MODE]], $B99, FactorMatrix[[PHASE]:[PHASE]], \"Operations\", FactorMatrix[[GHGSOURCE]:[GHGSOURCE]], \"Vehicle\", FactorMatrix[[TYPE]:[TYPE]], $C99, FactorMatrix[[STATE /REGION]:[STATE /REGION]], $E99)*Years)/IF(AND(D99=0, E99=0), 2, 1)","v":0},{"$f":"(SUMIFS(FactorMatrix[[DOWNSTREAMEMISSIONS]:[DOWNSTREAMEMISSIONS]], FactorMatrix[[MODE]:[MODE]], $B99, FactorMatrix[[PHASE]:[PHASE]], \"Operations\", FactorMatrix[[GHGSOURCE]:[GHGSOURCE]], \"Vehicle\", FactorMatrix[[TYPE]:[TYPE]], $C99, FactorMatrix[[STATE /REGION]:[STATE /REGION]], $D99)*Years\n+\nSUMIFS(FactorMatrix[[DOWNSTREAMEMISSIONS]:[DOWNSTREAMEMISSIONS]], FactorMatrix[[MODE]:[MODE]], $B99, FactorMatrix[[PHASE]:[PHASE]], \"Operations\", FactorMatrix[[GHGSOURCE]:[GHGSOURCE]], \"Vehicle\", FactorMatrix[[TYPE]:[TYPE]], $C99, FactorMatrix[[STATE /REGION]:[STATE /REGION]], $E99)*Years)/IF(AND(D99=0, E99=0), 2, 1)","v":0},0,0,0]
[19,{"$f":"'Vehicle Operations&Maintenance'!B24","v":0},{"$f":"'Vehicle Operations&Maintenance'!C24","v":0},{"$f":"'Vehicle Operations&Maintenance'!D24","v":0},{"$f":"_xlfn.IFNA(INDEX(Dropdowns!L$3:L$31, MATCH(D100, EGridSubregions, 0)), 0)","v":0},{"$f":"'Vehicle Operations&Maintenance'!E24","v":0},{"$f":"(SUMIFS(FactorMatrix[[UPSTREAMMATERIALSEMISSIONS]:[UPSTREAMMATERIALSEMISSIONS]], FactorMatrix[[MODE]:[MODE]], $B100, FactorMatrix[[PHASE]:[PHASE]], \"Operations\", FactorMatrix[[GHGSOURCE]:[GHGSOURCE]], \"Vehicle\", FactorMatrix[[TYPE]:[TYPE]], $C100, FactorMatrix[[STATE /REGION]:[STATE /REGION]], $D100)*Years\n+\nSUMIFS(FactorMatrix[[UPSTREAMMATERIALSEMISSIONS]:[UPSTREAMMATERIALSEMISSIONS]], FactorMatrix[[MODE]:[MODE]], $B100, FactorMatrix[[PHASE]:[PHASE]], \"Operations\", FactorMatrix[[GHGSOURCE]:[GHGSOURCE]], \"Vehicle\", FactorMatrix[[TYPE]:[TYPE]], $C100, FactorMatrix[[STATE /REGION]:[STATE /REGION]], $E100)*Years)/IF(AND(D100=0, E100=0), 2, 1)","v":0},{"$f":"(SUMIFS(FactorMatrix[[UPSTREAMTRANSPORTEMISSIONS]:[UPSTREAMTRANSPORTEMISSIONS]], FactorMatrix[[MODE]:[MODE]], $B100, FactorMatrix[[PHASE]:[PHASE]], \"Operations\", FactorMatrix[[GHGSOURCE]:[GHGSOURCE]], \"Vehicle\", FactorMatrix[[TYPE]:[TYPE]], $C100, FactorMatrix[[STATE /REGION]:[STATE /REGION]], $D100)*Years\n+\nSUMIFS(FactorMatrix[[UPSTREAMTRANSPORTEMISSIONS]:[UPSTREAMTRANSPORTEMISSIONS]], FactorMatrix[[MODE]:[MODE]], $B100, FactorMatrix[[PHASE]:[PHASE]], \"Operations\", FactorMatrix[[GHGSOURCE]:[GHGSOURCE]], \"Vehicle\", FactorMatrix[[TYPE]:[TYPE]], $C100, FactorMatrix[[STATE /REGION]:[STATE /REGION]], $E100)*Years)/IF(AND(D100=0, E100=0), 2, 1)","v":0},{"$f":"(SUMIFS(FactorMatrix[[DOWNSTREAMEMISSIONS]:[DOWNSTREAMEMISSIONS]], FactorMatrix[[MODE]:[MODE]], $B100, FactorMatrix[[PHASE]:[PHASE]], \"Operations\", FactorMatrix[[GHGSOURCE]:[GHGSOURCE]], \"Vehicle\", FactorMatrix[[TYPE]:[TYPE]], $C100, FactorMatrix[[STATE /REGION]:[STATE /REGION]], $D100)*Years\n+\nSUMIFS(FactorMatrix[[DOWNSTREAMEMISSIONS]:[DOWNSTREAMEMISSIONS]], FactorMatrix[[MODE]:[MODE]], $B100, FactorMatrix[[PHASE]:[PHASE]], \"Operations\", FactorMatrix[[GHGSOURCE]:[GHGSOURCE]], \"Vehicle\", FactorMatrix[[TYPE]:[TYPE]], $C100, FactorMatrix[[STATE /REGION]:[STATE /REGION]], $E100)*Years)/IF(AND(D100=0, E100=0), 2, 1)","v":0},0,0,0]
[20,{"$f":"'Vehicle Operations&Maintenance'!B25","v":0},{"$f":"'Vehicle Operations&Maintenance'!C25","v":0},{"$f":"'Vehicle Operations&Maintenance'!D25","v":0},{"$f":"_xlfn.IFNA(INDEX(Dropdowns!L$3:L$31, MATCH(D101, EGridSubregions, 0)), 0)","v":0},{"$f":"'Vehicle Operations&Maintenance'!E25","v":0},{"$f":"(SUMIFS(FactorMatrix[[UPSTREAMMATERIALSEMISSIONS]:[UPSTREAMMATERIALSEMISSIONS]], FactorMatrix[[MODE]:[MODE]], $B101, FactorMatrix[[PHASE]:[PHASE]], \"Operations\", FactorMatrix[[GHGSOURCE]:[GHGSOURCE]], \"Vehicle\", FactorMatrix[[TYPE]:[TYPE]], $C101, FactorMatrix[[STATE /REGION]:[STATE /REGION]], $D101)*Years\n+\nSUMIFS(FactorMatrix[[UPSTREAMMATERIALSEMISSIONS]:[UPSTREAMMATERIALSEMISSIONS]], FactorMatrix[[MODE]:[MODE]], $B101, FactorMatrix[[PHASE]:[PHASE]], \"Operations\", FactorMatrix[[GHGSOURCE]:[GHGSOURCE]], \"Vehicle\", FactorMatrix[[TYPE]:[TYPE]], $C101, FactorMatrix[[STATE /REGION]:[STATE /REGION]], $E101)*Years)/IF(AND(D101=0, E101=0), 2, 1)","v":0},{"$f":"(SUMIFS(FactorMatrix[[UPSTREAMTRANSPORTEMISSIONS]:[UPSTREAMTRANSPORTEMISSIONS]], FactorMatrix[[MODE]:[MODE]], $B101, FactorMatrix[[PHASE]:[PHASE]], \"Operations\", FactorMatrix[[GHGSOURCE]:[GHGSOURCE]], \"Vehicle\", FactorMatrix[[TYPE]:[TYPE]], $C101, FactorMatrix[[STATE /REGION]:[STATE /REGION]], $D101)*Years\n+\nSUMIFS(FactorMatrix[[UPSTREAMTRANSPORTEMISSIONS]:[UPSTREAMTRANSPORTEMISSIONS]], FactorMatrix[[MODE]:[MODE]], $B101, FactorMatrix[[PHASE]:[PHASE]], \"Operations\", FactorMatrix[[GHGSOURCE]:[GHGSOURCE]], \"Vehicle\", FactorMatrix[[TYPE]:[TYPE]], $C101, FactorMatrix[[STATE /REGION]:[STATE /REGION]], $E101)*Years)/IF(AND(D101=0, E101=0), 2, 1)","v":0},{"$f":"(SUMIFS(FactorMatrix[[DOWNSTREAMEMISSIONS]:[DOWNSTREAMEMISSIONS]], FactorMatrix[[MODE]:[MODE]], $B101, FactorMatrix[[PHASE]:[PHASE]], \"Operations\", FactorMatrix[[GHGSOURCE]:[GHGSOURCE]], \"Vehicle\", FactorMatrix[[TYPE]:[TYPE]], $C101, FactorMatrix[[STATE /REGION]:[STATE /REGION]], $D101)*Years\n+\nSUMIFS(FactorMatrix[[DOWNSTREAMEMISSIONS]:[DOWNSTREAMEMISSIONS]], FactorMatrix[[MODE]:[MODE]], $B101, FactorMatrix[[PHASE]:[PHASE]], \"Operations\", FactorMatrix[[GHGSOURCE]:[GHGSOURCE]], \"Vehicle\", FactorMatrix[[TYPE]:[TYPE]], $C101, FactorMatrix[[STATE /REGION]:[STATE /REGION]], $E101)*Years)/IF(AND(D101=0, E101=0), 2, 1)","v":0},0,0,0]
[]
["Vehicle Maintenance",null,null,null,null,null,"RESULTS",null,null,"FINAL RESULTS"]
["INPUTS"]
["row","Operation Mode ","VMT","Upstream Materials","Upstream Transport","Downstream","UPSTREAM MATERIALS","UPSTREAM TRANSPORT","DOWNSTREAM","UPSTREAM MATERIALS","UPSTREAM TRANSPORT","DOWNSTREAM"]
[1,{"$f":"B82","v":0},{"$f":"F82","v":0},{"$f":" SUMIFS(FactorMatrix[[UPSTREAMMATERIALSEMISSIONS]:[UPSTREAMMATERIALSEMISSIONS]], FactorMatrix[[MODE]:[MODE]], $B106, FactorMatrix[[PHASE]:[PHASE]], \"Maintenance\", FactorMatrix[[GHGSOURCE]:[GHGSOURCE]], \"Vehicle\")*Years","v":0},{"$f":" SUMIFS(FactorMatrix[[UPSTREAMTRANSPORTEMISSIONS]:[UPSTREAMTRANSPORTEMISSIONS]], FactorMatrix[[MODE]:[MODE]], $B106, FactorMatrix[[PHASE]:[PHASE]], \"Maintenance\", FactorMatrix[[GHGSOURCE]:[GHGSOURCE]], \"Vehicle\")*Years","v":0},{"$f":" SUMIFS(FactorMatrix[[DOWNSTREAMEMISSIONS]:[DOWNSTREAMEMISSIONS]], FactorMatrix[[MODE]:[MODE]], $B106, FactorMatrix[[PHASE]:[PHASE]], \"Maintenance\", FactorMatrix[[GHGSOURCE]:[GHGSOURCE]], \"Vehicle\")*Years","v":0},{"$f":"$C106*D106","v":0},{"$f":"$C106*E106","v":0},{"$f":"$C106*F106","v":0},{"$f":"SUM(G106:G125)","v":0},{"$f":"SUM(H106:H125)","v":0},{"$f":"SUM(I106:I125)","v":0}]
[2,0,{"$f":"F83","v":0},{"$f":" SUMIFS(FactorMatrix[[UPSTREAMMATERIALSEMISSIONS]:[UPSTREAMMATERIALSEMISSIONS]], FactorMatrix[[MODE]:[MODE]], $B107, FactorMatrix[[PHASE]:[PHASE]], \"Maintenance\", FactorMatrix[[GHGSOURCE]:[GHGSOURCE]], \"Vehicle\")*Years","v":0},{"$f":" SUMIFS(FactorMatrix[[UPSTREAMTRANSPORTEMISSIONS]:[UPSTREAMTRANSPORTEMISSIONS]], FactorMatrix[[MODE]:[MODE]], $B107, FactorMatrix[[PHASE]:[PHASE]], \"Maintenance\", FactorMatrix[[GHGSOURCE]:[GHGSOURCE]], \"Vehicle\")*Years","v":0},{"$f":" SUMIFS(FactorMatrix[[DOWNSTREAMEMISSIONS]:[DOWNSTREAMEMISSIONS]], FactorMatrix[[MODE]:[MODE]], $B107, FactorMatrix[[PHASE]:[PHASE]], \"Maintenance\", FactorMatrix[[GHGSOURCE]:[GHGSOURCE]], \"Vehicle\")*Years","v":0},{"$f":"$C107*D107","v":0},{"$f":"$C107*E107","v":0},{"$f":"$C107*F107","v":0}]
[3,0,{"$f":"F84","v":0},{"$f":" SUMIFS(FactorMatrix[[UPSTREAMMATERIALSEMISSIONS]:[UPSTREAMMATERIALSEMISSIONS]], FactorMatrix[[MODE]:[MODE]], $B108, FactorMatrix[[PHASE]:[PHASE]], \"Maintenance\", FactorMatrix[[GHGSOURCE]:[GHGSOURCE]], \"Vehicle\")*Years","v":0},{"$f":" SUMIFS(FactorMatrix[[UPSTREAMTRANSPORTEMISSIONS]:[UPSTREAMTRANSPORTEMISSIONS]], FactorMatrix[[MODE]:[MODE]], $B108, FactorMatrix[[PHASE]:[PHASE]], \"Maintenance\", FactorMatrix[[GHGSOURCE]:[GHGSOURCE]], \"Vehicle\")*Years","v":0},{"$f":" SUMIFS(FactorMatrix[[DOWNSTREAMEMISSIONS]:[DOWNSTREAMEMISSIONS]], FactorMatrix[[MODE]:[MODE]], $B108, FactorMatrix[[PHASE]:[PHASE]], \"Maintenance\", FactorMatrix[[GHGSOURCE]:[GHGSOURCE]], \"Vehicle\")*Years","v":0},0,0,0,"Annual"]
[4,0,{"$f":"F85","v":0},{"$f":" SUMIFS(FactorMatrix[[UPSTREAMMATERIALSEMISSIONS]:[UPSTREAMMATERIALSEMISSIONS]], FactorMatrix[[MODE]:[MODE]], $B109, FactorMatrix[[PHASE]:[PHASE]], \"Maintenance\", FactorMatrix[[GHGSOURCE]:[GHGSOURCE]], \"Vehicle\")*Years","v":0},{"$f":" SUMIFS(FactorMatrix[[UPSTREAMTRANSPORTEMISSIONS]:[UPSTREAMTRANSPORTEMISSIONS]], FactorMatrix[[MODE]:[MODE]], $B109, FactorMatrix[[PHASE]:[PHASE]], \"Maintenance\", FactorMatrix[[GHGSOURCE]:[GHGSOURCE]], \"Vehicle\")*Years","v":0},{"$f":" SUMIFS(FactorMatrix[[DOWNSTREAMEMISSIONS]:[DOWNSTREAMEMISSIONS]], FactorMatrix[[MODE]:[MODE]], $B109, FactorMatrix[[PHASE]:[PHASE]], \"Maintenance\", FactorMatrix[[GHGSOURCE]:[GHGSOURCE]], \"Vehicle\")*Years","v":0},0,0,0]
[5,0,{"$f":"F86","v":0},{"$f":" SUMIFS(FactorMatrix[[UPSTREAMMATERIALSEMISSIONS]:[UPSTREAMMATERIALSEMISSIONS]], FactorMatrix[[MODE]:[MODE]], $B110, FactorMatrix[[PHASE]:[PHASE]], \"Maintenance\", FactorMatrix[[GHGSOURCE]:[GHGSOURCE]], \"Vehicle\")*Years","v":0},{"$f":" SUMIFS(FactorMatrix[[UPSTREAMTRANSPORTEMISSIONS]:[UPSTREAMTRANSPORTEMISSIONS]], FactorMatrix[[MODE]:[MODE]], $B110, FactorMatrix[[PHASE]:[PHASE]], \"Maintenance\", FactorMatrix[[GHGSOURCE]:[GHGSOURCE]], \"Vehicle\")*Years","v":0},{"$f":" SUMIFS(FactorMatrix[[DOWNSTREAMEMISSIONS]:[DOWNSTREAMEMISSIONS]], FactorMatrix[[MODE]:[MODE]], $B110, FactorMatrix[[PHASE]:[PHASE]], \"Maintenance\", FactorMatrix[[GHGSOURCE]:[GHGSOURCE]], \"Vehicle\")*Years","v":0},0,0,0,"UPSTREAM MATERIALS","UPSTREAM TRANSPORT","DOWNSTREAM"]
[6,0,{"$f":"F87","v":0},{"$f":" SUMIFS(FactorMatrix[[UPSTREAMMATERIALSEMISSIONS]:[UPSTREAMMATERIALSEMISSIONS]], FactorMatrix[[MODE]:[MODE]], $B111, FactorMatrix[[PHASE]:[PHASE]], \"Maintenance\", FactorMatrix[[GHGSOURCE]:[GHGSOURCE]], \"Vehicle\")*Years","v":0},{"$f":" SUMIFS(FactorMatrix[[UPSTREAMTRANSPORTEMISSIONS]:[UPSTREAMTRANSPORTEMISSIONS]], FactorMatrix[[MODE]:[MODE]], $B111, FactorMatrix[[PHASE]:[PHASE]], \"Maintenance\", FactorMatrix[[GHGSOURCE]:[GHGSOURCE]], \"Vehicle\")*Years","v":0},{"$f":" SUMIFS(FactorMatrix[[DOWNSTREAMEMISSIONS]:[DOWNSTREAMEMISSIONS]], FactorMatrix[[MODE]:[MODE]], $B111, FactorMatrix[[PHASE]:[PHASE]], \"Maintenance\", FactorMatrix[[GHGSOURCE]:[GHGSOURCE]], \"Vehicle\")*Years","v":0},0,0,0,{"$f":"J106/Years","v":{"$error":"#DIV/0!"}},{"$f":"K106/Years","v":{"$error":"#DIV/0!"}},{"$f":"L106/Years","v":{"$error":"#DIV/0!"}}]
[7,0,0,{"$f":" SUMIFS(FactorMatrix[[UPSTREAMMATERIALSEMISSIONS]:[UPSTREAMMATERIALSEMISSIONS]], FactorMatrix[[MODE]:[MODE]], $B112, FactorMatrix[[PHASE]:[PHASE]], \"Maintenance\", FactorMatrix[[GHGSOURCE]:[GHGSOURCE]], \"Vehicle\")*Years","v":0},{"$f":" SUMIFS(FactorMatrix[[UPSTREAMTRANSPORTEMISSIONS]:[UPSTREAMTRANSPORTEMISSIONS]], FactorMatrix[[MODE]:[MODE]], $B112, FactorMatrix[[PHASE]:[PHASE]], \"Maintenance\", FactorMatrix[[GHGSOURCE]:[GHGSOURCE]], \"Vehicle\")*Years","v":0},{"$f":" SUMIFS(FactorMatrix[[DOWNSTREAMEMISSIONS]:[DOWNSTREAMEMISSIONS]], FactorMatrix[[MODE]:[MODE]], $B112, FactorMatrix[[PHASE]:[PHASE]], \"Maintenance\", FactorMatrix[[GHGSOURCE]:[GHGSOURCE]], \"Vehicle\")*Years","v":0},0,0,0]
[8,0,0,{"$f":" SUMIFS(FactorMatrix[[UPSTREAMMATERIALSEMISSIONS]:[UPSTREAMMATERIALSEMISSIONS]], FactorMatrix[[MODE]:[MODE]], $B113, FactorMatrix[[PHASE]:[PHASE]], \"Maintenance\", FactorMatrix[[GHGSOURCE]:[GHGSOURCE]], \"Vehicle\")*Years","v":0},{"$f":" SUMIFS(FactorMatrix[[UPSTREAMTRANSPORTEMISSIONS]:[UPSTREAMTRANSPORTEMISSIONS]], FactorMatrix[[MODE]:[MODE]], $B113, FactorMatrix[[PHASE]:[PHASE]], \"Maintenance\", FactorMatrix[[GHGSOURCE]:[GHGSOURCE]], \"Vehicle\")*Years","v":0},{"$f":" SUMIFS(FactorMatrix[[DOWNSTREAMEMISSIONS]:[DOWNSTREAMEMISSIONS]], FactorMatrix[[MODE]:[MODE]], $B113, FactorMatrix[[PHASE]:[PHASE]], \"Maintenance\", FactorMatrix[[GHGSOURCE]:[GHGSOURCE]], \"Vehicle\")*Years","v":0},0,0,0]
[9,0,0,{"$f":" SUMIFS(FactorMatrix[[UPSTREAMMATERIALSEMISSIONS]:[UPSTREAMMATERIALSEMISSIONS]], FactorMatrix[[MODE]:[MODE]], $B114, FactorMatrix[[PHASE]:[PHASE]], \"Maintenance\", FactorMatrix[[GHGSOURCE]:[GHGSOURCE]], \"Vehicle\")*Years","v":0},{"$f":" SUMIFS(FactorMatrix[[UPSTREAMTRANSPORTEMISSIONS]:[UPSTREAMTRANSPORTEMISSIONS]], FactorMatrix[[MODE]:[MODE]], $B114, FactorMatrix[[PHASE]:[PHASE]], \"Maintenance\", FactorMatrix[[GHGSOURCE]:[GHGSOURCE]], \"Vehicle\")*Years","v":0},{"$f":" SUMIFS(FactorMatrix[[DOWNSTREAMEMISSIONS]:[DOWNSTREAMEMISSIONS]], FactorMatrix[[MODE]:[MODE]], $B114, FactorMatrix[[PHASE]:[PHASE]], \"Maintenance\", FactorMatrix[[GHGSOURCE]:[GHGSOURCE]], \"Vehicle\")*Years","v":0},0,0,0]
[10,0,0,{"$f":" SUMIFS(FactorMatrix[[UPSTREAMMATERIALSEMISSIONS]:[UPSTREAMMATERIALSEMISSIONS]], FactorMatrix[[MODE]:[MODE]], $B115, FactorMatrix[[PHASE]:[PHASE]], \"Maintenance\", FactorMatrix[[GHGSOURCE]:[GHGSOURCE]], \"Vehicle\")*Years","v":0},{"$f":" SUMIFS(FactorMatrix[[UPSTREAMTRANSPORTEMISSIONS]:[UPSTREAMTRANSPORTEMISSIONS]], FactorMatrix[[MODE]:[MODE]], $B115, FactorMatrix[[PHASE]:[PHASE]], \"Maintenance\", FactorMatrix[[GHGSOURCE]:[GHGSOURCE]], \"Vehicle\")*Years","v":0},{"$f":" SUMIFS(FactorMatrix[[DOWNSTREAMEMISSIONS]:[DOWNSTREAMEMISSIONS]], FactorMatrix[[MODE]:[MODE]], $B115, FactorMatrix[[PHASE]:[PHASE]], \"Maintenance\", FactorMatrix[[GHGSOURCE]:[GHGSOURCE]], \"Vehicle\")*Years","v":0},0,0,0]
[11,0,0,{"$f":" SUMIFS(FactorMatrix[[UPSTREAMMATERIALSEMISSIONS]:[UPSTREAMMATERIALSEMISSIONS]], FactorMatrix[[MODE]:[MODE]], $B116, FactorMatrix[[PHASE]:[PHASE]], \"Maintenance\", FactorMatrix[[GHGSOURCE]:[GHGSOURCE]], \"Vehicle\")*Years","v":0},{"$f":" SUMIFS(FactorMatrix[[UPSTREAMTRANSPORTEMISSIONS]:[UPSTREAMTRANSPORTEMISSIONS]], FactorMatrix[[MODE]:[MODE]], $B116, FactorMatrix[[PHASE]:[PHASE]], \"Maintenance\", FactorMatrix[[GHGSOURCE]:[GHGSOURCE]], \"Vehicle\")*Years","v":0},{"$f":" SUMIFS(FactorMatrix[[DOWNSTREAMEMISSIONS]:[DOWNSTREAMEMISSIONS]], FactorMatrix[[MODE]:[MODE]], $B116, FactorMatrix[[PHASE]:[PHASE]], \"Maintenance\", FactorMatrix[[GHGSOURCE]:[GHGSOURCE]], \"Vehicle\")*Years","v":0},0,0,0]
[12,0,0,{"$f":" SUMIFS(FactorMatrix[[UPSTREAMMATERIALSEMISSIONS]:[UPSTREAMMATERIALSEMISSIONS]], FactorMatrix[[MODE]:[MODE]], $B117, FactorMatrix[[PHASE]:[PHASE]], \"Maintenance\", FactorMatrix[[GHGSOURCE]:[GHGSOURCE]], \"Vehicle\")*Years","v":0},{"$f":" SUMIFS(FactorMatrix[[UPSTREAMTRANSPORTEMISSIONS]:[UPSTREAMTRANSPORTEMISSIONS]], FactorMatrix[[MODE]:[MODE]], $B117, FactorMatrix[[PHASE]:[PHASE]], \"Maintenance\", FactorMatrix[[GHGSOURCE]:[GHGSOURCE]], \"Vehicle\")*Years","v":0},{"$f":" SUMIFS(FactorMatrix[[DOWNSTREAMEMISSIONS]:[DOWNSTREAMEMISSIONS]], FactorMatrix[[MODE]:[MODE]], $B117, FactorMatrix[[PHASE]:[PHASE]], \"Maintenance\", FactorMatrix[[GHGSOURCE]:[GHGSOURCE]], \"Vehicle\")*Years","v":0},0,0,0]
[13,0,0,{"$f":" SUMIFS(FactorMatrix[[UPSTREAMMATERIALSEMISSIONS]:[UPSTREAMMATERIALSEMISSIONS]], FactorMatrix[[MODE]:[MODE]], $B118, FactorMatrix[[PHASE]:[PHASE]], \"Maintenance\", FactorMatrix[[GHGSOURCE]:[GHGSOURCE]], \"Vehicle\")*Years","v":0},{"$f":" SUMIFS(FactorMatrix[[UPSTREAMTRANSPORTEMISSIONS]:[UPSTREAMTRANSPORTEMISSIONS]], FactorMatrix[[MODE]:[MODE]], $B118, FactorMatrix[[PHASE]:[PHASE]], \"Maintenance\", FactorMatrix[[GHGSOURCE]:[GHGSOURCE]], \"Vehicle\")*Years","v":0},{"$f":" SUMIFS(FactorMatrix[[DOWNSTREAMEMISSIONS]:[DOWNSTREAMEMISSIONS]], FactorMatrix[[MODE]:[MODE]], $B118, FactorMatrix[[PHASE]:[PHASE]], \"Maintenance\", FactorMatrix[[GHGSOURCE]:[GHGSOURCE]], \"Vehicle\")*Years","v":0},0,0,0]
[14,0,0,{"$f":" SUMIFS(FactorMatrix[[UPSTREAMMATERIALSEMISSIONS]:[UPSTREAMMATERIALSEMISSIONS]], FactorMatrix[[MODE]:[MODE]], $B119, FactorMatrix[[PHASE]:[PHASE]], \"Maintenance\", FactorMatrix[[GHGSOURCE]:[GHGSOURCE]], \"Vehicle\")*Years","v":0},{"$f":" SUMIFS(FactorMatrix[[UPSTREAMTRANSPORTEMISSIONS]:[UPSTREAMTRANSPORTEMISSIONS]], FactorMatrix[[MODE]:[MODE]], $B119, FactorMatrix[[PHASE]:[PHASE]], \"Maintenance\", FactorMatrix[[GHGSOURCE]:[GHGSOURCE]], \"Vehicle\")*Years","v":0},{"$f":" SUMIFS(FactorMatrix[[DOWNSTREAMEMISSIONS]:[DOWNSTREAMEMISSIONS]], FactorMatrix[[MODE]:[MODE]], $B119, FactorMatrix[[PHASE]:[PHASE]], \"Maintenance\", FactorMatrix[[GHGSOURCE]:[GHGSOURCE]], \"Vehicle\")*Years","v":0},0,0,0]
[15,0,0,{"$f":" SUMIFS(FactorMatrix[[UPSTREAMMATERIALSEMISSIONS]:[UPSTREAMMATERIALSEMISSIONS]], FactorMatrix[[MODE]:[MODE]], $B120, FactorMatrix[[PHASE]:[PHASE]], \"Maintenance\", FactorMatrix[[GHGSOURCE]:[GHGSOURCE]], \"Vehicle\")*Years","v":0},{"$f":" SUMIFS(FactorMatrix[[UPSTREAMTRANSPORTEMISSIONS]:[UPSTREAMTRANSPORTEMISSIONS]], FactorMatrix[[MODE]:[MODE]], $B120, FactorMatrix[[PHASE]:[PHASE]], \"Maintenance\", FactorMatrix[[GHGSOURCE]:[GHGSOURCE]], \"Vehicle\")*Years","v":0},{"$f":" SUMIFS(FactorMatrix[[DOWNSTREAMEMISSIONS]:[DOWNSTREAMEMISSIONS]], FactorMatrix[[MODE]:[MODE]], $B120, FactorMatrix[[PHASE]:[PHASE]], \"Maintenance\", FactorMatrix[[GHGSOURCE]:[GHGSOURCE]], \"Vehicle\")*Years","v":0},0,0,0]
[16,0,0,{"$f":" SUMIFS(FactorMatrix[[UPSTREAMMATERIALSEMISSIONS]:[UPSTREAMMATERIALSEMISSIONS]], FactorMatrix[[MODE]:[MODE]], $B121, FactorMatrix[[PHASE]:[PHASE]], \"Maintenance\", FactorMatrix[[GHGSOURCE]:[GHGSOURCE]], \"Vehicle\")*Years","v":0},{"$f":" SUMIFS(FactorMatrix[[UPSTREAMTRANSPORTEMISSIONS]:[UPSTREAMTRANSPORTEMISSIONS]], FactorMatrix[[MODE]:[MODE]], $B121, FactorMatrix[[PHASE]:[PHASE]], \"Maintenance\", FactorMatrix[[GHGSOURCE]:[GHGSOURCE]], \"Vehicle\")*Years","v":0},{"$f":" SUMIFS(FactorMatrix[[DOWNSTREAMEMISSIONS]:[DOWNSTREAMEMISSIONS]], FactorMatrix[[MODE]:[MODE]], $B121, FactorMatrix[[PHASE]:[PHASE]], \"Maintenance\", FactorMatrix[[GHGSOURCE]:[GHGSOURCE]], \"Vehicle\")*Years","v":0},0,0,0]
[17,0,0,{"$f":" SUMIFS(FactorMatrix[[UPSTREAMMATERIALSEMISSIONS]:[UPSTREAMMATERIALSEMISSIONS]], FactorMatrix[[MODE]:[MODE]], $B122, FactorMatrix[[PHASE]:[PHASE]], \"Maintenance\", FactorMatrix[[GHGSOURCE]:[GHGSOURCE]], \"Vehicle\")*Years","v":0},{"$f":" SUMIFS(FactorMatrix[[UPSTREAMTRANSPORTEMISSIONS]:[UPSTREAMTRANSPORTEMISSIONS]], FactorMatrix[[MODE]:[MODE]], $B122, FactorMatrix[[PHASE]:[PHASE]], \"Maintenance\", FactorMatrix[[GHGSOURCE]:[GHGSOURCE]], \"Vehicle\")*Years","v":0},{"$f":" SUMIFS(FactorMatrix[[DOWNSTREAMEMISSIONS]:[DOWNSTREAMEMISSIONS]], FactorMatrix[[MODE]:[MODE]], $B122, FactorMatrix[[PHASE]:[PHASE]], \"Maintenance\", FactorMatrix[[GHGSOURCE]:[GHGSOURCE]], \"Vehicle\")*Years","v":0},0,0,0]
[18,0,0,{"$f":" SUMIFS(FactorMatrix[[UPSTREAMMATERIALSEMISSIONS]:[UPSTREAMMATERIALSEMISSIONS]], FactorMatrix[[MODE]:[MODE]], $B123, FactorMatrix[[PHASE]:[PHASE]], \"Maintenance\", FactorMatrix[[GHGSOURCE]:[GHGSOURCE]], \"Vehicle\")*Years","v":0},{"$f":" SUMIFS(FactorMatrix[[UPSTREAMTRANSPORTEMISSIONS]:[UPSTREAMTRANSPORTEMISSIONS]], FactorMatrix[[MODE]:[MODE]], $B123, FactorMatrix[[PHASE]:[PHASE]], \"Maintenance\", FactorMatrix[[GHGSOURCE]:[GHGSOURCE]], \"Vehicle\")*Years","v":0},{"$f":" SUMIFS(FactorMatrix[[DOWNSTREAMEMISSIONS]:[DOWNSTREAMEMISSIONS]], FactorMatrix[[MODE]:[MODE]], $B123, FactorMatrix[[PHASE]:[PHASE]], \"Maintenance\", FactorMatrix[[GHGSOURCE]:[GHGSOURCE]], \"Vehicle\")*Years","v":0},0,0,0]
[19,0,0,{"$f":" SUMIFS(FactorMatrix[[UPSTREAMMATERIALSEMISSIONS]:[UPSTREAMMATERIALSEMISSIONS]], FactorMatrix[[MODE]:[MODE]], $B124, FactorMatrix[[PHASE]:[PHASE]], \"Maintenance\", FactorMatrix[[GHGSOURCE]:[GHGSOURCE]], \"Vehicle\")*Years","v":0},{"$f":" SUMIFS(FactorMatrix[[UPSTREAMTRANSPORTEMISSIONS]:[UPSTREAMTRANSPORTEMISSIONS]], FactorMatrix[[MODE]:[MODE]], $B124, FactorMatrix[[PHASE]:[PHASE]], \"Maintenance\", FactorMatrix[[GHGSOURCE]:[GHGSOURCE]], \"Vehicle\")*Years","v":0},{"$f":" SUMIFS(FactorMatrix[[DOWNSTREAMEMISSIONS]:[DOWNSTREAMEMISSIONS]], FactorMatrix[[MODE]:[MODE]], $B124, FactorMatrix[[PHASE]:[PHASE]], \"Maintenance\", FactorMatrix[[GHGSOURCE]:[GHGSOURCE]], \"Vehicle\")*Years","v":0},0,0,0]
[20,0,0,{"$f":" SUMIFS(FactorMatrix[[UPSTREAMMATERIALSEMISSIONS]:[UPSTREAMMATERIALSEMISSIONS]], FactorMatrix[[MODE]:[MODE]], $B125, FactorMatrix[[PHASE]:[PHASE]], \"Maintenance\", FactorMatrix[[GHGSOURCE]:[GHGSOURCE]], \"Vehicle\")*Years","v":0},{"$f":" SUMIFS(FactorMatrix[[UPSTREAMTRANSPORTEMISSIONS]:[UPSTREAMTRANSPORTEMISSIONS]], FactorMatrix[[MODE]:[MODE]], $B125, FactorMatrix[[PHASE]:[PHASE]], \"Maintenance\", FactorMatrix[[GHGSOURCE]:[GHGSOURCE]], \"Vehicle\")*Years","v":0},{"$f":" SUMIFS(FactorMatrix[[DOWNSTREAMEMISSIONS]:[DOWNSTREAMEMISSIONS]], FactorMatrix[[MODE]:[MODE]], $B125, FactorMatrix[[PHASE]:[PHASE]], \"Maintenance\", FactorMatrix[[GHGSOURCE]:[GHGSOURCE]], \"Vehicle\")*Years","v":0},0,0,0]
[]
["Displaced Emissions",null,null,null,null,null,{"$f":"G130/Years","v":{"$error":"#DIV/0!"}},null,{"$f":"I130/30","v":0},"RESULTS",null,null,"FINAL RESULTS"]
["INPUTS",null,null,null,null,null,"Factors"]
["row","Operation Mode ","Fuel Source","eGrid Subregion (if applicable)","NERC Region (Deduced from eGrid","VMT","Upstream Materials","Upstream Transport","Downstream","UPSTREAM MATERIALS","UPSTREAM TRANSPORT","DOWNSTREAM","UPSTREAM MATERIALS","UPSTREAM TRANSPORT","DOWNSTREAM"]
[1,{"$f":"'Displaced Emissions'!B5","v":0},{"$f":"'Displaced Emissions'!C5","v":0},{"$f":"'Displaced Emissions'!D5","v":0},{"$f":"_xlfn.IFNA(INDEX(Dropdowns!L$3:L$31, MATCH(D130, EGridSubregions, 0)), 0)","v":0},{"$f":"'Displaced Emissions'!E5","v":0},{"$f":"(SUMIFS(FactorMatrix[[UPSTREAMMATERIALSEMISSIONS]:[UPSTREAMMATERIALSEMISSIONS]], FactorMatrix[[MODE]:[MODE]], $B130, FactorMatrix[[PHASE]:[PHASE]], \"Operations\", FactorMatrix[[GHGSOURCE]:[GHGSOURCE]], \"Vehicle\", FactorMatrix[[TYPE]:[TYPE]], $C130, FactorMatrix[[STATE /REGION]:[STATE /REGION]], $D130)*Years\n+\nSUMIFS(FactorMatrix[[UPSTREAMMATERIALSEMISSIONS]:[UPSTREAMMATERIALSEMISSIONS]], FactorMatrix[[MODE]:[MODE]], $B130, FactorMatrix[[PHASE]:[PHASE]], \"Operations\", FactorMatrix[[GHGSOURCE]:[GHGSOURCE]], \"Vehicle\", FactorMatrix[[TYPE]:[TYPE]], $C130, FactorMatrix[[STATE /REGION]:[STATE /REGION]], $E130)*Years)/IF(AND(D130=0, E130=0), 2, 1)","v":0},{"$f":"(SUMIFS(FactorMatrix[[UPSTREAMTRANSPORTEMISSIONS]:[UPSTREAMTRANSPORTEMISSIONS]], FactorMatrix[[MODE]:[MODE]], $B130, FactorMatrix[[PHASE]:[PHASE]], \"Operations\", FactorMatrix[[GHGSOURCE]:[GHGSOURCE]], \"Vehicle\", FactorMatrix[[TYPE]:[TYPE]], $C130, FactorMatrix[[STATE /REGION]:[STATE /REGION]], $D130)*Years\n+\nSUMIFS(FactorMatrix[[UPSTREAMTRANSPORTEMISSIONS]:[UPSTREAMTRANSPORTEMISSIONS]], FactorMatrix[[MODE]:[MODE]], $B130, FactorMatrix[[PHASE]:[PHASE]], \"Operations\", FactorMatrix[[GHGSOURCE]:[GHGSOURCE]], \"Vehicle\", FactorMatrix[[TYPE]:[TYPE]], $C130, FactorMatrix[[STATE /REGION]:[STATE /REGION]], $E130)*Years)/IF(AND(D130=0, E130=0), 2, 1)","v":0},{"$f":"(SUMIFS(FactorMatrix[[DOWNSTREAMEMISSIONS]:[DOWNSTREAMEMISSIONS]], FactorMatrix[[MODE]:[MODE]], $B130, FactorMatrix[[PHASE]:[PHASE]], \"Operations\", FactorMatrix[[GHGSOURCE]:[GHGSOURCE]], \"Vehicle\", FactorMatrix[[TYPE]:[TYPE]], $C130, FactorMatrix[[STATE /REGION]:[STATE /REGION]], $D130)*Years\n+\nSUMIFS(FactorMatrix[[DOWNSTREAMEMISSIONS]:[DOWNSTREAMEMISSIONS]], FactorMatrix[[MODE]:[MODE]], $B130, FactorMatrix[[PHASE]:[PHASE]], \"Operations\", FactorMatrix[[GHGSOURCE]:[GHGSOURCE]], \"Vehicle\", FactorMatrix[[TYPE]:[TYPE]], $C130, FactorMatrix[[STATE /REGION]:[STATE /REGION]], $E130)*Years)/IF(AND(D130=0, E130=0), 2, 1)","v":0},{"$f":"$F130*G130","v":0},{"$f":"$F130*H130","v":0},{"$f":"$F130*I130","v":0},{"$f":"SUM(J130:J149)","v":0},{"$f":"SUM(K130:K149)","v":0},{"$f":"SUM(L130:L149)","v":0}]
[2,{"$f":"'Displaced Emissions'!B6","v":0},{"$f":"'Displaced Emissions'!C6","v":0},{"$f":"'Displaced Emissions'!D6","v":0},{"$f":"_xlfn.IFNA(INDEX(Dropdowns!L$3:L$31, MATCH(D131, EGridSubregions, 0)), 0)","v":0},{"$f":"'Displaced Emissions'!E6","v":0},{"$f":"(SUMIFS(FactorMatrix[[UPSTREAMMATERIALSEMISSIONS]:[UPSTREAMMATERIALSEMISSIONS]], FactorMatrix[[MODE]:[MODE]], $B131, FactorMatrix[[PHASE]:[PHASE]], \"Operations\", FactorMatrix[[GHGSOURCE]:[GHGSOURCE]], \"Vehicle\", FactorMatrix[[TYPE]:[TYPE]], $C131, FactorMatrix[[STATE /REGION]:[STATE /REGION]], $D131)*Years\n+\nSUMIFS(FactorMatrix[[UPSTREAMMATERIALSEMISSIONS]:[UPSTREAMMATERIALSEMISSIONS]], FactorMatrix[[MODE]:[MODE]], $B131, FactorMatrix[[PHASE]:[PHASE]], \"Operations\", FactorMatrix[[GHGSOURCE]:[GHGSOURCE]], \"Vehicle\", FactorMatrix[[TYPE]:[TYPE]], $C131, FactorMatrix[[STATE /REGION]:[STATE /REGION]], $E131)*Years)/IF(AND(D131=0, E131=0), 2, 1)","v":0},{"$f":"(SUMIFS(FactorMatrix[[UPSTREAMTRANSPORTEMISSIONS]:[UPSTREAMTRANSPORTEMISSIONS]], FactorMatrix[[MODE]:[MODE]], $B131, FactorMatrix[[PHASE]:[PHASE]], \"Operations\", FactorMatrix[[GHGSOURCE]:[GHGSOURCE]], \"Vehicle\", FactorMatrix[[TYPE]:[TYPE]], $C131, FactorMatrix[[STATE /REGION]:[STATE /REGION]], $D131)*Years\n+\nSUMIFS(FactorMatrix[[UPSTREAMTRANSPORTEMISSIONS]:[UPSTREAMTRANSPORTEMISSIONS]], FactorMatrix[[MODE]:[MODE]], $B131, FactorMatrix[[PHASE]:[PHASE]], \"Operations\", FactorMatrix[[GHGSOURCE]:[GHGSOURCE]], \"Vehicle\", FactorMatrix[[TYPE]:[TYPE]], $C131, FactorMatrix[[STATE /REGION]:[STATE /REGION]], $E131)*Years)/IF(AND(D131=0, E131=0), 2, 1)","v":0},{"$f":"(SUMIFS(FactorMatrix[[DOWNSTREAMEMISSIONS]:[DOWNSTREAMEMISSIONS]], FactorMatrix[[MODE]:[MODE]], $B131, FactorMatrix[[PHASE]:[PHASE]], \"Operations\", FactorMatrix[[GHGSOURCE]:[GHGSOURCE]], \"Vehicle\", FactorMatrix[[TYPE]:[TYPE]], $C131, FactorMatrix[[STATE /REGION]:[STATE /REGION]], $D131)*Years\n+\nSUMIFS(FactorMatrix[[DOWNSTREAMEMISSIONS]:[DOWNSTREAMEMISSIONS]], FactorMatrix[[MODE]:[MODE]], $B131, FactorMatrix[[PHASE]:[PHASE]], \"Operations\", FactorMatrix[[GHGSOURCE]:[GHGSOURCE]], \"Vehicle\", FactorMatrix[[TYPE]:[TYPE]], $C131, FactorMatrix[[STATE /REGION]:[STATE /REGION]], $E131)*Years)/IF(AND(D131=0, E131=0), 2, 1)","v":0},{"$f":"$F131*G131","v":0},0,0]
[3,{"$f":"'Displaced Emissions'!B7","v":0},{"$f":"'Displaced Emissions'!C7","v":0},{"$f":"'Displaced Emissions'!D7","v":0},{"$f":"_xlfn.IFNA(INDEX(Dropdowns!L$3:L$31, MATCH(D132, EGridSubregions, 0)), 0)","v":0},{"$f":"'Displaced Emissions'!E7","v":0},{"$f":"(SUMIFS(FactorMatrix[[UPSTREAMMATERIALSEMISSIONS]:[UPSTREAMMATERIALSEMISSIONS]], FactorMatrix[[MODE]:[MODE]], $B132, FactorMatrix[[PHASE]:[PHASE]], \"Operations\", FactorMatrix[[GHGSOURCE]:[GHGSOURCE]], \"Vehicle\", FactorMatrix[[TYPE]:[TYPE]], $C132, FactorMatrix[[STATE /REGION]:[STATE /REGION]], $D132)*Years\n+\nSUMIFS(FactorMatrix[[UPSTREAMMATERIALSEMISSIONS]:[UPSTREAMMATERIALSEMISSIONS]], FactorMatrix[[MODE]:[MODE]], $B132, FactorMatrix[[PHASE]:[PHASE]], \"Operations\", FactorMatrix[[GHGSOURCE]:[GHGSOURCE]], \"Vehicle\", FactorMatrix[[TYPE]:[TYPE]], $C132, FactorMatrix[[STATE /REGION]:[STATE /REGION]], $E132)*Years)/IF(AND(D132=0, E132=0), 2, 1)","v":0},{"$f":"(SUMIFS(FactorMatrix[[UPSTREAMTRANSPORTEMISSIONS]:[UPSTREAMTRANSPORTEMISSIONS]], FactorMatrix[[MODE]:[MODE]], $B132, FactorMatrix[[PHASE]:[PHASE]], \"Operations\", FactorMatrix[[GHGSOURCE]:[GHGSOURCE]], \"Vehicle\", FactorMatrix[[TYPE]:[TYPE]], $C132, FactorMatrix[[STATE /REGION]:[STATE /REGION]], $D132)*Years\n+\nSUMIFS(FactorMatrix[[UPSTREAMTRANSPORTEMISSIONS]:[UPSTREAMTRANSPORTEMISSIONS]], FactorMatrix[[MODE]:[MODE]], $B132, FactorMatrix[[PHASE]:[PHASE]], \"Operations\", FactorMatrix[[GHGSOURCE]:[GHGSOURCE]], \"Vehicle\", FactorMatrix[[TYPE]:[TYPE]], $C132, FactorMatrix[[STATE /REGION]:[STATE /REGION]], $E132)*Years)/IF(AND(D132=0, E132=0), 2, 1)","v":0},{"$f":"(SUMIFS(FactorMatrix[[DOWNSTREAMEMISSIONS]:[DOWNSTREAMEMISSIONS]], FactorMatrix[[MODE]:[MODE]], $B132, FactorMatrix[[PHASE]:[PHASE]], \"Operations\", FactorMatrix[[GHGSOURCE]:[GHGSOURCE]], \"Vehicle\", FactorMatrix[[TYPE]:[TYPE]], $C132, FactorMatrix[[STATE /REGION]:[STATE /REGION]], $D132)*Years\n+\nSUMIFS(FactorMatrix[[DOWNSTREAMEMISSIONS]:[DOWNSTREAMEMISSIONS]], FactorMatrix[[MODE]:[MODE]], $B132, FactorMatrix[[PHASE]:[PHASE]], \"Operations\", FactorMatrix[[GHGSOURCE]:[GHGSOURCE]], \"Vehicle\", FactorMatrix[[TYPE]:[TYPE]], $C132, FactorMatrix[[STATE /REGION]:[STATE /REGION]], $E132)*Years)/IF(AND(D132=0, E132=0), 2, 1)","v":0},0,0,0,"Annual"]
[4,{"$f":"'Displaced Emissions'!B8","v":0},{"$f":"'Displaced Emissions'!C8","v":0},{"$f":"'Displaced Emissions'!D8","v":0},{"$f":"_xlfn.IFNA(INDEX(Dropdowns!L$3:L$31, MATCH(D133, EGridSubregions, 0)), 0)","v":0},{"$f":"'Displaced Emissions'!E8","v":0},{"$f":"(SUMIFS(FactorMatrix[[UPSTREAMMATERIALSEMISSIONS]:[UPSTREAMMATERIALSEMISSIONS]], FactorMatrix[[MODE]:[MODE]], $B133, FactorMatrix[[PHASE]:[PHASE]], \"Operations\", FactorMatrix[[GHGSOURCE]:[GHGSOURCE]], \"Vehicle\", FactorMatrix[[TYPE]:[TYPE]], $C133, FactorMatrix[[STATE /REGION]:[STATE /REGION]], $D133)*Years\n+\nSUMIFS(FactorMatrix[[UPSTREAMMATERIALSEMISSIONS]:[UPSTREAMMATERIALSEMISSIONS]], FactorMatrix[[MODE]:[MODE]], $B133, FactorMatrix[[PHASE]:[PHASE]], \"Operations\", FactorMatrix[[GHGSOURCE]:[GHGSOURCE]], \"Vehicle\", FactorMatrix[[TYPE]:[TYPE]], $C133, FactorMatrix[[STATE /REGION]:[STATE /REGION]], $E133)*Years)/IF(AND(D133=0, E133=0), 2, 1)","v":0},{"$f":"(SUMIFS(FactorMatrix[[UPSTREAMTRANSPORTEMISSIONS]:[UPSTREAMTRANSPORTEMISSIONS]], FactorMatrix[[MODE]:[MODE]], $B133, FactorMatrix[[PHASE]:[PHASE]], \"Operations\", FactorMatrix[[GHGSOURCE]:[GHGSOURCE]], \"Vehicle\", FactorMatrix[[TYPE]:[TYPE]], $C133, FactorMatrix[[STATE /REGION]:[STATE /REGION]], $D133)*Years\n+\nSUMIFS(FactorMatrix[[UPSTREAMTRANSPORTEMISSIONS]:[UPSTREAMTRANSPORTEMISSIONS]], FactorMatrix[[MODE]:[MODE]], $B133, FactorMatrix[[PHASE]:[PHASE]], \"Operations\", FactorMatrix[[GHGSOURCE]:[GHGSOURCE]], \"Vehicle\", FactorMatrix[[TYPE]:[TYPE]], $C133, FactorMatrix[[STATE /REGION]:[STATE /REGION]], $E133)*Years)/IF(AND(D133=0, E133=0), 2, 1)","v":0},{"$f":"(SUMIFS(FactorMatrix[[DOWNSTREAMEMISSIONS]:[DOWNSTREAMEMISSIONS]], FactorMatrix[[MODE]:[MODE]], $B133, FactorMatrix[[PHASE]:[PHASE]], \"Operations\", FactorMatrix[[GHGSOURCE]:[GHGSOURCE]], \"Vehicle\", FactorMatrix[[TYPE]:[TYPE]], $C133, FactorMatrix[[STATE /REGION]:[STATE /REGION]], $D133)*Years\n+\nSUMIFS(FactorMatrix[[DOWNSTREAMEMISSIONS]:[DOWNSTREAMEMISSIONS]], FactorMatrix[[MODE]:[MODE]], $B133, FactorMatrix[[PHASE]:[PHASE]], \"Operations\", FactorMatrix[[GHGSOURCE]:[GHGSOURCE]], \"Vehicle\", FactorMatrix[[TYPE]:[TYPE]], $C133, FactorMatrix[[STATE /REGION]:[STATE /REGION]], $E133)*Years)/IF(AND(D133=0, E133=0), 2, 1)","v":0},0,0,0]
[5,{"$f":"'Displaced Emissions'!B9","v":0},{"$f":"'Displaced Emissions'!C9","v":0},{"$f":"'Displaced Emissions'!D9","v":0},{"$f":"_xlfn.IFNA(INDEX(Dropdowns!L$3:L$31, MATCH(D134, EGridSubregions, 0)), 0)","v":0},{"$f":"'Displaced Emissions'!E9","v":0},{"$f":"(SUMIFS(FactorMatrix[[UPSTREAMMATERIALSEMISSIONS]:[UPSTREAMMATERIALSEMISSIONS]], FactorMatrix[[MODE]:[MODE]], $B134, FactorMatrix[[PHASE]:[PHASE]], \"Operations\", FactorMatrix[[GHGSOURCE]:[GHGSOURCE]], \"Vehicle\", FactorMatrix[[TYPE]:[TYPE]], $C134, FactorMatrix[[STATE /REGION]:[STATE /REGION]], $D134)*Years\n+\nSUMIFS(FactorMatrix[[UPSTREAMMATERIALSEMISSIONS]:[UPSTREAMMATERIALSEMISSIONS]], FactorMatrix[[MODE]:[MODE]], $B134, FactorMatrix[[PHASE]:[PHASE]], \"Operations\", FactorMatrix[[GHGSOURCE]:[GHGSOURCE]], \"Vehicle\", FactorMatrix[[TYPE]:[TYPE]], $C134, FactorMatrix[[STATE /REGION]:[STATE /REGION]], $E134)*Years)/IF(AND(D134=0, E134=0), 2, 1)","v":0},{"$f":"(SUMIFS(FactorMatrix[[UPSTREAMTRANSPORTEMISSIONS]:[UPSTREAMTRANSPORTEMISSIONS]], FactorMatrix[[MODE]:[MODE]], $B134, FactorMatrix[[PHASE]:[PHASE]], \"Operations\", FactorMatrix[[GHGSOURCE]:[GHGSOURCE]], \"Vehicle\", FactorMatrix[[TYPE]:[TYPE]], $C134, FactorMatrix[[STATE /REGION]:[STATE /REGION]], $D134)*Years\n+\nSUMIFS(FactorMatrix[[UPSTREAMTRANSPORTEMISSIONS]:[UPSTREAMTRANSPORTEMISSIONS]], FactorMatrix[[MODE]:[MODE]], $B134, FactorMatrix[[PHASE]:[PHASE]], \"Operations\", FactorMatrix[[GHGSOURCE]:[GHGSOURCE]], \"Vehicle\", FactorMatrix[[TYPE]:[TYPE]], $C134, FactorMatrix[[STATE /REGION]:[STATE /REGION]], $E134)*Years)/IF(AND(D134=0, E134=0), 2, 1)","v":0},{"$f":"(SUMIFS(FactorMatrix[[DOWNSTREAMEMISSIONS]:[DOWNSTREAMEMISSIONS]], FactorMatrix[[MODE]:[MODE]], $B134, FactorMatrix[[PHASE]:[PHASE]], \"Operations\", FactorMatrix[[GHGSOURCE]:[GHGSOURCE]], \"Vehicle\", FactorMatrix[[TYPE]:[TYPE]], $C134, FactorMatrix[[STATE /REGION]:[STATE /REGION]], $D134)*Years\n+\nSUMIFS(FactorMatrix[[DOWNSTREAMEMISSIONS]:[DOWNSTREAMEMISSIONS]], FactorMatrix[[MODE]:[MODE]], $B134, FactorMatrix[[PHASE]:[PHASE]], \"Operations\", FactorMatrix[[GHGSOURCE]:[GHGSOURCE]], \"Vehicle\", FactorMatrix[[TYPE]:[TYPE]], $C134, FactorMatrix[[STATE /REGION]:[STATE /REGION]], $E134)*Years)/IF(AND(D134=0, E134=0), 2, 1)","v":0},0,0,0,"UPSTREAM MATERIALS","UPSTREAM TRANSPORT","DOWNSTREAM"]
[6,{"$f":"'Displaced Emissions'!B10","v":0},{"$f":"'Displaced Emissions'!C10","v":0},{"$f":"'Displaced Emissions'!D10","v":0},{"$f":"_xlfn.IFNA(INDEX(Dropdowns!L$3:L$31, MATCH(D135, EGridSubregions, 0)), 0)","v":0},{"$f":"'Displaced Emissions'!E10","v":0},{"$f":"(SUMIFS(FactorMatrix[[UPSTREAMMATERIALSEMISSIONS]:[UPSTREAMMATERIALSEMISSIONS]], FactorMatrix[[MODE]:[MODE]], $B135, FactorMatrix[[PHASE]:[PHASE]], \"Operations\", FactorMatrix[[GHGSOURCE]:[GHGSOURCE]], \"Vehicle\", FactorMatrix[[TYPE]:[TYPE]], $C135, FactorMatrix[[STATE /REGION]:[STATE /REGION]], $D135)*Years\n+\nSUMIFS(FactorMatrix[[UPSTREAMMATERIALSEMISSIONS]:[UPSTREAMMATERIALSEMISSIONS]], FactorMatrix[[MODE]:[MODE]], $B135, FactorMatrix[[PHASE]:[PHASE]], \"Operations\", FactorMatrix[[GHGSOURCE]:[GHGSOURCE]], \"Vehicle\", FactorMatrix[[TYPE]:[TYPE]], $C135, FactorMatrix[[STATE /REGION]:[STATE /REGION]], $E135)*Years)/IF(AND(D135=0, E135=0), 2, 1)","v":0},{"$f":"(SUMIFS(FactorMatrix[[UPSTREAMTRANSPORTEMISSIONS]:[UPSTREAMTRANSPORTEMISSIONS]], FactorMatrix[[MODE]:[MODE]], $B135, FactorMatrix[[PHASE]:[PHASE]], \"Operations\", FactorMatrix[[GHGSOURCE]:[GHGSOURCE]], \"Vehicle\", FactorMatrix[[TYPE]:[TYPE]], $C135, FactorMatrix[[STATE /REGION]:[STATE /REGION]], $D135)*Years\n+\nSUMIFS(FactorMatrix[[UPSTREAMTRANSPORTEMISSIONS]:[UPSTREAMTRANSPORTEMISSIONS]], FactorMatrix[[MODE]:[MODE]], $B135, FactorMatrix[[PHASE]:[PHASE]], \"Operations\", FactorMatrix[[GHGSOURCE]:[GHGSOURCE]], \"Vehicle\", FactorMatrix[[TYPE]:[TYPE]], $C135, FactorMatrix[[STATE /REGION]:[STATE /REGION]], $E135)*Years)/IF(AND(D135=0, E135=0), 2, 1)","v":0},{"$f":"(SUMIFS(FactorMatrix[[DOWNSTREAMEMISSIONS]:[DOWNSTREAMEMISSIONS]], FactorMatrix[[MODE]:[MODE]], $B135, FactorMatrix[[PHASE]:[PHASE]], \"Operations\", FactorMatrix[[GHGSOURCE]:[GHGSOURCE]], \"Vehicle\", FactorMatrix[[TYPE]:[TYPE]], $C135, FactorMatrix[[STATE /REGION]:[STATE /REGION]], $D135)*Years\n+\nSUMIFS(FactorMatrix[[DOWNSTREAMEMISSIONS]:[DOWNSTREAMEMISSIONS]], FactorMatrix[[MODE]:[MODE]], $B135, FactorMatrix[[PHASE]:[PHASE]], \"Operations\", FactorMatrix[[GHGSOURCE]:[GHGSOURCE]], \"Vehicle\", FactorMatrix[[TYPE]:[TYPE]], $C135, FactorMatrix[[STATE /REGION]:[STATE /REGION]], $E135)*Years)/IF(AND(D135=0, E135=0), 2, 1)","v":0},0,0,0,{"$f":"M130/Years","v":{"$error":"#DIV/0!"}},{"$f":"N130/Years","v":{"$error":"#DIV/0!"}},{"$f":"O130/Years","v":{"$error":"#DIV/0!"}}]
[7,{"$f":"'Displaced Emissions'!B11","v":0},{"$f":"'Displaced Emissions'!C11","v":0},{"$f":"'Displaced Emissions'!D11","v":0},{"$f":"_xlfn.IFNA(INDEX(Dropdowns!L$3:L$31, MATCH(D136, EGridSubregions, 0)), 0)","v":0},{"$f":"'Displaced Emissions'!E11","v":0},{"$f":"(SUMIFS(FactorMatrix[[UPSTREAMMATERIALSEMISSIONS]:[UPSTREAMMATERIALSEMISSIONS]], FactorMatrix[[MODE]:[MODE]], $B136, FactorMatrix[[PHASE]:[PHASE]], \"Operations\", FactorMatrix[[GHGSOURCE]:[GHGSOURCE]], \"Vehicle\", FactorMatrix[[TYPE]:[TYPE]], $C136, FactorMatrix[[STATE /REGION]:[STATE /REGION]], $D136)*Years\n+\nSUMIFS(FactorMatrix[[UPSTREAMMATERIALSEMISSIONS]:[UPSTREAMMATERIALSEMISSIONS]], FactorMatrix[[MODE]:[MODE]], $B136, FactorMatrix[[PHASE]:[PHASE]], \"Operations\", FactorMatrix[[GHGSOURCE]:[GHGSOURCE]], \"Vehicle\", FactorMatrix[[TYPE]:[TYPE]], $C136, FactorMatrix[[STATE /REGION]:[STATE /REGION]], $E136)*Years)/IF(AND(D136=0, E136=0), 2, 1)","v":0},{"$f":"(SUMIFS(FactorMatrix[[UPSTREAMTRANSPORTEMISSIONS]:[UPSTREAMTRANSPORTEMISSIONS]], FactorMatrix[[MODE]:[MODE]], $B136, FactorMatrix[[PHASE]:[PHASE]], \"Operations\", FactorMatrix[[GHGSOURCE]:[GHGSOURCE]], \"Vehicle\", FactorMatrix[[TYPE]:[TYPE]], $C136, FactorMatrix[[STATE /REGION]:[STATE /REGION]], $D136)*Years\n+\nSUMIFS(FactorMatrix[[UPSTREAMTRANSPORTEMISSIONS]:[UPSTREAMTRANSPORTEMISSIONS]], FactorMatrix[[MODE]:[MODE]], $B136, FactorMatrix[[PHASE]:[PHASE]], \"Operations\", FactorMatrix[[GHGSOURCE]:[GHGSOURCE]], \"Vehicle\", FactorMatrix[[TYPE]:[TYPE]], $C136, FactorMatrix[[STATE /REGION]:[STATE /REGION]], $E136)*Years)/IF(AND(D136=0, E136=0), 2, 1)","v":0},{"$f":"(SUMIFS(FactorMatrix[[DOWNSTREAMEMISSIONS]:[DOWNSTREAMEMISSIONS]], FactorMatrix[[MODE]:[MODE]], $B136, FactorMatrix[[PHASE]:[PHASE]], \"Operations\", FactorMatrix[[GHGSOURCE]:[GHGSOURCE]], \"Vehicle\", FactorMatrix[[TYPE]:[TYPE]], $C136, FactorMatrix[[STATE /REGION]:[STATE /REGION]], $D136)*Years\n+\nSUMIFS(FactorMatrix[[DOWNSTREAMEMISSIONS]:[DOWNSTREAMEMISSIONS]], FactorMatrix[[MODE]:[MODE]], $B136, FactorMatrix[[PHASE]:[PHASE]], \"Operations\", FactorMatrix[[GHGSOURCE]:[GHGSOURCE]], \"Vehicle\", FactorMatrix[[TYPE]:[TYPE]], $C136, FactorMatrix[[STATE /REGION]:[STATE /REGION]], $E136)*Years)/IF(AND(D136=0, E136=0), 2, 1)","v":0},0,0,0]
[8,{"$f":"'Displaced Emissions'!B12","v":0},{"$f":"'Displaced Emissions'!C12","v":0},{"$f":"'Displaced Emissions'!D12","v":0},{"$f":"_xlfn.IFNA(INDEX(Dropdowns!L$3:L$31, MATCH(D137, EGridSubregions, 0)), 0)","v":0},{"$f":"'Displaced Emissions'!E12","v":0},{"$f":"(SUMIFS(FactorMatrix[[UPSTREAMMATERIALSEMISSIONS]:[UPSTREAMMATERIALSEMISSIONS]], FactorMatrix[[MODE]:[MODE]], $B137, FactorMatrix[[PHASE]:[PHASE]], \"Operations\", FactorMatrix[[GHGSOURCE]:[GHGSOURCE]], \"Vehicle\", FactorMatrix[[TYPE]:[TYPE]], $C137, FactorMatrix[[STATE /REGION]:[STATE /REGION]], $D137)*Years\n+\nSUMIFS(FactorMatrix[[UPSTREAMMATERIALSEMISSIONS]:[UPSTREAMMATERIALSEMISSIONS]], FactorMatrix[[MODE]:[MODE]], $B137, FactorMatrix[[PHASE]:[PHASE]], \"Operations\", FactorMatrix[[GHGSOURCE]:[GHGSOURCE]], \"Vehicle\", FactorMatrix[[TYPE]:[TYPE]], $C137, FactorMatrix[[STATE /REGION]:[STATE /REGION]], $E137)*Years)/IF(AND(D137=0, E137=0), 2, 1)","v":0},{"$f":"(SUMIFS(FactorMatrix[[UPSTREAMTRANSPORTEMISSIONS]:[UPSTREAMTRANSPORTEMISSIONS]], FactorMatrix[[MODE]:[MODE]], $B137, FactorMatrix[[PHASE]:[PHASE]], \"Operations\", FactorMatrix[[GHGSOURCE]:[GHGSOURCE]], \"Vehicle\", FactorMatrix[[TYPE]:[TYPE]], $C137, FactorMatrix[[STATE /REGION]:[STATE /REGION]], $D137)*Years\n+\nSUMIFS(FactorMatrix[[UPSTREAMTRANSPORTEMISSIONS]:[UPSTREAMTRANSPORTEMISSIONS]], FactorMatrix[[MODE]:[MODE]], $B137, FactorMatrix[[PHASE]:[PHASE]], \"Operations\", FactorMatrix[[GHGSOURCE]:[GHGSOURCE]], \"Vehicle\", FactorMatrix[[TYPE]:[TYPE]], $C137, FactorMatrix[[STATE /REGION]:[STATE /REGION]], $E137)*Years)/IF(AND(D137=0, E137=0), 2, 1)","v":0},{"$f":"(SUMIFS(FactorMatrix[[DOWNSTREAMEMISSIONS]:[DOWNSTREAMEMISSIONS]], FactorMatrix[[MODE]:[MODE]], $B137, FactorMatrix[[PHASE]:[PHASE]], \"Operations\", FactorMatrix[[GHGSOURCE]:[GHGSOURCE]], \"Vehicle\", FactorMatrix[[TYPE]:[TYPE]], $C137, FactorMatrix[[STATE /REGION]:[STATE /REGION]], $D137)*Years\n+\nSUMIFS(FactorMatrix[[DOWNSTREAMEMISSIONS]:[DOWNSTREAMEMISSIONS]], FactorMatrix[[MODE]:[MODE]], $B137, FactorMatrix[[PHASE]:[PHASE]], \"Operations\", FactorMatrix[[GHGSOURCE]:[GHGSOURCE]], \"Vehicle\", FactorMatrix[[TYPE]:[TYPE]], $C137, FactorMatrix[[STATE /REGION]:[STATE /REGION]], $E137)*Years)/IF(AND(D137=0, E137=0), 2, 1)","v":0},0,0,0]
[9,{"$f":"'Displaced Emissions'!B13","v":0},{"$f":"'Displaced Emissions'!C13","v":0},{"$f":"'Displaced Emissions'!D13","v":0},{"$f":"_xlfn.IFNA(INDEX(Dropdowns!L$3:L$31, MATCH(D138, EGridSubregions, 0)), 0)","v":0},{"$f":"'Displaced Emissions'!E13","v":0},{"$f":"(SUMIFS(FactorMatrix[[UPSTREAMMATERIALSEMISSIONS]:[UPSTREAMMATERIALSEMISSIONS]], FactorMatrix[[MODE]:[MODE]], $B138, FactorMatrix[[PHASE]:[PHASE]], \"Operations\", FactorMatrix[[GHGSOURCE]:[GHGSOURCE]], \"Vehicle\", FactorMatrix[[TYPE]:[TYPE]], $C138, FactorMatrix[[STATE /REGION]:[STATE /REGION]], $D138)*Years\n+\nSUMIFS(FactorMatrix[[UPSTREAMMATERIALSEMISSIONS]:[UPSTREAMMATERIALSEMISSIONS]], FactorMatrix[[MODE]:[MODE]], $B138, FactorMatrix[[PHASE]:[PHASE]], \"Operations\", FactorMatrix[[GHGSOURCE]:[GHGSOURCE]], \"Vehicle\", FactorMatrix[[TYPE]:[TYPE]], $C138, FactorMatrix[[STATE /REGION]:[STATE /REGION]], $E138)*Years)/IF(AND(D138=0, E138=0), 2, 1)","v":0},{"$f":"(SUMIFS(FactorMatrix[[UPSTREAMTRANSPORTEMISSIONS]:[UPSTREAMTRANSPORTEMISSIONS]], FactorMatrix[[MODE]:[MODE]], $B138, FactorMatrix[[PHASE]:[PHASE]], \"Operations\", FactorMatrix[[GHGSOURCE]:[GHGSOURCE]], \"Vehicle\", FactorMatrix[[TYPE]:[TYPE]], $C138, FactorMatrix[[STATE /REGION]:[STATE /REGION]], $D138)*Years\n+\nSUMIFS(FactorMatrix[[UPSTREAMTRANSPORTEMISSIONS]:[UPSTREAMTRANSPORTEMISSIONS]], FactorMatrix[[MODE]:[MODE]], $B138, FactorMatrix[[PHASE]:[PHASE]], \"Operations\", FactorMatrix[[GHGSOURCE]:[GHGSOURCE]], \"Vehicle\", FactorMatrix[[TYPE]:[TYPE]], $C138, FactorMatrix[[STATE /REGION]:[STATE /REGION]], $E138)*Years)/IF(AND(D138=0, E138=0), 2, 1)","v":0},{"$f":"(SUMIFS(FactorMatrix[[DOWNSTREAMEMISSIONS]:[DOWNSTREAMEMISSIONS]], FactorMatrix[[MODE]:[MODE]], $B138, FactorMatrix[[PHASE]:[PHASE]], \"Operations\", FactorMatrix[[GHGSOURCE]:[GHGSOURCE]], \"Vehicle\", FactorMatrix[[TYPE]:[TYPE]], $C138, FactorMatrix[[STATE /REGION]:[STATE /REGION]], $D138)*Years\n+\nSUMIFS(FactorMatrix[[DOWNSTREAMEMISSIONS]:[DOWNSTREAMEMISSIONS]], FactorMatrix[[MODE]:[MODE]], $B138, FactorMatrix[[PHASE]:[PHASE]], \"Operations\", FactorMatrix[[GHGSOURCE]:[GHGSOURCE]], \"Vehicle\", FactorMatrix[[TYPE]:[TYPE]], $C138, FactorMatrix[[STATE /REGION]:[STATE /REGION]], $E138)*Years)/IF(AND(D138=0, E138=0), 2, 1)","v":0},0,0,0]
[10,{"$f":"'Displaced Emissions'!B14","v":0},{"$f":"'Displaced Emissions'!C14","v":0},{"$f":"'Displaced Emissions'!D14","v":0},{"$f":"_xlfn.IFNA(INDEX(Dropdowns!L$3:L$31, MATCH(D139, EGridSubregions, 0)), 0)","v":0},{"$f":"'Displaced Emissions'!E14","v":0},{"$f":"(SUMIFS(FactorMatrix[[UPSTREAMMATERIALSEMISSIONS]:[UPSTREAMMATERIALSEMISSIONS]], FactorMatrix[[MODE]:[MODE]], $B139, FactorMatrix[[PHASE]:[PHASE]], \"Operations\", FactorMatrix[[GHGSOURCE]:[GHGSOURCE]], \"Vehicle\", FactorMatrix[[TYPE]:[TYPE]], $C139, FactorMatrix[[STATE /REGION]:[STATE /REGION]], $D139)*Years\n+\nSUMIFS(FactorMatrix[[UPSTREAMMATERIALSEMISSIONS]:[UPSTREAMMATERIALSEMISSIONS]], FactorMatrix[[MODE]:[MODE]], $B139, FactorMatrix[[PHASE]:[PHASE]], \"Operations\", FactorMatrix[[GHGSOURCE]:[GHGSOURCE]], \"Vehicle\", FactorMatrix[[TYPE]:[TYPE]], $C139, FactorMatrix[[STATE /REGION]:[STATE /REGION]], $E139)*Years)/IF(AND(D139=0, E139=0), 2, 1)","v":0},{"$f":"(SUMIFS(FactorMatrix[[UPSTREAMTRANSPORTEMISSIONS]:[UPSTREAMTRANSPORTEMISSIONS]], FactorMatrix[[MODE]:[MODE]], $B139, FactorMatrix[[PHASE]:[PHASE]], \"Operations\", FactorMatrix[[GHGSOURCE]:[GHGSOURCE]], \"Vehicle\", FactorMatrix[[TYPE]:[TYPE]], $C139, FactorMatrix[[STATE /REGION]:[STATE /REGION]], $D139)*Years\n+\nSUMIFS(FactorMatrix[[UPSTREAMTRANSPORTEMISSIONS]:[UPSTREAMTRANSPORTEMISSIONS]], FactorMatrix[[MODE]:[MODE]], $B139, FactorMatrix[[PHASE]:[PHASE]], \"Operations\", FactorMatrix[[GHGSOURCE]:[GHGSOURCE]], \"Vehicle\", FactorMatrix[[TYPE]:[TYPE]], $C139, FactorMatrix[[STATE /REGION]:[STATE /REGION]], $E139)*Years)/IF(AND(D139=0, E139=0), 2, 1)","v":0},{"$f":"(SUMIFS(FactorMatrix[[DOWNSTREAMEMISSIONS]:[DOWNSTREAMEMISSIONS]], FactorMatrix[[MODE]:[MODE]], $B139, FactorMatrix[[PHASE]:[PHASE]], \"Operations\", FactorMatrix[[GHGSOURCE]:[GHGSOURCE]], \"Vehicle\", FactorMatrix[[TYPE]:[TYPE]], $C139, FactorMatrix[[STATE /REGION]:[STATE /REGION]], $D139)*Years\n+\nSUMIFS(FactorMatrix[[DOWNSTREAMEMISSIONS]:[DOWNSTREAMEMISSIONS]], FactorMatrix[[MODE]:[MODE]], $B139, FactorMatrix[[PHASE]:[PHASE]], \"Operations\", FactorMatrix[[GHGSOURCE]:[GHGSOURCE]], \"Vehicle\", FactorMatrix[[TYPE]:[TYPE]], $C139, FactorMatrix[[STATE /REGION]:[STATE /REGION]], $E139)*Years)/IF(AND(D139=0, E139=0), 2, 1)","v":0},0,0,0]
[11,{"$f":"'Displaced Emissions'!B15","v":0},{"$f":"'Displaced Emissions'!C15","v":0},{"$f":"'Displaced Emissions'!D15","v":0},{"$f":"_xlfn.IFNA(INDEX(Dropdowns!L$3:L$31, MATCH(D140, EGridSubregions, 0)), 0)","v":0},{"$f":"'Displaced Emissions'!E15","v":0},{"$f":"(SUMIFS(FactorMatrix[[UPSTREAMMATERIALSEMISSIONS]:[UPSTREAMMATERIALSEMISSIONS]], FactorMatrix[[MODE]:[MODE]], $B140, FactorMatrix[[PHASE]:[PHASE]], \"Operations\", FactorMatrix[[GHGSOURCE]:[GHGSOURCE]], \"Vehicle\", FactorMatrix[[TYPE]:[TYPE]], $C140, FactorMatrix[[STATE /REGION]:[STATE /REGION]], $D140)*Years\n+\nSUMIFS(FactorMatrix[[UPSTREAMMATERIALSEMISSIONS]:[UPSTREAMMATERIALSEMISSIONS]], FactorMatrix[[MODE]:[MODE]], $B140, FactorMatrix[[PHASE]:[PHASE]], \"Operations\", FactorMatrix[[GHGSOURCE]:[GHGSOURCE]], \"Vehicle\", FactorMatrix[[TYPE]:[TYPE]], $C140, FactorMatrix[[STATE /REGION]:[STATE /REGION]], $E140)*Years)/IF(AND(D140=0, E140=0), 2, 1)","v":0},{"$f":"(SUMIFS(FactorMatrix[[UPSTREAMTRANSPORTEMISSIONS]:[UPSTREAMTRANSPORTEMISSIONS]], FactorMatrix[[MODE]:[MODE]], $B140, FactorMatrix[[PHASE]:[PHASE]], \"Operations\", FactorMatrix[[GHGSOURCE]:[GHGSOURCE]], \"Vehicle\", FactorMatrix[[TYPE]:[TYPE]], $C140, FactorMatrix[[STATE /REGION]:[STATE /REGION]], $D140)*Years\n+\nSUMIFS(FactorMatrix[[UPSTREAMTRANSPORTEMISSIONS]:[UPSTREAMTRANSPORTEMISSIONS]], FactorMatrix[[MODE]:[MODE]], $B140, FactorMatrix[[PHASE]:[PHASE]], \"Operations\", FactorMatrix[[GHGSOURCE]:[GHGSOURCE]], \"Vehicle\", FactorMatrix[[TYPE]:[TYPE]], $C140, FactorMatrix[[STATE /REGION]:[STATE /REGION]], $E140)*Years)/IF(AND(D140=0, E140=0), 2, 1)","v":0},{"$f":"(SUMIFS(FactorMatrix[[DOWNSTREAMEMISSIONS]:[DOWNSTREAMEMISSIONS]], FactorMatrix[[MODE]:[MODE]], $B140, FactorMatrix[[PHASE]:[PHASE]], \"Operations\", FactorMatrix[[GHGSOURCE]:[GHGSOURCE]], \"Vehicle\", FactorMatrix[[TYPE]:[TYPE]], $C140, FactorMatrix[[STATE /REGION]:[STATE /REGION]], $D140)*Years\n+\nSUMIFS(FactorMatrix[[DOWNSTREAMEMISSIONS]:[DOWNSTREAMEMISSIONS]], FactorMatrix[[MODE]:[MODE]], $B140, FactorMatrix[[PHASE]:[PHASE]], \"Operations\", FactorMatrix[[GHGSOURCE]:[GHGSOURCE]], \"Vehicle\", FactorMatrix[[TYPE]:[TYPE]], $C140, FactorMatrix[[STATE /REGION]:[STATE /REGION]], $E140)*Years)/IF(AND(D140=0, E140=0), 2, 1)","v":0},0,0,0]
[12,{"$f":"'Displaced Emissions'!B16","v":0},{"$f":"'Displaced Emissions'!C16","v":0},{"$f":"'Displaced Emissions'!D16","v":0},{"$f":"_xlfn.IFNA(INDEX(Dropdowns!L$3:L$31, MATCH(D141, EGridSubregions, 0)), 0)","v":0},{"$f":"'Displaced Emissions'!E16","v":0},{"$f":"(SUMIFS(FactorMatrix[[UPSTREAMMATERIALSEMISSIONS]:[UPSTREAMMATERIALSEMISSIONS]], FactorMatrix[[MODE]:[MODE]], $B141, FactorMatrix[[PHASE]:[PHASE]], \"Operations\", FactorMatrix[[GHGSOURCE]:[GHGSOURCE]], \"Vehicle\", FactorMatrix[[TYPE]:[TYPE]], $C141, FactorMatrix[[STATE /REGION]:[STATE /REGION]], $D141)*Years\n+\nSUMIFS(FactorMatrix[[UPSTREAMMATERIALSEMISSIONS]:[UPSTREAMMATERIALSEMISSIONS]], FactorMatrix[[MODE]:[MODE]], $B141, FactorMatrix[[PHASE]:[PHASE]], \"Operations\", FactorMatrix[[GHGSOURCE]:[GHGSOURCE]], \"Vehicle\", FactorMatrix[[TYPE]:[TYPE]], $C141, FactorMatrix[[STATE /REGION]:[STATE /REGION]], $E141)*Years)/IF(AND(D141=0, E141=0), 2, 1)","v":0},{"$f":"(SUMIFS(FactorMatrix[[UPSTREAMTRANSPORTEMISSIONS]:[UPSTREAMTRANSPORTEMISSIONS]], FactorMatrix[[MODE]:[MODE]], $B141, FactorMatrix[[PHASE]:[PHASE]], \"Operations\", FactorMatrix[[GHGSOURCE]:[GHGSOURCE]], \"Vehicle\", FactorMatrix[[TYPE]:[TYPE]], $C141, FactorMatrix[[STATE /REGION]:[STATE /REGION]], $D141)*Years\n+\nSUMIFS(FactorMatrix[[UPSTREAMTRANSPORTEMISSIONS]:[UPSTREAMTRANSPORTEMISSIONS]], FactorMatrix[[MODE]:[MODE]], $B141, FactorMatrix[[PHASE]:[PHASE]], \"Operations\", FactorMatrix[[GHGSOURCE]:[GHGSOURCE]], \"Vehicle\", FactorMatrix[[TYPE]:[TYPE]], $C141, FactorMatrix[[STATE /REGION]:[STATE /REGION]], $E141)*Years)/IF(AND(D141=0, E141=0), 2, 1)","v":0},{"$f":"(SUMIFS(FactorMatrix[[DOWNSTREAMEMISSIONS]:[DOWNSTREAMEMISSIONS]], FactorMatrix[[MODE]:[MODE]], $B141, FactorMatrix[[PHASE]:[PHASE]], \"Operations\", FactorMatrix[[GHGSOURCE]:[GHGSOURCE]], \"Vehicle\", FactorMatrix[[TYPE]:[TYPE]], $C141, FactorMatrix[[STATE /REGION]:[STATE /REGION]], $D141)*Years\n+\nSUMIFS(FactorMatrix[[DOWNSTREAMEMISSIONS]:[DOWNSTREAMEMISSIONS]], FactorMatrix[[MODE]:[MODE]], $B141, FactorMatrix[[PHASE]:[PHASE]], \"Operations\", FactorMatrix[[GHGSOURCE]:[GHGSOURCE]], \"Vehicle\", FactorMatrix[[TYPE]:[TYPE]], $C141, FactorMatrix[[STATE /REGION]:[STATE /REGION]], $E141)*Years)/IF(AND(D141=0, E141=0), 2, 1)","v":0},0,0,0]
[13,{"$f":"'Displaced Emissions'!B17","v":0},{"$f":"'Displaced Emissions'!C17","v":0},{"$f":"'Displaced Emissions'!D17","v":0},{"$f":"_xlfn.IFNA(INDEX(Dropdowns!L$3:L$31, MATCH(D142, EGridSubregions, 0)), 0)","v":0},{"$f":"'Displaced Emissions'!E17","v":0},{"$f":"(SUMIFS(FactorMatrix[[UPSTREAMMATERIALSEMISSIONS]:[UPSTREAMMATERIALSEMISSIONS]], FactorMatrix[[MODE]:[MODE]], $B142, FactorMatrix[[PHASE]:[PHASE]], \"Operations\", FactorMatrix[[GHGSOURCE]:[GHGSOURCE]], \"Vehicle\", FactorMatrix[[TYPE]:[TYPE]], $C142, FactorMatrix[[STATE /REGION]:[STATE /REGION]], $D142)*Years\n+\nSUMIFS(FactorMatrix[[UPSTREAMMATERIALSEMISSIONS]:[UPSTREAMMATERIALSEMISSIONS]], FactorMatrix[[MODE]:[MODE]], $B142, FactorMatrix[[PHASE]:[PHASE]], \"Operations\", FactorMatrix[[GHGSOURCE]:[GHGSOURCE]], \"Vehicle\", FactorMatrix[[TYPE]:[TYPE]], $C142, FactorMatrix[[STATE /REGION]:[STATE /REGION]], $E142)*Years)/IF(AND(D142=0, E142=0), 2, 1)","v":0},{"$f":"(SUMIFS(FactorMatrix[[UPSTREAMTRANSPORTEMISSIONS]:[UPSTREAMTRANSPORTEMISSIONS]], FactorMatrix[[MODE]:[MODE]], $B142, FactorMatrix[[PHASE]:[PHASE]], \"Operations\", FactorMatrix[[GHGSOURCE]:[GHGSOURCE]], \"Vehicle\", FactorMatrix[[TYPE]:[TYPE]], $C142, FactorMatrix[[STATE /REGION]:[STATE /REGION]], $D142)*Years\n+\nSUMIFS(FactorMatrix[[UPSTREAMTRANSPORTEMISSIONS]:[UPSTREAMTRANSPORTEMISSIONS]], FactorMatrix[[MODE]:[MODE]], $B142, FactorMatrix[[PHASE]:[PHASE]], \"Operations\", FactorMatrix[[GHGSOURCE]:[GHGSOURCE]], \"Vehicle\", FactorMatrix[[TYPE]:[TYPE]], $C142, FactorMatrix[[STATE /REGION]:[STATE /REGION]], $E142)*Years)/IF(AND(D142=0, E142=0), 2, 1)","v":0},{"$f":"(SUMIFS(FactorMatrix[[DOWNSTREAMEMISSIONS]:[DOWNSTREAMEMISSIONS]], FactorMatrix[[MODE]:[MODE]], $B142, FactorMatrix[[PHASE]:[PHASE]], \"Operations\", FactorMatrix[[GHGSOURCE]:[GHGSOURCE]], \"Vehicle\", FactorMatrix[[TYPE]:[TYPE]], $C142, FactorMatrix[[STATE /REGION]:[STATE /REGION]], $D142)*Years\n+\nSUMIFS(FactorMatrix[[DOWNSTREAMEMISSIONS]:[DOWNSTREAMEMISSIONS]], FactorMatrix[[MODE]:[MODE]], $B142, FactorMatrix[[PHASE]:[PHASE]], \"Operations\", FactorMatrix[[GHGSOURCE]:[GHGSOURCE]], \"Vehicle\", FactorMatrix[[TYPE]:[TYPE]], $C142, FactorMatrix[[STATE /REGION]:[STATE /REGION]], $E142)*Years)/IF(AND(D142=0, E142=0), 2, 1)","v":0},0,0,0]
[14,{"$f":"'Displaced Emissions'!B18","v":0},{"$f":"'Displaced Emissions'!C18","v":0},{"$f":"'Displaced Emissions'!D18","v":0},{"$f":"_xlfn.IFNA(INDEX(Dropdowns!L$3:L$31, MATCH(D143, EGridSubregions, 0)), 0)","v":0},{"$f":"'Displaced Emissions'!E18","v":0},{"$f":"(SUMIFS(FactorMatrix[[UPSTREAMMATERIALSEMISSIONS]:[UPSTREAMMATERIALSEMISSIONS]], FactorMatrix[[MODE]:[MODE]], $B143, FactorMatrix[[PHASE]:[PHASE]], \"Operations\", FactorMatrix[[GHGSOURCE]:[GHGSOURCE]], \"Vehicle\", FactorMatrix[[TYPE]:[TYPE]], $C143, FactorMatrix[[STATE /REGION]:[STATE /REGION]], $D143)*Years\n+\nSUMIFS(FactorMatrix[[UPSTREAMMATERIALSEMISSIONS]:[UPSTREAMMATERIALSEMISSIONS]], FactorMatrix[[MODE]:[MODE]], $B143, FactorMatrix[[PHASE]:[PHASE]], \"Operations\", FactorMatrix[[GHGSOURCE]:[GHGSOURCE]], \"Vehicle\", FactorMatrix[[TYPE]:[TYPE]], $C143, FactorMatrix[[STATE /REGION]:[STATE /REGION]], $E143)*Years)/IF(AND(D143=0, E143=0), 2, 1)","v":0},{"$f":"(SUMIFS(FactorMatrix[[UPSTREAMTRANSPORTEMISSIONS]:[UPSTREAMTRANSPORTEMISSIONS]], FactorMatrix[[MODE]:[MODE]], $B143, FactorMatrix[[PHASE]:[PHASE]], \"Operations\", FactorMatrix[[GHGSOURCE]:[GHGSOURCE]], \"Vehicle\", FactorMatrix[[TYPE]:[TYPE]], $C143, FactorMatrix[[STATE /REGION]:[STATE /REGION]], $D143)*Years\n+\nSUMIFS(FactorMatrix[[UPSTREAMTRANSPORTEMISSIONS]:[UPSTREAMTRANSPORTEMISSIONS]], FactorMatrix[[MODE]:[MODE]], $B143, FactorMatrix[[PHASE]:[PHASE]], \"Operations\", FactorMatrix[[GHGSOURCE]:[GHGSOURCE]], \"Vehicle\", FactorMatrix[[TYPE]:[TYPE]], $C143, FactorMatrix[[STATE /REGION]:[STATE /REGION]], $E143)*Years)/IF(AND(D143=0, E143=0), 2, 1)","v":0},{"$f":"(SUMIFS(FactorMatrix[[DOWNSTREAMEMISSIONS]:[DOWNSTREAMEMISSIONS]], FactorMatrix[[MODE]:[MODE]], $B143, FactorMatrix[[PHASE]:[PHASE]], \"Operations\", FactorMatrix[[GHGSOURCE]:[GHGSOURCE]], \"Vehicle\", FactorMatrix[[TYPE]:[TYPE]], $C143, FactorMatrix[[STATE /REGION]:[STATE /REGION]], $D143)*Years\n+\nSUMIFS(FactorMatrix[[DOWNSTREAMEMISSIONS]:[DOWNSTREAMEMISSIONS]], FactorMatrix[[MODE]:[MODE]], $B143, FactorMatrix[[PHASE]:[PHASE]], \"Operations\", FactorMatrix[[GHGSOURCE]:[GHGSOURCE]], \"Vehicle\", FactorMatrix[[TYPE]:[TYPE]], $C143, FactorMatrix[[STATE /REGION]:[STATE /REGION]], $E143)*Years)/IF(AND(D143=0, E143=0), 2, 1)","v":0},0,0,0]
[15,{"$f":"'Displaced Emissions'!B19","v":0},{"$f":"'Displaced Emissions'!C19","v":0},{"$f":"'Displaced Emissions'!D19","v":0},{"$f":"_xlfn.IFNA(INDEX(Dropdowns!L$3:L$31, MATCH(D144, EGridSubregions, 0)), 0)","v":0},{"$f":"'Displaced Emissions'!E19","v":0},{"$f":"(SUMIFS(FactorMatrix[[UPSTREAMMATERIALSEMISSIONS]:[UPSTREAMMATERIALSEMISSIONS]], FactorMatrix[[MODE]:[MODE]], $B144, FactorMatrix[[PHASE]:[PHASE]], \"Operations\", FactorMatrix[[GHGSOURCE]:[GHGSOURCE]], \"Vehicle\", FactorMatrix[[TYPE]:[TYPE]], $C144, FactorMatrix[[STATE /REGION]:[STATE /REGION]], $D144)*Years\n+\nSUMIFS(FactorMatrix[[UPSTREAMMATERIALSEMISSIONS]:[UPSTREAMMATERIALSEMISSIONS]], FactorMatrix[[MODE]:[MODE]], $B144, FactorMatrix[[PHASE]:[PHASE]], \"Operations\", FactorMatrix[[GHGSOURCE]:[GHGSOURCE]], \"Vehicle\", FactorMatrix[[TYPE]:[TYPE]], $C144, FactorMatrix[[STATE /REGION]:[STATE /REGION]], $E144)*Years)/IF(AND(D144=0, E144=0), 2, 1)","v":0},{"$f":"(SUMIFS(FactorMatrix[[UPSTREAMTRANSPORTEMISSIONS]:[UPSTREAMTRANSPORTEMISSIONS]], FactorMatrix[[MODE]:[MODE]], $B144, FactorMatrix[[PHASE]:[PHASE]], \"Operations\", FactorMatrix[[GHGSOURCE]:[GHGSOURCE]], \"Vehicle\", FactorMatrix[[TYPE]:[TYPE]], $C144, FactorMatrix[[STATE /REGION]:[STATE /REGION]], $D144)*Years\n+\nSUMIFS(FactorMatrix[[UPSTREAMTRANSPORTEMISSIONS]:[UPSTREAMTRANSPORTEMISSIONS]], FactorMatrix[[MODE]:[MODE]], $B144, FactorMatrix[[PHASE]:[PHASE]], \"Operations\", FactorMatrix[[GHGSOURCE]:[GHGSOURCE]], \"Vehicle\", FactorMatrix[[TYPE]:[TYPE]], $C144, FactorMatrix[[STATE /REGION]:[STATE /REGION]], $E144)*Years)/IF(AND(D144=0, E144=0), 2, 1)","v":0},{"$f":"(SUMIFS(FactorMatrix[[DOWNSTREAMEMISSIONS]:[DOWNSTREAMEMISSIONS]], FactorMatrix[[MODE]:[MODE]], $B144, FactorMatrix[[PHASE]:[PHASE]], \"Operations\", FactorMatrix[[GHGSOURCE]:[GHGSOURCE]], \"Vehicle\", FactorMatrix[[TYPE]:[TYPE]], $C144, FactorMatrix[[STATE /REGION]:[STATE /REGION]], $D144)*Years\n+\nSUMIFS(FactorMatrix[[DOWNSTREAMEMISSIONS]:[DOWNSTREAMEMISSIONS]], FactorMatrix[[MODE]:[MODE]], $B144, FactorMatrix[[PHASE]:[PHASE]], \"Operations\", FactorMatrix[[GHGSOURCE]:[GHGSOURCE]], \"Vehicle\", FactorMatrix[[TYPE]:[TYPE]], $C144, FactorMatrix[[STATE /REGION]:[STATE /REGION]], $E144)*Years)/IF(AND(D144=0, E144=0), 2, 1)","v":0},0,0,0]
[16,{"$f":"'Displaced Emissions'!B20","v":0},{"$f":"'Displaced Emissions'!C20","v":0},{"$f":"'Displaced Emissions'!D20","v":0},{"$f":"_xlfn.IFNA(INDEX(Dropdowns!L$3:L$31, MATCH(D145, EGridSubregions, 0)), 0)","v":0},{"$f":"'Displaced Emissions'!E20","v":0},{"$f":"(SUMIFS(FactorMatrix[[UPSTREAMMATERIALSEMISSIONS]:[UPSTREAMMATERIALSEMISSIONS]], FactorMatrix[[MODE]:[MODE]], $B145, FactorMatrix[[PHASE]:[PHASE]], \"Operations\", FactorMatrix[[GHGSOURCE]:[GHGSOURCE]], \"Vehicle\", FactorMatrix[[TYPE]:[TYPE]], $C145, FactorMatrix[[STATE /REGION]:[STATE /REGION]], $D145)*Years\n+\nSUMIFS(FactorMatrix[[UPSTREAMMATERIALSEMISSIONS]:[UPSTREAMMATERIALSEMISSIONS]], FactorMatrix[[MODE]:[MODE]], $B145, FactorMatrix[[PHASE]:[PHASE]], \"Operations\", FactorMatrix[[GHGSOURCE]:[GHGSOURCE]], \"Vehicle\", FactorMatrix[[TYPE]:[TYPE]], $C145, FactorMatrix[[STATE /REGION]:[STATE /REGION]], $E145)*Years)/IF(AND(D145=0, E145=0), 2, 1)","v":0},{"$f":"(SUMIFS(FactorMatrix[[UPSTREAMTRANSPORTEMISSIONS]:[UPSTREAMTRANSPORTEMISSIONS]], FactorMatrix[[MODE]:[MODE]], $B145, FactorMatrix[[PHASE]:[PHASE]], \"Operations\", FactorMatrix[[GHGSOURCE]:[GHGSOURCE]], \"Vehicle\", FactorMatrix[[TYPE]:[TYPE]], $C145, FactorMatrix[[STATE /REGION]:[STATE /REGION]], $D145)*Years\n+\nSUMIFS(FactorMatrix[[UPSTREAMTRANSPORTEMISSIONS]:[UPSTREAMTRANSPORTEMISSIONS]], FactorMatrix[[MODE]:[MODE]], $B145, FactorMatrix[[PHASE]:[PHASE]], \"Operations\", FactorMatrix[[GHGSOURCE]:[GHGSOURCE]], \"Vehicle\", FactorMatrix[[TYPE]:[TYPE]], $C145, FactorMatrix[[STATE /REGION]:[STATE /REGION]], $E145)*Years)/IF(AND(D145=0, E145=0), 2, 1)","v":0},{"$f":"(SUMIFS(FactorMatrix[[DOWNSTREAMEMISSIONS]:[DOWNSTREAMEMISSIONS]], FactorMatrix[[MODE]:[MODE]], $B145, FactorMatrix[[PHASE]:[PHASE]], \"Operations\", FactorMatrix[[GHGSOURCE]:[GHGSOURCE]], \"Vehicle\", FactorMatrix[[TYPE]:[TYPE]], $C145, FactorMatrix[[STATE /REGION]:[STATE /REGION]], $D145)*Years\n+\nSUMIFS(FactorMatrix[[DOWNSTREAMEMISSIONS]:[DOWNSTREAMEMISSIONS]], FactorMatrix[[MODE]:[MODE]], $B145, FactorMatrix[[PHASE]:[PHASE]], \"Operations\", FactorMatrix[[GHGSOURCE]:[GHGSOURCE]], \"Vehicle\", FactorMatrix[[TYPE]:[TYPE]], $C145, FactorMatrix[[STATE /REGION]:[STATE /REGION]], $E145)*Years)/IF(AND(D145=0, E145=0), 2, 1)","v":0},0,0,0]
[17,{"$f":"'Displaced Emissions'!B21","v":0},{"$f":"'Displaced Emissions'!C21","v":0},{"$f":"'Displaced Emissions'!D21","v":0},{"$f":"_xlfn.IFNA(INDEX(Dropdowns!L$3:L$31, MATCH(D146, EGridSubregions, 0)), 0)","v":0},{"$f":"'Displaced Emissions'!E21","v":0},{"$f":"(SUMIFS(FactorMatrix[[UPSTREAMMATERIALSEMISSIONS]:[UPSTREAMMATERIALSEMISSIONS]], FactorMatrix[[MODE]:[MODE]], $B146, FactorMatrix[[PHASE]:[PHASE]], \"Operations\", FactorMatrix[[GHGSOURCE]:[GHGSOURCE]], \"Vehicle\", FactorMatrix[[TYPE]:[TYPE]], $C146, FactorMatrix[[STATE /REGION]:[STATE /REGION]], $D146)*Years\n+\nSUMIFS(FactorMatrix[[UPSTREAMMATERIALSEMISSIONS]:[UPSTREAMMATERIALSEMISSIONS]], FactorMatrix[[MODE]:[MODE]], $B146, FactorMatrix[[PHASE]:[PHASE]], \"Operations\", FactorMatrix[[GHGSOURCE]:[GHGSOURCE]], \"Vehicle\", FactorMatrix[[TYPE]:[TYPE]], $C146, FactorMatrix[[STATE /REGION]:[STATE /REGION]], $E146)*Years)/IF(AND(D146=0, E146=0), 2, 1)","v":0},{"$f":"(SUMIFS(FactorMatrix[[UPSTREAMTRANSPORTEMISSIONS]:[UPSTREAMTRANSPORTEMISSIONS]], FactorMatrix[[MODE]:[MODE]], $B146, FactorMatrix[[PHASE]:[PHASE]], \"Operations\", FactorMatrix[[GHGSOURCE]:[GHGSOURCE]], \"Vehicle\", FactorMatrix[[TYPE]:[TYPE]], $C146, FactorMatrix[[STATE /REGION]:[STATE /REGION]], $D146)*Years\n+\nSUMIFS(FactorMatrix[[UPSTREAMTRANSPORTEMISSIONS]:[UPSTREAMTRANSPORTEMISSIONS]], FactorMatrix[[MODE]:[MODE]], $B146, FactorMatrix[[PHASE]:[PHASE]], \"Operations\", FactorMatrix[[GHGSOURCE]:[GHGSOURCE]], \"Vehicle\", FactorMatrix[[TYPE]:[TYPE]], $C146, FactorMatrix[[STATE /REGION]:[STATE /REGION]], $E146)*Years)/IF(AND(D146=0, E146=0), 2, 1)","v":0},{"$f":"(SUMIFS(FactorMatrix[[DOWNSTREAMEMISSIONS]:[DOWNSTREAMEMISSIONS]], FactorMatrix[[MODE]:[MODE]], $B146, FactorMatrix[[PHASE]:[PHASE]], \"Operations\", FactorMatrix[[GHGSOURCE]:[GHGSOURCE]], \"Vehicle\", FactorMatrix[[TYPE]:[TYPE]], $C146, FactorMatrix[[STATE /REGION]:[STATE /REGION]], $D146)*Years\n+\nSUMIFS(FactorMatrix[[DOWNSTREAMEMISSIONS]:[DOWNSTREAMEMISSIONS]], FactorMatrix[[MODE]:[MODE]], $B146, FactorMatrix[[PHASE]:[PHASE]], \"Operations\", FactorMatrix[[GHGSOURCE]:[GHGSOURCE]], \"Vehicle\", FactorMatrix[[TYPE]:[TYPE]], $C146, FactorMatrix[[STATE /REGION]:[STATE /REGION]], $E146)*Years)/IF(AND(D146=0, E146=0), 2, 1)","v":0},0,0,0]
[18,{"$f":"'Displaced Emissions'!B22","v":0},{"$f":"'Displaced Emissions'!C22","v":0},{"$f":"'Displaced Emissions'!D22","v":0},{"$f":"_xlfn.IFNA(INDEX(Dropdowns!L$3:L$31, MATCH(D147, EGridSubregions, 0)), 0)","v":0},{"$f":"'Displaced Emissions'!E22","v":0},{"$f":"(SUMIFS(FactorMatrix[[UPSTREAMMATERIALSEMISSIONS]:[UPSTREAMMATERIALSEMISSIONS]], FactorMatrix[[MODE]:[MODE]], $B147, FactorMatrix[[PHASE]:[PHASE]], \"Operations\", FactorMatrix[[GHGSOURCE]:[GHGSOURCE]], \"Vehicle\", FactorMatrix[[TYPE]:[TYPE]], $C147, FactorMatrix[[STATE /REGION]:[STATE /REGION]], $D147)*Years\n+\nSUMIFS(FactorMatrix[[UPSTREAMMATERIALSEMISSIONS]:[UPSTREAMMATERIALSEMISSIONS]], FactorMatrix[[MODE]:[MODE]], $B147, FactorMatrix[[PHASE]:[PHASE]], \"Operations\", FactorMatrix[[GHGSOURCE]:[GHGSOURCE]], \"Vehicle\", FactorMatrix[[TYPE]:[TYPE]], $C147, FactorMatrix[[STATE /REGION]:[STATE /REGION]], $E147)*Years)/IF(AND(D147=0, E147=0), 2, 1)","v":0},{"$f":"(SUMIFS(FactorMatrix[[UPSTREAMTRANSPORTEMISSIONS]:[UPSTREAMTRANSPORTEMISSIONS]], FactorMatrix[[MODE]:[MODE]], $B147, FactorMatrix[[PHASE]:[PHASE]], \"Operations\", FactorMatrix[[GHGSOURCE]:[GHGSOURCE]], \"Vehicle\", FactorMatrix[[TYPE]:[TYPE]], $C147, FactorMatrix[[STATE /REGION]:[STATE /REGION]], $D147)*Years\n+\nSUMIFS(FactorMatrix[[UPSTREAMTRANSPORTEMISSIONS]:[UPSTREAMTRANSPORTEMISSIONS]], FactorMatrix[[MODE]:[MODE]], $B147, FactorMatrix[[PHASE]:[PHASE]], \"Operations\", FactorMatrix[[GHGSOURCE]:[GHGSOURCE]], \"Vehicle\", FactorMatrix[[TYPE]:[TYPE]], $C147, FactorMatrix[[STATE /REGION]:[STATE /REGION]], $E147)*Years)/IF(AND(D147=0, E147=0), 2, 1)","v":0},{"$f":"(SUMIFS(FactorMatrix[[DOWNSTREAMEMISSIONS]:[DOWNSTREAMEMISSIONS]], FactorMatrix[[MODE]:[MODE]], $B147, FactorMatrix[[PHASE]:[PHASE]], \"Operations\", FactorMatrix[[GHGSOURCE]:[GHGSOURCE]], \"Vehicle\", FactorMatrix[[TYPE]:[TYPE]], $C147, FactorMatrix[[STATE /REGION]:[STATE /REGION]], $D147)*Years\n+\nSUMIFS(FactorMatrix[[DOWNSTREAMEMISSIONS]:[DOWNSTREAMEMISSIONS]], FactorMatrix[[MODE]:[MODE]], $B147, FactorMatrix[[PHASE]:[PHASE]], \"Operations\", FactorMatrix[[GHGSOURCE]:[GHGSOURCE]], \"Vehicle\", FactorMatrix[[TYPE]:[TYPE]], $C147, FactorMatrix[[STATE /REGION]:[STATE /REGION]], $E147)*Years)/IF(AND(D147=0, E147=0), 2, 1)","v":0},0,0,0]
[19,{"$f":"'Displaced Emissions'!B23","v":0},{"$f":"'Displaced Emissions'!C23","v":0},{"$f":"'Displaced Emissions'!D23","v":0},{"$f":"_xlfn.IFNA(INDEX(Dropdowns!L$3:L$31, MATCH(D148, EGridSubregions, 0)), 0)","v":0},{"$f":"'Displaced Emissions'!E23","v":0},{"$f":"(SUMIFS(FactorMatrix[[UPSTREAMMATERIALSEMISSIONS]:[UPSTREAMMATERIALSEMISSIONS]], FactorMatrix[[MODE]:[MODE]], $B148, FactorMatrix[[PHASE]:[PHASE]], \"Operations\", FactorMatrix[[GHGSOURCE]:[GHGSOURCE]], \"Vehicle\", FactorMatrix[[TYPE]:[TYPE]], $C148, FactorMatrix[[STATE /REGION]:[STATE /REGION]], $D148)*Years\n+\nSUMIFS(FactorMatrix[[UPSTREAMMATERIALSEMISSIONS]:[UPSTREAMMATERIALSEMISSIONS]], FactorMatrix[[MODE]:[MODE]], $B148, FactorMatrix[[PHASE]:[PHASE]], \"Operations\", FactorMatrix[[GHGSOURCE]:[GHGSOURCE]], \"Vehicle\", FactorMatrix[[TYPE]:[TYPE]], $C148, FactorMatrix[[STATE /REGION]:[STATE /REGION]], $E148)*Years)/IF(AND(D148=0, E148=0), 2, 1)","v":0},{"$f":"(SUMIFS(FactorMatrix[[UPSTREAMTRANSPORTEMISSIONS]:[UPSTREAMTRANSPORTEMISSIONS]], FactorMatrix[[MODE]:[MODE]], $B148, FactorMatrix[[PHASE]:[PHASE]], \"Operations\", FactorMatrix[[GHGSOURCE]:[GHGSOURCE]], \"Vehicle\", FactorMatrix[[TYPE]:[TYPE]], $C148, FactorMatrix[[STATE /REGION]:[STATE /REGION]], $D148)*Years\n+\nSUMIFS(FactorMatrix[[UPSTREAMTRANSPORTEMISSIONS]:[UPSTREAMTRANSPORTEMISSIONS]], FactorMatrix[[MODE]:[MODE]], $B148, FactorMatrix[[PHASE]:[PHASE]], \"Operations\", FactorMatrix[[GHGSOURCE]:[GHGSOURCE]], \"Vehicle\", FactorMatrix[[TYPE]:[TYPE]], $C148, FactorMatrix[[STATE /REGION]:[STATE /REGION]], $E148)*Years)/IF(AND(D148=0, E148=0), 2, 1)","v":0},{"$f":"(SUMIFS(FactorMatrix[[DOWNSTREAMEMISSIONS]:[DOWNSTREAMEMISSIONS]], FactorMatrix[[MODE]:[MODE]], $B148, FactorMatrix[[PHASE]:[PHASE]], \"Operations\", FactorMatrix[[GHGSOURCE]:[GHGSOURCE]], \"Vehicle\", FactorMatrix[[TYPE]:[TYPE]], $C148, FactorMatrix[[STATE /REGION]:[STATE /REGION]], $D148)*Years\n+\nSUMIFS(FactorMatrix[[DOWNSTREAMEMISSIONS]:[DOWNSTREAMEMISSIONS]], FactorMatrix[[MODE]:[MODE]], $B148, FactorMatrix[[PHASE]:[PHASE]], \"Operations\", FactorMatrix[[GHGSOURCE]:[GHGSOURCE]], \"Vehicle\", FactorMatrix[[TYPE]:[TYPE]], $C148, FactorMatrix[[STATE /REGION]:[STATE /REGION]], $E148)*Years)/IF(AND(D148=0, E148=0), 2, 1)","v":0},0,0,0]
[20,{"$f":"'Displaced Emissions'!B24","v":0},{"$f":"'Displaced Emissions'!C24","v":0},{"$f":"'Displaced Emissions'!D24","v":0},{"$f":"_xlfn.IFNA(INDEX(Dropdowns!L$3:L$31, MATCH(D149, EGridSubregions, 0)), 0)","v":0},{"$f":"'Displaced Emissions'!E24","v":0},{"$f":"(SUMIFS(FactorMatrix[[UPSTREAMMATERIALSEMISSIONS]:[UPSTREAMMATERIALSEMISSIONS]], FactorMatrix[[MODE]:[MODE]], $B149, FactorMatrix[[PHASE]:[PHASE]], \"Operations\", FactorMatrix[[GHGSOURCE]:[GHGSOURCE]], \"Vehicle\", FactorMatrix[[TYPE]:[TYPE]], $C149, FactorMatrix[[STATE /REGION]:[STATE /REGION]], $D149)*Years\n+\nSUMIFS(FactorMatrix[[UPSTREAMMATERIALSEMISSIONS]:[UPSTREAMMATERIALSEMISSIONS]], FactorMatrix[[MODE]:[MODE]], $B149, FactorMatrix[[PHASE]:[PHASE]], \"Operations\", FactorMatrix[[GHGSOURCE]:[GHGSOURCE]], \"Vehicle\", FactorMatrix[[TYPE]:[TYPE]], $C149, FactorMatrix[[STATE /REGION]:[STATE /REGION]], $E149)*Years)/IF(AND(D149=0, E149=0), 2, 1)","v":0},{"$f":"(SUMIFS(FactorMatrix[[UPSTREAMTRANSPORTEMISSIONS]:[UPSTREAMTRANSPORTEMISSIONS]], FactorMatrix[[MODE]:[MODE]], $B149, FactorMatrix[[PHASE]:[PHASE]], \"Operations\", FactorMatrix[[GHGSOURCE]:[GHGSOURCE]], \"Vehicle\", FactorMatrix[[TYPE]:[TYPE]], $C149, FactorMatrix[[STATE /REGION]:[STATE /REGION]], $D149)*Years\n+\nSUMIFS(FactorMatrix[[UPSTREAMTRANSPORTEMISSIONS]:[UPSTREAMTRANSPORTEMISSIONS]], FactorMatrix[[MODE]:[MODE]], $B149, FactorMatrix[[PHASE]:[PHASE]], \"Operations\", FactorMatrix[[GHGSOURCE]:[GHGSOURCE]], \"Vehicle\", FactorMatrix[[TYPE]:[TYPE]], $C149, FactorMatrix[[STATE /REGION]:[STATE /REGION]], $E149)*Years)/IF(AND(D149=0, E149=0), 2, 1)","v":0},{"$f":"(SUMIFS(FactorMatrix[[DOWNSTREAMEMISSIONS]:[DOWNSTREAMEMISSIONS]], FactorMatrix[[MODE]:[MODE]], $B149, FactorMatrix[[PHASE]:[PHASE]], \"Operations\", FactorMatrix[[GHGSOURCE]:[GHGSOURCE]], \"Vehicle\", FactorMatrix[[TYPE]:[TYPE]], $C149, FactorMatrix[[STATE /REGION]:[STATE /REGION]], $D149)*Years\n+\nSUMIFS(FactorMatrix[[DOWNSTREAMEMISSIONS]:[DOWNSTREAMEMISSIONS]], FactorMatrix[[MODE]:[MODE]], $B149, FactorMatrix[[PHASE]:[PHASE]], \"Operations\", FactorMatrix[[GHGSOURCE]:[GHGSOURCE]], \"Vehicle\", FactorMatrix[[TYPE]:[TYPE]], $C149, FactorMatrix[[STATE /REGION]:[STATE /REGION]], $E149)*Years)/IF(AND(D149=0, E149=0), 2, 1)","v":0},0,0,0]
[]
["Collected Results"]
[null,"Upstream Materials","Upstream Transport","Upstream","Downstream ","Total "]
["Construction ",{"$f":"AL12","v":{"$error":"#DIV/0!"}},{"$f":"AM12","v":{"$error":"#DIV/0!"}},{"$f":"SUM(B153:C153)","v":{"$error":"#DIV/0!"}},{"$f":"AN12","v":{"$error":"#DIV/0!"}},{"$f":"SUM(D153:E153)","v":{"$error":"#DIV/0!"}}]
["Transitway Maintenance",{"$f":"V39","v":{"$error":"#DIV/0!"}},{"$f":"W39","v":{"$error":"#DIV/0!"}},{"$error":"#DIV/0!"},{"$f":"X39","v":{"$error":"#DIV/0!"}},{"$error":"#DIV/0!"}]
["Facility Operations",{"$f":"K63","v":{"$error":"#DIV/0!"}},{"$f":"L63","v":{"$error":"#DIV/0!"}},{"$error":"#DIV/0!"},{"$f":"M63","v":{"$error":"#DIV/0!"}},{"$error":"#DIV/0!"}]
["Vehicle Operations",{"$f":"M87","v":{"$error":"#DIV/0!"}},{"$f":"N87","v":{"$error":"#DIV/0!"}},{"$error":"#DIV/0!"},{"$f":"O87","v":{"$error":"#DIV/0!"}},{"$error":"#DIV/0!"}]
["Vehicle Maintenance",{"$f":"J111","v":{"$error":"#DIV/0!"}},{"$f":"K111","v":{"$error":"#DIV/0!"}},{"$error":"#DIV/0!"},{"$f":"L111","v":{"$error":"#DIV/0!"}},{"$error":"#DIV/0!"}]
["Displaced Emissions",{"$f":"M135","v":{"$error":"#DIV/0!"}},{"$f":"N135","v":{"$error":"#DIV/0!"}},{"$error":"#DIV/0!"},{"$f":"O135","v":{"$error":"#DIV/0!"}},{"$error":"#DIV/0!"}]

{"sheet":"Energy Calculations","index":8,"n_rows":158,"n_cols":40,"rows_kept":158,"cut":false,"hidden":true,"merged":[[4,2,4,5],[31,2,31,4]]}
["SelectState","State","Analysis Period"]
[{"$f":"B2","v":0},{"$f":"'GHG Calculator'!D5","v":0},{"$f":"'GHG Calculator'!$F$5","v":0},null,false]
[null,null,null,null,null,null,null,null,null,null,null,null,{"$f":"M7*E7+E7*U7","v":0},null,null,null,null,null,null,null,null,null,null,null,null,null,null,null,null,null,null,null,null,null,null,null,null,null,{"$f":"SUM(AL7:AM7)","v":0}]
["Construction",null,null,null,null,null,null,null,null,null,"Upstream Materials",null,null,null,null,null,null,null,"Upstream Transport Energy Factor",null,null,null,null,null,null,null,"Downstream Energy Factor",null,null,null,null,null,null,null,"RESULTS",null,null,"FINAL RESULTS"]
["INPUTS",null,"Miles of New Track/Alignment",null,null,null,null,"Number of Stations",null,null,"Transitway",null,null,null,null,"Station",null,null,"Transitway",null,null,null,null,"Station"]
["row","Transit Mode:","Underground","Elevated","At-Grade","Catenary","CONVERTED OR UPGRADED","Underground","Elevated","At-Grade","Underground","Elevated","At-Grade","Catenary","CONVERTED OR UPGRADED","Underground","Elevated","At-Grade","Underground","Elevated","At-Grade","Catenary","Converted or Upgraded","Underground","Elevated","At-Grade","Underground","Elevated","At-Grade","Catenary","CONVERTED OR UPGRADED","Underground","Elevated","At-Grade","UPSTREAM MATERIALS","UPSTREAM TRANSPORT","DOWNSTREAM","UPSTREAM MATERIALS","UPSTREAM TRANSPORT","DOWNSTREAM"]
[1,{"$f":"Construction!B8","v":0},{"$f":"Construction!C8","v":0},{"$f":"Construction!D8","v":0},{"$f":"Construction!E8","v":0},{"$f":"Construction!F8","v":0},{"$f":"Construction!G8","v":0},{"$f":"Construction!H8","v":0},{"$f":"Construction!I8","v":0},{"$f":"Construction!J8","v":0},{"$f":"SUMIFS(FactorMatrix[[UPSTREAMMATERIALSENERGY]:[UPSTREAMMATERIALSENERGY]], FactorMatrix[[MODE]:[MODE]], $B7, FactorMatrix[[PHASE]:[PHASE]], $A$4, FactorMatrix[[GHGSOURCE]:[GHGSOURCE]], \"track mile\", FactorMatrix[[TYPE]:[TYPE]], K$6, FactorMatrix[[STATE /REGION]:[STATE /REGION]], StateCalc)","v":0},{"$f":"SUMIFS(FactorMatrix[[UPSTREAMMATERIALSENERGY]:[UPSTREAMMATERIALSENERGY]], FactorMatrix[[MODE]:[MODE]], $B7, FactorMatrix[[PHASE]:[PHASE]], $A$4, FactorMatrix[[GHGSOURCE]:[GHGSOURCE]], \"track mile\", FactorMatrix[[TYPE]:[TYPE]], L$6)","v":0},{"$f":"SUMIFS(FactorMatrix[[UPSTREAMMATERIALSENERGY]:[UPSTREAMMATERIALSENERGY]], FactorMatrix[[MODE]:[MODE]], $B7, FactorMatrix[[PHASE]:[PHASE]], $A$4, FactorMatrix[[GHGSOURCE]:[GHGSOURCE]], \"track mile\", FactorMatrix[[TYPE]:[TYPE]], M$6)","v":0},{"$f":"SUMIFS(FactorMatrix[[UPSTREAMMATERIALSENERGY]:[UPSTREAMMATERIALSENERGY]], FactorMatrix[[MODE]:[MODE]], $B7, FactorMatrix[[PHASE]:[PHASE]], $A$4, FactorMatrix[[GHGSOURCE]:[GHGSOURCE]], \"track mile\", FactorMatrix[[TYPE]:[TYPE]], N$6)","v":0},{"$f":"SUMIFS(FactorMatrix[[UPSTREAMMATERIALSENERGY]:[UPSTREAMMATERIALSENERGY]], FactorMatrix[[MODE]:[MODE]], $B7, FactorMatrix[[PHASE]:[PHASE]], $A$4, FactorMatrix[[GHGSOURCE]:[GHGSOURCE]], \"track mile\", FactorMatrix[[TYPE]:[TYPE]], O$6)","v":0},{"$f":"SUMIFS(FactorMatrix[[UPSTREAMMATERIALSENERGY]:[UPSTREAMMATERIALSENERGY]], FactorMatrix[[MODE]:[MODE]], $B7, FactorMatrix[[PHASE]:[PHASE]], $A$4, FactorMatrix[[GHGSOURCE]:[GHGSOURCE]], \"station\", FactorMatrix[[TYPE]:[TYPE]], P$6)","v":0},{"$f":"SUMIFS(FactorMatrix[[UPSTREAMMATERIALSENERGY]:[UPSTREAMMATERIALSENERGY]], FactorMatrix[[MODE]:[MODE]], $B7, FactorMatrix[[PHASE]:[PHASE]], $A$4, FactorMatrix[[GHGSOURCE]:[GHGSOURCE]], \"station\", FactorMatrix[[TYPE]:[TYPE]], Q$6)","v":0},{"$f":"SUMIFS(FactorMatrix[[UPSTREAMMATERIALSENERGY]:[UPSTREAMMATERIALSENERGY]], FactorMatrix[[MODE]:[MODE]], $B7, FactorMatrix[[PHASE]:[PHASE]], $A$4, FactorMatrix[[GHGSOURCE]:[GHGSOURCE]], \"station\", FactorMatrix[[TYPE]:[TYPE]], R$6)","v":0},{"$f":"SUMIFS(FactorMatrix[[UPSTREAMTRANSPORTENERGY]:[UPSTREAMTRANSPORTENERGY]], FactorMatrix[[MODE]:[MODE]], $B7, FactorMatrix[[PHASE]:[PHASE]], $A$4, FactorMatrix[[GHGSOURCE]:[GHGSOURCE]], \"track mile\", FactorMatrix[[TYPE]:[TYPE]], S$6, FactorMatrix[[STATE /REGION]:[STATE /REGION]], StateCalc)","v":0},{"$f":"SUMIFS(FactorMatrix[[UPSTREAMTRANSPORTENERGY]:[UPSTREAMTRANSPORTENERGY]], FactorMatrix[[MODE]:[MODE]], $B7, FactorMatrix[[PHASE]:[PHASE]], $A$4, FactorMatrix[[GHGSOURCE]:[GHGSOURCE]], \"track mile\", FactorMatrix[[TYPE]:[TYPE]], T$6)","v":0},{"$f":"SUMIFS(FactorMatrix[[UPSTREAMTRANSPORTENERGY]:[UPSTREAMTRANSPORTENERGY]], FactorMatrix[[MODE]:[MODE]], $B7, FactorMatrix[[PHASE]:[PHASE]], $A$4, FactorMatrix[[GHGSOURCE]:[GHGSOURCE]], \"track mile\", FactorMatrix[[TYPE]:[TYPE]], U$6)","v":0},{"$f":"SUMIFS(FactorMatrix[[UPSTREAMTRANSPORTENERGY]:[UPSTREAMTRANSPORTENERGY]], FactorMatrix[[MODE]:[MODE]], $B7, FactorMatrix[[PHASE]:[PHASE]], $A$4, FactorMatrix[[GHGSOURCE]:[GHGSOURCE]], \"track mile\", FactorMatrix[[TYPE]:[TYPE]], V$6)","v":0},{"$f":"SUMIFS(FactorMatrix[[UPSTREAMTRANSPORTENERGY]:[UPSTREAMTRANSPORTENERGY]], FactorMatrix[[MODE]:[MODE]], $B7, FactorMatrix[[PHASE]:[PHASE]], $A$4, FactorMatrix[[GHGSOURCE]:[GHGSOURCE]], \"track mile\", FactorMatrix[[TYPE]:[TYPE]], W$6)","v":0},{"$f":"SUMIFS(FactorMatrix[[UPSTREAMTRANSPORTENERGY]:[UPSTREAMTRANSPORTENERGY]], FactorMatrix[[MODE]:[MODE]], $B7, FactorMatrix[[PHASE]:[PHASE]], $A$4, FactorMatrix[[GHGSOURCE]:[GHGSOURCE]], \"station\", FactorMatrix[[TYPE]:[TYPE]], X$6)","v":0},{"$f":"SUMIFS(FactorMatrix[[UPSTREAMTRANSPORTENERGY]:[UPSTREAMTRANSPORTENERGY]], FactorMatrix[[MODE]:[MODE]], $B7, FactorMatrix[[PHASE]:[PHASE]], $A$4, FactorMatrix[[GHGSOURCE]:[GHGSOURCE]], \"station\", FactorMatrix[[TYPE]:[TYPE]], Y$6)","v":0},{"$f":"SUMIFS(FactorMatrix[[UPSTREAMTRANSPORTENERGY]:[UPSTREAMTRANSPORTENERGY]], FactorMatrix[[MODE]:[MODE]], $B7, FactorMatrix[[PHASE]:[PHASE]], $A$4, FactorMatrix[[GHGSOURCE]:[GHGSOURCE]], \"station\", FactorMatrix[[TYPE]:[TYPE]], Z$6)","v":0},{"$f":"SUMIFS(FactorMatrix[[DOWNSTREAMENERGY]:[DOWNSTREAMENERGY]], FactorMatrix[[MODE]:[MODE]], $B7, FactorMatrix[[PHASE]:[PHASE]], $A$4, FactorMatrix[[GHGSOURCE]:[GHGSOURCE]], \"track mile\", FactorMatrix[[TYPE]:[TYPE]], AA$6, FactorMatrix[[STATE /REGION]:[STATE /REGION]], StateCalc)","v":0},{"$f":"SUMIFS(FactorMatrix[[DOWNSTREAMENERGY]:[DOWNSTREAMENERGY]], FactorMatrix[[MODE]:[MODE]], $B7, FactorMatrix[[PHASE]:[PHASE]], $A$4, FactorMatrix[[GHGSOURCE]:[GHGSOURCE]], \"track mile\", FactorMatrix[[TYPE]:[TYPE]], AB$6)","v":0},{"$f":"SUMIFS(FactorMatrix[[DOWNSTREAMENERGY]:[DOWNSTREAMENERGY]], FactorMatrix[[MODE]:[MODE]], $B7, FactorMatrix[[PHASE]:[PHASE]], $A$4, FactorMatrix[[GHGSOURCE]:[GHGSOURCE]], \"track mile\", FactorMatrix[[TYPE]:[TYPE]], AC$6)","v":0},{"$f":"SUMIFS(FactorMatrix[[DOWNSTREAMENERGY]:[DOWNSTREAMENERGY]], FactorMatrix[[MODE]:[MODE]], $B7, FactorMatrix[[PHASE]:[PHASE]], $A$4, FactorMatrix[[GHGSOURCE]:[GHGSOURCE]], \"track mile\", FactorMatrix[[TYPE]:[TYPE]], AD$6)","v":0},{"$f":"SUMIFS(FactorMatrix[[DOWNSTREAMENERGY]:[DOWNSTREAMENERGY]], FactorMatrix[[MODE]:[MODE]], $B7, FactorMatrix[[PHASE]:[PHASE]], $A$4, FactorMatrix[[GHGSOURCE]:[GHGSOURCE]], \"track mile\", FactorMatrix[[TYPE]:[TYPE]], AE$6)","v":0},{"$f":"SUMIFS(FactorMatrix[[DOWNSTREAMENERGY]:[DOWNSTREAMENERGY]], FactorMatrix[[MODE]:[MODE]], $B7, FactorMatrix[[PHASE]:[PHASE]], $A$4, FactorMatrix[[GHGSOURCE]:[GHGSOURCE]], \"station\", FactorMatrix[[TYPE]:[TYPE]], AF$6)","v":0},{"$f":"SUMIFS(FactorMatrix[[DOWNSTREAMENERGY]:[DOWNSTREAMENERGY]], FactorMatrix[[MODE]:[MODE]], $B7, FactorMatrix[[PHASE]:[PHASE]], $A$4, FactorMatrix[[GHGSOURCE]:[GHGSOURCE]], \"station\", FactorMatrix[[TYPE]:[TYPE]], AG$6)","v":0},{"$f":"SUMIFS(FactorMatrix[[DOWNSTREAMENERGY]:[DOWNSTREAMENERGY]], FactorMatrix[[MODE]:[MODE]], $B7, FactorMatrix[[PHASE]:[PHASE]], $A$4, FactorMatrix[[GHGSOURCE]:[GHGSOURCE]], \"station\", FactorMatrix[[TYPE]:[TYPE]], AH$6)","v":0},{"$f":"SUMPRODUCT($C7:$J7, K7:R7)","v":0},{"$f":"SUMPRODUCT($C7:$J7, S7:Z7)","v":0},{"$f":"SUMPRODUCT($C7:$J7, AA7:AH7)","v":0},{"$f":"SUM(AI7:AI29)","v":0},{"$f":"SUM(AJ7:AJ29)","v":0},{"$f":"SUM(AK7:AK29)","v":0}]
[2,{"$f":"Construction!B9","v":0},{"$f":"Construction!C9","v":0},{"$f":"Construction!D9","v":0},{"$f":"Construction!E9","v":0},{"$f":"Construction!F9","v":0},{"$f":"Construction!G9","v":0},{"$f":"Construction!H9","v":0},{"$f":"Construction!I9","v":0},{"$f":"Construction!J9","v":0},{"$f":"SUMIFS(FactorMatrix[[UPSTREAMMATERIALSENERGY]:[UPSTREAMMATERIALSENERGY]], FactorMatrix[[MODE]:[MODE]], $B8, FactorMatrix[[PHASE]:[PHASE]], $A$4, FactorMatrix[[GHGSOURCE]:[GHGSOURCE]], \"track mile\", FactorMatrix[[TYPE]:[TYPE]], K$6, FactorMatrix[[STATE /REGION]:[STATE /REGION]], StateCalc)","v":0},{"$f":"SUMIFS(FactorMatrix[[UPSTREAMMATERIALSENERGY]:[UPSTREAMMATERIALSENERGY]], FactorMatrix[[MODE]:[MODE]], $B8, FactorMatrix[[PHASE]:[PHASE]], $A$4, FactorMatrix[[GHGSOURCE]:[GHGSOURCE]], \"track mile\", FactorMatrix[[TYPE]:[TYPE]], L$6)","v":0},{"$f":"SUMIFS(FactorMatrix[[UPSTREAMMATERIALSENERGY]:[UPSTREAMMATERIALSENERGY]], FactorMatrix[[MODE]:[MODE]], $B8, FactorMatrix[[PHASE]:[PHASE]], $A$4, FactorMatrix[[GHGSOURCE]:[GHGSOURCE]], \"track mile\", FactorMatrix[[TYPE]:[TYPE]], M$6)","v":0},{"$f":"SUMIFS(FactorMatrix[[UPSTREAMMATERIALSENERGY]:[UPSTREAMMATERIALSENERGY]], FactorMatrix[[MODE]:[MODE]], $B8, FactorMatrix[[PHASE]:[PHASE]], $A$4, FactorMatrix[[GHGSOURCE]:[GHGSOURCE]], \"track mile\", FactorMatrix[[TYPE]:[TYPE]], N$6)","v":0},{"$f":"SUMIFS(FactorMatrix[[UPSTREAMMATERIALSENERGY]:[UPSTREAMMATERIALSENERGY]], FactorMatrix[[MODE]:[MODE]], $B8, FactorMatrix[[PHASE]:[PHASE]], $A$4, FactorMatrix[[GHGSOURCE]:[GHGSOURCE]], \"track mile\", FactorMatrix[[TYPE]:[TYPE]], O$6)","v":0},{"$f":"SUMIFS(FactorMatrix[[UPSTREAMMATERIALSENERGY]:[UPSTREAMMATERIALSENERGY]], FactorMatrix[[MODE]:[MODE]], $B8, FactorMatrix[[PHASE]:[PHASE]], $A$4, FactorMatrix[[GHGSOURCE]:[GHGSOURCE]], \"station\", FactorMatrix[[TYPE]:[TYPE]], P$6)","v":0},{"$f":"SUMIFS(FactorMatrix[[UPSTREAMMATERIALSENERGY]:[UPSTREAMMATERIALSENERGY]], FactorMatrix[[MODE]:[MODE]], $B8, FactorMatrix[[PHASE]:[PHASE]], $A$4, FactorMatrix[[GHGSOURCE]:[GHGSOURCE]], \"station\", FactorMatrix[[TYPE]:[TYPE]], Q$6)","v":0},{"$f":"SUMIFS(FactorMatrix[[UPSTREAMMATERIALSENERGY]:[UPSTREAMMATERIALSENERGY]], FactorMatrix[[MODE]:[MODE]], $B8, FactorMatrix[[PHASE]:[PHASE]], $A$4, FactorMatrix[[GHGSOURCE]:[GHGSOURCE]], \"station\", FactorMatrix[[TYPE]:[TYPE]], R$6)","v":0},{"$f":"SUMIFS(FactorMatrix[[UPSTREAMTRANSPORTENERGY]:[UPSTREAMTRANSPORTENERGY]], FactorMatrix[[MODE]:[MODE]], $B8, FactorMatrix[[PHASE]:[PHASE]], $A$4, FactorMatrix[[GHGSOURCE]:[GHGSOURCE]], \"track mile\", FactorMatrix[[TYPE]:[TYPE]], S$6, FactorMatrix[[STATE /REGION]:[STATE /REGION]], StateCalc)","v":0},{"$f":"SUMIFS(FactorMatrix[[UPSTREAMTRANSPORTENERGY]:[UPSTREAMTRANSPORTENERGY]], FactorMatrix[[MODE]:[MODE]], $B8, FactorMatrix[[PHASE]:[PHASE]], $A$4, FactorMatrix[[GHGSOURCE]:[GHGSOURCE]], \"track mile\", FactorMatrix[[TYPE]:[TYPE]], T$6)","v":0},{"$f":"SUMIFS(FactorMatrix[[UPSTREAMTRANSPORTENERGY]:[UPSTREAMTRANSPORTENERGY]], FactorMatrix[[MODE]:[MODE]], $B8, FactorMatrix[[PHASE]:[PHASE]], $A$4, FactorMatrix[[GHGSOURCE]:[GHGSOURCE]], \"track mile\", FactorMatrix[[TYPE]:[TYPE]], U$6)","v":0},{"$f":"SUMIFS(FactorMatrix[[UPSTREAMTRANSPORTENERGY]:[UPSTREAMTRANSPORTENERGY]], FactorMatrix[[MODE]:[MODE]], $B8, FactorMatrix[[PHASE]:[PHASE]], $A$4, FactorMatrix[[GHGSOURCE]:[GHGSOURCE]], \"track mile\", FactorMatrix[[TYPE]:[TYPE]], V$6)","v":0},{"$f":"SUMIFS(FactorMatrix[[UPSTREAMTRANSPORTENERGY]:[UPSTREAMTRANSPORTENERGY]], FactorMatrix[[MODE]:[MODE]], $B8, FactorMatrix[[PHASE]:[PHASE]], $A$4, FactorMatrix[[GHGSOURCE]:[GHGSOURCE]], \"track mile\", FactorMatrix[[TYPE]:[TYPE]], W$6)","v":0},{"$f":"SUMIFS(FactorMatrix[[UPSTREAMTRANSPORTENERGY]:[UPSTREAMTRANSPORTENERGY]], FactorMatrix[[MODE]:[MODE]], $B8, FactorMatrix[[PHASE]:[PHASE]], $A$4, FactorMatrix[[GHGSOURCE]:[GHGSOURCE]], \"station\", FactorMatrix[[TYPE]:[TYPE]], X$6)","v":0},{"$f":"SUMIFS(FactorMatrix[[UPSTREAMTRANSPORTENERGY]:[UPSTREAMTRANSPORTENERGY]], FactorMatrix[[MODE]:[MODE]], $B8, FactorMatrix[[PHASE]:[PHASE]], $A$4, FactorMatrix[[GHGSOURCE]:[GHGSOURCE]], \"station\", FactorMatrix[[TYPE]:[TYPE]], Y$6)","v":0},{"$f":"SUMIFS(FactorMatrix[[UPSTREAMTRANSPORTENERGY]:[UPSTREAMTRANSPORTENERGY]], FactorMatrix[[MODE]:[MODE]], $B8, FactorMatrix[[PHASE]:[PHASE]], $A$4, FactorMatrix[[GHGSOURCE]:[GHGSOURCE]], \"station\", FactorMatrix[[TYPE]:[TYPE]], Z$6)","v":0},{"$f":"SUMIFS(FactorMatrix[[DOWNSTREAMENERGY]:[DOWNSTREAMENERGY]], FactorMatrix[[MODE]:[MODE]], $B8, FactorMatrix[[PHASE]:[PHASE]], $A$4, FactorMatrix[[GHGSOURCE]:[GHGSOURCE]], \"track mile\", FactorMatrix[[TYPE]:[TYPE]], AA$6, FactorMatrix[[STATE /REGION]:[STATE /REGION]], StateCalc)","v":0},{"$f":"SUMIFS(FactorMatrix[[DOWNSTREAMENERGY]:[DOWNSTREAMENERGY]], FactorMatrix[[MODE]:[MODE]], $B8, FactorMatrix[[PHASE]:[PHASE]], $A$4, FactorMatrix[[GHGSOURCE]:[GHGSOURCE]], \"track mile\", FactorMatrix[[TYPE]:[TYPE]], AB$6)","v":0},{"$f":"SUMIFS(FactorMatrix[[DOWNSTREAMENERGY]:[DOWNSTREAMENERGY]], FactorMatrix[[MODE]:[MODE]], $B8, FactorMatrix[[PHASE]:[PHASE]], $A$4, FactorMatrix[[GHGSOURCE]:[GHGSOURCE]], \"track mile\", FactorMatrix[[TYPE]:[TYPE]], AC$6)","v":0},{"$f":"SUMIFS(FactorMatrix[[DOWNSTREAMENERGY]:[DOWNSTREAMENERGY]], FactorMatrix[[MODE]:[MODE]], $B8, FactorMatrix[[PHASE]:[PHASE]], $A$4, FactorMatrix[[GHGSOURCE]:[GHGSOURCE]], \"track mile\", FactorMatrix[[TYPE]:[TYPE]], AD$6)","v":0},{"$f":"SUMIFS(FactorMatrix[[DOWNSTREAMENERGY]:[DOWNSTREAMENERGY]], FactorMatrix[[MODE]:[MODE]], $B8, FactorMatrix[[PHASE]:[PHASE]], $A$4, FactorMatrix[[GHGSOURCE]:[GHGSOURCE]], \"track mile\", FactorMatrix[[TYPE]:[TYPE]], AE$6)","v":0},{"$f":"SUMIFS(FactorMatrix[[DOWNSTREAMENERGY]:[DOWNSTREAMENERGY]], FactorMatrix[[MODE]:[MODE]], $B8, FactorMatrix[[PHASE]:[PHASE]], $A$4, FactorMatrix[[GHGSOURCE]:[GHGSOURCE]], \"station\", FactorMatrix[[TYPE]:[TYPE]], AF$6)","v":0},{"$f":"SUMIFS(FactorMatrix[[DOWNSTREAMENERGY]:[DOWNSTREAMENERGY]], FactorMatrix[[MODE]:[MODE]], $B8, FactorMatrix[[PHASE]:[PHASE]], $A$4, FactorMatrix[[GHGSOURCE]:[GHGSOURCE]], \"station\", FactorMatrix[[TYPE]:[TYPE]], AG$6)","v":0},{"$f":"SUMIFS(FactorMatrix[[DOWNSTREAMENERGY]:[DOWNSTREAMENERGY]], FactorMatrix[[MODE]:[MODE]], $B8, FactorMatrix[[PHASE]:[PHASE]], $A$4, FactorMatrix[[GHGSOURCE]:[GHGSOURCE]], \"station\", FactorMatrix[[TYPE]:[TYPE]], AH$6)","v":0},{"$f":"SUMPRODUCT($C8:$J8, K8:R8)","v":0},{"$f":"SUMPRODUCT($C8:$J8, S8:Z8)","v":0},{"$f":"SUMPRODUCT($C8:$J8, AA8:AH8)","v":0}]
[3,{"$f":"Construction!B10","v":0},{"$f":"Construction!C10","v":0},{"$f":"Construction!D10","v":0},{"$f":"Construction!E10","v":0},{"$f":"Construction!F10","v":0},{"$f":"Construction!G10","v":0},{"$f":"Construction!H10","v":0},{"$f":"Construction!I10","v":0},{"$f":"Construction!J10","v":0},{"$f":"SUMIFS(FactorMatrix[[UPSTREAMMATERIALSENERGY]:[UPSTREAMMATERIALSENERGY]], FactorMatrix[[MODE]:[MODE]], $B9, FactorMatrix[[PHASE]:[PHASE]], $A$4, FactorMatrix[[GHGSOURCE]:[GHGSOURCE]], \"track mile\", FactorMatrix[[TYPE]:[TYPE]], K$6, FactorMatrix[[STATE /REGION]:[STATE /REGION]], StateCalc)","v":0},{"$f":"SUMIFS(FactorMatrix[[UPSTREAMMATERIALSENERGY]:[UPSTREAMMATERIALSENERGY]], FactorMatrix[[MODE]:[MODE]], $B9, FactorMatrix[[PHASE]:[PHASE]], $A$4, FactorMatrix[[GHGSOURCE]:[GHGSOURCE]], \"track mile\", FactorMatrix[[TYPE]:[TYPE]], L$6)","v":0},{"$f":"SUMIFS(FactorMatrix[[UPSTREAMMATERIALSENERGY]:[UPSTREAMMATERIALSENERGY]], FactorMatrix[[MODE]:[MODE]], $B9, FactorMatrix[[PHASE]:[PHASE]], $A$4, FactorMatrix[[GHGSOURCE]:[GHGSOURCE]], \"track mile\", FactorMatrix[[TYPE]:[TYPE]], M$6)","v":0},{"$f":"SUMIFS(FactorMatrix[[UPSTREAMMATERIALSENERGY]:[UPSTREAMMATERIALSENERGY]], FactorMatrix[[MODE]:[MODE]], $B9, FactorMatrix[[PHASE]:[PHASE]], $A$4, FactorMatrix[[GHGSOURCE]:[GHGSOURCE]], \"track mile\", FactorMatrix[[TYPE]:[TYPE]], N$6)","v":0},{"$f":"SUMIFS(FactorMatrix[[UPSTREAMMATERIALSENERGY]:[UPSTREAMMATERIALSENERGY]], FactorMatrix[[MODE]:[MODE]], $B9, FactorMatrix[[PHASE]:[PHASE]], $A$4, FactorMatrix[[GHGSOURCE]:[GHGSOURCE]], \"track mile\", FactorMatrix[[TYPE]:[TYPE]], O$6)","v":0},{"$f":"SUMIFS(FactorMatrix[[UPSTREAMMATERIALSENERGY]:[UPSTREAMMATERIALSENERGY]], FactorMatrix[[MODE]:[MODE]], $B9, FactorMatrix[[PHASE]:[PHASE]], $A$4, FactorMatrix[[GHGSOURCE]:[GHGSOURCE]], \"station\", FactorMatrix[[TYPE]:[TYPE]], P$6)","v":0},{"$f":"SUMIFS(FactorMatrix[[UPSTREAMMATERIALSENERGY]:[UPSTREAMMATERIALSENERGY]], FactorMatrix[[MODE]:[MODE]], $B9, FactorMatrix[[PHASE]:[PHASE]], $A$4, FactorMatrix[[GHGSOURCE]:[GHGSOURCE]], \"station\", FactorMatrix[[TYPE]:[TYPE]], Q$6)","v":0},{"$f":"SUMIFS(FactorMatrix[[UPSTREAMMATERIALSENERGY]:[UPSTREAMMATERIALSENERGY]], FactorMatrix[[MODE]:[MODE]], $B9, FactorMatrix[[PHASE]:[PHASE]], $A$4, FactorMatrix[[GHGSOURCE]:[GHGSOURCE]], \"station\", FactorMatrix[[TYPE]:[TYPE]], R$6)","v":0},{"$f":"SUMIFS(FactorMatrix[[UPSTREAMTRANSPORTENERGY]:[UPSTREAMTRANSPORTENERGY]], FactorMatrix[[MODE]:[MODE]], $B9, FactorMatrix[[PHASE]:[PHASE]], $A$4, FactorMatrix[[GHGSOURCE]:[GHGSOURCE]], \"track mile\", FactorMatrix[[TYPE]:[TYPE]], S$6, FactorMatrix[[STATE /REGION]:[STATE /REGION]], StateCalc)","v":0},{"$f":"SUMIFS(FactorMatrix[[UPSTREAMTRANSPORTENERGY]:[UPSTREAMTRANSPORTENERGY]], FactorMatrix[[MODE]:[MODE]], $B9, FactorMatrix[[PHASE]:[PHASE]], $A$4, FactorMatrix[[GHGSOURCE]:[GHGSOURCE]], \"track mile\", FactorMatrix[[TYPE]:[TYPE]], T$6)","v":0},{"$f":"SUMIFS(FactorMatrix[[UPSTREAMTRANSPORTENERGY]:[UPSTREAMTRANSPORTENERGY]], FactorMatrix[[MODE]:[MODE]], $B9, FactorMatrix[[PHASE]:[PHASE]], $A$4, FactorMatrix[[GHGSOURCE]:[GHGSOURCE]], \"track mile\", FactorMatrix[[TYPE]:[TYPE]], U$6)","v":0},{"$f":"SUMIFS(FactorMatrix[[UPSTREAMTRANSPORTENERGY]:[UPSTREAMTRANSPORTENERGY]], FactorMatrix[[MODE]:[MODE]], $B9, FactorMatrix[[PHASE]:[PHASE]], $A$4, FactorMatrix[[GHGSOURCE]:[GHGSOURCE]], \"track mile\", FactorMatrix[[TYPE]:[TYPE]], V$6)","v":0},{"$f":"SUMIFS(FactorMatrix[[UPSTREAMTRANSPORTENERGY]:[UPSTREAMTRANSPORTENERGY]], FactorMatrix[[MODE]:[MODE]], $B9, FactorMatrix[[PHASE]:[PHASE]], $A$4, FactorMatrix[[GHGSOURCE]:[GHGSOURCE]], \"track mile\", FactorMatrix[[TYPE]:[TYPE]], W$6)","v":0},{"$f":"SUMIFS(FactorMatrix[[UPSTREAMTRANSPORTENERGY]:[UPSTREAMTRANSPORTENERGY]], FactorMatrix[[MODE]:[MODE]], $B9, FactorMatrix[[PHASE]:[PHASE]], $A$4, FactorMatrix[[GHGSOURCE]:[GHGSOURCE]], \"station\", FactorMatrix[[TYPE]:[TYPE]], X$6)","v":0},{"$f":"SUMIFS(FactorMatrix[[UPSTREAMTRANSPORTENERGY]:[UPSTREAMTRANSPORTENERGY]], FactorMatrix[[MODE]:[MODE]], $B9, FactorMatrix[[PHASE]:[PHASE]], $A$4, FactorMatrix[[GHGSOURCE]:[GHGSOURCE]], \"station\", FactorMatrix[[TYPE]:[TYPE]], Y$6)","v":0},{"$f":"SUMIFS(FactorMatrix[[UPSTREAMTRANSPORTENERGY]:[UPSTREAMTRANSPORTENERGY]], FactorMatrix[[MODE]:[MODE]], $B9, FactorMatrix[[PHASE]:[PHASE]], $A$4, FactorMatrix[[GHGSOURCE]:[GHGSOURCE]], \"station\", FactorMatrix[[TYPE]:[TYPE]], Z$6)","v":0},{"$f":"SUMIFS(FactorMatrix[[DOWNSTREAMENERGY]:[DOWNSTREAMENERGY]], FactorMatrix[[MODE]:[MODE]], $B9, FactorMatrix[[PHASE]:[PHASE]], $A$4, FactorMatrix[[GHGSOURCE]:[GHGSOURCE]], \"track mile\", FactorMatrix[[TYPE]:[TYPE]], AA$6, FactorMatrix[[STATE /REGION]:[STATE /REGION]], StateCalc)","v":0},{"$f":"SUMIFS(FactorMatrix[[DOWNSTREAMENERGY]:[DOWNSTREAMENERGY]], FactorMatrix[[MODE]:[MODE]], $B9, FactorMatrix[[PHASE]:[PHASE]], $A$4, FactorMatrix[[GHGSOURCE]:[GHGSOURCE]], \"track mile\", FactorMatrix[[TYPE]:[TYPE]], AB$6)","v":0},{"$f":"SUMIFS(FactorMatrix[[DOWNSTREAMENERGY]:[DOWNSTREAMENERGY]], FactorMatrix[[MODE]:[MODE]], $B9, FactorMatrix[[PHASE]:[PHASE]], $A$4, FactorMatrix[[GHGSOURCE]:[GHGSOURCE]], \"track mile\", FactorMatrix[[TYPE]:[TYPE]], AC$6)","v":0},{"$f":"SUMIFS(FactorMatrix[[DOWNSTREAMENERGY]:[DOWNSTREAMENERGY]], FactorMatrix[[MODE]:[MODE]], $B9, FactorMatrix[[PHASE]:[PHASE]], $A$4, FactorMatrix[[GHGSOURCE]:[GHGSOURCE]], \"track mile\", FactorMatrix[[TYPE]:[TYPE]], AD$6)","v":0},{"$f":"SUMIFS(FactorMatrix[[DOWNSTREAMENERGY]:[DOWNSTREAMENERGY]], FactorMatrix[[MODE]:[MODE]], $B9, FactorMatrix[[PHASE]:[PHASE]], $A$4, FactorMatrix[[GHGSOURCE]:[GHGSOURCE]], \"track mile\", FactorMatrix[[TYPE]:[TYPE]], AE$6)","v":0},{"$f":"SUMIFS(FactorMatrix[[DOWNSTREAMENERGY]:[DOWNSTREAMENERGY]], FactorMatrix[[MODE]:[MODE]], $B9, FactorMatrix[[PHASE]:[PHASE]], $A$4, FactorMatrix[[GHGSOURCE]:[GHGSOURCE]], \"station\", FactorMatrix[[TYPE]:[TYPE]], AF$6)","v":0},{"$f":"SUMIFS(FactorMatrix[[DOWNSTREAMENERGY]:[DOWNSTREAMENERGY]], FactorMatrix[[MODE]:[MODE]], $B9, FactorMatrix[[PHASE]:[PHASE]], $A$4, FactorMatrix[[GHGSOURCE]:[GHGSOURCE]], \"station\", FactorMatrix[[TYPE]:[TYPE]], AG$6)","v":0},{"$f":"SUMIFS(FactorMatrix[[DOWNSTREAMENERGY]:[DOWNSTREAMENERGY]], FactorMatrix[[MODE]:[MODE]], $B9, FactorMatrix[[PHASE]:[PHASE]], $A$4, FactorMatrix[[GHGSOURCE]:[GHGSOURCE]], \"station\", FactorMatrix[[TYPE]:[TYPE]], AH$6)","v":0},0,0,0,"Annual"]
[4,{"$f":"Construction!B11","v":0},{"$f":"Construction!C11","v":0},{"$f":"Construction!D11","v":0},{"$f":"Construction!E11","v":0},{"$f":"Construction!F11","v":0},{"$f":"Construction!G11","v":0},{"$f":"Construction!H11","v":0},{"$f":"Construction!I11","v":0},{"$f":"Construction!J11","v":0},{"$f":"SUMIFS(FactorMatrix[[UPSTREAMMATERIALSENERGY]:[UPSTREAMMATERIALSENERGY]], FactorMatrix[[MODE]:[MODE]], $B10, FactorMatrix[[PHASE]:[PHASE]], $A$4, FactorMatrix[[GHGSOURCE]:[GHGSOURCE]], \"track mile\", FactorMatrix[[TYPE]:[TYPE]], K$6, FactorMatrix[[STATE /REGION]:[STATE /REGION]], StateCalc)","v":0},{"$f":"SUMIFS(FactorMatrix[[UPSTREAMMATERIALSENERGY]:[UPSTREAMMATERIALSENERGY]], FactorMatrix[[MODE]:[MODE]], $B10, FactorMatrix[[PHASE]:[PHASE]], $A$4, FactorMatrix[[GHGSOURCE]:[GHGSOURCE]], \"track mile\", FactorMatrix[[TYPE]:[TYPE]], L$6)","v":0},{"$f":"SUMIFS(FactorMatrix[[UPSTREAMMATERIALSENERGY]:[UPSTREAMMATERIALSENERGY]], FactorMatrix[[MODE]:[MODE]], $B10, FactorMatrix[[PHASE]:[PHASE]], $A$4, FactorMatrix[[GHGSOURCE]:[GHGSOURCE]], \"track mile\", FactorMatrix[[TYPE]:[TYPE]], M$6)","v":0},{"$f":"SUMIFS(FactorMatrix[[UPSTREAMMATERIALSENERGY]:[UPSTREAMMATERIALSENERGY]], FactorMatrix[[MODE]:[MODE]], $B10, FactorMatrix[[PHASE]:[PHASE]], $A$4, FactorMatrix[[GHGSOURCE]:[GHGSOURCE]], \"track mile\", FactorMatrix[[TYPE]:[TYPE]], N$6)","v":0},{"$f":"SUMIFS(FactorMatrix[[UPSTREAMMATERIALSENERGY]:[UPSTREAMMATERIALSENERGY]], FactorMatrix[[MODE]:[MODE]], $B10, FactorMatrix[[PHASE]:[PHASE]], $A$4, FactorMatrix[[GHGSOURCE]:[GHGSOURCE]], \"track mile\", FactorMatrix[[TYPE]:[TYPE]], O$6)","v":0},{"$f":"SUMIFS(FactorMatrix[[UPSTREAMMATERIALSENERGY]:[UPSTREAMMATERIALSENERGY]], FactorMatrix[[MODE]:[MODE]], $B10, FactorMatrix[[PHASE]:[PHASE]], $A$4, FactorMatrix[[GHGSOURCE]:[GHGSOURCE]], \"station\", FactorMatrix[[TYPE]:[TYPE]], P$6)","v":0},{"$f":"SUMIFS(FactorMatrix[[UPSTREAMMATERIALSENERGY]:[UPSTREAMMATERIALSENERGY]], FactorMatrix[[MODE]:[MODE]], $B10, FactorMatrix[[PHASE]:[PHASE]], $A$4, FactorMatrix[[GHGSOURCE]:[GHGSOURCE]], \"station\", FactorMatrix[[TYPE]:[TYPE]], Q$6)","v":0},{"$f":"SUMIFS(FactorMatrix[[UPSTREAMMATERIALSENERGY]:[UPSTREAMMATERIALSENERGY]], FactorMatrix[[MODE]:[MODE]], $B10, FactorMatrix[[PHASE]:[PHASE]], $A$4, FactorMatrix[[GHGSOURCE]:[GHGSOURCE]], \"station\", FactorMatrix[[TYPE]:[TYPE]], R$6)","v":0},{"$f":"SUMIFS(FactorMatrix[[UPSTREAMTRANSPORTENERGY]:[UPSTREAMTRANSPORTENERGY]], FactorMatrix[[MODE]:[MODE]], $B10, FactorMatrix[[PHASE]:[PHASE]], $A$4, FactorMatrix[[GHGSOURCE]:[GHGSOURCE]], \"track mile\", FactorMatrix[[TYPE]:[TYPE]], S$6, FactorMatrix[[STATE /REGION]:[STATE /REGION]], StateCalc)","v":0},{"$f":"SUMIFS(FactorMatrix[[UPSTREAMTRANSPORTENERGY]:[UPSTREAMTRANSPORTENERGY]], FactorMatrix[[MODE]:[MODE]], $B10, FactorMatrix[[PHASE]:[PHASE]], $A$4, FactorMatrix[[GHGSOURCE]:[GHGSOURCE]], \"track mile\", FactorMatrix[[TYPE]:[TYPE]], T$6)","v":0},{"$f":"SUMIFS(FactorMatrix[[UPSTREAMTRANSPORTENERGY]:[UPSTREAMTRANSPORTENERGY]], FactorMatrix[[MODE]:[MODE]], $B10, FactorMatrix[[PHASE]:[PHASE]], $A$4, FactorMatrix[[GHGSOURCE]:[GHGSOURCE]], \"track mile\", FactorMatrix[[TYPE]:[TYPE]], U$6)","v":0},{"$f":"SUMIFS(FactorMatrix[[UPSTREAMTRANSPORTENERGY]:[UPSTREAMTRANSPORTENERGY]], FactorMatrix[[MODE]:[MODE]], $B10, FactorMatrix[[PHASE]:[PHASE]], $A$4, FactorMatrix[[GHGSOURCE]:[GHGSOURCE]], \"track mile\", FactorMatrix[[TYPE]:[TYPE]], V$6)","v":0},{"$f":"SUMIFS(FactorMatrix[[UPSTREAMTRANSPORTENERGY]:[UPSTREAMTRANSPORTENERGY]], FactorMatrix[[MODE]:[MODE]], $B10, FactorMatrix[[PHASE]:[PHASE]], $A$4, FactorMatrix[[GHGSOURCE]:[GHGSOURCE]], \"track mile\", FactorMatrix[[TYPE]:[TYPE]], W$6)","v":0},{"$f":"SUMIFS(FactorMatrix[[UPSTREAMTRANSPORTENERGY]:[UPSTREAMTRANSPORTENERGY]], FactorMatrix[[MODE]:[MODE]], $B10, FactorMatrix[[PHASE]:[PHASE]], $A$4, FactorMatrix[[GHGSOURCE]:[GHGSOURCE]], \"station\", FactorMatrix[[TYPE]:[TYPE]], X$6)","v":0},{"$f":"SUMIFS(FactorMatrix[[UPSTREAMTRANSPORTENERGY]:[UPSTREAMTRANSPORTENERGY]], FactorMatrix[[MODE]:[MODE]], $B10, FactorMatrix[[PHASE]:[PHASE]], $A$4, FactorMatrix[[GHGSOURCE]:[GHGSOURCE]], \"station\", FactorMatrix[[TYPE]:[TYPE]], Y$6)","v":0},{"$f":"SUMIFS(FactorMatrix[[UPSTREAMTRANSPORTENERGY]:[UPSTREAMTRANSPORTENERGY]], FactorMatrix[[MODE]:[MODE]], $B10, FactorMatrix[[PHASE]:[PHASE]], $A$4, FactorMatrix[[GHGSOURCE]:[GHGSOURCE]], \"station\", FactorMatrix[[TYPE]:[TYPE]], Z$6)","v":0},{"$f":"SUMIFS(FactorMatrix[[DOWNSTREAMENERGY]:[DOWNSTREAMENERGY]], FactorMatrix[[MODE]:[MODE]], $B10, FactorMatrix[[PHASE]:[PHASE]], $A$4, FactorMatrix[[GHGSOURCE]:[GHGSOURCE]], \"track mile\", FactorMatrix[[TYPE]:[TYPE]], AA$6, FactorMatrix[[STATE /REGION]:[STATE /REGION]], StateCalc)","v":0},{"$f":"SUMIFS(FactorMatrix[[DOWNSTREAMENERGY]:[DOWNSTREAMENERGY]], FactorMatrix[[MODE]:[MODE]], $B10, FactorMatrix[[PHASE]:[PHASE]], $A$4, FactorMatrix[[GHGSOURCE]:[GHGSOURCE]], \"track mile\", FactorMatrix[[TYPE]:[TYPE]], AB$6)","v":0},{"$f":"SUMIFS(FactorMatrix[[DOWNSTREAMENERGY]:[DOWNSTREAMENERGY]], FactorMatrix[[MODE]:[MODE]], $B10, FactorMatrix[[PHASE]:[PHASE]], $A$4, FactorMatrix[[GHGSOURCE]:[GHGSOURCE]], \"track mile\", FactorMatrix[[TYPE]:[TYPE]], AC$6)","v":0},{"$f":"SUMIFS(FactorMatrix[[DOWNSTREAMENERGY]:[DOWNSTREAMENERGY]], FactorMatrix[[MODE]:[MODE]], $B10, FactorMatrix[[PHASE]:[PHASE]], $A$4, FactorMatrix[[GHGSOURCE]:[GHGSOURCE]], \"track mile\", FactorMatrix[[TYPE]:[TYPE]], AD$6)","v":0},{"$f":"SUMIFS(FactorMatrix[[DOWNSTREAMENERGY]:[DOWNSTREAMENERGY]], FactorMatrix[[MODE]:[MODE]], $B10, FactorMatrix[[PHASE]:[PHASE]], $A$4, FactorMatrix[[GHGSOURCE]:[GHGSOURCE]], \"track mile\", FactorMatrix[[TYPE]:[TYPE]], AE$6)","v":0},{"$f":"SUMIFS(FactorMatrix[[DOWNSTREAMENERGY]:[DOWNSTREAMENERGY]], FactorMatrix[[MODE]:[MODE]], $B10, FactorMatrix[[PHASE]:[PHASE]], $A$4, FactorMatrix[[GHGSOURCE]:[GHGSOURCE]], \"station\", FactorMatrix[[TYPE]:[TYPE]], AF$6)","v":0},{"$f":"SUMIFS(FactorMatrix[[DOWNSTREAMENERGY]:[DOWNSTREAMENERGY]], FactorMatrix[[MODE]:[MODE]], $B10, FactorMatrix[[PHASE]:[PHASE]], $A$4, FactorMatrix[[GHGSOURCE]:[GHGSOURCE]], \"station\", FactorMatrix[[TYPE]:[TYPE]], AG$6)","v":0},{"$f":"SUMIFS(FactorMatrix[[DOWNSTREAMENERGY]:[DOWNSTREAMENERGY]], FactorMatrix[[MODE]:[MODE]], $B10, FactorMatrix[[PHASE]:[PHASE]], $A$4, FactorMatrix[[GHGSOURCE]:[GHGSOURCE]], \"station\", FactorMatrix[[TYPE]:[TYPE]], AH$6)","v":0},0,0,0]
[5,{"$f":"Construction!B12","v":0},{"$f":"Construction!C12","v":0},{"$f":"Construction!D12","v":0},{"$f":"Construction!E12","v":0},{"$f":"Construction!F12","v":0},{"$f":"Construction!G12","v":0},{"$f":"Construction!H12","v":0},{"$f":"Construction!I12","v":0},{"$f":"Construction!J12","v":0},{"$f":"SUMIFS(FactorMatrix[[UPSTREAMMATERIALSENERGY]:[UPSTREAMMATERIALSENERGY]], FactorMatrix[[MODE]:[MODE]], $B11, FactorMatrix[[PHASE]:[PHASE]], $A$4, FactorMatrix[[GHGSOURCE]:[GHGSOURCE]], \"track mile\", FactorMatrix[[TYPE]:[TYPE]], K$6, FactorMatrix[[STATE /REGION]:[STATE /REGION]], StateCalc)","v":0},{"$f":"SUMIFS(FactorMatrix[[UPSTREAMMATERIALSENERGY]:[UPSTREAMMATERIALSENERGY]], FactorMatrix[[MODE]:[MODE]], $B11, FactorMatrix[[PHASE]:[PHASE]], $A$4, FactorMatrix[[GHGSOURCE]:[GHGSOURCE]], \"track mile\", FactorMatrix[[TYPE]:[TYPE]], L$6)","v":0},{"$f":"SUMIFS(FactorMatrix[[UPSTREAMMATERIALSENERGY]:[UPSTREAMMATERIALSENERGY]], FactorMatrix[[MODE]:[MODE]], $B11, FactorMatrix[[PHASE]:[PHASE]], $A$4, FactorMatrix[[GHGSOURCE]:[GHGSOURCE]], \"track mile\", FactorMatrix[[TYPE]:[TYPE]], M$6)","v":0},{"$f":"SUMIFS(FactorMatrix[[UPSTREAMMATERIALSENERGY]:[UPSTREAMMATERIALSENERGY]], FactorMatrix[[MODE]:[MODE]], $B11, FactorMatrix[[PHASE]:[PHASE]], $A$4, FactorMatrix[[GHGSOURCE]:[GHGSOURCE]], \"track mile\", FactorMatrix[[TYPE]:[TYPE]], N$6)","v":0},{"$f":"SUMIFS(FactorMatrix[[UPSTREAMMATERIALSENERGY]:[UPSTREAMMATERIALSENERGY]], FactorMatrix[[MODE]:[MODE]], $B11, FactorMatrix[[PHASE]:[PHASE]], $A$4, FactorMatrix[[GHGSOURCE]:[GHGSOURCE]], \"track mile\", FactorMatrix[[TYPE]:[TYPE]], O$6)","v":0},{"$f":"SUMIFS(FactorMatrix[[UPSTREAMMATERIALSENERGY]:[UPSTREAMMATERIALSENERGY]], FactorMatrix[[MODE]:[MODE]], $B11, FactorMatrix[[PHASE]:[PHASE]], $A$4, FactorMatrix[[GHGSOURCE]:[GHGSOURCE]], \"station\", FactorMatrix[[TYPE]:[TYPE]], P$6)","v":0},{"$f":"SUMIFS(FactorMatrix[[UPSTREAMMATERIALSENERGY]:[UPSTREAMMATERIALSENERGY]], FactorMatrix[[MODE]:[MODE]], $B11, FactorMatrix[[PHASE]:[PHASE]], $A$4, FactorMatrix[[GHGSOURCE]:[GHGSOURCE]], \"station\", FactorMatrix[[TYPE]:[TYPE]], Q$6)","v":0},{"$f":"SUMIFS(FactorMatrix[[UPSTREAMMATERIALSENERGY]:[UPSTREAMMATERIALSENERGY]], FactorMatrix[[MODE]:[MODE]], $B11, FactorMatrix[[PHASE]:[PHASE]], $A$4, FactorMatrix[[GHGSOURCE]:[GHGSOURCE]], \"station\", FactorMatrix[[TYPE]:[TYPE]], R$6)","v":0},{"$f":"SUMIFS(FactorMatrix[[UPSTREAMTRANSPORTENERGY]:[UPSTREAMTRANSPORTENERGY]], FactorMatrix[[MODE]:[MODE]], $B11, FactorMatrix[[PHASE]:[PHASE]], $A$4, FactorMatrix[[GHGSOURCE]:[GHGSOURCE]], \"track mile\", FactorMatrix[[TYPE]:[TYPE]], S$6, FactorMatrix[[STATE /REGION]:[STATE /REGION]], StateCalc)","v":0},{"$f":"SUMIFS(FactorMatrix[[UPSTREAMTRANSPORTENERGY]:[UPSTREAMTRANSPORTENERGY]], FactorMatrix[[MODE]:[MODE]], $B11, FactorMatrix[[PHASE]:[PHASE]], $A$4, FactorMatrix[[GHGSOURCE]:[GHGSOURCE]], \"track mile\", FactorMatrix[[TYPE]:[TYPE]], T$6)","v":0},{"$f":"SUMIFS(FactorMatrix[[UPSTREAMTRANSPORTENERGY]:[UPSTREAMTRANSPORTENERGY]], FactorMatrix[[MODE]:[MODE]], $B11, FactorMatrix[[PHASE]:[PHASE]], $A$4, FactorMatrix[[GHGSOURCE]:[GHGSOURCE]], \"track mile\", FactorMatrix[[TYPE]:[TYPE]], U$6)","v":0},{"$f":"SUMIFS(FactorMatrix[[UPSTREAMTRANSPORTENERGY]:[UPSTREAMTRANSPORTENERGY]], FactorMatrix[[MODE]:[MODE]], $B11, FactorMatrix[[PHASE]:[PHASE]], $A$4, FactorMatrix[[GHGSOURCE]:[GHGSOURCE]], \"track mile\", FactorMatrix[[TYPE]:[TYPE]], V$6)","v":0},{"$f":"SUMIFS(FactorMatrix[[UPSTREAMTRANSPORTENERGY]:[UPSTREAMTRANSPORTENERGY]], FactorMatrix[[MODE]:[MODE]], $B11, FactorMatrix[[PHASE]:[PHASE]], $A$4, FactorMatrix[[GHGSOURCE]:[GHGSOURCE]], \"track mile\", FactorMatrix[[TYPE]:[TYPE]], W$6)","v":0},{"$f":"SUMIFS(FactorMatrix[[UPSTREAMTRANSPORTENERGY]:[UPSTREAMTRANSPORTENERGY]], FactorMatrix[[MODE]:[MODE]], $B11, FactorMatrix[[PHASE]:[PHASE]], $A$4, FactorMatrix[[GHGSOURCE]:[GHGSOURCE]], \"station\", FactorMatrix[[TYPE]:[TYPE]], X$6)","v":0},{"$f":"SUMIFS(FactorMatrix[[UPSTREAMTRANSPORTENERGY]:[UPSTREAMTRANSPORTENERGY]], FactorMatrix[[MODE]:[MODE]], $B11, FactorMatrix[[PHASE]:[PHASE]], $A$4, FactorMatrix[[GHGSOURCE]:[GHGSOURCE]], \"station\", FactorMatrix[[TYPE]:[TYPE]], Y$6)","v":0},{"$f":"SUMIFS(FactorMatrix[[UPSTREAMTRANSPORTENERGY]:[UPSTREAMTRANSPORTENERGY]], FactorMatrix[[MODE]:[MODE]], $B11, FactorMatrix[[PHASE]:[PHASE]], $A$4, FactorMatrix[[GHGSOURCE]:[GHGSOURCE]], \"station\", FactorMatrix[[TYPE]:[TYPE]], Z$6)","v":0},{"$f":"SUMIFS(FactorMatrix[[DOWNSTREAMENERGY]:[DOWNSTREAMENERGY]], FactorMatrix[[MODE]:[MODE]], $B11, FactorMatrix[[PHASE]:[PHASE]], $A$4, FactorMatrix[[GHGSOURCE]:[GHGSOURCE]], \"track mile\", FactorMatrix[[TYPE]:[TYPE]], AA$6, FactorMatrix[[STATE /REGION]:[STATE /REGION]], StateCalc)","v":0},{"$f":"SUMIFS(FactorMatrix[[DOWNSTREAMENERGY]:[DOWNSTREAMENERGY]], FactorMatrix[[MODE]:[MODE]], $B11, FactorMatrix[[PHASE]:[PHASE]], $A$4, FactorMatrix[[GHGSOURCE]:[GHGSOURCE]], \"track mile\", FactorMatrix[[TYPE]:[TYPE]], AB$6)","v":0},{"$f":"SUMIFS(FactorMatrix[[DOWNSTREAMENERGY]:[DOWNSTREAMENERGY]], FactorMatrix[[MODE]:[MODE]], $B11, FactorMatrix[[PHASE]:[PHASE]], $A$4, FactorMatrix[[GHGSOURCE]:[GHGSOURCE]], \"track mile\", FactorMatrix[[TYPE]:[TYPE]], AC$6)","v":0},{"$f":"SUMIFS(FactorMatrix[[DOWNSTREAMENERGY]:[DOWNSTREAMENERGY]], FactorMatrix[[MODE]:[MODE]], $B11, FactorMatrix[[PHASE]:[PHASE]], $A$4, FactorMatrix[[GHGSOURCE]:[GHGSOURCE]], \"track mile\", FactorMatrix[[TYPE]:[TYPE]], AD$6)","v":0},{"$f":"SUMIFS(FactorMatrix[[DOWNSTREAMENERGY]:[DOWNSTREAMENERGY]], FactorMatrix[[MODE]:[MODE]], $B11, FactorMatrix[[PHASE]:[PHASE]], $A$4, FactorMatrix[[GHGSOURCE]:[GHGSOURCE]], \"track mile\", FactorMatrix[[TYPE]:[TYPE]], AE$6)","v":0},{"$f":"SUMIFS(FactorMatrix[[DOWNSTREAMENERGY]:[DOWNSTREAMENERGY]], FactorMatrix[[MODE]:[MODE]], $B11, FactorMatrix[[PHASE]:[PHASE]], $A$4, FactorMatrix[[GHGSOURCE]:[GHGSOURCE]], \"station\", FactorMatrix[[TYPE]:[TYPE]], AF$6)","v":0},{"$f":"SUMIFS(FactorMatrix[[DOWNSTREAMENERGY]:[DOWNSTREAMENERGY]], FactorMatrix[[MODE]:[MODE]], $B11, FactorMatrix[[PHASE]:[PHASE]], $A$4, FactorMatrix[[GHGSOURCE]:[GHGSOURCE]], \"station\", FactorMatrix[[TYPE]:[TYPE]], AG$6)","v":0},{"$f":"SUMIFS(FactorMatrix[[DOWNSTREAMENERGY]:[DOWNSTREAMENERGY]], FactorMatrix[[MODE]:[MODE]], $B11, FactorMatrix[[PHASE]:[PHASE]], $A$4, FactorMatrix[[GHGSOURCE]:[GHGSOURCE]], \"station\", FactorMatrix[[TYPE]:[TYPE]], AH$6)","v":0},0,0,0,"UPSTREAM MATERIALS","UPSTREAM TRANSPORT","DOWNSTREAM"]
[6,{"$f":"Construction!B13","v":0},{"$f":"Construction!C13","v":0},{"$f":"Construction!D13","v":0},{"$f":"Construction!E13","v":0},{"$f":"Construction!F13","v":0},{"$f":"Construction!G13","v":0},{"$f":"Construction!H13","v":0},{"$f":"Construction!I13","v":0},{"$f":"Construction!J13","v":0},{"$f":"SUMIFS(FactorMatrix[[UPSTREAMMATERIALSENERGY]:[UPSTREAMMATERIALSENERGY]], FactorMatrix[[MODE]:[MODE]], $B12, FactorMatrix[[PHASE]:[PHASE]], $A$4, FactorMatrix[[GHGSOURCE]:[GHGSOURCE]], \"track mile\", FactorMatrix[[TYPE]:[TYPE]], K$6, FactorMatrix[[STATE /REGION]:[STATE /REGION]], StateCalc)","v":0},{"$f":"SUMIFS(FactorMatrix[[UPSTREAMMATERIALSENERGY]:[UPSTREAMMATERIALSENERGY]], FactorMatrix[[MODE]:[MODE]], $B12, FactorMatrix[[PHASE]:[PHASE]], $A$4, FactorMatrix[[GHGSOURCE]:[GHGSOURCE]], \"track mile\", FactorMatrix[[TYPE]:[TYPE]], L$6)","v":0},{"$f":"SUMIFS(FactorMatrix[[UPSTREAMMATERIALSENERGY]:[UPSTREAMMATERIALSENERGY]], FactorMatrix[[MODE]:[MODE]], $B12, FactorMatrix[[PHASE]:[PHASE]], $A$4, FactorMatrix[[GHGSOURCE]:[GHGSOURCE]], \"track mile\", FactorMatrix[[TYPE]:[TYPE]], M$6)","v":0},{"$f":"SUMIFS(FactorMatrix[[UPSTREAMMATERIALSENERGY]:[UPSTREAMMATERIALSENERGY]], FactorMatrix[[MODE]:[MODE]], $B12, FactorMatrix[[PHASE]:[PHASE]], $A$4, FactorMatrix[[GHGSOURCE]:[GHGSOURCE]], \"track mile\", FactorMatrix[[TYPE]:[TYPE]], N$6)","v":0},{"$f":"SUMIFS(FactorMatrix[[UPSTREAMMATERIALSENERGY]:[UPSTREAMMATERIALSENERGY]], FactorMatrix[[MODE]:[MODE]], $B12, FactorMatrix[[PHASE]:[PHASE]], $A$4, FactorMatrix[[GHGSOURCE]:[GHGSOURCE]], \"track mile\", FactorMatrix[[TYPE]:[TYPE]], O$6)","v":0},{"$f":"SUMIFS(FactorMatrix[[UPSTREAMMATERIALSENERGY]:[UPSTREAMMATERIALSENERGY]], FactorMatrix[[MODE]:[MODE]], $B12, FactorMatrix[[PHASE]:[PHASE]], $A$4, FactorMatrix[[GHGSOURCE]:[GHGSOURCE]], \"station\", FactorMatrix[[TYPE]:[TYPE]], P$6)","v":0},{"$f":"SUMIFS(FactorMatrix[[UPSTREAMMATERIALSENERGY]:[UPSTREAMMATERIALSENERGY]], FactorMatrix[[MODE]:[MODE]], $B12, FactorMatrix[[PHASE]:[PHASE]], $A$4, FactorMatrix[[GHGSOURCE]:[GHGSOURCE]], \"station\", FactorMatrix[[TYPE]:[TYPE]], Q$6)","v":0},{"$f":"SUMIFS(FactorMatrix[[UPSTREAMMATERIALSENERGY]:[UPSTREAMMATERIALSENERGY]], FactorMatrix[[MODE]:[MODE]], $B12, FactorMatrix[[PHASE]:[PHASE]], $A$4, FactorMatrix[[GHGSOURCE]:[GHGSOURCE]], \"station\", FactorMatrix[[TYPE]:[TYPE]], R$6)","v":0},{"$f":"SUMIFS(FactorMatrix[[UPSTREAMTRANSPORTENERGY]:[UPSTREAMTRANSPORTENERGY]], FactorMatrix[[MODE]:[MODE]], $B12, FactorMatrix[[PHASE]:[PHASE]], $A$4, FactorMatrix[[GHGSOURCE]:[GHGSOURCE]], \"track mile\", FactorMatrix[[TYPE]:[TYPE]], S$6, FactorMatrix[[STATE /REGION]:[STATE /REGION]], StateCalc)","v":0},{"$f":"SUMIFS(FactorMatrix[[UPSTREAMTRANSPORTENERGY]:[UPSTREAMTRANSPORTENERGY]], FactorMatrix[[MODE]:[MODE]], $B12, FactorMatrix[[PHASE]:[PHASE]], $A$4, FactorMatrix[[GHGSOURCE]:[GHGSOURCE]], \"track mile\", FactorMatrix[[TYPE]:[TYPE]], T$6)","v":0},{"$f":"SUMIFS(FactorMatrix[[UPSTREAMTRANSPORTENERGY]:[UPSTREAMTRANSPORTENERGY]], FactorMatrix[[MODE]:[MODE]], $B12, FactorMatrix[[PHASE]:[PHASE]], $A$4, FactorMatrix[[GHGSOURCE]:[GHGSOURCE]], \"track mile\", FactorMatrix[[TYPE]:[TYPE]], U$6)","v":0},{"$f":"SUMIFS(FactorMatrix[[UPSTREAMTRANSPORTENERGY]:[UPSTREAMTRANSPORTENERGY]], FactorMatrix[[MODE]:[MODE]], $B12, FactorMatrix[[PHASE]:[PHASE]], $A$4, FactorMatrix[[GHGSOURCE]:[GHGSOURCE]], \"track mile\", FactorMatrix[[TYPE]:[TYPE]], V$6)","v":0},{"$f":"SUMIFS(FactorMatrix[[UPSTREAMTRANSPORTENERGY]:[UPSTREAMTRANSPORTENERGY]], FactorMatrix[[MODE]:[MODE]], $B12, FactorMatrix[[PHASE]:[PHASE]], $A$4, FactorMatrix[[GHGSOURCE]:[GHGSOURCE]], \"track mile\", FactorMatrix[[TYPE]:[TYPE]], W$6)","v":0},{"$f":"SUMIFS(FactorMatrix[[UPSTREAMTRANSPORTENERGY]:[UPSTREAMTRANSPORTENERGY]], FactorMatrix[[MODE]:[MODE]], $B12, FactorMatrix[[PHASE]:[PHASE]], $A$4, FactorMatrix[[GHGSOURCE]:[GHGSOURCE]], \"station\", FactorMatrix[[TYPE]:[TYPE]], X$6)","v":0},{"$f":"SUMIFS(FactorMatrix[[UPSTREAMTRANSPORTENERGY]:[UPSTREAMTRANSPORTENERGY]], FactorMatrix[[MODE]:[MODE]], $B12, FactorMatrix[[PHASE]:[PHASE]], $A$4, FactorMatrix[[GHGSOURCE]:[GHGSOURCE]], \"station\", FactorMatrix[[TYPE]:[TYPE]], Y$6)","v":0},{"$f":"SUMIFS(FactorMatrix[[UPSTREAMTRANSPORTENERGY]:[UPSTREAMTRANSPORTENERGY]], FactorMatrix[[MODE]:[MODE]], $B12, FactorMatrix[[PHASE]:[PHASE]], $A$4, FactorMatrix[[GHGSOURCE]:[GHGSOURCE]], \"station\", FactorMatrix[[TYPE]:[TYPE]], Z$6)","v":0},{"$f":"SUMIFS(FactorMatrix[[DOWNSTREAMENERGY]:[DOWNSTREAMENERGY]], FactorMatrix[[MODE]:[MODE]], $B12, FactorMatrix[[PHASE]:[PHASE]], $A$4, FactorMatrix[[GHGSOURCE]:[GHGSOURCE]], \"track mile\", FactorMatrix[[TYPE]:[TYPE]], AA$6, FactorMatrix[[STATE /REGION]:[STATE /REGION]], StateCalc)","v":0},{"$f":"SUMIFS(FactorMatrix[[DOWNSTREAMENERGY]:[DOWNSTREAMENERGY]], FactorMatrix[[MODE]:[MODE]], $B12, FactorMatrix[[PHASE]:[PHASE]], $A$4, FactorMatrix[[GHGSOURCE]:[GHGSOURCE]], \"track mile\", FactorMatrix[[TYPE]:[TYPE]], AB$6)","v":0},{"$f":"SUMIFS(FactorMatrix[[DOWNSTREAMENERGY]:[DOWNSTREAMENERGY]], FactorMatrix[[MODE]:[MODE]], $B12, FactorMatrix[[PHASE]:[PHASE]], $A$4, FactorMatrix[[GHGSOURCE]:[GHGSOURCE]], \"track mile\", FactorMatrix[[TYPE]:[TYPE]], AC$6)","v":0},{"$f":"SUMIFS(FactorMatrix[[DOWNSTREAMENERGY]:[DOWNSTREAMENERGY]], FactorMatrix[[MODE]:[MODE]], $B12, FactorMatrix[[PHASE]:[PHASE]], $A$4, FactorMatrix[[GHGSOURCE]:[GHGSOURCE]], \"track mile\", FactorMatrix[[TYPE]:[TYPE]], AD$6)","v":0},{"$f":"SUMIFS(FactorMatrix[[DOWNSTREAMENERGY]:[DOWNSTREAMENERGY]], FactorMatrix[[MODE]:[MODE]], $B12, FactorMatrix[[PHASE]:[PHASE]], $A$4, FactorMatrix[[GHGSOURCE]:[GHGSOURCE]], \"track mile\", FactorMatrix[[TYPE]:[TYPE]], AE$6)","v":0},{"$f":"SUMIFS(FactorMatrix[[DOWNSTREAMENERGY]:[DOWNSTREAMENERGY]], FactorMatrix[[MODE]:[MODE]], $B12, FactorMatrix[[PHASE]:[PHASE]], $A$4, FactorMatrix[[GHGSOURCE]:[GHGSOURCE]], \"station\", FactorMatrix[[TYPE]:[TYPE]], AF$6)","v":0},{"$f":"SUMIFS(FactorMatrix[[DOWNSTREAMENERGY]:[DOWNSTREAMENERGY]], FactorMatrix[[MODE]:[MODE]], $B12, FactorMatrix[[PHASE]:[PHASE]], $A$4, FactorMatrix[[GHGSOURCE]:[GHGSOURCE]], \"station\", FactorMatrix[[TYPE]:[TYPE]], AG$6)","v":0},{"$f":"SUMIFS(FactorMatrix[[DOWNSTREAMENERGY]:[DOWNSTREAMENERGY]], FactorMatrix[[MODE]:[MODE]], $B12, FactorMatrix[[PHASE]:[PHASE]], $A$4, FactorMatrix[[GHGSOURCE]:[GHGSOURCE]], \"station\", FactorMatrix[[TYPE]:[TYPE]], AH$6)","v":0},0,0,0,{"$f":"AL7/$C$2","v":{"$error":"#DIV/0!"}},{"$f":"AM7/$C$2","v":{"$error":"#DIV/0!"}},{"$f":"AN7/$C$2","v":{"$error":"#DIV/0!"}}]
[7,{"$f":"Construction!B14","v":0},{"$f":"Construction!C14","v":0},{"$f":"Construction!D14","v":0},{"$f":"Construction!E14","v":0},{"$f":"Construction!F14","v":0},{"$f":"Construction!G14","v":0},{"$f":"Construction!H14","v":0},{"$f":"Construction!I14","v":0},{"$f":"Construction!J14","v":0},{"$f":"SUMIFS(FactorMatrix[[UPSTREAMMATERIALSENERGY]:[UPSTREAMMATERIALSENERGY]], FactorMatrix[[MODE]:[MODE]], $B13, FactorMatrix[[PHASE]:[PHASE]], $A$4, FactorMatrix[[GHGSOURCE]:[GHGSOURCE]], \"track mile\", FactorMatrix[[TYPE]:[TYPE]], K$6, FactorMatrix[[STATE /REGION]:[STATE /REGION]], StateCalc)","v":0},{"$f":"SUMIFS(FactorMatrix[[UPSTREAMMATERIALSENERGY]:[UPSTREAMMATERIALSENERGY]], FactorMatrix[[MODE]:[MODE]], $B13, FactorMatrix[[PHASE]:[PHASE]], $A$4, FactorMatrix[[GHGSOURCE]:[GHGSOURCE]], \"track mile\", FactorMatrix[[TYPE]:[TYPE]], L$6)","v":0},{"$f":"SUMIFS(FactorMatrix[[UPSTREAMMATERIALSENERGY]:[UPSTREAMMATERIALSENERGY]], FactorMatrix[[MODE]:[MODE]], $B13, FactorMatrix[[PHASE]:[PHASE]], $A$4, FactorMatrix[[GHGSOURCE]:[GHGSOURCE]], \"track mile\", FactorMatrix[[TYPE]:[TYPE]], M$6)","v":0},{"$f":"SUMIFS(FactorMatrix[[UPSTREAMMATERIALSENERGY]:[UPSTREAMMATERIALSENERGY]], FactorMatrix[[MODE]:[MODE]], $B13, FactorMatrix[[PHASE]:[PHASE]], $A$4, FactorMatrix[[GHGSOURCE]:[GHGSOURCE]], \"track mile\", FactorMatrix[[TYPE]:[TYPE]], N$6)","v":0},{"$f":"SUMIFS(FactorMatrix[[UPSTREAMMATERIALSENERGY]:[UPSTREAMMATERIALSENERGY]], FactorMatrix[[MODE]:[MODE]], $B13, FactorMatrix[[PHASE]:[PHASE]], $A$4, FactorMatrix[[GHGSOURCE]:[GHGSOURCE]], \"track mile\", FactorMatrix[[TYPE]:[TYPE]], O$6)","v":0},{"$f":"SUMIFS(FactorMatrix[[UPSTREAMMATERIALSENERGY]:[UPSTREAMMATERIALSENERGY]], FactorMatrix[[MODE]:[MODE]], $B13, FactorMatrix[[PHASE]:[PHASE]], $A$4, FactorMatrix[[GHGSOURCE]:[GHGSOURCE]], \"station\", FactorMatrix[[TYPE]:[TYPE]], P$6)","v":0},{"$f":"SUMIFS(FactorMatrix[[UPSTREAMMATERIALSENERGY]:[UPSTREAMMATERIALSENERGY]], FactorMatrix[[MODE]:[MODE]], $B13, FactorMatrix[[PHASE]:[PHASE]], $A$4, FactorMatrix[[GHGSOURCE]:[GHGSOURCE]], \"station\", FactorMatrix[[TYPE]:[TYPE]], Q$6)","v":0},{"$f":"SUMIFS(FactorMatrix[[UPSTREAMMATERIALSENERGY]:[UPSTREAMMATERIALSENERGY]], FactorMatrix[[MODE]:[MODE]], $B13, FactorMatrix[[PHASE]:[PHASE]], $A$4, FactorMatrix[[GHGSOURCE]:[GHGSOURCE]], \"station\", FactorMatrix[[TYPE]:[TYPE]], R$6)","v":0},{"$f":"SUMIFS(FactorMatrix[[UPSTREAMTRANSPORTENERGY]:[UPSTREAMTRANSPORTENERGY]], FactorMatrix[[MODE]:[MODE]], $B13, FactorMatrix[[PHASE]:[PHASE]], $A$4, FactorMatrix[[GHGSOURCE]:[GHGSOURCE]], \"track mile\", FactorMatrix[[TYPE]:[TYPE]], S$6, FactorMatrix[[STATE /REGION]:[STATE /REGION]], StateCalc)","v":0},{"$f":"SUMIFS(FactorMatrix[[UPSTREAMTRANSPORTENERGY]:[UPSTREAMTRANSPORTENERGY]], FactorMatrix[[MODE]:[MODE]], $B13, FactorMatrix[[PHASE]:[PHASE]], $A$4, FactorMatrix[[GHGSOURCE]:[GHGSOURCE]], \"track mile\", FactorMatrix[[TYPE]:[TYPE]], T$6)","v":0},{"$f":"SUMIFS(FactorMatrix[[UPSTREAMTRANSPORTENERGY]:[UPSTREAMTRANSPORTENERGY]], FactorMatrix[[MODE]:[MODE]], $B13, FactorMatrix[[PHASE]:[PHASE]], $A$4, FactorMatrix[[GHGSOURCE]:[GHGSOURCE]], \"track mile\", FactorMatrix[[TYPE]:[TYPE]], U$6)","v":0},{"$f":"SUMIFS(FactorMatrix[[UPSTREAMTRANSPORTENERGY]:[UPSTREAMTRANSPORTENERGY]], FactorMatrix[[MODE]:[MODE]], $B13, FactorMatrix[[PHASE]:[PHASE]], $A$4, FactorMatrix[[GHGSOURCE]:[GHGSOURCE]], \"track mile\", FactorMatrix[[TYPE]:[TYPE]], V$6)","v":0},{"$f":"SUMIFS(FactorMatrix[[UPSTREAMTRANSPORTENERGY]:[UPSTREAMTRANSPORTENERGY]], FactorMatrix[[MODE]:[MODE]], $B13, FactorMatrix[[PHASE]:[PHASE]], $A$4, FactorMatrix[[GHGSOURCE]:[GHGSOURCE]], \"track mile\", FactorMatrix[[TYPE]:[TYPE]], W$6)","v":0},{"$f":"SUMIFS(FactorMatrix[[UPSTREAMTRANSPORTENERGY]:[UPSTREAMTRANSPORTENERGY]], FactorMatrix[[MODE]:[MODE]], $B13, FactorMatrix[[PHASE]:[PHASE]], $A$4, FactorMatrix[[GHGSOURCE]:[GHGSOURCE]], \"station\", FactorMatrix[[TYPE]:[TYPE]], X$6)","v":0},{"$f":"SUMIFS(FactorMatrix[[UPSTREAMTRANSPORTENERGY]:[UPSTREAMTRANSPORTENERGY]], FactorMatrix[[MODE]:[MODE]], $B13, FactorMatrix[[PHASE]:[PHASE]], $A$4, FactorMatrix[[GHGSOURCE]:[GHGSOURCE]], \"station\", FactorMatrix[[TYPE]:[TYPE]], Y$6)","v":0},{"$f":"SUMIFS(FactorMatrix[[UPSTREAMTRANSPORTENERGY]:[UPSTREAMTRANSPORTENERGY]], FactorMatrix[[MODE]:[MODE]], $B13, FactorMatrix[[PHASE]:[PHASE]], $A$4, FactorMatrix[[GHGSOURCE]:[GHGSOURCE]], \"station\", FactorMatrix[[TYPE]:[TYPE]], Z$6)","v":0},{"$f":"SUMIFS(FactorMatrix[[DOWNSTREAMENERGY]:[DOWNSTREAMENERGY]], FactorMatrix[[MODE]:[MODE]], $B13, FactorMatrix[[PHASE]:[PHASE]], $A$4, FactorMatrix[[GHGSOURCE]:[GHGSOURCE]], \"track mile\", FactorMatrix[[TYPE]:[TYPE]], AA$6, FactorMatrix[[STATE /REGION]:[STATE /REGION]], StateCalc)","v":0},{"$f":"SUMIFS(FactorMatrix[[DOWNSTREAMENERGY]:[DOWNSTREAMENERGY]], FactorMatrix[[MODE]:[MODE]], $B13, FactorMatrix[[PHASE]:[PHASE]], $A$4, FactorMatrix[[GHGSOURCE]:[GHGSOURCE]], \"track mile\", FactorMatrix[[TYPE]:[TYPE]], AB$6)","v":0},{"$f":"SUMIFS(FactorMatrix[[DOWNSTREAMENERGY]:[DOWNSTREAMENERGY]], FactorMatrix[[MODE]:[MODE]], $B13, FactorMatrix[[PHASE]:[PHASE]], $A$4, FactorMatrix[[GHGSOURCE]:[GHGSOURCE]], \"track mile\", FactorMatrix[[TYPE]:[TYPE]], AC$6)","v":0},{"$f":"SUMIFS(FactorMatrix[[DOWNSTREAMENERGY]:[DOWNSTREAMENERGY]], FactorMatrix[[MODE]:[MODE]], $B13, FactorMatrix[[PHASE]:[PHASE]], $A$4, FactorMatrix[[GHGSOURCE]:[GHGSOURCE]], \"track mile\", FactorMatrix[[TYPE]:[TYPE]], AD$6)","v":0},{"$f":"SUMIFS(FactorMatrix[[DOWNSTREAMENERGY]:[DOWNSTREAMENERGY]], FactorMatrix[[MODE]:[MODE]], $B13, FactorMatrix[[PHASE]:[PHASE]], $A$4, FactorMatrix[[GHGSOURCE]:[GHGSOURCE]], \"track mile\", FactorMatrix[[TYPE]:[TYPE]], AE$6)","v":0},{"$f":"SUMIFS(FactorMatrix[[DOWNSTREAMENERGY]:[DOWNSTREAMENERGY]], FactorMatrix[[MODE]:[MODE]], $B13, FactorMatrix[[PHASE]:[PHASE]], $A$4, FactorMatrix[[GHGSOURCE]:[GHGSOURCE]], \"station\", FactorMatrix[[TYPE]:[TYPE]], AF$6)","v":0},{"$f":"SUMIFS(FactorMatrix[[DOWNSTREAMENERGY]:[DOWNSTREAMENERGY]], FactorMatrix[[MODE]:[MODE]], $B13, FactorMatrix[[PHASE]:[PHASE]], $A$4, FactorMatrix[[GHGSOURCE]:[GHGSOURCE]], \"station\", FactorMatrix[[TYPE]:[TYPE]], AG$6)","v":0},{"$f":"SUMIFS(FactorMatrix[[DOWNSTREAMENERGY]:[DOWNSTREAMENERGY]], FactorMatrix[[MODE]:[MODE]], $B13, FactorMatrix[[PHASE]:[PHASE]], $A$4, FactorMatrix[[GHGSOURCE]:[GHGSOURCE]], \"station\", FactorMatrix[[TYPE]:[TYPE]], AH$6)","v":0},0,0,{"$f":"SUMPRODUCT($C13:$J13, AA13:AH13)","v":0}]
[8,{"$f":"Construction!B15","v":0},{"$f":"Construction!C15","v":0},{"$f":"Construction!D15","v":0},{"$f":"Construction!E15","v":0},{"$f":"Construction!F15","v":0},{"$f":"Construction!G15","v":0},{"$f":"Construction!H15","v":0},{"$f":"Construction!I15","v":0},{"$f":"Construction!J15","v":0},{"$f":"SUMIFS(FactorMatrix[[UPSTREAMMATERIALSENERGY]:[UPSTREAMMATERIALSENERGY]], FactorMatrix[[MODE]:[MODE]], $B14, FactorMatrix[[PHASE]:[PHASE]], $A$4, FactorMatrix[[GHGSOURCE]:[GHGSOURCE]], \"track mile\", FactorMatrix[[TYPE]:[TYPE]], K$6, FactorMatrix[[STATE /REGION]:[STATE /REGION]], StateCalc)","v":0},{"$f":"SUMIFS(FactorMatrix[[UPSTREAMMATERIALSENERGY]:[UPSTREAMMATERIALSENERGY]], FactorMatrix[[MODE]:[MODE]], $B14, FactorMatrix[[PHASE]:[PHASE]], $A$4, FactorMatrix[[GHGSOURCE]:[GHGSOURCE]], \"track mile\", FactorMatrix[[TYPE]:[TYPE]], L$6)","v":0},{"$f":"SUMIFS(FactorMatrix[[UPSTREAMMATERIALSENERGY]:[UPSTREAMMATERIALSENERGY]], FactorMatrix[[MODE]:[MODE]], $B14, FactorMatrix[[PHASE]:[PHASE]], $A$4, FactorMatrix[[GHGSOURCE]:[GHGSOURCE]], \"track mile\", FactorMatrix[[TYPE]:[TYPE]], M$6)","v":0},{"$f":"SUMIFS(FactorMatrix[[UPSTREAMMATERIALSENERGY]:[UPSTREAMMATERIALSENERGY]], FactorMatrix[[MODE]:[MODE]], $B14, FactorMatrix[[PHASE]:[PHASE]], $A$4, FactorMatrix[[GHGSOURCE]:[GHGSOURCE]], \"track mile\", FactorMatrix[[TYPE]:[TYPE]], N$6)","v":0},{"$f":"SUMIFS(FactorMatrix[[UPSTREAMMATERIALSENERGY]:[UPSTREAMMATERIALSENERGY]], FactorMatrix[[MODE]:[MODE]], $B14, FactorMatrix[[PHASE]:[PHASE]], $A$4, FactorMatrix[[GHGSOURCE]:[GHGSOURCE]], \"track mile\", FactorMatrix[[TYPE]:[TYPE]], O$6)","v":0},{"$f":"SUMIFS(FactorMatrix[[UPSTREAMMATERIALSENERGY]:[UPSTREAMMATERIALSENERGY]], FactorMatrix[[MODE]:[MODE]], $B14, FactorMatrix[[PHASE]:[PHASE]], $A$4, FactorMatrix[[GHGSOURCE]:[GHGSOURCE]], \"station\", FactorMatrix[[TYPE]:[TYPE]], P$6)","v":0},{"$f":"SUMIFS(FactorMatrix[[UPSTREAMMATERIALSENERGY]:[UPSTREAMMATERIALSENERGY]], FactorMatrix[[MODE]:[MODE]], $B14, FactorMatrix[[PHASE]:[PHASE]], $A$4, FactorMatrix[[GHGSOURCE]:[GHGSOURCE]], \"station\", FactorMatrix[[TYPE]:[TYPE]], Q$6)","v":0},{"$f":"SUMIFS(FactorMatrix[[UPSTREAMMATERIALSENERGY]:[UPSTREAMMATERIALSENERGY]], FactorMatrix[[MODE]:[MODE]], $B14, FactorMatrix[[PHASE]:[PHASE]], $A$4, FactorMatrix[[GHGSOURCE]:[GHGSOURCE]], \"station\", FactorMatrix[[TYPE]:[TYPE]], R$6)","v":0},{"$f":"SUMIFS(FactorMatrix[[UPSTREAMTRANSPORTENERGY]:[UPSTREAMTRANSPORTENERGY]], FactorMatrix[[MODE]:[MODE]], $B14, FactorMatrix[[PHASE]:[PHASE]], $A$4, FactorMatrix[[GHGSOURCE]:[GHGSOURCE]], \"track mile\", FactorMatrix[[TYPE]:[TYPE]], S$6, FactorMatrix[[STATE /REGION]:[STATE /REGION]], StateCalc)","v":0},{"$f":"SUMIFS(FactorMatrix[[UPSTREAMTRANSPORTENERGY]:[UPSTREAMTRANSPORTENERGY]], FactorMatrix[[MODE]:[MODE]], $B14, FactorMatrix[[PHASE]:[PHASE]], $A$4, FactorMatrix[[GHGSOURCE]:[GHGSOURCE]], \"track mile\", FactorMatrix[[TYPE]:[TYPE]], T$6)","v":0},{"$f":"SUMIFS(FactorMatrix[[UPSTREAMTRANSPORTENERGY]:[UPSTREAMTRANSPORTENERGY]], FactorMatrix[[MODE]:[MODE]], $B14, FactorMatrix[[PHASE]:[PHASE]], $A$4, FactorMatrix[[GHGSOURCE]:[GHGSOURCE]], \"track mile\", FactorMatrix[[TYPE]:[TYPE]], U$6)","v":0},{"$f":"SUMIFS(FactorMatrix[[UPSTREAMTRANSPORTENERGY]:[UPSTREAMTRANSPORTENERGY]], FactorMatrix[[MODE]:[MODE]], $B14, FactorMatrix[[PHASE]:[PHASE]], $A$4, FactorMatrix[[GHGSOURCE]:[GHGSOURCE]], \"track mile\", FactorMatrix[[TYPE]:[TYPE]], V$6)","v":0},{"$f":"SUMIFS(FactorMatrix[[UPSTREAMTRANSPORTENERGY]:[UPSTREAMTRANSPORTENERGY]], FactorMatrix[[MODE]:[MODE]], $B14, FactorMatrix[[PHASE]:[PHASE]], $A$4, FactorMatrix[[GHGSOURCE]:[GHGSOURCE]], \"track mile\", FactorMatrix[[TYPE]:[TYPE]], W$6)","v":0},{"$f":"SUMIFS(FactorMatrix[[UPSTREAMTRANSPORTENERGY]:[UPSTREAMTRANSPORTENERGY]], FactorMatrix[[MODE]:[MODE]], $B14, FactorMatrix[[PHASE]:[PHASE]], $A$4, FactorMatrix[[GHGSOURCE]:[GHGSOURCE]], \"station\", FactorMatrix[[TYPE]:[TYPE]], X$6)","v":0},{"$f":"SUMIFS(FactorMatrix[[UPSTREAMTRANSPORTENERGY]:[UPSTREAMTRANSPORTENERGY]], FactorMatrix[[MODE]:[MODE]], $B14, FactorMatrix[[PHASE]:[PHASE]], $A$4, FactorMatrix[[GHGSOURCE]:[GHGSOURCE]], \"station\", FactorMatrix[[TYPE]:[TYPE]], Y$6)","v":0},{"$f":"SUMIFS(FactorMatrix[[UPSTREAMTRANSPORTENERGY]:[UPSTREAMTRANSPORTENERGY]], FactorMatrix[[MODE]:[MODE]], $B14, FactorMatrix[[PHASE]:[PHASE]], $A$4, FactorMatrix[[GHGSOURCE]:[GHGSOURCE]], \"station\", FactorMatrix[[TYPE]:[TYPE]], Z$6)","v":0},{"$f":"SUMIFS(FactorMatrix[[DOWNSTREAMENERGY]:[DOWNSTREAMENERGY]], FactorMatrix[[MODE]:[MODE]], $B14, FactorMatrix[[PHASE]:[PHASE]], $A$4, FactorMatrix[[GHGSOURCE]:[GHGSOURCE]], \"track mile\", FactorMatrix[[TYPE]:[TYPE]], AA$6, FactorMatrix[[STATE /REGION]:[STATE /REGION]], StateCalc)","v":0},{"$f":"SUMIFS(FactorMatrix[[DOWNSTREAMENERGY]:[DOWNSTREAMENERGY]], FactorMatrix[[MODE]:[MODE]], $B14, FactorMatrix[[PHASE]:[PHASE]], $A$4, FactorMatrix[[GHGSOURCE]:[GHGSOURCE]], \"track mile\", FactorMatrix[[TYPE]:[TYPE]], AB$6)","v":0},{"$f":"SUMIFS(FactorMatrix[[DOWNSTREAMENERGY]:[DOWNSTREAMENERGY]], FactorMatrix[[MODE]:[MODE]], $B14, FactorMatrix[[PHASE]:[PHASE]], $A$4, FactorMatrix[[GHGSOURCE]:[GHGSOURCE]], \"track mile\", FactorMatrix[[TYPE]:[TYPE]], AC$6)","v":0},{"$f":"SUMIFS(FactorMatrix[[DOWNSTREAMENERGY]:[DOWNSTREAMENERGY]], FactorMatrix[[MODE]:[MODE]], $B14, FactorMatrix[[PHASE]:[PHASE]], $A$4, FactorMatrix[[GHGSOURCE]:[GHGSOURCE]], \"track mile\", FactorMatrix[[TYPE]:[TYPE]], AD$6)","v":0},{"$f":"SUMIFS(FactorMatrix[[DOWNSTREAMENERGY]:[DOWNSTREAMENERGY]], FactorMatrix[[MODE]:[MODE]], $B14, FactorMatrix[[PHASE]:[PHASE]], $A$4, FactorMatrix[[GHGSOURCE]:[GHGSOURCE]], \"track mile\", FactorMatrix[[TYPE]:[TYPE]], AE$6)","v":0},{"$f":"SUMIFS(FactorMatrix[[DOWNSTREAMENERGY]:[DOWNSTREAMENERGY]], FactorMatrix[[MODE]:[MODE]], $B14, FactorMatrix[[PHASE]:[PHASE]], $A$4, FactorMatrix[[GHGSOURCE]:[GHGSOURCE]], \"station\", FactorMatrix[[TYPE]:[TYPE]], AF$6)","v":0},{"$f":"SUMIFS(FactorMatrix[[DOWNSTREAMENERGY]:[DOWNSTREAMENERGY]], FactorMatrix[[MODE]:[MODE]], $B14, FactorMatrix[[PHASE]:[PHASE]], $A$4, FactorMatrix[[GHGSOURCE]:[GHGSOURCE]], \"station\", FactorMatrix[[TYPE]:[TYPE]], AG$6)","v":0},{"$f":"SUMIFS(FactorMatrix[[DOWNSTREAMENERGY]:[DOWNSTREAMENERGY]], FactorMatrix[[MODE]:[MODE]], $B14, FactorMatrix[[PHASE]:[PHASE]], $A$4, FactorMatrix[[GHGSOURCE]:[GHGSOURCE]], \"station\", FactorMatrix[[TYPE]:[TYPE]], AH$6)","v":0},0,0,0]
[9,{"$f":"Construction!B16","v":0},{"$f":"Construction!C16","v":0},{"$f":"Construction!D16","v":0},{"$f":"Construction!E16","v":0},{"$f":"Construction!F16","v":0},{"$f":"Construction!G16","v":0},{"$f":"Construction!H16","v":0},{"$f":"Construction!I16","v":0},{"$f":"Construction!J16","v":0},{"$f":"SUMIFS(FactorMatrix[[UPSTREAMMATERIALSENERGY]:[UPSTREAMMATERIALSENERGY]], FactorMatrix[[MODE]:[MODE]], $B15, FactorMatrix[[PHASE]:[PHASE]], $A$4, FactorMatrix[[GHGSOURCE]:[GHGSOURCE]], \"track mile\", FactorMatrix[[TYPE]:[TYPE]], K$6, FactorMatrix[[STATE /REGION]:[STATE /REGION]], StateCalc)","v":0},{"$f":"SUMIFS(FactorMatrix[[UPSTREAMMATERIALSENERGY]:[UPSTREAMMATERIALSENERGY]], FactorMatrix[[MODE]:[MODE]], $B15, FactorMatrix[[PHASE]:[PHASE]], $A$4, FactorMatrix[[GHGSOURCE]:[GHGSOURCE]], \"track mile\", FactorMatrix[[TYPE]:[TYPE]], L$6)","v":0},{"$f":"SUMIFS(FactorMatrix[[UPSTREAMMATERIALSENERGY]:[UPSTREAMMATERIALSENERGY]], FactorMatrix[[MODE]:[MODE]], $B15, FactorMatrix[[PHASE]:[PHASE]], $A$4, FactorMatrix[[GHGSOURCE]:[GHGSOURCE]], \"track mile\", FactorMatrix[[TYPE]:[TYPE]], M$6)","v":0},{"$f":"SUMIFS(FactorMatrix[[UPSTREAMMATERIALSENERGY]:[UPSTREAMMATERIALSENERGY]], FactorMatrix[[MODE]:[MODE]], $B15, FactorMatrix[[PHASE]:[PHASE]], $A$4, FactorMatrix[[GHGSOURCE]:[GHGSOURCE]], \"track mile\", FactorMatrix[[TYPE]:[TYPE]], N$6)","v":0},{"$f":"SUMIFS(FactorMatrix[[UPSTREAMMATERIALSENERGY]:[UPSTREAMMATERIALSENERGY]], FactorMatrix[[MODE]:[MODE]], $B15, FactorMatrix[[PHASE]:[PHASE]], $A$4, FactorMatrix[[GHGSOURCE]:[GHGSOURCE]], \"track mile\", FactorMatrix[[TYPE]:[TYPE]], O$6)","v":0},{"$f":"SUMIFS(FactorMatrix[[UPSTREAMMATERIALSENERGY]:[UPSTREAMMATERIALSENERGY]], FactorMatrix[[MODE]:[MODE]], $B15, FactorMatrix[[PHASE]:[PHASE]], $A$4, FactorMatrix[[GHGSOURCE]:[GHGSOURCE]], \"station\", FactorMatrix[[TYPE]:[TYPE]], P$6)","v":0},{"$f":"SUMIFS(FactorMatrix[[UPSTREAMMATERIALSENERGY]:[UPSTREAMMATERIALSENERGY]], FactorMatrix[[MODE]:[MODE]], $B15, FactorMatrix[[PHASE]:[PHASE]], $A$4, FactorMatrix[[GHGSOURCE]:[GHGSOURCE]], \"station\", FactorMatrix[[TYPE]:[TYPE]], Q$6)","v":0},{"$f":"SUMIFS(FactorMatrix[[UPSTREAMMATERIALSENERGY]:[UPSTREAMMATERIALSENERGY]], FactorMatrix[[MODE]:[MODE]], $B15, FactorMatrix[[PHASE]:[PHASE]], $A$4, FactorMatrix[[GHGSOURCE]:[GHGSOURCE]], \"station\", FactorMatrix[[TYPE]:[TYPE]], R$6)","v":0},{"$f":"SUMIFS(FactorMatrix[[UPSTREAMTRANSPORTENERGY]:[UPSTREAMTRANSPORTENERGY]], FactorMatrix[[MODE]:[MODE]], $B15, FactorMatrix[[PHASE]:[PHASE]], $A$4, FactorMatrix[[GHGSOURCE]:[GHGSOURCE]], \"track mile\", FactorMatrix[[TYPE]:[TYPE]], S$6, FactorMatrix[[STATE /REGION]:[STATE /REGION]], StateCalc)","v":0},{"$f":"SUMIFS(FactorMatrix[[UPSTREAMTRANSPORTENERGY]:[UPSTREAMTRANSPORTENERGY]], FactorMatrix[[MODE]:[MODE]], $B15, FactorMatrix[[PHASE]:[PHASE]], $A$4, FactorMatrix[[GHGSOURCE]:[GHGSOURCE]], \"track mile\", FactorMatrix[[TYPE]:[TYPE]], T$6)","v":0},{"$f":"SUMIFS(FactorMatrix[[UPSTREAMTRANSPORTENERGY]:[UPSTREAMTRANSPORTENERGY]], FactorMatrix[[MODE]:[MODE]], $B15, FactorMatrix[[PHASE]:[PHASE]], $A$4, FactorMatrix[[GHGSOURCE]:[GHGSOURCE]], \"track mile\", FactorMatrix[[TYPE]:[TYPE]], U$6)","v":0},{"$f":"SUMIFS(FactorMatrix[[UPSTREAMTRANSPORTENERGY]:[UPSTREAMTRANSPORTENERGY]], FactorMatrix[[MODE]:[MODE]], $B15, FactorMatrix[[PHASE]:[PHASE]], $A$4, FactorMatrix[[GHGSOURCE]:[GHGSOURCE]], \"track mile\", FactorMatrix[[TYPE]:[TYPE]], V$6)","v":0},{"$f":"SUMIFS(FactorMatrix[[UPSTREAMTRANSPORTENERGY]:[UPSTREAMTRANSPORTENERGY]], FactorMatrix[[MODE]:[MODE]], $B15, FactorMatrix[[PHASE]:[PHASE]], $A$4, FactorMatrix[[GHGSOURCE]:[GHGSOURCE]], \"track mile\", FactorMatrix[[TYPE]:[TYPE]], W$6)","v":0},{"$f":"SUMIFS(FactorMatrix[[UPSTREAMTRANSPORTENERGY]:[UPSTREAMTRANSPORTENERGY]], FactorMatrix[[MODE]:[MODE]], $B15, FactorMatrix[[PHASE]:[PHASE]], $A$4, FactorMatrix[[GHGSOURCE]:[GHGSOURCE]], \"station\", FactorMatrix[[TYPE]:[TYPE]], X$6)","v":0},{"$f":"SUMIFS(FactorMatrix[[UPSTREAMTRANSPORTENERGY]:[UPSTREAMTRANSPORTENERGY]], FactorMatrix[[MODE]:[MODE]], $B15, FactorMatrix[[PHASE]:[PHASE]], $A$4, FactorMatrix[[GHGSOURCE]:[GHGSOURCE]], \"station\", FactorMatrix[[TYPE]:[TYPE]], Y$6)","v":0},{"$f":"SUMIFS(FactorMatrix[[UPSTREAMTRANSPORTENERGY]:[UPSTREAMTRANSPORTENERGY]], FactorMatrix[[MODE]:[MODE]], $B15, FactorMatrix[[PHASE]:[PHASE]], $A$4, FactorMatrix[[GHGSOURCE]:[GHGSOURCE]], \"station\", FactorMatrix[[TYPE]:[TYPE]], Z$6)","v":0},{"$f":"SUMIFS(FactorMatrix[[DOWNSTREAMENERGY]:[DOWNSTREAMENERGY]], FactorMatrix[[MODE]:[MODE]], $B15, FactorMatrix[[PHASE]:[PHASE]], $A$4, FactorMatrix[[GHGSOURCE]:[GHGSOURCE]], \"track mile\", FactorMatrix[[TYPE]:[TYPE]], AA$6, FactorMatrix[[STATE /REGION]:[STATE /REGION]], StateCalc)","v":0},{"$f":"SUMIFS(FactorMatrix[[DOWNSTREAMENERGY]:[DOWNSTREAMENERGY]], FactorMatrix[[MODE]:[MODE]], $B15, FactorMatrix[[PHASE]:[PHASE]], $A$4, FactorMatrix[[GHGSOURCE]:[GHGSOURCE]], \"track mile\", FactorMatrix[[TYPE]:[TYPE]], AB$6)","v":0},{"$f":"SUMIFS(FactorMatrix[[DOWNSTREAMENERGY]:[DOWNSTREAMENERGY]], FactorMatrix[[MODE]:[MODE]], $B15, FactorMatrix[[PHASE]:[PHASE]], $A$4, FactorMatrix[[GHGSOURCE]:[GHGSOURCE]], \"track mile\", FactorMatrix[[TYPE]:[TYPE]], AC$6)","v":0},{"$f":"SUMIFS(FactorMatrix[[DOWNSTREAMENERGY]:[DOWNSTREAMENERGY]], FactorMatrix[[MODE]:[MODE]], $B15, FactorMatrix[[PHASE]:[PHASE]], $A$4, FactorMatrix[[GHGSOURCE]:[GHGSOURCE]], \"track mile\", FactorMatrix[[TYPE]:[TYPE]], AD$6)","v":0},{"$f":"SUMIFS(FactorMatrix[[DOWNSTREAMENERGY]:[DOWNSTREAMENERGY]], FactorMatrix[[MODE]:[MODE]], $B15, FactorMatrix[[PHASE]:[PHASE]], $A$4, FactorMatrix[[GHGSOURCE]:[GHGSOURCE]], \"track mile\", FactorMatrix[[TYPE]:[TYPE]], AE$6)","v":0},{"$f":"SUMIFS(FactorMatrix[[DOWNSTREAMENERGY]:[DOWNSTREAMENERGY]], FactorMatrix[[MODE]:[MODE]], $B15, FactorMatrix[[PHASE]:[PHASE]], $A$4, FactorMatrix[[GHGSOURCE]:[GHGSOURCE]], \"station\", FactorMatrix[[TYPE]:[TYPE]], AF$6)","v":0},{"$f":"SUMIFS(FactorMatrix[[DOWNSTREAMENERGY]:[DOWNSTREAMENERGY]], FactorMatrix[[MODE]:[MODE]], $B15, FactorMatrix[[PHASE]:[PHASE]], $A$4, FactorMatrix[[GHGSOURCE]:[GHGSOURCE]], \"station\", FactorMatrix[[TYPE]:[TYPE]], AG$6)","v":0},{"$f":"SUMIFS(FactorMatrix[[DOWNSTREAMENERGY]:[DOWNSTREAMENERGY]], FactorMatrix[[MODE]:[MODE]], $B15, FactorMatrix[[PHASE]:[PHASE]], $A$4, FactorMatrix[[GHGSOURCE]:[GHGSOURCE]], \"station\", FactorMatrix[[TYPE]:[TYPE]], AH$6)","v":0},0,0,0]
[10,{"$f":"Construction!B17","v":0},{"$f":"Construction!C17","v":0},{"$f":"Construction!D17","v":0},{"$f":"Construction!E17","v":0},{"$f":"Construction!F17","v":0},{"$f":"Construction!G17","v":0},{"$f":"Construction!H17","v":0},{"$f":"Construction!I17","v":0},{"$f":"Construction!J17","v":0},{"$f":"SUMIFS(FactorMatrix[[UPSTREAMMATERIALSENERGY]:[UPSTREAMMATERIALSENERGY]], FactorMatrix[[MODE]:[MODE]], $B16, FactorMatrix[[PHASE]:[PHASE]], $A$4, FactorMatrix[[GHGSOURCE]:[GHGSOURCE]], \"track mile\", FactorMatrix[[TYPE]:[TYPE]], K$6, FactorMatrix[[STATE /REGION]:[STATE /REGION]], StateCalc)","v":0},{"$f":"SUMIFS(FactorMatrix[[UPSTREAMMATERIALSENERGY]:[UPSTREAMMATERIALSENERGY]], FactorMatrix[[MODE]:[MODE]], $B16, FactorMatrix[[PHASE]:[PHASE]], $A$4, FactorMatrix[[GHGSOURCE]:[GHGSOURCE]], \"track mile\", FactorMatrix[[TYPE]:[TYPE]], L$6)","v":0},{"$f":"SUMIFS(FactorMatrix[[UPSTREAMMATERIALSENERGY]:[UPSTREAMMATERIALSENERGY]], FactorMatrix[[MODE]:[MODE]], $B16, FactorMatrix[[PHASE]:[PHASE]], $A$4, FactorMatrix[[GHGSOURCE]:[GHGSOURCE]], \"track mile\", FactorMatrix[[TYPE]:[TYPE]], M$6)","v":0},{"$f":"SUMIFS(FactorMatrix[[UPSTREAMMATERIALSENERGY]:[UPSTREAMMATERIALSENERGY]], FactorMatrix[[MODE]:[MODE]], $B16, FactorMatrix[[PHASE]:[PHASE]], $A$4, FactorMatrix[[GHGSOURCE]:[GHGSOURCE]], \"track mile\", FactorMatrix[[TYPE]:[TYPE]], N$6)","v":0},{"$f":"SUMIFS(FactorMatrix[[UPSTREAMMATERIALSENERGY]:[UPSTREAMMATERIALSENERGY]], FactorMatrix[[MODE]:[MODE]], $B16, FactorMatrix[[PHASE]:[PHASE]], $A$4, FactorMatrix[[GHGSOURCE]:[GHGSOURCE]], \"track mile\", FactorMatrix[[TYPE]:[TYPE]], O$6)","v":0},{"$f":"SUMIFS(FactorMatrix[[UPSTREAMMATERIALSENERGY]:[UPSTREAMMATERIALSENERGY]], FactorMatrix[[MODE]:[MODE]], $B16, FactorMatrix[[PHASE]:[PHASE]], $A$4, FactorMatrix[[GHGSOURCE]:[GHGSOURCE]], \"station\", FactorMatrix[[TYPE]:[TYPE]], P$6)","v":0},{"$f":"SUMIFS(FactorMatrix[[UPSTREAMMATERIALSENERGY]:[UPSTREAMMATERIALSENERGY]], FactorMatrix[[MODE]:[MODE]], $B16, FactorMatrix[[PHASE]:[PHASE]], $A$4, FactorMatrix[[GHGSOURCE]:[GHGSOURCE]], \"station\", FactorMatrix[[TYPE]:[TYPE]], Q$6)","v":0},{"$f":"SUMIFS(FactorMatrix[[UPSTREAMMATERIALSENERGY]:[UPSTREAMMATERIALSENERGY]], FactorMatrix[[MODE]:[MODE]], $B16, FactorMatrix[[PHASE]:[PHASE]], $A$4, FactorMatrix[[GHGSOURCE]:[GHGSOURCE]], \"station\", FactorMatrix[[TYPE]:[TYPE]], R$6)","v":0},{"$f":"SUMIFS(FactorMatrix[[UPSTREAMTRANSPORTENERGY]:[UPSTREAMTRANSPORTENERGY]], FactorMatrix[[MODE]:[MODE]], $B16, FactorMatrix[[PHASE]:[PHASE]], $A$4, FactorMatrix[[GHGSOURCE]:[GHGSOURCE]], \"track mile\", FactorMatrix[[TYPE]:[TYPE]], S$6, FactorMatrix[[STATE /REGION]:[STATE /REGION]], StateCalc)","v":0},{"$f":"SUMIFS(FactorMatrix[[UPSTREAMTRANSPORTENERGY]:[UPSTREAMTRANSPORTENERGY]], FactorMatrix[[MODE]:[MODE]], $B16, FactorMatrix[[PHASE]:[PHASE]], $A$4, FactorMatrix[[GHGSOURCE]:[GHGSOURCE]], \"track mile\", FactorMatrix[[TYPE]:[TYPE]], T$6)","v":0},{"$f":"SUMIFS(FactorMatrix[[UPSTREAMTRANSPORTENERGY]:[UPSTREAMTRANSPORTENERGY]], FactorMatrix[[MODE]:[MODE]], $B16, FactorMatrix[[PHASE]:[PHASE]], $A$4, FactorMatrix[[GHGSOURCE]:[GHGSOURCE]], \"track mile\", FactorMatrix[[TYPE]:[TYPE]], U$6)","v":0},{"$f":"SUMIFS(FactorMatrix[[UPSTREAMTRANSPORTENERGY]:[UPSTREAMTRANSPORTENERGY]], FactorMatrix[[MODE]:[MODE]], $B16, FactorMatrix[[PHASE]:[PHASE]], $A$4, FactorMatrix[[GHGSOURCE]:[GHGSOURCE]], \"track mile\", FactorMatrix[[TYPE]:[TYPE]], V$6)","v":0},{"$f":"SUMIFS(FactorMatrix[[UPSTREAMTRANSPORTENERGY]:[UPSTREAMTRANSPORTENERGY]], FactorMatrix[[MODE]:[MODE]], $B16, FactorMatrix[[PHASE]:[PHASE]], $A$4, FactorMatrix[[GHGSOURCE]:[GHGSOURCE]], \"track mile\", FactorMatrix[[TYPE]:[TYPE]], W$6)","v":0},{"$f":"SUMIFS(FactorMatrix[[UPSTREAMTRANSPORTENERGY]:[UPSTREAMTRANSPORTENERGY]], FactorMatrix[[MODE]:[MODE]], $B16, FactorMatrix[[PHASE]:[PHASE]], $A$4, FactorMatrix[[GHGSOURCE]:[GHGSOURCE]], \"station\", FactorMatrix[[TYPE]:[TYPE]], X$6)","v":0},{"$f":"SUMIFS(FactorMatrix[[UPSTREAMTRANSPORTENERGY]:[UPSTREAMTRANSPORTENERGY]], FactorMatrix[[MODE]:[MODE]], $B16, FactorMatrix[[PHASE]:[PHASE]], $A$4, FactorMatrix[[GHGSOURCE]:[GHGSOURCE]], \"station\", FactorMatrix[[TYPE]:[TYPE]], Y$6)","v":0},{"$f":"SUMIFS(FactorMatrix[[UPSTREAMTRANSPORTENERGY]:[UPSTREAMTRANSPORTENERGY]], FactorMatrix[[MODE]:[MODE]], $B16, FactorMatrix[[PHASE]:[PHASE]], $A$4, FactorMatrix[[GHGSOURCE]:[GHGSOURCE]], \"station\", FactorMatrix[[TYPE]:[TYPE]], Z$6)","v":0},{"$f":"SUMIFS(FactorMatrix[[DOWNSTREAMENERGY]:[DOWNSTREAMENERGY]], FactorMatrix[[MODE]:[MODE]], $B16, FactorMatrix[[PHASE]:[PHASE]], $A$4, FactorMatrix[[GHGSOURCE]:[GHGSOURCE]], \"track mile\", FactorMatrix[[TYPE]:[TYPE]], AA$6, FactorMatrix[[STATE /REGION]:[STATE /REGION]], StateCalc)","v":0},{"$f":"SUMIFS(FactorMatrix[[DOWNSTREAMENERGY]:[DOWNSTREAMENERGY]], FactorMatrix[[MODE]:[MODE]], $B16, FactorMatrix[[PHASE]:[PHASE]], $A$4, FactorMatrix[[GHGSOURCE]:[GHGSOURCE]], \"track mile\", FactorMatrix[[TYPE]:[TYPE]], AB$6)","v":0},{"$f":"SUMIFS(FactorMatrix[[DOWNSTREAMENERGY]:[DOWNSTREAMENERGY]], FactorMatrix[[MODE]:[MODE]], $B16, FactorMatrix[[PHASE]:[PHASE]], $A$4, FactorMatrix[[GHGSOURCE]:[GHGSOURCE]], \"track mile\", FactorMatrix[[TYPE]:[TYPE]], AC$6)","v":0},{"$f":"SUMIFS(FactorMatrix[[DOWNSTREAMENERGY]:[DOWNSTREAMENERGY]], FactorMatrix[[MODE]:[MODE]], $B16, FactorMatrix[[PHASE]:[PHASE]], $A$4, FactorMatrix[[GHGSOURCE]:[GHGSOURCE]], \"track mile\", FactorMatrix[[TYPE]:[TYPE]], AD$6)","v":0},{"$f":"SUMIFS(FactorMatrix[[DOWNSTREAMENERGY]:[DOWNSTREAMENERGY]], FactorMatrix[[MODE]:[MODE]], $B16, FactorMatrix[[PHASE]:[PHASE]], $A$4, FactorMatrix[[GHGSOURCE]:[GHGSOURCE]], \"track mile\", FactorMatrix[[TYPE]:[TYPE]], AE$6)","v":0},{"$f":"SUMIFS(FactorMatrix[[DOWNSTREAMENERGY]:[DOWNSTREAMENERGY]], FactorMatrix[[MODE]:[MODE]], $B16, FactorMatrix[[PHASE]:[PHASE]], $A$4, FactorMatrix[[GHGSOURCE]:[GHGSOURCE]], \"station\", FactorMatrix[[TYPE]:[TYPE]], AF$6)","v":0},{"$f":"SUMIFS(FactorMatrix[[DOWNSTREAMENERGY]:[DOWNSTREAMENERGY]], FactorMatrix[[MODE]:[MODE]], $B16, FactorMatrix[[PHASE]:[PHASE]], $A$4, FactorMatrix[[GHGSOURCE]:[GHGSOURCE]], \"station\", FactorMatrix[[TYPE]:[TYPE]], AG$6)","v":0},{"$f":"SUMIFS(FactorMatrix[[DOWNSTREAMENERGY]:[DOWNSTREAMENERGY]], FactorMatrix[[MODE]:[MODE]], $B16, FactorMatrix[[PHASE]:[PHASE]], $A$4, FactorMatrix[[GHGSOURCE]:[GHGSOURCE]], \"station\", FactorMatrix[[TYPE]:[TYPE]], AH$6)","v":0},0,0,0]
[11,{"$f":"Construction!B18","v":0},{"$f":"Construction!C18","v":0},{"$f":"Construction!D18","v":0},{"$f":"Construction!E18","v":0},{"$f":"Construction!F18","v":0},{"$f":"Construction!G18","v":0},{"$f":"Construction!H18","v":0},{"$f":"Construction!I18","v":0},{"$f":"Construction!J18","v":0},{"$f":"SUMIFS(FactorMatrix[[UPSTREAMMATERIALSENERGY]:[UPSTREAMMATERIALSENERGY]], FactorMatrix[[MODE]:[MODE]], $B17, FactorMatrix[[PHASE]:[PHASE]], $A$4, FactorMatrix[[GHGSOURCE]:[GHGSOURCE]], \"track mile\", FactorMatrix[[TYPE]:[TYPE]], K$6, FactorMatrix[[STATE /REGION]:[STATE /REGION]], StateCalc)","v":0},{"$f":"SUMIFS(FactorMatrix[[UPSTREAMMATERIALSENERGY]:[UPSTREAMMATERIALSENERGY]], FactorMatrix[[MODE]:[MODE]], $B17, FactorMatrix[[PHASE]:[PHASE]], $A$4, FactorMatrix[[GHGSOURCE]:[GHGSOURCE]], \"track mile\", FactorMatrix[[TYPE]:[TYPE]], L$6)","v":0},{"$f":"SUMIFS(FactorMatrix[[UPSTREAMMATERIALSENERGY]:[UPSTREAMMATERIALSENERGY]], FactorMatrix[[MODE]:[MODE]], $B17, FactorMatrix[[PHASE]:[PHASE]], $A$4, FactorMatrix[[GHGSOURCE]:[GHGSOURCE]], \"track mile\", FactorMatrix[[TYPE]:[TYPE]], M$6)","v":0},{"$f":"SUMIFS(FactorMatrix[[UPSTREAMMATERIALSENERGY]:[UPSTREAMMATERIALSENERGY]], FactorMatrix[[MODE]:[MODE]], $B17, FactorMatrix[[PHASE]:[PHASE]], $A$4, FactorMatrix[[GHGSOURCE]:[GHGSOURCE]], \"track mile\", FactorMatrix[[TYPE]:[TYPE]], N$6)","v":0},{"$f":"SUMIFS(FactorMatrix[[UPSTREAMMATERIALSENERGY]:[UPSTREAMMATERIALSENERGY]], FactorMatrix[[MODE]:[MODE]], $B17, FactorMatrix[[PHASE]:[PHASE]], $A$4, FactorMatrix[[GHGSOURCE]:[GHGSOURCE]], \"track mile\", FactorMatrix[[TYPE]:[TYPE]], O$6)","v":0},{"$f":"SUMIFS(FactorMatrix[[UPSTREAMMATERIALSENERGY]:[UPSTREAMMATERIALSENERGY]], FactorMatrix[[MODE]:[MODE]], $B17, FactorMatrix[[PHASE]:[PHASE]], $A$4, FactorMatrix[[GHGSOURCE]:[GHGSOURCE]], \"station\", FactorMatrix[[TYPE]:[TYPE]], P$6)","v":0},{"$f":"SUMIFS(FactorMatrix[[UPSTREAMMATERIALSENERGY]:[UPSTREAMMATERIALSENERGY]], FactorMatrix[[MODE]:[MODE]], $B17, FactorMatrix[[PHASE]:[PHASE]], $A$4, FactorMatrix[[GHGSOURCE]:[GHGSOURCE]], \"station\", FactorMatrix[[TYPE]:[TYPE]], Q$6)","v":0},{"$f":"SUMIFS(FactorMatrix[[UPSTREAMMATERIALSENERGY]:[UPSTREAMMATERIALSENERGY]], FactorMatrix[[MODE]:[MODE]], $B17, FactorMatrix[[PHASE]:[PHASE]], $A$4, FactorMatrix[[GHGSOURCE]:[GHGSOURCE]], \"station\", FactorMatrix[[TYPE]:[TYPE]], R$6)","v":0},{"$f":"SUMIFS(FactorMatrix[[UPSTREAMTRANSPORTENERGY]:[UPSTREAMTRANSPORTENERGY]], FactorMatrix[[MODE]:[MODE]], $B17, FactorMatrix[[PHASE]:[PHASE]], $A$4, FactorMatrix[[GHGSOURCE]:[GHGSOURCE]], \"track mile\", FactorMatrix[[TYPE]:[TYPE]], S$6, FactorMatrix[[STATE /REGION]:[STATE /REGION]], StateCalc)","v":0},{"$f":"SUMIFS(FactorMatrix[[UPSTREAMTRANSPORTENERGY]:[UPSTREAMTRANSPORTENERGY]], FactorMatrix[[MODE]:[MODE]], $B17, FactorMatrix[[PHASE]:[PHASE]], $A$4, FactorMatrix[[GHGSOURCE]:[GHGSOURCE]], \"track mile\", FactorMatrix[[TYPE]:[TYPE]], T$6)","v":0},{"$f":"SUMIFS(FactorMatrix[[UPSTREAMTRANSPORTENERGY]:[UPSTREAMTRANSPORTENERGY]], FactorMatrix[[MODE]:[MODE]], $B17, FactorMatrix[[PHASE]:[PHASE]], $A$4, FactorMatrix[[GHGSOURCE]:[GHGSOURCE]], \"track mile\", FactorMatrix[[TYPE]:[TYPE]], U$6)","v":0},{"$f":"SUMIFS(FactorMatrix[[UPSTREAMTRANSPORTENERGY]:[UPSTREAMTRANSPORTENERGY]], FactorMatrix[[MODE]:[MODE]], $B17, FactorMatrix[[PHASE]:[PHASE]], $A$4, FactorMatrix[[GHGSOURCE]:[GHGSOURCE]], \"track mile\", FactorMatrix[[TYPE]:[TYPE]], V$6)","v":0},{"$f":"SUMIFS(FactorMatrix[[UPSTREAMTRANSPORTENERGY]:[UPSTREAMTRANSPORTENERGY]], FactorMatrix[[MODE]:[MODE]], $B17, FactorMatrix[[PHASE]:[PHASE]], $A$4, FactorMatrix[[GHGSOURCE]:[GHGSOURCE]], \"track mile\", FactorMatrix[[TYPE]:[TYPE]], W$6)","v":0},{"$f":"SUMIFS(FactorMatrix[[UPSTREAMTRANSPORTENERGY]:[UPSTREAMTRANSPORTENERGY]], FactorMatrix[[MODE]:[MODE]], $B17, FactorMatrix[[PHASE]:[PHASE]], $A$4, FactorMatrix[[GHGSOURCE]:[GHGSOURCE]], \"station\", FactorMatrix[[TYPE]:[TYPE]], X$6)","v":0},{"$f":"SUMIFS(FactorMatrix[[UPSTREAMTRANSPORTENERGY]:[UPSTREAMTRANSPORTENERGY]], FactorMatrix[[MODE]:[MODE]], $B17, FactorMatrix[[PHASE]:[PHASE]], $A$4, FactorMatrix[[GHGSOURCE]:[GHGSOURCE]], \"station\", FactorMatrix[[TYPE]:[TYPE]], Y$6)","v":0},{"$f":"SUMIFS(FactorMatrix[[UPSTREAMTRANSPORTENERGY]:[UPSTREAMTRANSPORTENERGY]], FactorMatrix[[MODE]:[MODE]], $B17, FactorMatrix[[PHASE]:[PHASE]], $A$4, FactorMatrix[[GHGSOURCE]:[GHGSOURCE]], \"station\", FactorMatrix[[TYPE]:[TYPE]], Z$6)","v":0},{"$f":"SUMIFS(FactorMatrix[[DOWNSTREAMENERGY]:[DOWNSTREAMENERGY]], FactorMatrix[[MODE]:[MODE]], $B17, FactorMatrix[[PHASE]:[PHASE]], $A$4, FactorMatrix[[GHGSOURCE]:[GHGSOURCE]], \"track mile\", FactorMatrix[[TYPE]:[TYPE]], AA$6, FactorMatrix[[STATE /REGION]:[STATE /REGION]], StateCalc)","v":0},{"$f":"SUMIFS(FactorMatrix[[DOWNSTREAMENERGY]:[DOWNSTREAMENERGY]], FactorMatrix[[MODE]:[MODE]], $B17, FactorMatrix[[PHASE]:[PHASE]], $A$4, FactorMatrix[[GHGSOURCE]:[GHGSOURCE]], \"track mile\", FactorMatrix[[TYPE]:[TYPE]], AB$6)","v":0},{"$f":"SUMIFS(FactorMatrix[[DOWNSTREAMENERGY]:[DOWNSTREAMENERGY]], FactorMatrix[[MODE]:[MODE]], $B17, FactorMatrix[[PHASE]:[PHASE]], $A$4, FactorMatrix[[GHGSOURCE]:[GHGSOURCE]], \"track mile\", FactorMatrix[[TYPE]:[TYPE]], AC$6)","v":0},{"$f":"SUMIFS(FactorMatrix[[DOWNSTREAMENERGY]:[DOWNSTREAMENERGY]], FactorMatrix[[MODE]:[MODE]], $B17, FactorMatrix[[PHASE]:[PHASE]], $A$4, FactorMatrix[[GHGSOURCE]:[GHGSOURCE]], \"track mile\", FactorMatrix[[TYPE]:[TYPE]], AD$6)","v":0},{"$f":"SUMIFS(FactorMatrix[[DOWNSTREAMENERGY]:[DOWNSTREAMENERGY]], FactorMatrix[[MODE]:[MODE]], $B17, FactorMatrix[[PHASE]:[PHASE]], $A$4, FactorMatrix[[GHGSOURCE]:[GHGSOURCE]], \"track mile\", FactorMatrix[[TYPE]:[TYPE]], AE$6)","v":0},{"$f":"SUMIFS(FactorMatrix[[DOWNSTREAMENERGY]:[DOWNSTREAMENERGY]], FactorMatrix[[MODE]:[MODE]], $B17, FactorMatrix[[PHASE]:[PHASE]], $A$4, FactorMatrix[[GHGSOURCE]:[GHGSOURCE]], \"station\", FactorMatrix[[TYPE]:[TYPE]], AF$6)","v":0},{"$f":"SUMIFS(FactorMatrix[[DOWNSTREAMENERGY]:[DOWNSTREAMENERGY]], FactorMatrix[[MODE]:[MODE]], $B17, FactorMatrix[[PHASE]:[PHASE]], $A$4, FactorMatrix[[GHGSOURCE]:[GHGSOURCE]], \"station\", FactorMatrix[[TYPE]:[TYPE]], AG$6)","v":0},{"$f":"SUMIFS(FactorMatrix[[DOWNSTREAMENERGY]:[DOWNSTREAMENERGY]], FactorMatrix[[MODE]:[MODE]], $B17, FactorMatrix[[PHASE]:[PHASE]], $A$4, FactorMatrix[[GHGSOURCE]:[GHGSOURCE]], \"station\", FactorMatrix[[TYPE]:[TYPE]], AH$6)","v":0},0,0,0]
[12,{"$f":"Construction!B19","v":0},{"$f":"Construction!C19","v":0},{"$f":"Construction!D19","v":0},{"$f":"Construction!E19","v":0},{"$f":"Construction!F19","v":0},{"$f":"Construction!G19","v":0},{"$f":"Construction!H19","v":0},{"$f":"Construction!I19","v":0},{"$f":"Construction!J19","v":0},{"$f":"SUMIFS(FactorMatrix[[UPSTREAMMATERIALSENERGY]:[UPSTREAMMATERIALSENERGY]], FactorMatrix[[MODE]:[MODE]], $B18, FactorMatrix[[PHASE]:[PHASE]], $A$4, FactorMatrix[[GHGSOURCE]:[GHGSOURCE]], \"track mile\", FactorMatrix[[TYPE]:[TYPE]], K$6, FactorMatrix[[STATE /REGION]:[STATE /REGION]], StateCalc)","v":0},{"$f":"SUMIFS(FactorMatrix[[UPSTREAMMATERIALSENERGY]:[UPSTREAMMATERIALSENERGY]], FactorMatrix[[MODE]:[MODE]], $B18, FactorMatrix[[PHASE]:[PHASE]], $A$4, FactorMatrix[[GHGSOURCE]:[GHGSOURCE]], \"track mile\", FactorMatrix[[TYPE]:[TYPE]], L$6)","v":0},{"$f":"SUMIFS(FactorMatrix[[UPSTREAMMATERIALSENERGY]:[UPSTREAMMATERIALSENERGY]], FactorMatrix[[MODE]:[MODE]], $B18, FactorMatrix[[PHASE]:[PHASE]], $A$4, FactorMatrix[[GHGSOURCE]:[GHGSOURCE]], \"track mile\", FactorMatrix[[TYPE]:[TYPE]], M$6)","v":0},{"$f":"SUMIFS(FactorMatrix[[UPSTREAMMATERIALSENERGY]:[UPSTREAMMATERIALSENERGY]], FactorMatrix[[MODE]:[MODE]], $B18, FactorMatrix[[PHASE]:[PHASE]], $A$4, FactorMatrix[[GHGSOURCE]:[GHGSOURCE]], \"track mile\", FactorMatrix[[TYPE]:[TYPE]], N$6)","v":0},{"$f":"SUMIFS(FactorMatrix[[UPSTREAMMATERIALSENERGY]:[UPSTREAMMATERIALSENERGY]], FactorMatrix[[MODE]:[MODE]], $B18, FactorMatrix[[PHASE]:[PHASE]], $A$4, FactorMatrix[[GHGSOURCE]:[GHGSOURCE]], \"track mile\", FactorMatrix[[TYPE]:[TYPE]], O$6)","v":0},{"$f":"SUMIFS(FactorMatrix[[UPSTREAMMATERIALSENERGY]:[UPSTREAMMATERIALSENERGY]], FactorMatrix[[MODE]:[MODE]], $B18, FactorMatrix[[PHASE]:[PHASE]], $A$4, FactorMatrix[[GHGSOURCE]:[GHGSOURCE]], \"station\", FactorMatrix[[TYPE]:[TYPE]], P$6)","v":0},{"$f":"SUMIFS(FactorMatrix[[UPSTREAMMATERIALSENERGY]:[UPSTREAMMATERIALSENERGY]], FactorMatrix[[MODE]:[MODE]], $B18, FactorMatrix[[PHASE]:[PHASE]], $A$4, FactorMatrix[[GHGSOURCE]:[GHGSOURCE]], \"station\", FactorMatrix[[TYPE]:[TYPE]], Q$6)","v":0},{"$f":"SUMIFS(FactorMatrix[[UPSTREAMMATERIALSENERGY]:[UPSTREAMMATERIALSENERGY]], FactorMatrix[[MODE]:[MODE]], $B18, FactorMatrix[[PHASE]:[PHASE]], $A$4, FactorMatrix[[GHGSOURCE]:[GHGSOURCE]], \"station\", FactorMatrix[[TYPE]:[TYPE]], R$6)","v":0},{"$f":"SUMIFS(FactorMatrix[[UPSTREAMTRANSPORTENERGY]:[UPSTREAMTRANSPORTENERGY]], FactorMatrix[[MODE]:[MODE]], $B18, FactorMatrix[[PHASE]:[PHASE]], $A$4, FactorMatrix[[GHGSOURCE]:[GHGSOURCE]], \"track mile\", FactorMatrix[[TYPE]:[TYPE]], S$6, FactorMatrix[[STATE /REGION]:[STATE /REGION]], StateCalc)","v":0},{"$f":"SUMIFS(FactorMatrix[[UPSTREAMTRANSPORTENERGY]:[UPSTREAMTRANSPORTENERGY]], FactorMatrix[[MODE]:[MODE]], $B18, FactorMatrix[[PHASE]:[PHASE]], $A$4, FactorMatrix[[GHGSOURCE]:[GHGSOURCE]], \"track mile\", FactorMatrix[[TYPE]:[TYPE]], T$6)","v":0},{"$f":"SUMIFS(FactorMatrix[[UPSTREAMTRANSPORTENERGY]:[UPSTREAMTRANSPORTENERGY]], FactorMatrix[[MODE]:[MODE]], $B18, FactorMatrix[[PHASE]:[PHASE]], $A$4, FactorMatrix[[GHGSOURCE]:[GHGSOURCE]], \"track mile\", FactorMatrix[[TYPE]:[TYPE]], U$6)","v":0},{"$f":"SUMIFS(FactorMatrix[[UPSTREAMTRANSPORTENERGY]:[UPSTREAMTRANSPORTENERGY]], FactorMatrix[[MODE]:[MODE]], $B18, FactorMatrix[[PHASE]:[PHASE]], $A$4, FactorMatrix[[GHGSOURCE]:[GHGSOURCE]], \"track mile\", FactorMatrix[[TYPE]:[TYPE]], V$6)","v":0},{"$f":"SUMIFS(FactorMatrix[[UPSTREAMTRANSPORTENERGY]:[UPSTREAMTRANSPORTENERGY]], FactorMatrix[[MODE]:[MODE]], $B18, FactorMatrix[[PHASE]:[PHASE]], $A$4, FactorMatrix[[GHGSOURCE]:[GHGSOURCE]], \"track mile\", FactorMatrix[[TYPE]:[TYPE]], W$6)","v":0},{"$f":"SUMIFS(FactorMatrix[[UPSTREAMTRANSPORTENERGY]:[UPSTREAMTRANSPORTENERGY]], FactorMatrix[[MODE]:[MODE]], $B18, FactorMatrix[[PHASE]:[PHASE]], $A$4, FactorMatrix[[GHGSOURCE]:[GHGSOURCE]], \"station\", FactorMatrix[[TYPE]:[TYPE]], X$6)","v":0},{"$f":"SUMIFS(FactorMatrix[[UPSTREAMTRANSPORTENERGY]:[UPSTREAMTRANSPORTENERGY]], FactorMatrix[[MODE]:[MODE]], $B18, FactorMatrix[[PHASE]:[PHASE]], $A$4, FactorMatrix[[GHGSOURCE]:[GHGSOURCE]], \"station\", FactorMatrix[[TYPE]:[TYPE]], Y$6)","v":0},{"$f":"SUMIFS(FactorMatrix[[UPSTREAMTRANSPORTENERGY]:[UPSTREAMTRANSPORTENERGY]], FactorMatrix[[MODE]:[MODE]], $B18, FactorMatrix[[PHASE]:[PHASE]], $A$4, FactorMatrix[[GHGSOURCE]:[GHGSOURCE]], \"station\", FactorMatrix[[TYPE]:[TYPE]], Z$6)","v":0},{"$f":"SUMIFS(FactorMatrix[[DOWNSTREAMENERGY]:[DOWNSTREAMENERGY]], FactorMatrix[[MODE]:[MODE]], $B18, FactorMatrix[[PHASE]:[PHASE]], $A$4, FactorMatrix[[GHGSOURCE]:[GHGSOURCE]], \"track mile\", FactorMatrix[[TYPE]:[TYPE]], AA$6, FactorMatrix[[STATE /REGION]:[STATE /REGION]], StateCalc)","v":0},{"$f":"SUMIFS(FactorMatrix[[DOWNSTREAMENERGY]:[DOWNSTREAMENERGY]], FactorMatrix[[MODE]:[MODE]], $B18, FactorMatrix[[PHASE]:[PHASE]], $A$4, FactorMatrix[[GHGSOURCE]:[GHGSOURCE]], \"track mile\", FactorMatrix[[TYPE]:[TYPE]], AB$6)","v":0},{"$f":"SUMIFS(FactorMatrix[[DOWNSTREAMENERGY]:[DOWNSTREAMENERGY]], FactorMatrix[[MODE]:[MODE]], $B18, FactorMatrix[[PHASE]:[PHASE]], $A$4, FactorMatrix[[GHGSOURCE]:[GHGSOURCE]], \"track mile\", FactorMatrix[[TYPE]:[TYPE]], AC$6)","v":0},{"$f":"SUMIFS(FactorMatrix[[DOWNSTREAMENERGY]:[DOWNSTREAMENERGY]], FactorMatrix[[MODE]:[MODE]], $B18, FactorMatrix[[PHASE]:[PHASE]], $A$4, FactorMatrix[[GHGSOURCE]:[GHGSOURCE]], \"track mile\", FactorMatrix[[TYPE]:[TYPE]], AD$6)","v":0},{"$f":"SUMIFS(FactorMatrix[[DOWNSTREAMENERGY]:[DOWNSTREAMENERGY]], FactorMatrix[[MODE]:[MODE]], $B18, FactorMatrix[[PHASE]:[PHASE]], $A$4, FactorMatrix[[GHGSOURCE]:[GHGSOURCE]], \"track mile\", FactorMatrix[[TYPE]:[TYPE]], AE$6)","v":0},{"$f":"SUMIFS(FactorMatrix[[DOWNSTREAMENERGY]:[DOWNSTREAMENERGY]], FactorMatrix[[MODE]:[MODE]], $B18, FactorMatrix[[PHASE]:[PHASE]], $A$4, FactorMatrix[[GHGSOURCE]:[GHGSOURCE]], \"station\", FactorMatrix[[TYPE]:[TYPE]], AF$6)","v":0},{"$f":"SUMIFS(FactorMatrix[[DOWNSTREAMENERGY]:[DOWNSTREAMENERGY]], FactorMatrix[[MODE]:[MODE]], $B18, FactorMatrix[[PHASE]:[PHASE]], $A$4, FactorMatrix[[GHGSOURCE]:[GHGSOURCE]], \"station\", FactorMatrix[[TYPE]:[TYPE]], AG$6)","v":0},{"$f":"SUMIFS(FactorMatrix[[DOWNSTREAMENERGY]:[DOWNSTREAMENERGY]], FactorMatrix[[MODE]:[MODE]], $B18, FactorMatrix[[PHASE]:[PHASE]], $A$4, FactorMatrix[[GHGSOURCE]:[GHGSOURCE]], \"station\", FactorMatrix[[TYPE]:[TYPE]], AH$6)","v":0},0,0,0]
[13,{"$f":"Construction!B20","v":0},{"$f":"Construction!C20","v":0},{"$f":"Construction!D20","v":0},{"$f":"Construction!E20","v":0},{"$f":"Construction!F20","v":0},{"$f":"Construction!G20","v":0},{"$f":"Construction!H20","v":0},{"$f":"Construction!I20","v":0},{"$f":"Construction!J20","v":0},{"$f":"SUMIFS(FactorMatrix[[UPSTREAMMATERIALSENERGY]:[UPSTREAMMATERIALSENERGY]], FactorMatrix[[MODE]:[MODE]], $B19, FactorMatrix[[PHASE]:[PHASE]], $A$4, FactorMatrix[[GHGSOURCE]:[GHGSOURCE]], \"track mile\", FactorMatrix[[TYPE]:[TYPE]], K$6, FactorMatrix[[STATE /REGION]:[STATE /REGION]], StateCalc)","v":0},{"$f":"SUMIFS(FactorMatrix[[UPSTREAMMATERIALSENERGY]:[UPSTREAMMATERIALSENERGY]], FactorMatrix[[MODE]:[MODE]], $B19, FactorMatrix[[PHASE]:[PHASE]], $A$4, FactorMatrix[[GHGSOURCE]:[GHGSOURCE]], \"track mile\", FactorMatrix[[TYPE]:[TYPE]], L$6)","v":0},{"$f":"SUMIFS(FactorMatrix[[UPSTREAMMATERIALSENERGY]:[UPSTREAMMATERIALSENERGY]], FactorMatrix[[MODE]:[MODE]], $B19, FactorMatrix[[PHASE]:[PHASE]], $A$4, FactorMatrix[[GHGSOURCE]:[GHGSOURCE]], \"track mile\", FactorMatrix[[TYPE]:[TYPE]], M$6)","v":0},{"$f":"SUMIFS(FactorMatrix[[UPSTREAMMATERIALSENERGY]:[UPSTREAMMATERIALSENERGY]], FactorMatrix[[MODE]:[MODE]], $B19, FactorMatrix[[PHASE]:[PHASE]], $A$4, FactorMatrix[[GHGSOURCE]:[GHGSOURCE]], \"track mile\", FactorMatrix[[TYPE]:[TYPE]], N$6)","v":0},{"$f":"SUMIFS(FactorMatrix[[UPSTREAMMATERIALSENERGY]:[UPSTREAMMATERIALSENERGY]], FactorMatrix[[MODE]:[MODE]], $B19, FactorMatrix[[PHASE]:[PHASE]], $A$4, FactorMatrix[[GHGSOURCE]:[GHGSOURCE]], \"track mile\", FactorMatrix[[TYPE]:[TYPE]], O$6)","v":0},{"$f":"SUMIFS(FactorMatrix[[UPSTREAMMATERIALSENERGY]:[UPSTREAMMATERIALSENERGY]], FactorMatrix[[MODE]:[MODE]], $B19, FactorMatrix[[PHASE]:[PHASE]], $A$4, FactorMatrix[[GHGSOURCE]:[GHGSOURCE]], \"station\", FactorMatrix[[TYPE]:[TYPE]], P$6)","v":0},{"$f":"SUMIFS(FactorMatrix[[UPSTREAMMATERIALSENERGY]:[UPSTREAMMATERIALSENERGY]], FactorMatrix[[MODE]:[MODE]], $B19, FactorMatrix[[PHASE]:[PHASE]], $A$4, FactorMatrix[[GHGSOURCE]:[GHGSOURCE]], \"station\", FactorMatrix[[TYPE]:[TYPE]], Q$6)","v":0},{"$f":"SUMIFS(FactorMatrix[[UPSTREAMMATERIALSENERGY]:[UPSTREAMMATERIALSENERGY]], FactorMatrix[[MODE]:[MODE]], $B19, FactorMatrix[[PHASE]:[PHASE]], $A$4, FactorMatrix[[GHGSOURCE]:[GHGSOURCE]], \"station\", FactorMatrix[[TYPE]:[TYPE]], R$6)","v":0},{"$f":"SUMIFS(FactorMatrix[[UPSTREAMTRANSPORTENERGY]:[UPSTREAMTRANSPORTENERGY]], FactorMatrix[[MODE]:[MODE]], $B19, FactorMatrix[[PHASE]:[PHASE]], $A$4, FactorMatrix[[GHGSOURCE]:[GHGSOURCE]], \"track mile\", FactorMatrix[[TYPE]:[TYPE]], S$6, FactorMatrix[[STATE /REGION]:[STATE /REGION]], StateCalc)","v":0},{"$f":"SUMIFS(FactorMatrix[[UPSTREAMTRANSPORTENERGY]:[UPSTREAMTRANSPORTENERGY]], FactorMatrix[[MODE]:[MODE]], $B19, FactorMatrix[[PHASE]:[PHASE]], $A$4, FactorMatrix[[GHGSOURCE]:[GHGSOURCE]], \"track mile\", FactorMatrix[[TYPE]:[TYPE]], T$6)","v":0},{"$f":"SUMIFS(FactorMatrix[[UPSTREAMTRANSPORTENERGY]:[UPSTREAMTRANSPORTENERGY]], FactorMatrix[[MODE]:[MODE]], $B19, FactorMatrix[[PHASE]:[PHASE]], $A$4, FactorMatrix[[GHGSOURCE]:[GHGSOURCE]], \"track mile\", FactorMatrix[[TYPE]:[TYPE]], U$6)","v":0},{"$f":"SUMIFS(FactorMatrix[[UPSTREAMTRANSPORTENERGY]:[UPSTREAMTRANSPORTENERGY]], FactorMatrix[[MODE]:[MODE]], $B19, FactorMatrix[[PHASE]:[PHASE]], $A$4, FactorMatrix[[GHGSOURCE]:[GHGSOURCE]], \"track mile\", FactorMatrix[[TYPE]:[TYPE]], V$6)","v":0},{"$f":"SUMIFS(FactorMatrix[[UPSTREAMTRANSPORTENERGY]:[UPSTREAMTRANSPORTENERGY]], FactorMatrix[[MODE]:[MODE]], $B19, FactorMatrix[[PHASE]:[PHASE]], $A$4, FactorMatrix[[GHGSOURCE]:[GHGSOURCE]], \"track mile\", FactorMatrix[[TYPE]:[TYPE]], W$6)","v":0},{"$f":"SUMIFS(FactorMatrix[[UPSTREAMTRANSPORTENERGY]:[UPSTREAMTRANSPORTENERGY]], FactorMatrix[[MODE]:[MODE]], $B19, FactorMatrix[[PHASE]:[PHASE]], $A$4, FactorMatrix[[GHGSOURCE]:[GHGSOURCE]], \"station\", FactorMatrix[[TYPE]:[TYPE]], X$6)","v":0},{"$f":"SUMIFS(FactorMatrix[[UPSTREAMTRANSPORTENERGY]:[UPSTREAMTRANSPORTENERGY]], FactorMatrix[[MODE]:[MODE]], $B19, FactorMatrix[[PHASE]:[PHASE]], $A$4, FactorMatrix[[GHGSOURCE]:[GHGSOURCE]], \"station\", FactorMatrix[[TYPE]:[TYPE]], Y$6)","v":0},{"$f":"SUMIFS(FactorMatrix[[UPSTREAMTRANSPORTENERGY]:[UPSTREAMTRANSPORTENERGY]], FactorMatrix[[MODE]:[MODE]], $B19, FactorMatrix[[PHASE]:[PHASE]], $A$4, FactorMatrix[[GHGSOURCE]:[GHGSOURCE]], \"station\", FactorMatrix[[TYPE]:[TYPE]], Z$6)","v":0},{"$f":"SUMIFS(FactorMatrix[[DOWNSTREAMENERGY]:[DOWNSTREAMENERGY]], FactorMatrix[[MODE]:[MODE]], $B19, FactorMatrix[[PHASE]:[PHASE]], $A$4, FactorMatrix[[GHGSOURCE]:[GHGSOURCE]], \"track mile\", FactorMatrix[[TYPE]:[TYPE]], AA$6, FactorMatrix[[STATE /REGION]:[STATE /REGION]], StateCalc)","v":0},{"$f":"SUMIFS(FactorMatrix[[DOWNSTREAMENERGY]:[DOWNSTREAMENERGY]], FactorMatrix[[MODE]:[MODE]], $B19, FactorMatrix[[PHASE]:[PHASE]], $A$4, FactorMatrix[[GHGSOURCE]:[GHGSOURCE]], \"track mile\", FactorMatrix[[TYPE]:[TYPE]], AB$6)","v":0},{"$f":"SUMIFS(FactorMatrix[[DOWNSTREAMENERGY]:[DOWNSTREAMENERGY]], FactorMatrix[[MODE]:[MODE]], $B19, FactorMatrix[[PHASE]:[PHASE]], $A$4, FactorMatrix[[GHGSOURCE]:[GHGSOURCE]], \"track mile\", FactorMatrix[[TYPE]:[TYPE]], AC$6)","v":0},{"$f":"SUMIFS(FactorMatrix[[DOWNSTREAMENERGY]:[DOWNSTREAMENERGY]], FactorMatrix[[MODE]:[MODE]], $B19, FactorMatrix[[PHASE]:[PHASE]], $A$4, FactorMatrix[[GHGSOURCE]:[GHGSOURCE]], \"track mile\", FactorMatrix[[TYPE]:[TYPE]], AD$6)","v":0},{"$f":"SUMIFS(FactorMatrix[[DOWNSTREAMENERGY]:[DOWNSTREAMENERGY]], FactorMatrix[[MODE]:[MODE]], $B19, FactorMatrix[[PHASE]:[PHASE]], $A$4, FactorMatrix[[GHGSOURCE]:[GHGSOURCE]], \"track mile\", FactorMatrix[[TYPE]:[TYPE]], AE$6)","v":0},{"$f":"SUMIFS(FactorMatrix[[DOWNSTREAMENERGY]:[DOWNSTREAMENERGY]], FactorMatrix[[MODE]:[MODE]], $B19, FactorMatrix[[PHASE]:[PHASE]], $A$4, FactorMatrix[[GHGSOURCE]:[GHGSOURCE]], \"station\", FactorMatrix[[TYPE]:[TYPE]], AF$6)","v":0},{"$f":"SUMIFS(FactorMatrix[[DOWNSTREAMENERGY]:[DOWNSTREAMENERGY]], FactorMatrix[[MODE]:[MODE]], $B19, FactorMatrix[[PHASE]:[PHASE]], $A$4, FactorMatrix[[GHGSOURCE]:[GHGSOURCE]], \"station\", FactorMatrix[[TYPE]:[TYPE]], AG$6)","v":0},{"$f":"SUMIFS(FactorMatrix[[DOWNSTREAMENERGY]:[DOWNSTREAMENERGY]], FactorMatrix[[MODE]:[MODE]], $B19, FactorMatrix[[PHASE]:[PHASE]], $A$4, FactorMatrix[[GHGSOURCE]:[GHGSOURCE]], \"station\", FactorMatrix[[TYPE]:[TYPE]], AH$6)","v":0},0,0,{"$f":"SUMPRODUCT($C19:$J19, AA19:AH19)","v":0}]
[14,{"$f":"Construction!B21","v":0},{"$f":"Construction!C21","v":0},{"$f":"Construction!D21","v":0},{"$f":"Construction!E21","v":0},{"$f":"Construction!F21","v":0},{"$f":"Construction!G21","v":0},{"$f":"Construction!H21","v":0},{"$f":"Construction!I21","v":0},{"$f":"Construction!J21","v":0},{"$f":"SUMIFS(FactorMatrix[[UPSTREAMMATERIALSENERGY]:[UPSTREAMMATERIALSENERGY]], FactorMatrix[[MODE]:[MODE]], $B20, FactorMatrix[[PHASE]:[PHASE]], $A$4, FactorMatrix[[GHGSOURCE]:[GHGSOURCE]], \"track mile\", FactorMatrix[[TYPE]:[TYPE]], K$6, FactorMatrix[[STATE /REGION]:[STATE /REGION]], StateCalc)","v":0},{"$f":"SUMIFS(FactorMatrix[[UPSTREAMMATERIALSENERGY]:[UPSTREAMMATERIALSENERGY]], FactorMatrix[[MODE]:[MODE]], $B20, FactorMatrix[[PHASE]:[PHASE]], $A$4, FactorMatrix[[GHGSOURCE]:[GHGSOURCE]], \"track mile\", FactorMatrix[[TYPE]:[TYPE]], L$6)","v":0},{"$f":"SUMIFS(FactorMatrix[[UPSTREAMMATERIALSENERGY]:[UPSTREAMMATERIALSENERGY]], FactorMatrix[[MODE]:[MODE]], $B20, FactorMatrix[[PHASE]:[PHASE]], $A$4, FactorMatrix[[GHGSOURCE]:[GHGSOURCE]], \"track mile\", FactorMatrix[[TYPE]:[TYPE]], M$6)","v":0},{"$f":"SUMIFS(FactorMatrix[[UPSTREAMMATERIALSENERGY]:[UPSTREAMMATERIALSENERGY]], FactorMatrix[[MODE]:[MODE]], $B20, FactorMatrix[[PHASE]:[PHASE]], $A$4, FactorMatrix[[GHGSOURCE]:[GHGSOURCE]], \"track mile\", FactorMatrix[[TYPE]:[TYPE]], N$6)","v":0},{"$f":"SUMIFS(FactorMatrix[[UPSTREAMMATERIALSENERGY]:[UPSTREAMMATERIALSENERGY]], FactorMatrix[[MODE]:[MODE]], $B20, FactorMatrix[[PHASE]:[PHASE]], $A$4, FactorMatrix[[GHGSOURCE]:[GHGSOURCE]], \"track mile\", FactorMatrix[[TYPE]:[TYPE]], O$6)","v":0},{"$f":"SUMIFS(FactorMatrix[[UPSTREAMMATERIALSENERGY]:[UPSTREAMMATERIALSENERGY]], FactorMatrix[[MODE]:[MODE]], $B20, FactorMatrix[[PHASE]:[PHASE]], $A$4, FactorMatrix[[GHGSOURCE]:[GHGSOURCE]], \"station\", FactorMatrix[[TYPE]:[TYPE]], P$6)","v":0},{"$f":"SUMIFS(FactorMatrix[[UPSTREAMMATERIALSENERGY]:[UPSTREAMMATERIALSENERGY]], FactorMatrix[[MODE]:[MODE]], $B20, FactorMatrix[[PHASE]:[PHASE]], $A$4, FactorMatrix[[GHGSOURCE]:[GHGSOURCE]], \"station\", FactorMatrix[[TYPE]:[TYPE]], Q$6)","v":0},{"$f":"SUMIFS(FactorMatrix[[UPSTREAMMATERIALSENERGY]:[UPSTREAMMATERIALSENERGY]], FactorMatrix[[MODE]:[MODE]], $B20, FactorMatrix[[PHASE]:[PHASE]], $A$4, FactorMatrix[[GHGSOURCE]:[GHGSOURCE]], \"station\", FactorMatrix[[TYPE]:[TYPE]], R$6)","v":0},{"$f":"SUMIFS(FactorMatrix[[UPSTREAMTRANSPORTENERGY]:[UPSTREAMTRANSPORTENERGY]], FactorMatrix[[MODE]:[MODE]], $B20, FactorMatrix[[PHASE]:[PHASE]], $A$4, FactorMatrix[[GHGSOURCE]:[GHGSOURCE]], \"track mile\", FactorMatrix[[TYPE]:[TYPE]], S$6, FactorMatrix[[STATE /REGION]:[STATE /REGION]], StateCalc)","v":0},{"$f":"SUMIFS(FactorMatrix[[UPSTREAMTRANSPORTENERGY]:[UPSTREAMTRANSPORTENERGY]], FactorMatrix[[MODE]:[MODE]], $B20, FactorMatrix[[PHASE]:[PHASE]], $A$4, FactorMatrix[[GHGSOURCE]:[GHGSOURCE]], \"track mile\", FactorMatrix[[TYPE]:[TYPE]], T$6)","v":0},{"$f":"SUMIFS(FactorMatrix[[UPSTREAMTRANSPORTENERGY]:[UPSTREAMTRANSPORTENERGY]], FactorMatrix[[MODE]:[MODE]], $B20, FactorMatrix[[PHASE]:[PHASE]], $A$4, FactorMatrix[[GHGSOURCE]:[GHGSOURCE]], \"track mile\", FactorMatrix[[TYPE]:[TYPE]], U$6)","v":0},{"$f":"SUMIFS(FactorMatrix[[UPSTREAMTRANSPORTENERGY]:[UPSTREAMTRANSPORTENERGY]], FactorMatrix[[MODE]:[MODE]], $B20, FactorMatrix[[PHASE]:[PHASE]], $A$4, FactorMatrix[[GHGSOURCE]:[GHGSOURCE]], \"track mile\", FactorMatrix[[TYPE]:[TYPE]], V$6)","v":0},{"$f":"SUMIFS(FactorMatrix[[UPSTREAMTRANSPORTENERGY]:[UPSTREAMTRANSPORTENERGY]], FactorMatrix[[MODE]:[MODE]], $B20, FactorMatrix[[PHASE]:[PHASE]], $A$4, FactorMatrix[[GHGSOURCE]:[GHGSOURCE]], \"track mile\", FactorMatrix[[TYPE]:[TYPE]], W$6)","v":0},{"$f":"SUMIFS(FactorMatrix[[UPSTREAMTRANSPORTENERGY]:[UPSTREAMTRANSPORTENERGY]], FactorMatrix[[MODE]:[MODE]], $B20, FactorMatrix[[PHASE]:[PHASE]], $A$4, FactorMatrix[[GHGSOURCE]:[GHGSOURCE]], \"station\", FactorMatrix[[TYPE]:[TYPE]], X$6)","v":0},{"$f":"SUMIFS(FactorMatrix[[UPSTREAMTRANSPORTENERGY]:[UPSTREAMTRANSPORTENERGY]], FactorMatrix[[MODE]:[MODE]], $B20, FactorMatrix[[PHASE]:[PHASE]], $A$4, FactorMatrix[[GHGSOURCE]:[GHGSOURCE]], \"station\", FactorMatrix[[TYPE]:[TYPE]], Y$6)","v":0},{"$f":"SUMIFS(FactorMatrix[[UPSTREAMTRANSPORTENERGY]:[UPSTREAMTRANSPORTENERGY]], FactorMatrix[[MODE]:[MODE]], $B20, FactorMatrix[[PHASE]:[PHASE]], $A$4, FactorMatrix[[GHGSOURCE]:[GHGSOURCE]], \"station\", FactorMatrix[[TYPE]:[TYPE]], Z$6)","v":0},{"$f":"SUMIFS(FactorMatrix[[DOWNSTREAMENERGY]:[DOWNSTREAMENERGY]], FactorMatrix[[MODE]:[MODE]], $B20, FactorMatrix[[PHASE]:[PHASE]], $A$4, FactorMatrix[[GHGSOURCE]:[GHGSOURCE]], \"track mile\", FactorMatrix[[TYPE]:[TYPE]], AA$6, FactorMatrix[[STATE /REGION]:[STATE /REGION]], StateCalc)","v":0},{"$f":"SUMIFS(FactorMatrix[[DOWNSTREAMENERGY]:[DOWNSTREAMENERGY]], FactorMatrix[[MODE]:[MODE]], $B20, FactorMatrix[[PHASE]:[PHASE]], $A$4, FactorMatrix[[GHGSOURCE]:[GHGSOURCE]], \"track mile\", FactorMatrix[[TYPE]:[TYPE]], AB$6)","v":0},{"$f":"SUMIFS(FactorMatrix[[DOWNSTREAMENERGY]:[DOWNSTREAMENERGY]], FactorMatrix[[MODE]:[MODE]], $B20, FactorMatrix[[PHASE]:[PHASE]], $A$4, FactorMatrix[[GHGSOURCE]:[GHGSOURCE]], \"track mile\", FactorMatrix[[TYPE]:[TYPE]], AC$6)","v":0},{"$f":"SUMIFS(FactorMatrix[[DOWNSTREAMENERGY]:[DOWNSTREAMENERGY]], FactorMatrix[[MODE]:[MODE]], $B20, FactorMatrix[[PHASE]:[PHASE]], $A$4, FactorMatrix[[GHGSOURCE]:[GHGSOURCE]], \"track mile\", FactorMatrix[[TYPE]:[TYPE]], AD$6)","v":0},{"$f":"SUMIFS(FactorMatrix[[DOWNSTREAMENERGY]:[DOWNSTREAMENERGY]], FactorMatrix[[MODE]:[MODE]], $B20, FactorMatrix[[PHASE]:[PHASE]], $A$4, FactorMatrix[[GHGSOURCE]:[GHGSOURCE]], \"track mile\", FactorMatrix[[TYPE]:[TYPE]], AE$6)","v":0},{"$f":"SUMIFS(FactorMatrix[[DOWNSTREAMENERGY]:[DOWNSTREAMENERGY]], FactorMatrix[[MODE]:[MODE]], $B20, FactorMatrix[[PHASE]:[PHASE]], $A$4, FactorMatrix[[GHGSOURCE]:[GHGSOURCE]], \"station\", FactorMatrix[[TYPE]:[TYPE]], AF$6)","v":0},{"$f":"SUMIFS(FactorMatrix[[DOWNSTREAMENERGY]:[DOWNSTREAMENERGY]], FactorMatrix[[MODE]:[MODE]], $B20, FactorMatrix[[PHASE]:[PHASE]], $A$4, FactorMatrix[[GHGSOURCE]:[GHGSOURCE]], \"station\", FactorMatrix[[TYPE]:[TYPE]], AG$6)","v":0},{"$f":"SUMIFS(FactorMatrix[[DOWNSTREAMENERGY]:[DOWNSTREAMENERGY]], FactorMatrix[[MODE]:[MODE]], $B20, FactorMatrix[[PHASE]:[PHASE]], $A$4, FactorMatrix[[GHGSOURCE]:[GHGSOURCE]], \"station\", FactorMatrix[[TYPE]:[TYPE]], AH$6)","v":0},0,0,0]
[15,{"$f":"Construction!B22","v":0},{"$f":"Construction!C22","v":0},{"$f":"Construction!D22","v":0},{"$f":"Construction!E22","v":0},{"$f":"Construction!F22","v":0},{"$f":"Construction!G22","v":0},{"$f":"Construction!H22","v":0},{"$f":"Construction!I22","v":0},{"$f":"Construction!J22","v":0},{"$f":"SUMIFS(FactorMatrix[[UPSTREAMMATERIALSENERGY]:[UPSTREAMMATERIALSENERGY]], FactorMatrix[[MODE]:[MODE]], $B21, FactorMatrix[[PHASE]:[PHASE]], $A$4, FactorMatrix[[GHGSOURCE]:[GHGSOURCE]], \"track mile\", FactorMatrix[[TYPE]:[TYPE]], K$6, FactorMatrix[[STATE /REGION]:[STATE /REGION]], StateCalc)","v":0},{"$f":"SUMIFS(FactorMatrix[[UPSTREAMMATERIALSENERGY]:[UPSTREAMMATERIALSENERGY]], FactorMatrix[[MODE]:[MODE]], $B21, FactorMatrix[[PHASE]:[PHASE]], $A$4, FactorMatrix[[GHGSOURCE]:[GHGSOURCE]], \"track mile\", FactorMatrix[[TYPE]:[TYPE]], L$6)","v":0},{"$f":"SUMIFS(FactorMatrix[[UPSTREAMMATERIALSENERGY]:[UPSTREAMMATERIALSENERGY]], FactorMatrix[[MODE]:[MODE]], $B21, FactorMatrix[[PHASE]:[PHASE]], $A$4, FactorMatrix[[GHGSOURCE]:[GHGSOURCE]], \"track mile\", FactorMatrix[[TYPE]:[TYPE]], M$6)","v":0},{"$f":"SUMIFS(FactorMatrix[[UPSTREAMMATERIALSENERGY]:[UPSTREAMMATERIALSENERGY]], FactorMatrix[[MODE]:[MODE]], $B21, FactorMatrix[[PHASE]:[PHASE]], $A$4, FactorMatrix[[GHGSOURCE]:[GHGSOURCE]], \"track mile\", FactorMatrix[[TYPE]:[TYPE]], N$6)","v":0},{"$f":"SUMIFS(FactorMatrix[[UPSTREAMMATERIALSENERGY]:[UPSTREAMMATERIALSENERGY]], FactorMatrix[[MODE]:[MODE]], $B21, FactorMatrix[[PHASE]:[PHASE]], $A$4, FactorMatrix[[GHGSOURCE]:[GHGSOURCE]], \"track mile\", FactorMatrix[[TYPE]:[TYPE]], O$6)","v":0},{"$f":"SUMIFS(FactorMatrix[[UPSTREAMMATERIALSENERGY]:[UPSTREAMMATERIALSENERGY]], FactorMatrix[[MODE]:[MODE]], $B21, FactorMatrix[[PHASE]:[PHASE]], $A$4, FactorMatrix[[GHGSOURCE]:[GHGSOURCE]], \"station\", FactorMatrix[[TYPE]:[TYPE]], P$6)","v":0},{"$f":"SUMIFS(FactorMatrix[[UPSTREAMMATERIALSENERGY]:[UPSTREAMMATERIALSENERGY]], FactorMatrix[[MODE]:[MODE]], $B21, FactorMatrix[[PHASE]:[PHASE]], $A$4, FactorMatrix[[GHGSOURCE]:[GHGSOURCE]], \"station\", FactorMatrix[[TYPE]:[TYPE]], Q$6)","v":0},{"$f":"SUMIFS(FactorMatrix[[UPSTREAMMATERIALSENERGY]:[UPSTREAMMATERIALSENERGY]], FactorMatrix[[MODE]:[MODE]], $B21, FactorMatrix[[PHASE]:[PHASE]], $A$4, FactorMatrix[[GHGSOURCE]:[GHGSOURCE]], \"station\", FactorMatrix[[TYPE]:[TYPE]], R$6)","v":0},{"$f":"SUMIFS(FactorMatrix[[UPSTREAMTRANSPORTENERGY]:[UPSTREAMTRANSPORTENERGY]], FactorMatrix[[MODE]:[MODE]], $B21, FactorMatrix[[PHASE]:[PHASE]], $A$4, FactorMatrix[[GHGSOURCE]:[GHGSOURCE]], \"track mile\", FactorMatrix[[TYPE]:[TYPE]], S$6, FactorMatrix[[STATE /REGION]:[STATE /REGION]], StateCalc)","v":0},{"$f":"SUMIFS(FactorMatrix[[UPSTREAMTRANSPORTENERGY]:[UPSTREAMTRANSPORTENERGY]], FactorMatrix[[MODE]:[MODE]], $B21, FactorMatrix[[PHASE]:[PHASE]], $A$4, FactorMatrix[[GHGSOURCE]:[GHGSOURCE]], \"track mile\", FactorMatrix[[TYPE]:[TYPE]], T$6)","v":0},{"$f":"SUMIFS(FactorMatrix[[UPSTREAMTRANSPORTENERGY]:[UPSTREAMTRANSPORTENERGY]], FactorMatrix[[MODE]:[MODE]], $B21, FactorMatrix[[PHASE]:[PHASE]], $A$4, FactorMatrix[[GHGSOURCE]:[GHGSOURCE]], \"track mile\", FactorMatrix[[TYPE]:[TYPE]], U$6)","v":0},{"$f":"SUMIFS(FactorMatrix[[UPSTREAMTRANSPORTENERGY]:[UPSTREAMTRANSPORTENERGY]], FactorMatrix[[MODE]:[MODE]], $B21, FactorMatrix[[PHASE]:[PHASE]], $A$4, FactorMatrix[[GHGSOURCE]:[GHGSOURCE]], \"track mile\", FactorMatrix[[TYPE]:[TYPE]], V$6)","v":0},{"$f":"SUMIFS(FactorMatrix[[UPSTREAMTRANSPORTENERGY]:[UPSTREAMTRANSPORTENERGY]], FactorMatrix[[MODE]:[MODE]], $B21, FactorMatrix[[PHASE]:[PHASE]], $A$4, FactorMatrix[[GHGSOURCE]:[GHGSOURCE]], \"track mile\", FactorMatrix[[TYPE]:[TYPE]], W$6)","v":0},{"$f":"SUMIFS(FactorMatrix[[UPSTREAMTRANSPORTENERGY]:[UPSTREAMTRANSPORTENERGY]], FactorMatrix[[MODE]:[MODE]], $B21, FactorMatrix[[PHASE]:[PHASE]], $A$4, FactorMatrix[[GHGSOURCE]:[GHGSOURCE]], \"station\", FactorMatrix[[TYPE]:[TYPE]], X$6)","v":0},{"$f":"SUMIFS(FactorMatrix[[UPSTREAMTRANSPORTENERGY]:[UPSTREAMTRANSPORTENERGY]], FactorMatrix[[MODE]:[MODE]], $B21, FactorMatrix[[PHASE]:[PHASE]], $A$4, FactorMatrix[[GHGSOURCE]:[GHGSOURCE]], \"station\", FactorMatrix[[TYPE]:[TYPE]], Y$6)","v":0},{"$f":"SUMIFS(FactorMatrix[[UPSTREAMTRANSPORTENERGY]:[UPSTREAMTRANSPORTENERGY]], FactorMatrix[[MODE]:[MODE]], $B21, FactorMatrix[[PHASE]:[PHASE]], $A$4, FactorMatrix[[GHGSOURCE]:[GHGSOURCE]], \"station\", FactorMatrix[[TYPE]:[TYPE]], Z$6)","v":0},{"$f":"SUMIFS(FactorMatrix[[DOWNSTREAMENERGY]:[DOWNSTREAMENERGY]], FactorMatrix[[MODE]:[MODE]], $B21, FactorMatrix[[PHASE]:[PHASE]], $A$4, FactorMatrix[[GHGSOURCE]:[GHGSOURCE]], \"track mile\", FactorMatrix[[TYPE]:[TYPE]], AA$6, FactorMatrix[[STATE /REGION]:[STATE /REGION]], StateCalc)","v":0},{"$f":"SUMIFS(FactorMatrix[[DOWNSTREAMENERGY]:[DOWNSTREAMENERGY]], FactorMatrix[[MODE]:[MODE]], $B21, FactorMatrix[[PHASE]:[PHASE]], $A$4, FactorMatrix[[GHGSOURCE]:[GHGSOURCE]], \"track mile\", FactorMatrix[[TYPE]:[TYPE]], AB$6)","v":0},{"$f":"SUMIFS(FactorMatrix[[DOWNSTREAMENERGY]:[DOWNSTREAMENERGY]], FactorMatrix[[MODE]:[MODE]], $B21, FactorMatrix[[PHASE]:[PHASE]], $A$4, FactorMatrix[[GHGSOURCE]:[GHGSOURCE]], \"track mile\", FactorMatrix[[TYPE]:[TYPE]], AC$6)","v":0},{"$f":"SUMIFS(FactorMatrix[[DOWNSTREAMENERGY]:[DOWNSTREAMENERGY]], FactorMatrix[[MODE]:[MODE]], $B21, FactorMatrix[[PHASE]:[PHASE]], $A$4, FactorMatrix[[GHGSOURCE]:[GHGSOURCE]], \"track mile\", FactorMatrix[[TYPE]:[TYPE]], AD$6)","v":0},{"$f":"SUMIFS(FactorMatrix[[DOWNSTREAMENERGY]:[DOWNSTREAMENERGY]], FactorMatrix[[MODE]:[MODE]], $B21, FactorMatrix[[PHASE]:[PHASE]], $A$4, FactorMatrix[[GHGSOURCE]:[GHGSOURCE]], \"track mile\", FactorMatrix[[TYPE]:[TYPE]], AE$6)","v":0},{"$f":"SUMIFS(FactorMatrix[[DOWNSTREAMENERGY]:[DOWNSTREAMENERGY]], FactorMatrix[[MODE]:[MODE]], $B21, FactorMatrix[[PHASE]:[PHASE]], $A$4, FactorMatrix[[GHGSOURCE]:[GHGSOURCE]], \"station\", FactorMatrix[[TYPE]:[TYPE]], AF$6)","v":0},{"$f":"SUMIFS(FactorMatrix[[DOWNSTREAMENERGY]:[DOWNSTREAMENERGY]], FactorMatrix[[MODE]:[MODE]], $B21, FactorMatrix[[PHASE]:[PHASE]], $A$4, FactorMatrix[[GHGSOURCE]:[GHGSOURCE]], \"station\", FactorMatrix[[TYPE]:[TYPE]], AG$6)","v":0},{"$f":"SUMIFS(FactorMatrix[[DOWNSTREAMENERGY]:[DOWNSTREAMENERGY]], FactorMatrix[[MODE]:[MODE]], $B21, FactorMatrix[[PHASE]:[PHASE]], $A$4, FactorMatrix[[GHGSOURCE]:[GHGSOURCE]], \"station\", FactorMatrix[[TYPE]:[TYPE]], AH$6)","v":0},0,0,0]
[16,{"$f":"Construction!B23","v":0},{"$f":"Construction!C23","v":0},{"$f":"Construction!D23","v":0},{"$f":"Construction!E23","v":0},{"$f":"Construction!F23","v":0},{"$f":"Construction!G23","v":0},{"$f":"Construction!H23","v":0},{"$f":"Construction!I23","v":0},{"$f":"Construction!J23","v":0},{"$f":"SUMIFS(FactorMatrix[[UPSTREAMMATERIALSENERGY]:[UPSTREAMMATERIALSENERGY]], FactorMatrix[[MODE]:[MODE]], $B22, FactorMatrix[[PHASE]:[PHASE]], $A$4, FactorMatrix[[GHGSOURCE]:[GHGSOURCE]], \"track mile\", FactorMatrix[[TYPE]:[TYPE]], K$6, FactorMatrix[[STATE /REGION]:[STATE /REGION]], StateCalc)","v":0},{"$f":"SUMIFS(FactorMatrix[[UPSTREAMMATERIALSENERGY]:[UPSTREAMMATERIALSENERGY]], FactorMatrix[[MODE]:[MODE]], $B22, FactorMatrix[[PHASE]:[PHASE]], $A$4, FactorMatrix[[GHGSOURCE]:[GHGSOURCE]], \"track mile\", FactorMatrix[[TYPE]:[TYPE]], L$6)","v":0},{"$f":"SUMIFS(FactorMatrix[[UPSTREAMMATERIALSENERGY]:[UPSTREAMMATERIALSENERGY]], FactorMatrix[[MODE]:[MODE]], $B22, FactorMatrix[[PHASE]:[PHASE]], $A$4, FactorMatrix[[GHGSOURCE]:[GHGSOURCE]], \"track mile\", FactorMatrix[[TYPE]:[TYPE]], M$6)","v":0},{"$f":"SUMIFS(FactorMatrix[[UPSTREAMMATERIALSENERGY]:[UPSTREAMMATERIALSENERGY]], FactorMatrix[[MODE]:[MODE]], $B22, FactorMatrix[[PHASE]:[PHASE]], $A$4, FactorMatrix[[GHGSOURCE]:[GHGSOURCE]], \"track mile\", FactorMatrix[[TYPE]:[TYPE]], N$6)","v":0},{"$f":"SUMIFS(FactorMatrix[[UPSTREAMMATERIALSENERGY]:[UPSTREAMMATERIALSENERGY]], FactorMatrix[[MODE]:[MODE]], $B22, FactorMatrix[[PHASE]:[PHASE]], $A$4, FactorMatrix[[GHGSOURCE]:[GHGSOURCE]], \"track mile\", FactorMatrix[[TYPE]:[TYPE]], O$6)","v":0},{"$f":"SUMIFS(FactorMatrix[[UPSTREAMMATERIALSENERGY]:[UPSTREAMMATERIALSENERGY]], FactorMatrix[[MODE]:[MODE]], $B22, FactorMatrix[[PHASE]:[PHASE]], $A$4, FactorMatrix[[GHGSOURCE]:[GHGSOURCE]], \"station\", FactorMatrix[[TYPE]:[TYPE]], P$6)","v":0},{"$f":"SUMIFS(FactorMatrix[[UPSTREAMMATERIALSENERGY]:[UPSTREAMMATERIALSENERGY]], FactorMatrix[[MODE]:[MODE]], $B22, FactorMatrix[[PHASE]:[PHASE]], $A$4, FactorMatrix[[GHGSOURCE]:[GHGSOURCE]], \"station\", FactorMatrix[[TYPE]:[TYPE]], Q$6)","v":0},{"$f":"SUMIFS(FactorMatrix[[UPSTREAMMATERIALSENERGY]:[UPSTREAMMATERIALSENERGY]], FactorMatrix[[MODE]:[MODE]], $B22, FactorMatrix[[PHASE]:[PHASE]], $A$4, FactorMatrix[[GHGSOURCE]:[GHGSOURCE]], \"station\", FactorMatrix[[TYPE]:[TYPE]], R$6)","v":0},{"$f":"SUMIFS(FactorMatrix[[UPSTREAMTRANSPORTENERGY]:[UPSTREAMTRANSPORTENERGY]], FactorMatrix[[MODE]:[MODE]], $B22, FactorMatrix[[PHASE]:[PHASE]], $A$4, FactorMatrix[[GHGSOURCE]:[GHGSOURCE]], \"track mile\", FactorMatrix[[TYPE]:[TYPE]], S$6, FactorMatrix[[STATE /REGION]:[STATE /REGION]], StateCalc)","v":0},{"$f":"SUMIFS(FactorMatrix[[UPSTREAMTRANSPORTENERGY]:[UPSTREAMTRANSPORTENERGY]], FactorMatrix[[MODE]:[MODE]], $B22, FactorMatrix[[PHASE]:[PHASE]], $A$4, FactorMatrix[[GHGSOURCE]:[GHGSOURCE]], \"track mile\", FactorMatrix[[TYPE]:[TYPE]], T$6)","v":0},{"$f":"SUMIFS(FactorMatrix[[UPSTREAMTRANSPORTENERGY]:[UPSTREAMTRANSPORTENERGY]], FactorMatrix[[MODE]:[MODE]], $B22, FactorMatrix[[PHASE]:[PHASE]], $A$4, FactorMatrix[[GHGSOURCE]:[GHGSOURCE]], \"track mile\", FactorMatrix[[TYPE]:[TYPE]], U$6)","v":0},{"$f":"SUMIFS(FactorMatrix[[UPSTREAMTRANSPORTENERGY]:[UPSTREAMTRANSPORTENERGY]], FactorMatrix[[MODE]:[MODE]], $B22, FactorMatrix[[PHASE]:[PHASE]], $A$4, FactorMatrix[[GHGSOURCE]:[GHGSOURCE]], \"track mile\", FactorMatrix[[TYPE]:[TYPE]], V$6)","v":0},{"$f":"SUMIFS(FactorMatrix[[UPSTREAMTRANSPORTENERGY]:[UPSTREAMTRANSPORTENERGY]], FactorMatrix[[MODE]:[MODE]], $B22, FactorMatrix[[PHASE]:[PHASE]], $A$4, FactorMatrix[[GHGSOURCE]:[GHGSOURCE]], \"track mile\", FactorMatrix[[TYPE]:[TYPE]], W$6)","v":0},{"$f":"SUMIFS(FactorMatrix[[UPSTREAMTRANSPORTENERGY]:[UPSTREAMTRANSPORTENERGY]], FactorMatrix[[MODE]:[MODE]], $B22, FactorMatrix[[PHASE]:[PHASE]], $A$4, FactorMatrix[[GHGSOURCE]:[GHGSOURCE]], \"station\", FactorMatrix[[TYPE]:[TYPE]], X$6)","v":0},{"$f":"SUMIFS(FactorMatrix[[UPSTREAMTRANSPORTENERGY]:[UPSTREAMTRANSPORTENERGY]], FactorMatrix[[MODE]:[MODE]], $B22, FactorMatrix[[PHASE]:[PHASE]], $A$4, FactorMatrix[[GHGSOURCE]:[GHGSOURCE]], \"station\", FactorMatrix[[TYPE]:[TYPE]], Y$6)","v":0},{"$f":"SUMIFS(FactorMatrix[[UPSTREAMTRANSPORTENERGY]:[UPSTREAMTRANSPORTENERGY]], FactorMatrix[[MODE]:[MODE]], $B22, FactorMatrix[[PHASE]:[PHASE]], $A$4, FactorMatrix[[GHGSOURCE]:[GHGSOURCE]], \"station\", FactorMatrix[[TYPE]:[TYPE]], Z$6)","v":0},{"$f":"SUMIFS(FactorMatrix[[DOWNSTREAMENERGY]:[DOWNSTREAMENERGY]], FactorMatrix[[MODE]:[MODE]], $B22, FactorMatrix[[PHASE]:[PHASE]], $A$4, FactorMatrix[[GHGSOURCE]:[GHGSOURCE]], \"track mile\", FactorMatrix[[TYPE]:[TYPE]], AA$6, FactorMatrix[[STATE /REGION]:[STATE /REGION]], StateCalc)","v":0},{"$f":"SUMIFS(FactorMatrix[[DOWNSTREAMENERGY]:[DOWNSTREAMENERGY]], FactorMatrix[[MODE]:[MODE]], $B22, FactorMatrix[[PHASE]:[PHASE]], $A$4, FactorMatrix[[GHGSOURCE]:[GHGSOURCE]], \"track mile\", FactorMatrix[[TYPE]:[TYPE]], AB$6)","v":0},{"$f":"SUMIFS(FactorMatrix[[DOWNSTREAMENERGY]:[DOWNSTREAMENERGY]], FactorMatrix[[MODE]:[MODE]], $B22, FactorMatrix[[PHASE]:[PHASE]], $A$4, FactorMatrix[[GHGSOURCE]:[GHGSOURCE]], \"track mile\", FactorMatrix[[TYPE]:[TYPE]], AC$6)","v":0},{"$f":"SUMIFS(FactorMatrix[[DOWNSTREAMENERGY]:[DOWNSTREAMENERGY]], FactorMatrix[[MODE]:[MODE]], $B22, FactorMatrix[[PHASE]:[PHASE]], $A$4, FactorMatrix[[GHGSOURCE]:[GHGSOURCE]], \"track mile\", FactorMatrix[[TYPE]:[TYPE]], AD$6)","v":0},{"$f":"SUMIFS(FactorMatrix[[DOWNSTREAMENERGY]:[DOWNSTREAMENERGY]], FactorMatrix[[MODE]:[MODE]], $B22, FactorMatrix[[PHASE]:[PHASE]], $A$4, FactorMatrix[[GHGSOURCE]:[GHGSOURCE]], \"track mile\", FactorMatrix[[TYPE]:[TYPE]], AE$6)","v":0},{"$f":"SUMIFS(FactorMatrix[[DOWNSTREAMENERGY]:[DOWNSTREAMENERGY]], FactorMatrix[[MODE]:[MODE]], $B22, FactorMatrix[[PHASE]:[PHASE]], $A$4, FactorMatrix[[GHGSOURCE]:[GHGSOURCE]], \"station\", FactorMatrix[[TYPE]:[TYPE]], AF$6)","v":0},{"$f":"SUMIFS(FactorMatrix[[DOWNSTREAMENERGY]:[DOWNSTREAMENERGY]], FactorMatrix[[MODE]:[MODE]], $B22, FactorMatrix[[PHASE]:[PHASE]], $A$4, FactorMatrix[[GHGSOURCE]:[GHGSOURCE]], \"station\", FactorMatrix[[TYPE]:[TYPE]], AG$6)","v":0},{"$f":"SUMIFS(FactorMatrix[[DOWNSTREAMENERGY]:[DOWNSTREAMENERGY]], FactorMatrix[[MODE]:[MODE]], $B22, FactorMatrix[[PHASE]:[PHASE]], $A$4, FactorMatrix[[GHGSOURCE]:[GHGSOURCE]], \"station\", FactorMatrix[[TYPE]:[TYPE]], AH$6)","v":0},0,0,0]
[17,{"$f":"Construction!B24","v":0},{"$f":"Construction!C24","v":0},{"$f":"Construction!D24","v":0},{"$f":"Construction!E24","v":0},{"$f":"Construction!F24","v":0},{"$f":"Construction!G24","v":0},{"$f":"Construction!H24","v":0},{"$f":"Construction!I24","v":0},{"$f":"Construction!J24","v":0},{"$f":"SUMIFS(FactorMatrix[[UPSTREAMMATERIALSENERGY]:[UPSTREAMMATERIALSENERGY]], FactorMatrix[[MODE]:[MODE]], $B23, FactorMatrix[[PHASE]:[PHASE]], $A$4, FactorMatrix[[GHGSOURCE]:[GHGSOURCE]], \"track mile\", FactorMatrix[[TYPE]:[TYPE]], K$6, FactorMatrix[[STATE /REGION]:[STATE /REGION]], StateCalc)","v":0},{"$f":"SUMIFS(FactorMatrix[[UPSTREAMMATERIALSENERGY]:[UPSTREAMMATERIALSENERGY]], FactorMatrix[[MODE]:[MODE]], $B23, FactorMatrix[[PHASE]:[PHASE]], $A$4, FactorMatrix[[GHGSOURCE]:[GHGSOURCE]], \"track mile\", FactorMatrix[[TYPE]:[TYPE]], L$6)","v":0},{"$f":"SUMIFS(FactorMatrix[[UPSTREAMMATERIALSENERGY]:[UPSTREAMMATERIALSENERGY]], FactorMatrix[[MODE]:[MODE]], $B23, FactorMatrix[[PHASE]:[PHASE]], $A$4, FactorMatrix[[GHGSOURCE]:[GHGSOURCE]], \"track mile\", FactorMatrix[[TYPE]:[TYPE]], M$6)","v":0},{"$f":"SUMIFS(FactorMatrix[[UPSTREAMMATERIALSENERGY]:[UPSTREAMMATERIALSENERGY]], FactorMatrix[[MODE]:[MODE]], $B23, FactorMatrix[[PHASE]:[PHASE]], $A$4, FactorMatrix[[GHGSOURCE]:[GHGSOURCE]], \"track mile\", FactorMatrix[[TYPE]:[TYPE]], N$6)","v":0},{"$f":"SUMIFS(FactorMatrix[[UPSTREAMMATERIALSENERGY]:[UPSTREAMMATERIALSENERGY]], FactorMatrix[[MODE]:[MODE]], $B23, FactorMatrix[[PHASE]:[PHASE]], $A$4, FactorMatrix[[GHGSOURCE]:[GHGSOURCE]], \"track mile\", FactorMatrix[[TYPE]:[TYPE]], O$6)","v":0},{"$f":"SUMIFS(FactorMatrix[[UPSTREAMMATERIALSENERGY]:[UPSTREAMMATERIALSENERGY]], FactorMatrix[[MODE]:[MODE]], $B23, FactorMatrix[[PHASE]:[PHASE]], $A$4, FactorMatrix[[GHGSOURCE]:[GHGSOURCE]], \"station\", FactorMatrix[[TYPE]:[TYPE]], P$6)","v":0},{"$f":"SUMIFS(FactorMatrix[[UPSTREAMMATERIALSENERGY]:[UPSTREAMMATERIALSENERGY]], FactorMatrix[[MODE]:[MODE]], $B23, FactorMatrix[[PHASE]:[PHASE]], $A$4, FactorMatrix[[GHGSOURCE]:[GHGSOURCE]], \"station\", FactorMatrix[[TYPE]:[TYPE]], Q$6)","v":0},{"$f":"SUMIFS(FactorMatrix[[UPSTREAMMATERIALSENERGY]:[UPSTREAMMATERIALSENERGY]], FactorMatrix[[MODE]:[MODE]], $B23, FactorMatrix[[PHASE]:[PHASE]], $A$4, FactorMatrix[[GHGSOURCE]:[GHGSOURCE]], \"station\", FactorMatrix[[TYPE]:[TYPE]], R$6)","v":0},{"$f":"SUMIFS(FactorMatrix[[UPSTREAMTRANSPORTENERGY]:[UPSTREAMTRANSPORTENERGY]], FactorMatrix[[MODE]:[MODE]], $B23, FactorMatrix[[PHASE]:[PHASE]], $A$4, FactorMatrix[[GHGSOURCE]:[GHGSOURCE]], \"track mile\", FactorMatrix[[TYPE]:[TYPE]], S$6, FactorMatrix[[STATE /REGION]:[STATE /REGION]], StateCalc)","v":0},{"$f":"SUMIFS(FactorMatrix[[UPSTREAMTRANSPORTENERGY]:[UPSTREAMTRANSPORTENERGY]], FactorMatrix[[MODE]:[MODE]], $B23, FactorMatrix[[PHASE]:[PHASE]], $A$4, FactorMatrix[[GHGSOURCE]:[GHGSOURCE]], \"track mile\", FactorMatrix[[TYPE]:[TYPE]], T$6)","v":0},{"$f":"SUMIFS(FactorMatrix[[UPSTREAMTRANSPORTENERGY]:[UPSTREAMTRANSPORTENERGY]], FactorMatrix[[MODE]:[MODE]], $B23, FactorMatrix[[PHASE]:[PHASE]], $A$4, FactorMatrix[[GHGSOURCE]:[GHGSOURCE]], \"track mile\", FactorMatrix[[TYPE]:[TYPE]], U$6)","v":0},{"$f":"SUMIFS(FactorMatrix[[UPSTREAMTRANSPORTENERGY]:[UPSTREAMTRANSPORTENERGY]], FactorMatrix[[MODE]:[MODE]], $B23, FactorMatrix[[PHASE]:[PHASE]], $A$4, FactorMatrix[[GHGSOURCE]:[GHGSOURCE]], \"track mile\", FactorMatrix[[TYPE]:[TYPE]], V$6)","v":0},{"$f":"SUMIFS(FactorMatrix[[UPSTREAMTRANSPORTENERGY]:[UPSTREAMTRANSPORTENERGY]], FactorMatrix[[MODE]:[MODE]], $B23, FactorMatrix[[PHASE]:[PHASE]], $A$4, FactorMatrix[[GHGSOURCE]:[GHGSOURCE]], \"track mile\", FactorMatrix[[TYPE]:[TYPE]], W$6)","v":0},{"$f":"SUMIFS(FactorMatrix[[UPSTREAMTRANSPORTENERGY]:[UPSTREAMTRANSPORTENERGY]], FactorMatrix[[MODE]:[MODE]], $B23, FactorMatrix[[PHASE]:[PHASE]], $A$4, FactorMatrix[[GHGSOURCE]:[GHGSOURCE]], \"station\", FactorMatrix[[TYPE]:[TYPE]], X$6)","v":0},{"$f":"SUMIFS(FactorMatrix[[UPSTREAMTRANSPORTENERGY]:[UPSTREAMTRANSPORTENERGY]], FactorMatrix[[MODE]:[MODE]], $B23, FactorMatrix[[PHASE]:[PHASE]], $A$4, FactorMatrix[[GHGSOURCE]:[GHGSOURCE]], \"station\", FactorMatrix[[TYPE]:[TYPE]], Y$6)","v":0},{"$f":"SUMIFS(FactorMatrix[[UPSTREAMTRANSPORTENERGY]:[UPSTREAMTRANSPORTENERGY]], FactorMatrix[[MODE]:[MODE]], $B23, FactorMatrix[[PHASE]:[PHASE]], $A$4, FactorMatrix[[GHGSOURCE]:[GHGSOURCE]], \"station\", FactorMatrix[[TYPE]:[TYPE]], Z$6)","v":0},{"$f":"SUMIFS(FactorMatrix[[DOWNSTREAMENERGY]:[DOWNSTREAMENERGY]], FactorMatrix[[MODE]:[MODE]], $B23, FactorMatrix[[PHASE]:[PHASE]], $A$4, FactorMatrix[[GHGSOURCE]:[GHGSOURCE]], \"track mile\", FactorMatrix[[TYPE]:[TYPE]], AA$6, FactorMatrix[[STATE /REGION]:[STATE /REGION]], StateCalc)","v":0},{"$f":"SUMIFS(FactorMatrix[[DOWNSTREAMENERGY]:[DOWNSTREAMENERGY]], FactorMatrix[[MODE]:[MODE]], $B23, FactorMatrix[[PHASE]:[PHASE]], $A$4, FactorMatrix[[GHGSOURCE]:[GHGSOURCE]], \"track mile\", FactorMatrix[[TYPE]:[TYPE]], AB$6)","v":0},{"$f":"SUMIFS(FactorMatrix[[DOWNSTREAMENERGY]:[DOWNSTREAMENERGY]], FactorMatrix[[MODE]:[MODE]], $B23, FactorMatrix[[PHASE]:[PHASE]], $A$4, FactorMatrix[[GHGSOURCE]:[GHGSOURCE]], \"track mile\", FactorMatrix[[TYPE]:[TYPE]], AC$6)","v":0},{"$f":"SUMIFS(FactorMatrix[[DOWNSTREAMENERGY]:[DOWNSTREAMENERGY]], FactorMatrix[[MODE]:[MODE]], $B23, FactorMatrix[[PHASE]:[PHASE]], $A$4, FactorMatrix[[GHGSOURCE]:[GHGSOURCE]], \"track mile\", FactorMatrix[[TYPE]:[TYPE]], AD$6)","v":0},{"$f":"SUMIFS(FactorMatrix[[DOWNSTREAMENERGY]:[DOWNSTREAMENERGY]], FactorMatrix[[MODE]:[MODE]], $B23, FactorMatrix[[PHASE]:[PHASE]], $A$4, FactorMatrix[[GHGSOURCE]:[GHGSOURCE]], \"track mile\", FactorMatrix[[TYPE]:[TYPE]], AE$6)","v":0},{"$f":"SUMIFS(FactorMatrix[[DOWNSTREAMENERGY]:[DOWNSTREAMENERGY]], FactorMatrix[[MODE]:[MODE]], $B23, FactorMatrix[[PHASE]:[PHASE]], $A$4, FactorMatrix[[GHGSOURCE]:[GHGSOURCE]], \"station\", FactorMatrix[[TYPE]:[TYPE]], AF$6)","v":0},{"$f":"SUMIFS(FactorMatrix[[DOWNSTREAMENERGY]:[DOWNSTREAMENERGY]], FactorMatrix[[MODE]:[MODE]], $B23, FactorMatrix[[PHASE]:[PHASE]], $A$4, FactorMatrix[[GHGSOURCE]:[GHGSOURCE]], \"station\", FactorMatrix[[TYPE]:[TYPE]], AG$6)","v":0},{"$f":"SUMIFS(FactorMatrix[[DOWNSTREAMENERGY]:[DOWNSTREAMENERGY]], FactorMatrix[[MODE]:[MODE]], $B23, FactorMatrix[[PHASE]:[PHASE]], $A$4, FactorMatrix[[GHGSOURCE]:[GHGSOURCE]], \"station\", FactorMatrix[[TYPE]:[TYPE]], AH$6)","v":0},0,0,0]
[18,{"$f":"Construction!B25","v":0},{"$f":"Construction!C25","v":0},{"$f":"Construction!D25","v":0},{"$f":"Construction!E25","v":0},{"$f":"Construction!F25","v":0},{"$f":"Construction!G25","v":0},{"$f":"Construction!H25","v":0},{"$f":"Construction!I25","v":0},{"$f":"Construction!J25","v":0},{"$f":"SUMIFS(FactorMatrix[[UPSTREAMMATERIALSENERGY]:[UPSTREAMMATERIALSENERGY]], FactorMatrix[[MODE]:[MODE]], $B24, FactorMatrix[[PHASE]:[PHASE]], $A$4, FactorMatrix[[GHGSOURCE]:[GHGSOURCE]], \"track mile\", FactorMatrix[[TYPE]:[TYPE]], K$6, FactorMatrix[[STATE /REGION]:[STATE /REGION]], StateCalc)","v":0},{"$f":"SUMIFS(FactorMatrix[[UPSTREAMMATERIALSENERGY]:[UPSTREAMMATERIALSENERGY]], FactorMatrix[[MODE]:[MODE]], $B24, FactorMatrix[[PHASE]:[PHASE]], $A$4, FactorMatrix[[GHGSOURCE]:[GHGSOURCE]], \"track mile\", FactorMatrix[[TYPE]:[TYPE]], L$6)","v":0},{"$f":"SUMIFS(FactorMatrix[[UPSTREAMMATERIALSENERGY]:[UPSTREAMMATERIALSENERGY]], FactorMatrix[[MODE]:[MODE]], $B24, FactorMatrix[[PHASE]:[PHASE]], $A$4, FactorMatrix[[GHGSOURCE]:[GHGSOURCE]], \"track mile\", FactorMatrix[[TYPE]:[TYPE]], M$6)","v":0},{"$f":"SUMIFS(FactorMatrix[[UPSTREAMMATERIALSENERGY]:[UPSTREAMMATERIALSENERGY]], FactorMatrix[[MODE]:[MODE]], $B24, FactorMatrix[[PHASE]:[PHASE]], $A$4, FactorMatrix[[GHGSOURCE]:[GHGSOURCE]], \"track mile\", FactorMatrix[[TYPE]:[TYPE]], N$6)","v":0},{"$f":"SUMIFS(FactorMatrix[[UPSTREAMMATERIALSENERGY]:[UPSTREAMMATERIALSENERGY]], FactorMatrix[[MODE]:[MODE]], $B24, FactorMatrix[[PHASE]:[PHASE]], $A$4, FactorMatrix[[GHGSOURCE]:[GHGSOURCE]], \"track mile\", FactorMatrix[[TYPE]:[TYPE]], O$6)","v":0},{"$f":"SUMIFS(FactorMatrix[[UPSTREAMMATERIALSENERGY]:[UPSTREAMMATERIALSENERGY]], FactorMatrix[[MODE]:[MODE]], $B24, FactorMatrix[[PHASE]:[PHASE]], $A$4, FactorMatrix[[GHGSOURCE]:[GHGSOURCE]], \"station\", FactorMatrix[[TYPE]:[TYPE]], P$6)","v":0},{"$f":"SUMIFS(FactorMatrix[[UPSTREAMMATERIALSENERGY]:[UPSTREAMMATERIALSENERGY]], FactorMatrix[[MODE]:[MODE]], $B24, FactorMatrix[[PHASE]:[PHASE]], $A$4, FactorMatrix[[GHGSOURCE]:[GHGSOURCE]], \"station\", FactorMatrix[[TYPE]:[TYPE]], Q$6)","v":0},{"$f":"SUMIFS(FactorMatrix[[UPSTREAMMATERIALSENERGY]:[UPSTREAMMATERIALSENERGY]], FactorMatrix[[MODE]:[MODE]], $B24, FactorMatrix[[PHASE]:[PHASE]], $A$4, FactorMatrix[[GHGSOURCE]:[GHGSOURCE]], \"station\", FactorMatrix[[TYPE]:[TYPE]], R$6)","v":0},{"$f":"SUMIFS(FactorMatrix[[UPSTREAMTRANSPORTENERGY]:[UPSTREAMTRANSPORTENERGY]], FactorMatrix[[MODE]:[MODE]], $B24, FactorMatrix[[PHASE]:[PHASE]], $A$4, FactorMatrix[[GHGSOURCE]:[GHGSOURCE]], \"track mile\", FactorMatrix[[TYPE]:[TYPE]], S$6, FactorMatrix[[STATE /REGION]:[STATE /REGION]], StateCalc)","v":0},{"$f":"SUMIFS(FactorMatrix[[UPSTREAMTRANSPORTENERGY]:[UPSTREAMTRANSPORTENERGY]], FactorMatrix[[MODE]:[MODE]], $B24, FactorMatrix[[PHASE]:[PHASE]], $A$4, FactorMatrix[[GHGSOURCE]:[GHGSOURCE]], \"track mile\", FactorMatrix[[TYPE]:[TYPE]], T$6)","v":0},{"$f":"SUMIFS(FactorMatrix[[UPSTREAMTRANSPORTENERGY]:[UPSTREAMTRANSPORTENERGY]], FactorMatrix[[MODE]:[MODE]], $B24, FactorMatrix[[PHASE]:[PHASE]], $A$4, FactorMatrix[[GHGSOURCE]:[GHGSOURCE]], \"track mile\", FactorMatrix[[TYPE]:[TYPE]], U$6)","v":0},{"$f":"SUMIFS(FactorMatrix[[UPSTREAMTRANSPORTENERGY]:[UPSTREAMTRANSPORTENERGY]], FactorMatrix[[MODE]:[MODE]], $B24, FactorMatrix[[PHASE]:[PHASE]], $A$4, FactorMatrix[[GHGSOURCE]:[GHGSOURCE]], \"track mile\", FactorMatrix[[TYPE]:[TYPE]], V$6)","v":0},{"$f":"SUMIFS(FactorMatrix[[UPSTREAMTRANSPORTENERGY]:[UPSTREAMTRANSPORTENERGY]], FactorMatrix[[MODE]:[MODE]], $B24, FactorMatrix[[PHASE]:[PHASE]], $A$4, FactorMatrix[[GHGSOURCE]:[GHGSOURCE]], \"track mile\", FactorMatrix[[TYPE]:[TYPE]], W$6)","v":0},{"$f":"SUMIFS(FactorMatrix[[UPSTREAMTRANSPORTENERGY]:[UPSTREAMTRANSPORTENERGY]], FactorMatrix[[MODE]:[MODE]], $B24, FactorMatrix[[PHASE]:[PHASE]], $A$4, FactorMatrix[[GHGSOURCE]:[GHGSOURCE]], \"station\", FactorMatrix[[TYPE]:[TYPE]], X$6)","v":0},{"$f":"SUMIFS(FactorMatrix[[UPSTREAMTRANSPORTENERGY]:[UPSTREAMTRANSPORTENERGY]], FactorMatrix[[MODE]:[MODE]], $B24, FactorMatrix[[PHASE]:[PHASE]], $A$4, FactorMatrix[[GHGSOURCE]:[GHGSOURCE]], \"station\", FactorMatrix[[TYPE]:[TYPE]], Y$6)","v":0},{"$f":"SUMIFS(FactorMatrix[[UPSTREAMTRANSPORTENERGY]:[UPSTREAMTRANSPORTENERGY]], FactorMatrix[[MODE]:[MODE]], $B24, FactorMatrix[[PHASE]:[PHASE]], $A$4, FactorMatrix[[GHGSOURCE]:[GHGSOURCE]], \"station\", FactorMatrix[[TYPE]:[TYPE]], Z$6)","v":0},{"$f":"SUMIFS(FactorMatrix[[DOWNSTREAMENERGY]:[DOWNSTREAMENERGY]], FactorMatrix[[MODE]:[MODE]], $B24, FactorMatrix[[PHASE]:[PHASE]], $A$4, FactorMatrix[[GHGSOURCE]:[GHGSOURCE]], \"track mile\", FactorMatrix[[TYPE]:[TYPE]], AA$6, FactorMatrix[[STATE /REGION]:[STATE /REGION]], StateCalc)","v":0},{"$f":"SUMIFS(FactorMatrix[[DOWNSTREAMENERGY]:[DOWNSTREAMENERGY]], FactorMatrix[[MODE]:[MODE]], $B24, FactorMatrix[[PHASE]:[PHASE]], $A$4, FactorMatrix[[GHGSOURCE]:[GHGSOURCE]], \"track mile\", FactorMatrix[[TYPE]:[TYPE]], AB$6)","v":0},{"$f":"SUMIFS(FactorMatrix[[DOWNSTREAMENERGY]:[DOWNSTREAMENERGY]], FactorMatrix[[MODE]:[MODE]], $B24, FactorMatrix[[PHASE]:[PHASE]], $A$4, FactorMatrix[[GHGSOURCE]:[GHGSOURCE]], \"track mile\", FactorMatrix[[TYPE]:[TYPE]], AC$6)","v":0},{"$f":"SUMIFS(FactorMatrix[[DOWNSTREAMENERGY]:[DOWNSTREAMENERGY]], FactorMatrix[[MODE]:[MODE]], $B24, FactorMatrix[[PHASE]:[PHASE]], $A$4, FactorMatrix[[GHGSOURCE]:[GHGSOURCE]], \"track mile\", FactorMatrix[[TYPE]:[TYPE]], AD$6)","v":0},{"$f":"SUMIFS(FactorMatrix[[DOWNSTREAMENERGY]:[DOWNSTREAMENERGY]], FactorMatrix[[MODE]:[MODE]], $B24, FactorMatrix[[PHASE]:[PHASE]], $A$4, FactorMatrix[[GHGSOURCE]:[GHGSOURCE]], \"track mile\", FactorMatrix[[TYPE]:[TYPE]], AE$6)","v":0},{"$f":"SUMIFS(FactorMatrix[[DOWNSTREAMENERGY]:[DOWNSTREAMENERGY]], FactorMatrix[[MODE]:[MODE]], $B24, FactorMatrix[[PHASE]:[PHASE]], $A$4, FactorMatrix[[GHGSOURCE]:[GHGSOURCE]], \"station\", FactorMatrix[[TYPE]:[TYPE]], AF$6)","v":0},{"$f":"SUMIFS(FactorMatrix[[DOWNSTREAMENERGY]:[DOWNSTREAMENERGY]], FactorMatrix[[MODE]:[MODE]], $B24, FactorMatrix[[PHASE]:[PHASE]], $A$4, FactorMatrix[[GHGSOURCE]:[GHGSOURCE]], \"station\", FactorMatrix[[TYPE]:[TYPE]], AG$6)","v":0},{"$f":"SUMIFS(FactorMatrix[[DOWNSTREAMENERGY]:[DOWNSTREAMENERGY]], FactorMatrix[[MODE]:[MODE]], $B24, FactorMatrix[[PHASE]:[PHASE]], $A$4, FactorMatrix[[GHGSOURCE]:[GHGSOURCE]], \"station\", FactorMatrix[[TYPE]:[TYPE]], AH$6)","v":0},0,0,0]
[19,{"$f":"Construction!B26","v":0},{"$f":"Construction!C26","v":0},{"$f":"Construction!D26","v":0},{"$f":"Construction!E26","v":0},{"$f":"Construction!F26","v":0},{"$f":"Construction!G26","v":0},{"$f":"Construction!H26","v":0},{"$f":"Construction!I26","v":0},{"$f":"Construction!J26","v":0},{"$f":"SUMIFS(FactorMatrix[[UPSTREAMMATERIALSENERGY]:[UPSTREAMMATERIALSENERGY]], FactorMatrix[[MODE]:[MODE]], $B25, FactorMatrix[[PHASE]:[PHASE]], $A$4, FactorMatrix[[GHGSOURCE]:[GHGSOURCE]], \"track mile\", FactorMatrix[[TYPE]:[TYPE]], K$6, FactorMatrix[[STATE /REGION]:[STATE /REGION]], StateCalc)","v":0},{"$f":"SUMIFS(FactorMatrix[[UPSTREAMMATERIALSENERGY]:[UPSTREAMMATERIALSENERGY]], FactorMatrix[[MODE]:[MODE]], $B25, FactorMatrix[[PHASE]:[PHASE]], $A$4, FactorMatrix[[GHGSOURCE]:[GHGSOURCE]], \"track mile\", FactorMatrix[[TYPE]:[TYPE]], L$6)","v":0},{"$f":"SUMIFS(FactorMatrix[[UPSTREAMMATERIALSENERGY]:[UPSTREAMMATERIALSENERGY]], FactorMatrix[[MODE]:[MODE]], $B25, FactorMatrix[[PHASE]:[PHASE]], $A$4, FactorMatrix[[GHGSOURCE]:[GHGSOURCE]], \"track mile\", FactorMatrix[[TYPE]:[TYPE]], M$6)","v":0},{"$f":"SUMIFS(FactorMatrix[[UPSTREAMMATERIALSENERGY]:[UPSTREAMMATERIALSENERGY]], FactorMatrix[[MODE]:[MODE]], $B25, FactorMatrix[[PHASE]:[PHASE]], $A$4, FactorMatrix[[GHGSOURCE]:[GHGSOURCE]], \"track mile\", FactorMatrix[[TYPE]:[TYPE]], N$6)","v":0},{"$f":"SUMIFS(FactorMatrix[[UPSTREAMMATERIALSENERGY]:[UPSTREAMMATERIALSENERGY]], FactorMatrix[[MODE]:[MODE]], $B25, FactorMatrix[[PHASE]:[PHASE]], $A$4, FactorMatrix[[GHGSOURCE]:[GHGSOURCE]], \"track mile\", FactorMatrix[[TYPE]:[TYPE]], O$6)","v":0},{"$f":"SUMIFS(FactorMatrix[[UPSTREAMMATERIALSENERGY]:[UPSTREAMMATERIALSENERGY]], FactorMatrix[[MODE]:[MODE]], $B25, FactorMatrix[[PHASE]:[PHASE]], $A$4, FactorMatrix[[GHGSOURCE]:[GHGSOURCE]], \"station\", FactorMatrix[[TYPE]:[TYPE]], P$6)","v":0},{"$f":"SUMIFS(FactorMatrix[[UPSTREAMMATERIALSENERGY]:[UPSTREAMMATERIALSENERGY]], FactorMatrix[[MODE]:[MODE]], $B25, FactorMatrix[[PHASE]:[PHASE]], $A$4, FactorMatrix[[GHGSOURCE]:[GHGSOURCE]], \"station\", FactorMatrix[[TYPE]:[TYPE]], Q$6)","v":0},{"$f":"SUMIFS(FactorMatrix[[UPSTREAMMATERIALSENERGY]:[UPSTREAMMATERIALSENERGY]], FactorMatrix[[MODE]:[MODE]], $B25, FactorMatrix[[PHASE]:[PHASE]], $A$4, FactorMatrix[[GHGSOURCE]:[GHGSOURCE]], \"station\", FactorMatrix[[TYPE]:[TYPE]], R$6)","v":0},{"$f":"SUMIFS(FactorMatrix[[UPSTREAMTRANSPORTENERGY]:[UPSTREAMTRANSPORTENERGY]], FactorMatrix[[MODE]:[MODE]], $B25, FactorMatrix[[PHASE]:[PHASE]], $A$4, FactorMatrix[[GHGSOURCE]:[GHGSOURCE]], \"track mile\", FactorMatrix[[TYPE]:[TYPE]], S$6, FactorMatrix[[STATE /REGION]:[STATE /REGION]], StateCalc)","v":0},{"$f":"SUMIFS(FactorMatrix[[UPSTREAMTRANSPORTENERGY]:[UPSTREAMTRANSPORTENERGY]], FactorMatrix[[MODE]:[MODE]], $B25, FactorMatrix[[PHASE]:[PHASE]], $A$4, FactorMatrix[[GHGSOURCE]:[GHGSOURCE]], \"track mile\", FactorMatrix[[TYPE]:[TYPE]], T$6)","v":0},{"$f":"SUMIFS(FactorMatrix[[UPSTREAMTRANSPORTENERGY]:[UPSTREAMTRANSPORTENERGY]], FactorMatrix[[MODE]:[MODE]], $B25, FactorMatrix[[PHASE]:[PHASE]], $A$4, FactorMatrix[[GHGSOURCE]:[GHGSOURCE]], \"track mile\", FactorMatrix[[TYPE]:[TYPE]], U$6)","v":0},{"$f":"SUMIFS(FactorMatrix[[UPSTREAMTRANSPORTENERGY]:[UPSTREAMTRANSPORTENERGY]], FactorMatrix[[MODE]:[MODE]], $B25, FactorMatrix[[PHASE]:[PHASE]], $A$4, FactorMatrix[[GHGSOURCE]:[GHGSOURCE]], \"track mile\", FactorMatrix[[TYPE]:[TYPE]], V$6)","v":0},{"$f":"SUMIFS(FactorMatrix[[UPSTREAMTRANSPORTENERGY]:[UPSTREAMTRANSPORTENERGY]], FactorMatrix[[MODE]:[MODE]], $B25, FactorMatrix[[PHASE]:[PHASE]], $A$4, FactorMatrix[[GHGSOURCE]:[GHGSOURCE]], \"track mile\", FactorMatrix[[TYPE]:[TYPE]], W$6)","v":0},{"$f":"SUMIFS(FactorMatrix[[UPSTREAMTRANSPORTENERGY]:[UPSTREAMTRANSPORTENERGY]], FactorMatrix[[MODE]:[MODE]], $B25, FactorMatrix[[PHASE]:[PHASE]], $A$4, FactorMatrix[[GHGSOURCE]:[GHGSOURCE]], \"station\", FactorMatrix[[TYPE]:[TYPE]], X$6)","v":0},{"$f":"SUMIFS(FactorMatrix[[UPSTREAMTRANSPORTENERGY]:[UPSTREAMTRANSPORTENERGY]], FactorMatrix[[MODE]:[MODE]], $B25, FactorMatrix[[PHASE]:[PHASE]], $A$4, FactorMatrix[[GHGSOURCE]:[GHGSOURCE]], \"station\", FactorMatrix[[TYPE]:[TYPE]], Y$6)","v":0},{"$f":"SUMIFS(FactorMatrix[[UPSTREAMTRANSPORTENERGY]:[UPSTREAMTRANSPORTENERGY]], FactorMatrix[[MODE]:[MODE]], $B25, FactorMatrix[[PHASE]:[PHASE]], $A$4, FactorMatrix[[GHGSOURCE]:[GHGSOURCE]], \"station\", FactorMatrix[[TYPE]:[TYPE]], Z$6)","v":0},{"$f":"SUMIFS(FactorMatrix[[DOWNSTREAMENERGY]:[DOWNSTREAMENERGY]], FactorMatrix[[MODE]:[MODE]], $B25, FactorMatrix[[PHASE]:[PHASE]], $A$4, FactorMatrix[[GHGSOURCE]:[GHGSOURCE]], \"track mile\", FactorMatrix[[TYPE]:[TYPE]], AA$6, FactorMatrix[[STATE /REGION]:[STATE /REGION]], StateCalc)","v":0},{"$f":"SUMIFS(FactorMatrix[[DOWNSTREAMENERGY]:[DOWNSTREAMENERGY]], FactorMatrix[[MODE]:[MODE]], $B25, FactorMatrix[[PHASE]:[PHASE]], $A$4, FactorMatrix[[GHGSOURCE]:[GHGSOURCE]], \"track mile\", FactorMatrix[[TYPE]:[TYPE]], AB$6)","v":0},{"$f":"SUMIFS(FactorMatrix[[DOWNSTREAMENERGY]:[DOWNSTREAMENERGY]], FactorMatrix[[MODE]:[MODE]], $B25, FactorMatrix[[PHASE]:[PHASE]], $A$4, FactorMatrix[[GHGSOURCE]:[GHGSOURCE]], \"track mile\", FactorMatrix[[TYPE]:[TYPE]], AC$6)","v":0},{"$f":"SUMIFS(FactorMatrix[[DOWNSTREAMENERGY]:[DOWNSTREAMENERGY]], FactorMatrix[[MODE]:[MODE]], $B25, FactorMatrix[[PHASE]:[PHASE]], $A$4, FactorMatrix[[GHGSOURCE]:[GHGSOURCE]], \"track mile\", FactorMatrix[[TYPE]:[TYPE]], AD$6)","v":0},{"$f":"SUMIFS(FactorMatrix[[DOWNSTREAMENERGY]:[DOWNSTREAMENERGY]], FactorMatrix[[MODE]:[MODE]], $B25, FactorMatrix[[PHASE]:[PHASE]], $A$4, FactorMatrix[[GHGSOURCE]:[GHGSOURCE]], \"track mile\", FactorMatrix[[TYPE]:[TYPE]], AE$6)","v":0},{"$f":"SUMIFS(FactorMatrix[[DOWNSTREAMENERGY]:[DOWNSTREAMENERGY]], FactorMatrix[[MODE]:[MODE]], $B25, FactorMatrix[[PHASE]:[PHASE]], $A$4, FactorMatrix[[GHGSOURCE]:[GHGSOURCE]], \"station\", FactorMatrix[[TYPE]:[TYPE]], AF$6)","v":0},{"$f":"SUMIFS(FactorMatrix[[DOWNSTREAMENERGY]:[DOWNSTREAMENERGY]], FactorMatrix[[MODE]:[MODE]], $B25, FactorMatrix[[PHASE]:[PHASE]], $A$4, FactorMatrix[[GHGSOURCE]:[GHGSOURCE]], \"station\", FactorMatrix[[TYPE]:[TYPE]], AG$6)","v":0},{"$f":"SUMIFS(FactorMatrix[[DOWNSTREAMENERGY]:[DOWNSTREAMENERGY]], FactorMatrix[[MODE]:[MODE]], $B25, FactorMatrix[[PHASE]:[PHASE]], $A$4, FactorMatrix[[GHGSOURCE]:[GHGSOURCE]], \"station\", FactorMatrix[[TYPE]:[TYPE]], AH$6)","v":0},0,0,0]
[20,{"$f":"Construction!B27","v":0},{"$f":"Construction!C27","v":0},{"$f":"Construction!D27","v":0},{"$f":"Construction!E27","v":0},{"$f":"Construction!F27","v":0},{"$f":"Construction!G27","v":0},{"$f":"Construction!H27","v":0},{"$f":"Construction!I27","v":0},{"$f":"Construction!J27","v":0},{"$f":"SUMIFS(FactorMatrix[[UPSTREAMMATERIALSENERGY]:[UPSTREAMMATERIALSENERGY]], FactorMatrix[[MODE]:[MODE]], $B26, FactorMatrix[[PHASE]:[PHASE]], $A$4, FactorMatrix[[GHGSOURCE]:[GHGSOURCE]], \"track mile\", FactorMatrix[[TYPE]:[TYPE]], K$6, FactorMatrix[[STATE /REGION]:[STATE /REGION]], StateCalc)","v":0},{"$f":"SUMIFS(FactorMatrix[[UPSTREAMMATERIALSENERGY]:[UPSTREAMMATERIALSENERGY]], FactorMatrix[[MODE]:[MODE]], $B26, FactorMatrix[[PHASE]:[PHASE]], $A$4, FactorMatrix[[GHGSOURCE]:[GHGSOURCE]], \"track mile\", FactorMatrix[[TYPE]:[TYPE]], L$6)","v":0},{"$f":"SUMIFS(FactorMatrix[[UPSTREAMMATERIALSENERGY]:[UPSTREAMMATERIALSENERGY]], FactorMatrix[[MODE]:[MODE]], $B26, FactorMatrix[[PHASE]:[PHASE]], $A$4, FactorMatrix[[GHGSOURCE]:[GHGSOURCE]], \"track mile\", FactorMatrix[[TYPE]:[TYPE]], M$6)","v":0},{"$f":"SUMIFS(FactorMatrix[[UPSTREAMMATERIALSENERGY]:[UPSTREAMMATERIALSENERGY]], FactorMatrix[[MODE]:[MODE]], $B26, FactorMatrix[[PHASE]:[PHASE]], $A$4, FactorMatrix[[GHGSOURCE]:[GHGSOURCE]], \"track mile\", FactorMatrix[[TYPE]:[TYPE]], N$6)","v":0},{"$f":"SUMIFS(FactorMatrix[[UPSTREAMMATERIALSENERGY]:[UPSTREAMMATERIALSENERGY]], FactorMatrix[[MODE]:[MODE]], $B26, FactorMatrix[[PHASE]:[PHASE]], $A$4, FactorMatrix[[GHGSOURCE]:[GHGSOURCE]], \"track mile\", FactorMatrix[[TYPE]:[TYPE]], O$6)","v":0},{"$f":"SUMIFS(FactorMatrix[[UPSTREAMMATERIALSENERGY]:[UPSTREAMMATERIALSENERGY]], FactorMatrix[[MODE]:[MODE]], $B26, FactorMatrix[[PHASE]:[PHASE]], $A$4, FactorMatrix[[GHGSOURCE]:[GHGSOURCE]], \"station\", FactorMatrix[[TYPE]:[TYPE]], P$6)","v":0},{"$f":"SUMIFS(FactorMatrix[[UPSTREAMMATERIALSENERGY]:[UPSTREAMMATERIALSENERGY]], FactorMatrix[[MODE]:[MODE]], $B26, FactorMatrix[[PHASE]:[PHASE]], $A$4, FactorMatrix[[GHGSOURCE]:[GHGSOURCE]], \"station\", FactorMatrix[[TYPE]:[TYPE]], Q$6)","v":0},{"$f":"SUMIFS(FactorMatrix[[UPSTREAMMATERIALSENERGY]:[UPSTREAMMATERIALSENERGY]], FactorMatrix[[MODE]:[MODE]], $B26, FactorMatrix[[PHASE]:[PHASE]], $A$4, FactorMatrix[[GHGSOURCE]:[GHGSOURCE]], \"station\", FactorMatrix[[TYPE]:[TYPE]], R$6)","v":0},{"$f":"SUMIFS(FactorMatrix[[UPSTREAMTRANSPORTENERGY]:[UPSTREAMTRANSPORTENERGY]], FactorMatrix[[MODE]:[MODE]], $B26, FactorMatrix[[PHASE]:[PHASE]], $A$4, FactorMatrix[[GHGSOURCE]:[GHGSOURCE]], \"track mile\", FactorMatrix[[TYPE]:[TYPE]], S$6, FactorMatrix[[STATE /REGION]:[STATE /REGION]], StateCalc)","v":0},{"$f":"SUMIFS(FactorMatrix[[UPSTREAMTRANSPORTENERGY]:[UPSTREAMTRANSPORTENERGY]], FactorMatrix[[MODE]:[MODE]], $B26, FactorMatrix[[PHASE]:[PHASE]], $A$4, FactorMatrix[[GHGSOURCE]:[GHGSOURCE]], \"track mile\", FactorMatrix[[TYPE]:[TYPE]], T$6)","v":0},{"$f":"SUMIFS(FactorMatrix[[UPSTREAMTRANSPORTENERGY]:[UPSTREAMTRANSPORTENERGY]], FactorMatrix[[MODE]:[MODE]], $B26, FactorMatrix[[PHASE]:[PHASE]], $A$4, FactorMatrix[[GHGSOURCE]:[GHGSOURCE]], \"track mile\", FactorMatrix[[TYPE]:[TYPE]], U$6)","v":0},{"$f":"SUMIFS(FactorMatrix[[UPSTREAMTRANSPORTENERGY]:[UPSTREAMTRANSPORTENERGY]], FactorMatrix[[MODE]:[MODE]], $B26, FactorMatrix[[PHASE]:[PHASE]], $A$4, FactorMatrix[[GHGSOURCE]:[GHGSOURCE]], \"track mile\", FactorMatrix[[TYPE]:[TYPE]], V$6)","v":0},{"$f":"SUMIFS(FactorMatrix[[UPSTREAMTRANSPORTENERGY]:[UPSTREAMTRANSPORTENERGY]], FactorMatrix[[MODE]:[MODE]], $B26, FactorMatrix[[PHASE]:[PHASE]], $A$4, FactorMatrix[[GHGSOURCE]:[GHGSOURCE]], \"track mile\", FactorMatrix[[TYPE]:[TYPE]], W$6)","v":0},{"$f":"SUMIFS(FactorMatrix[[UPSTREAMTRANSPORTENERGY]:[UPSTREAMTRANSPORTENERGY]], FactorMatrix[[MODE]:[MODE]], $B26, FactorMatrix[[PHASE]:[PHASE]], $A$4, FactorMatrix[[GHGSOURCE]:[GHGSOURCE]], \"station\", FactorMatrix[[TYPE]:[TYPE]], X$6)","v":0},{"$f":"SUMIFS(FactorMatrix[[UPSTREAMTRANSPORTENERGY]:[UPSTREAMTRANSPORTENERGY]], FactorMatrix[[MODE]:[MODE]], $B26, FactorMatrix[[PHASE]:[PHASE]], $A$4, FactorMatrix[[GHGSOURCE]:[GHGSOURCE]], \"station\", FactorMatrix[[TYPE]:[TYPE]], Y$6)","v":0},{"$f":"SUMIFS(FactorMatrix[[UPSTREAMTRANSPORTENERGY]:[UPSTREAMTRANSPORTENERGY]], FactorMatrix[[MODE]:[MODE]], $B26, FactorMatrix[[PHASE]:[PHASE]], $A$4, FactorMatrix[[GHGSOURCE]:[GHGSOURCE]], \"station\", FactorMatrix[[TYPE]:[TYPE]], Z$6)","v":0},{"$f":"SUMIFS(FactorMatrix[[DOWNSTREAMENERGY]:[DOWNSTREAMENERGY]], FactorMatrix[[MODE]:[MODE]], $B26, FactorMatrix[[PHASE]:[PHASE]], $A$4, FactorMatrix[[GHGSOURCE]:[GHGSOURCE]], \"track mile\", FactorMatrix[[TYPE]:[TYPE]], AA$6, FactorMatrix[[STATE /REGION]:[STATE /REGION]], StateCalc)","v":0},{"$f":"SUMIFS(FactorMatrix[[DOWNSTREAMENERGY]:[DOWNSTREAMENERGY]], FactorMatrix[[MODE]:[MODE]], $B26, FactorMatrix[[PHASE]:[PHASE]], $A$4, FactorMatrix[[GHGSOURCE]:[GHGSOURCE]], \"track mile\", FactorMatrix[[TYPE]:[TYPE]], AB$6)","v":0},{"$f":"SUMIFS(FactorMatrix[[DOWNSTREAMENERGY]:[DOWNSTREAMENERGY]], FactorMatrix[[MODE]:[MODE]], $B26, FactorMatrix[[PHASE]:[PHASE]], $A$4, FactorMatrix[[GHGSOURCE]:[GHGSOURCE]], \"track mile\", FactorMatrix[[TYPE]:[TYPE]], AC$6)","v":0},{"$f":"SUMIFS(FactorMatrix[[DOWNSTREAMENERGY]:[DOWNSTREAMENERGY]], FactorMatrix[[MODE]:[MODE]], $B26, FactorMatrix[[PHASE]:[PHASE]], $A$4, FactorMatrix[[GHGSOURCE]:[GHGSOURCE]], \"track mile\", FactorMatrix[[TYPE]:[TYPE]], AD$6)","v":0},{"$f":"SUMIFS(FactorMatrix[[DOWNSTREAMENERGY]:[DOWNSTREAMENERGY]], FactorMatrix[[MODE]:[MODE]], $B26, FactorMatrix[[PHASE]:[PHASE]], $A$4, FactorMatrix[[GHGSOURCE]:[GHGSOURCE]], \"track mile\", FactorMatrix[[TYPE]:[TYPE]], AE$6)","v":0},{"$f":"SUMIFS(FactorMatrix[[DOWNSTREAMENERGY]:[DOWNSTREAMENERGY]], FactorMatrix[[MODE]:[MODE]], $B26, FactorMatrix[[PHASE]:[PHASE]], $A$4, FactorMatrix[[GHGSOURCE]:[GHGSOURCE]], \"station\", FactorMatrix[[TYPE]:[TYPE]], AF$6)","v":0},{"$f":"SUMIFS(FactorMatrix[[DOWNSTREAMENERGY]:[DOWNSTREAMENERGY]], FactorMatrix[[MODE]:[MODE]], $B26, FactorMatrix[[PHASE]:[PHASE]], $A$4, FactorMatrix[[GHGSOURCE]:[GHGSOURCE]], \"station\", FactorMatrix[[TYPE]:[TYPE]], AG$6)","v":0},{"$f":"SUMIFS(FactorMatrix[[DOWNSTREAMENERGY]:[DOWNSTREAMENERGY]], FactorMatrix[[MODE]:[MODE]], $B26, FactorMatrix[[PHASE]:[PHASE]], $A$4, FactorMatrix[[GHGSOURCE]:[GHGSOURCE]], \"station\", FactorMatrix[[TYPE]:[TYPE]], AH$6)","v":0},0,0,0]
["Construction All",null,null,null,"Range for Factors"]
[null,"Structured Parking Spots","Lot Parking Spots","Trees Removed","Structured Parking Spots","Lot Parking Spots","Trees Removed",null,null,null,"Structured Parking Spots","Lot Parking Spots","Trees Removed",null,null,null,null,null,"Structured Parking Spots","Lot Parking Spots","Trees Removed",null,null,null,null,null,"Structured Parking Spots","Lot Parking Spots","Trees Removed",null,null,null,null,null,"UPSTREAM MATERIALS","UPSTREAM TRANSPORT","DOWNSTREAM"]
[null,{"$f":"Construction!C4","v":0},{"$f":"Construction!F4","v":0},{"$f":"Construction!H4","v":0},{"$f":"IF(B29>500,\"Garage > 500\",IF(B29>50,\"Garage 50 0 500\", \"GARAGE < 50\"))","v":"GARAGE < 50"},{"$f":"IF(C29>500,\"Lot > 500\",IF(C29>50,\"Lot 50 0 500\", \"Lot < 50\"))","v":"Lot < 50"},{"$f":"D29","v":0},null,null,null,{"$f":"SUMIFS(FactorMatrix[[UPSTREAMMATERIALSENERGY]:[UPSTREAMMATERIALSENERGY]], FactorMatrix[[MODE]:[MODE]], \"Parking\", FactorMatrix[[PHASE]:[PHASE]], \"CONSTRUCTION\", FactorMatrix[[GHGSOURCE]:[GHGSOURCE]], $E$29)","v":44.043999999999997},{"$f":"SUMIFS(FactorMatrix[[UPSTREAMMATERIALSENERGY]:[UPSTREAMMATERIALSENERGY]], FactorMatrix[[MODE]:[MODE]], \"Parking\", FactorMatrix[[PHASE]:[PHASE]], \"CONSTRUCTION\", FactorMatrix[[GHGSOURCE]:[GHGSOURCE]], $F$29)","v":2.5796000000000001},{"$f":"SUMIFS(FactorMatrix[[UPSTREAMMATERIALSENERGY]:[UPSTREAMMATERIALSENERGY]], FactorMatrix[[MODE]:[MODE]], \"C Storage\")*$C$2","v":0},null,null,null,null,null,{"$f":"SUMIFS(FactorMatrix[[UPSTREAMTRANSPORTENERGY]:[UPSTREAMTRANSPORTENERGY]], FactorMatrix[[MODE]:[MODE]], \"Parking\", FactorMatrix[[PHASE]:[PHASE]], \"CONSTRUCTION\", FactorMatrix[[GHGSOURCE]:[GHGSOURCE]], $E$29)","v":1.4590000000000001},{"$f":"SUMIFS(FactorMatrix[[UPSTREAMTRANSPORTENERGY]:[UPSTREAMTRANSPORTENERGY]], FactorMatrix[[MODE]:[MODE]], \"Parking\", FactorMatrix[[PHASE]:[PHASE]], \"CONSTRUCTION\", FactorMatrix[[GHGSOURCE]:[GHGSOURCE]], $F$29)","v":0.67223999999999995},{"$f":"SUMIFS(FactorMatrix[[UPSTREAMTRANSPORTENERGY]:[UPSTREAMTRANSPORTENERGY]], FactorMatrix[[MODE]:[MODE]], \"C Storage\")*$C$2","v":0},null,null,null,null,null,{"$f":"SUMIFS(FactorMatrix[[DOWNSTREAMENERGY]:[DOWNSTREAMENERGY]], FactorMatrix[[MODE]:[MODE]], \"Parking\", FactorMatrix[[PHASE]:[PHASE]], \"CONSTRUCTION\", FactorMatrix[[GHGSOURCE]:[GHGSOURCE]], $E$29)","v":10.304500000000001},{"$f":"SUMIFS(FactorMatrix[[DOWNSTREAMENERGY]:[DOWNSTREAMENERGY]], FactorMatrix[[MODE]:[MODE]], \"Parking\", FactorMatrix[[PHASE]:[PHASE]], \"CONSTRUCTION\", FactorMatrix[[GHGSOURCE]:[GHGSOURCE]], $F$29)","v":1.8245},{"$f":"SUMIFS(FactorMatrix[[DOWNSTREAMENERGY]:[DOWNSTREAMENERGY]], FactorMatrix[[MODE]:[MODE]], \"C Storage\")*$C$2","v":0},null,null,null,null,null,{"$f":"SUMPRODUCT($B29:$D29, K29:M29)","v":0},{"$f":"SUMPRODUCT($B29:$D29, S29:U29)","v":0},{"$f":"SUMPRODUCT($B29:$D29, AA29:AC29)","v":0}]
[]
["Facility Maintenance",null,null,null,null,null,"UPSTREAM MATERIALS",null,null,null,"UPSTREAM TRANSPORT",null,null,null,"DOWNSTREAM",null,null,null,"RESULTS",null,null,"FINAL RESULTS"]
["INPUTS","Transit Mode","Miles of Track/Alignment"]
["row",null,"Underground","Elevated","At-Grade","Converted Upgraded","Underground","Elevated","At-Grade","Converted or Upgraded","Underground","Elevated","At-Grade","Converted or Upgraded","Underground","Elevated","At-Grade","Converted or Upgraded","UPSTREAM MATERIALS","UPSTREAM TRANSPORT","DOWNSTREAM","UPSTREAM MATERIALS","UPSTREAM TRANSPORT","DOWNSTREAM"]
[1,{"$f":"B7","v":0},0,0,0,{"$f":"G7","v":0},{"$f":"SUMIFS(FactorMatrix[[UPSTREAMMATERIALSENERGY]:[UPSTREAMMATERIALSENERGY]], FactorMatrix[[MODE]:[MODE]], $B34, FactorMatrix[[PHASE]:[PHASE]],\"MAINTENANCE\", FactorMatrix[[GHGSOURCE]:[GHGSOURCE]], \"track mile\", FactorMatrix[[TYPE]:[TYPE]], G$33)*Years","v":0},{"$f":"SUMIFS(FactorMatrix[[UPSTREAMMATERIALSENERGY]:[UPSTREAMMATERIALSENERGY]], FactorMatrix[[MODE]:[MODE]], $B34, FactorMatrix[[PHASE]:[PHASE]],\"MAINTENANCE\", FactorMatrix[[GHGSOURCE]:[GHGSOURCE]], \"track mile\", FactorMatrix[[TYPE]:[TYPE]], H$33)*Years","v":0},{"$f":"SUMIFS(FactorMatrix[[UPSTREAMMATERIALSENERGY]:[UPSTREAMMATERIALSENERGY]], FactorMatrix[[MODE]:[MODE]], $B34, FactorMatrix[[PHASE]:[PHASE]],\"MAINTENANCE\", FactorMatrix[[GHGSOURCE]:[GHGSOURCE]], \"track mile\", FactorMatrix[[TYPE]:[TYPE]], I$33)*Years","v":0},{"$f":"SUMIFS(FactorMatrix[[UPSTREAMMATERIALSENERGY]:[UPSTREAMMATERIALSENERGY]], FactorMatrix[[MODE]:[MODE]], $B34, FactorMatrix[[PHASE]:[PHASE]],\"MAINTENANCE\", FactorMatrix[[GHGSOURCE]:[GHGSOURCE]], \"track mile\", FactorMatrix[[TYPE]:[TYPE]], J$33)*Years","v":0},{"$f":"SUMIFS(FactorMatrix[[UPSTREAMTRANSPORTENERGY]:[UPSTREAMTRANSPORTENERGY]], FactorMatrix[[MODE]:[MODE]], $B34, FactorMatrix[[PHASE]:[PHASE]],\"MAINTENANCE\", FactorMatrix[[GHGSOURCE]:[GHGSOURCE]], \"track mile\", FactorMatrix[[TYPE]:[TYPE]], K$33)*Years","v":0},{"$f":"SUMIFS(FactorMatrix[[UPSTREAMTRANSPORTENERGY]:[UPSTREAMTRANSPORTENERGY]], FactorMatrix[[MODE]:[MODE]], $B34, FactorMatrix[[PHASE]:[PHASE]],\"MAINTENANCE\", FactorMatrix[[GHGSOURCE]:[GHGSOURCE]], \"track mile\", FactorMatrix[[TYPE]:[TYPE]], L$33)*Years","v":0},{"$f":"SUMIFS(FactorMatrix[[UPSTREAMTRANSPORTENERGY]:[UPSTREAMTRANSPORTENERGY]], FactorMatrix[[MODE]:[MODE]], $B34, FactorMatrix[[PHASE]:[PHASE]],\"MAINTENANCE\", FactorMatrix[[GHGSOURCE]:[GHGSOURCE]], \"track mile\", FactorMatrix[[TYPE]:[TYPE]], M$33)*Years","v":0},{"$f":"SUMIFS(FactorMatrix[[UPSTREAMTRANSPORTENERGY]:[UPSTREAMTRANSPORTENERGY]], FactorMatrix[[MODE]:[MODE]], $B34, FactorMatrix[[PHASE]:[PHASE]],\"MAINTENANCE\", FactorMatrix[[GHGSOURCE]:[GHGSOURCE]], \"track mile\", FactorMatrix[[TYPE]:[TYPE]], N$33)*Years","v":0},{"$f":"SUMIFS(FactorMatrix[[DOWNSTREAMENERGY]:[DOWNSTREAMENERGY]], FactorMatrix[[MODE]:[MODE]], $B34, FactorMatrix[[PHASE]:[PHASE]],\"MAINTENANCE\", FactorMatrix[[GHGSOURCE]:[GHGSOURCE]], \"track mile\", FactorMatrix[[TYPE]:[TYPE]], O$33)*Years","v":0},{"$f":"SUMIFS(FactorMatrix[[DOWNSTREAMENERGY]:[DOWNSTREAMENERGY]], FactorMatrix[[MODE]:[MODE]], $B34, FactorMatrix[[PHASE]:[PHASE]],\"MAINTENANCE\", FactorMatrix[[GHGSOURCE]:[GHGSOURCE]], \"track mile\", FactorMatrix[[TYPE]:[TYPE]], P$33)*Years","v":0},{"$f":"SUMIFS(FactorMatrix[[DOWNSTREAMENERGY]:[DOWNSTREAMENERGY]], FactorMatrix[[MODE]:[MODE]], $B34, FactorMatrix[[PHASE]:[PHASE]],\"MAINTENANCE\", FactorMatrix[[GHGSOURCE]:[GHGSOURCE]], \"track mile\", FactorMatrix[[TYPE]:[TYPE]], Q$33)*Years","v":0},{"$f":"SUMIFS(FactorMatrix[[DOWNSTREAMENERGY]:[DOWNSTREAMENERGY]], FactorMatrix[[MODE]:[MODE]], $B34, FactorMatrix[[PHASE]:[PHASE]],\"MAINTENANCE\", FactorMatrix[[GHGSOURCE]:[GHGSOURCE]], \"track mile\", FactorMatrix[[TYPE]:[TYPE]], R$33)*Years","v":0},{"$f":" SUMPRODUCT($C34:$F34,G34:J34)","v":0},{"$f":" SUMPRODUCT($C34:$F34,K34:N34)","v":0},{"$f":" SUMPRODUCT($C34:$F34,O34:R34)","v":0},{"$f":"SUM(S34:S53)","v":0},{"$f":"SUM(T34:T53)","v":0},{"$f":"SUM(U34:U53)","v":0}]
[2,0,0,0,0,{"$f":"G8","v":0},{"$f":"SUMIFS(FactorMatrix[[UPSTREAMMATERIALSENERGY]:[UPSTREAMMATERIALSENERGY]], FactorMatrix[[MODE]:[MODE]], $B35, FactorMatrix[[PHASE]:[PHASE]],\"MAINTENANCE\", FactorMatrix[[GHGSOURCE]:[GHGSOURCE]], \"track mile\", FactorMatrix[[TYPE]:[TYPE]], G$33)*Years","v":0},{"$f":"SUMIFS(FactorMatrix[[UPSTREAMMATERIALSENERGY]:[UPSTREAMMATERIALSENERGY]], FactorMatrix[[MODE]:[MODE]], $B35, FactorMatrix[[PHASE]:[PHASE]],\"MAINTENANCE\", FactorMatrix[[GHGSOURCE]:[GHGSOURCE]], \"track mile\", FactorMatrix[[TYPE]:[TYPE]], H$33)*Years","v":0},{"$f":"SUMIFS(FactorMatrix[[UPSTREAMMATERIALSENERGY]:[UPSTREAMMATERIALSENERGY]], FactorMatrix[[MODE]:[MODE]], $B35, FactorMatrix[[PHASE]:[PHASE]],\"MAINTENANCE\", FactorMatrix[[GHGSOURCE]:[GHGSOURCE]], \"track mile\", FactorMatrix[[TYPE]:[TYPE]], I$33)*Years","v":0},{"$f":"SUMIFS(FactorMatrix[[UPSTREAMMATERIALSENERGY]:[UPSTREAMMATERIALSENERGY]], FactorMatrix[[MODE]:[MODE]], $B35, FactorMatrix[[PHASE]:[PHASE]],\"MAINTENANCE\", FactorMatrix[[GHGSOURCE]:[GHGSOURCE]], \"track mile\", FactorMatrix[[TYPE]:[TYPE]], J$33)*Years","v":0},{"$f":"SUMIFS(FactorMatrix[[UPSTREAMTRANSPORTENERGY]:[UPSTREAMTRANSPORTENERGY]], FactorMatrix[[MODE]:[MODE]], $B35, FactorMatrix[[PHASE]:[PHASE]],\"MAINTENANCE\", FactorMatrix[[GHGSOURCE]:[GHGSOURCE]], \"track mile\", FactorMatrix[[TYPE]:[TYPE]], K$33)*Years","v":0},{"$f":"SUMIFS(FactorMatrix[[UPSTREAMTRANSPORTENERGY]:[UPSTREAMTRANSPORTENERGY]], FactorMatrix[[MODE]:[MODE]], $B35, FactorMatrix[[PHASE]:[PHASE]],\"MAINTENANCE\", FactorMatrix[[GHGSOURCE]:[GHGSOURCE]], \"track mile\", FactorMatrix[[TYPE]:[TYPE]], L$33)*Years","v":0},{"$f":"SUMIFS(FactorMatrix[[UPSTREAMTRANSPORTENERGY]:[UPSTREAMTRANSPORTENERGY]], FactorMatrix[[MODE]:[MODE]], $B35, FactorMatrix[[PHASE]:[PHASE]],\"MAINTENANCE\", FactorMatrix[[GHGSOURCE]:[GHGSOURCE]], \"track mile\", FactorMatrix[[TYPE]:[TYPE]], M$33)*Years","v":0},{"$f":"SUMIFS(FactorMatrix[[UPSTREAMTRANSPORTENERGY]:[UPSTREAMTRANSPORTENERGY]], FactorMatrix[[MODE]:[MODE]], $B35, FactorMatrix[[PHASE]:[PHASE]],\"MAINTENANCE\", FactorMatrix[[GHGSOURCE]:[GHGSOURCE]], \"track mile\", FactorMatrix[[TYPE]:[TYPE]], N$33)*Years","v":0},{"$f":"SUMIFS(FactorMatrix[[DOWNSTREAMENERGY]:[DOWNSTREAMENERGY]], FactorMatrix[[MODE]:[MODE]], $B35, FactorMatrix[[PHASE]:[PHASE]],\"MAINTENANCE\", FactorMatrix[[GHGSOURCE]:[GHGSOURCE]], \"track mile\", FactorMatrix[[TYPE]:[TYPE]], O$33)*Years","v":0},{"$f":"SUMIFS(FactorMatrix[[DOWNSTREAMENERGY]:[DOWNSTREAMENERGY]], FactorMatrix[[MODE]:[MODE]], $B35, FactorMatrix[[PHASE]:[PHASE]],\"MAINTENANCE\", FactorMatrix[[GHGSOURCE]:[GHGSOURCE]], \"track mile\", FactorMatrix[[TYPE]:[TYPE]], P$33)*Years","v":0},{"$f":"SUMIFS(FactorMatrix[[DOWNSTREAMENERGY]:[DOWNSTREAMENERGY]], FactorMatrix[[MODE]:[MODE]], $B35, FactorMatrix[[PHASE]:[PHASE]],\"MAINTENANCE\", FactorMatrix[[GHGSOURCE]:[GHGSOURCE]], \"track mile\", FactorMatrix[[TYPE]:[TYPE]], Q$33)*Years","v":0},{"$f":"SUMIFS(FactorMatrix[[DOWNSTREAMENERGY]:[DOWNSTREAMENERGY]], FactorMatrix[[MODE]:[MODE]], $B35, FactorMatrix[[PHASE]:[PHASE]],\"MAINTENANCE\", FactorMatrix[[GHGSOURCE]:[GHGSOURCE]], \"track mile\", FactorMatrix[[TYPE]:[TYPE]], R$33)*Years","v":0},{"$f":" SUMPRODUCT($C35:$F35,G35:J35)","v":0},{"$f":" SUMPRODUCT($C35:$F35,K35:N35)","v":0},{"$f":" SUMPRODUCT($C35:$F35,O35:R35)","v":0}]
[3,0,0,0,0,0,{"$f":"SUMIFS(FactorMatrix[[UPSTREAMMATERIALSENERGY]:[UPSTREAMMATERIALSENERGY]], FactorMatrix[[MODE]:[MODE]], $B36, FactorMatrix[[PHASE]:[PHASE]],\"MAINTENANCE\", FactorMatrix[[GHGSOURCE]:[GHGSOURCE]], \"track mile\", FactorMatrix[[TYPE]:[TYPE]], G$33)*Years","v":0},{"$f":"SUMIFS(FactorMatrix[[UPSTREAMMATERIALSENERGY]:[UPSTREAMMATERIALSENERGY]], FactorMatrix[[MODE]:[MODE]], $B36, FactorMatrix[[PHASE]:[PHASE]],\"MAINTENANCE\", FactorMatrix[[GHGSOURCE]:[GHGSOURCE]], \"track mile\", FactorMatrix[[TYPE]:[TYPE]], H$33)*Years","v":0},{"$f":"SUMIFS(FactorMatrix[[UPSTREAMMATERIALSENERGY]:[UPSTREAMMATERIALSENERGY]], FactorMatrix[[MODE]:[MODE]], $B36, FactorMatrix[[PHASE]:[PHASE]],\"MAINTENANCE\", FactorMatrix[[GHGSOURCE]:[GHGSOURCE]], \"track mile\", FactorMatrix[[TYPE]:[TYPE]], I$33)*Years","v":0},{"$f":"SUMIFS(FactorMatrix[[UPSTREAMMATERIALSENERGY]:[UPSTREAMMATERIALSENERGY]], FactorMatrix[[MODE]:[MODE]], $B36, FactorMatrix[[PHASE]:[PHASE]],\"MAINTENANCE\", FactorMatrix[[GHGSOURCE]:[GHGSOURCE]], \"track mile\", FactorMatrix[[TYPE]:[TYPE]], J$33)*Years","v":0},{"$f":"SUMIFS(FactorMatrix[[UPSTREAMTRANSPORTENERGY]:[UPSTREAMTRANSPORTENERGY]], FactorMatrix[[MODE]:[MODE]], $B36, FactorMatrix[[PHASE]:[PHASE]],\"MAINTENANCE\", FactorMatrix[[GHGSOURCE]:[GHGSOURCE]], \"track mile\", FactorMatrix[[TYPE]:[TYPE]], K$33)*Years","v":0},{"$f":"SUMIFS(FactorMatrix[[UPSTREAMTRANSPORTENERGY]:[UPSTREAMTRANSPORTENERGY]], FactorMatrix[[MODE]:[MODE]], $B36, FactorMatrix[[PHASE]:[PHASE]],\"MAINTENANCE\", FactorMatrix[[GHGSOURCE]:[GHGSOURCE]], \"track mile\", FactorMatrix[[TYPE]:[TYPE]], L$33)*Years","v":0},{"$f":"SUMIFS(FactorMatrix[[UPSTREAMTRANSPORTENERGY]:[UPSTREAMTRANSPORTENERGY]], FactorMatrix[[MODE]:[MODE]], $B36, FactorMatrix[[PHASE]:[PHASE]],\"MAINTENANCE\", FactorMatrix[[GHGSOURCE]:[GHGSOURCE]], \"track mile\", FactorMatrix[[TYPE]:[TYPE]], M$33)*Years","v":0},{"$f":"SUMIFS(FactorMatrix[[UPSTREAMTRANSPORTENERGY]:[UPSTREAMTRANSPORTENERGY]], FactorMatrix[[MODE]:[MODE]], $B36, FactorMatrix[[PHASE]:[PHASE]],\"MAINTENANCE\", FactorMatrix[[GHGSOURCE]:[GHGSOURCE]], \"track mile\", FactorMatrix[[TYPE]:[TYPE]], N$33)*Years","v":0},{"$f":"SUMIFS(FactorMatrix[[DOWNSTREAMENERGY]:[DOWNSTREAMENERGY]], FactorMatrix[[MODE]:[MODE]], $B36, FactorMatrix[[PHASE]:[PHASE]],\"MAINTENANCE\", FactorMatrix[[GHGSOURCE]:[GHGSOURCE]], \"track mile\", FactorMatrix[[TYPE]:[TYPE]], O$33)*Years","v":0},{"$f":"SUMIFS(FactorMatrix[[DOWNSTREAMENERGY]:[DOWNSTREAMENERGY]], FactorMatrix[[MODE]:[MODE]], $B36, FactorMatrix[[PHASE]:[PHASE]],\"MAINTENANCE\", FactorMatrix[[GHGSOURCE]:[GHGSOURCE]], \"track mile\", FactorMatrix[[TYPE]:[TYPE]], P$33)*Years","v":0},{"$f":"SUMIFS(FactorMatrix[[DOWNSTREAMENERGY]:[DOWNSTREAMENERGY]], FactorMatrix[[MODE]:[MODE]], $B36, FactorMatrix[[PHASE]:[PHASE]],\"MAINTENANCE\", FactorMatrix[[GHGSOURCE]:[GHGSOURCE]], \"track mile\", FactorMatrix[[TYPE]:[TYPE]], Q$33)*Years","v":0},{"$f":"SUMIFS(FactorMatrix[[DOWNSTREAMENERGY]:[DOWNSTREAMENERGY]], FactorMatrix[[MODE]:[MODE]], $B36, FactorMatrix[[PHASE]:[PHASE]],\"MAINTENANCE\", FactorMatrix[[GHGSOURCE]:[GHGSOURCE]], \"track mile\", FactorMatrix[[TYPE]:[TYPE]], R$33)*Years","v":0},0,0,0,"Annual"]
[4,0,0,0,0,0,{"$f":"SUMIFS(FactorMatrix[[UPSTREAMMATERIALSENERGY]:[UPSTREAMMATERIALSENERGY]], FactorMatrix[[MODE]:[MODE]], $B37, FactorMatrix[[PHASE]:[PHASE]],\"MAINTENANCE\", FactorMatrix[[GHGSOURCE]:[GHGSOURCE]], \"track mile\", FactorMatrix[[TYPE]:[TYPE]], G$33)*Years","v":0},{"$f":"SUMIFS(FactorMatrix[[UPSTREAMMATERIALSENERGY]:[UPSTREAMMATERIALSENERGY]], FactorMatrix[[MODE]:[MODE]], $B37, FactorMatrix[[PHASE]:[PHASE]],\"MAINTENANCE\", FactorMatrix[[GHGSOURCE]:[GHGSOURCE]], \"track mile\", FactorMatrix[[TYPE]:[TYPE]], H$33)*Years","v":0},{"$f":"SUMIFS(FactorMatrix[[UPSTREAMMATERIALSENERGY]:[UPSTREAMMATERIALSENERGY]], FactorMatrix[[MODE]:[MODE]], $B37, FactorMatrix[[PHASE]:[PHASE]],\"MAINTENANCE\", FactorMatrix[[GHGSOURCE]:[GHGSOURCE]], \"track mile\", FactorMatrix[[TYPE]:[TYPE]], I$33)*Years","v":0},{"$f":"SUMIFS(FactorMatrix[[UPSTREAMMATERIALSENERGY]:[UPSTREAMMATERIALSENERGY]], FactorMatrix[[MODE]:[MODE]], $B37, FactorMatrix[[PHASE]:[PHASE]],\"MAINTENANCE\", FactorMatrix[[GHGSOURCE]:[GHGSOURCE]], \"track mile\", FactorMatrix[[TYPE]:[TYPE]], J$33)*Years","v":0},{"$f":"SUMIFS(FactorMatrix[[UPSTREAMTRANSPORTENERGY]:[UPSTREAMTRANSPORTENERGY]], FactorMatrix[[MODE]:[MODE]], $B37, FactorMatrix[[PHASE]:[PHASE]],\"MAINTENANCE\", FactorMatrix[[GHGSOURCE]:[GHGSOURCE]], \"track mile\", FactorMatrix[[TYPE]:[TYPE]], K$33)*Years","v":0},{"$f":"SUMIFS(FactorMatrix[[UPSTREAMTRANSPORTENERGY]:[UPSTREAMTRANSPORTENERGY]], FactorMatrix[[MODE]:[MODE]], $B37, FactorMatrix[[PHASE]:[PHASE]],\"MAINTENANCE\", FactorMatrix[[GHGSOURCE]:[GHGSOURCE]], \"track mile\", FactorMatrix[[TYPE]:[TYPE]], L$33)*Years","v":0},{"$f":"SUMIFS(FactorMatrix[[UPSTREAMTRANSPORTENERGY]:[UPSTREAMTRANSPORTENERGY]], FactorMatrix[[MODE]:[MODE]], $B37, FactorMatrix[[PHASE]:[PHASE]],\"MAINTENANCE\", FactorMatrix[[GHGSOURCE]:[GHGSOURCE]], \"track mile\", FactorMatrix[[TYPE]:[TYPE]], M$33)*Years","v":0},{"$f":"SUMIFS(FactorMatrix[[UPSTREAMTRANSPORTENERGY]:[UPSTREAMTRANSPORTENERGY]], FactorMatrix[[MODE]:[MODE]], $B37, FactorMatrix[[PHASE]:[PHASE]],\"MAINTENANCE\", FactorMatrix[[GHGSOURCE]:[GHGSOURCE]], \"track mile\", FactorMatrix[[TYPE]:[TYPE]], N$33)*Years","v":0},{"$f":"SUMIFS(FactorMatrix[[DOWNSTREAMENERGY]:[DOWNSTREAMENERGY]], FactorMatrix[[MODE]:[MODE]], $B37, FactorMatrix[[PHASE]:[PHASE]],\"MAINTENANCE\", FactorMatrix[[GHGSOURCE]:[GHGSOURCE]], \"track mile\", FactorMatrix[[TYPE]:[TYPE]], O$33)*Years","v":0},{"$f":"SUMIFS(FactorMatrix[[DOWNSTREAMENERGY]:[DOWNSTREAMENERGY]], FactorMatrix[[MODE]:[MODE]], $B37, FactorMatrix[[PHASE]:[PHASE]],\"MAINTENANCE\", FactorMatrix[[GHGSOURCE]:[GHGSOURCE]], \"track mile\", FactorMatrix[[TYPE]:[TYPE]], P$33)*Years","v":0},{"$f":"SUMIFS(FactorMatrix[[DOWNSTREAMENERGY]:[DOWNSTREAMENERGY]], FactorMatrix[[MODE]:[MODE]], $B37, FactorMatrix[[PHASE]:[PHASE]],\"MAINTENANCE\", FactorMatrix[[GHGSOURCE]:[GHGSOURCE]], \"track mile\", FactorMatrix[[TYPE]:[TYPE]], Q$33)*Years","v":0},{"$f":"SUMIFS(FactorMatrix[[DOWNSTREAMENERGY]:[DOWNSTREAMENERGY]], FactorMatrix[[MODE]:[MODE]], $B37, FactorMatrix[[PHASE]:[PHASE]],\"MAINTENANCE\", FactorMatrix[[GHGSOURCE]:[GHGSOURCE]], \"track mile\", FactorMatrix[[TYPE]:[TYPE]], R$33)*Years","v":0},0,0,0]
[5,0,0,0,0,0,{"$f":"SUMIFS(FactorMatrix[[UPSTREAMMATERIALSENERGY]:[UPSTREAMMATERIALSENERGY]], FactorMatrix[[MODE]:[MODE]], $B38, FactorMatrix[[PHASE]:[PHASE]],\"MAINTENANCE\", FactorMatrix[[GHGSOURCE]:[GHGSOURCE]], \"track mile\", FactorMatrix[[TYPE]:[TYPE]], G$33)*Years","v":0},{"$f":"SUMIFS(FactorMatrix[[UPSTREAMMATERIALSENERGY]:[UPSTREAMMATERIALSENERGY]], FactorMatrix[[MODE]:[MODE]], $B38, FactorMatrix[[PHASE]:[PHASE]],\"MAINTENANCE\", FactorMatrix[[GHGSOURCE]:[GHGSOURCE]], \"track mile\", FactorMatrix[[TYPE]:[TYPE]], H$33)*Years","v":0},{"$f":"SUMIFS(FactorMatrix[[UPSTREAMMATERIALSENERGY]:[UPSTREAMMATERIALSENERGY]], FactorMatrix[[MODE]:[MODE]], $B38, FactorMatrix[[PHASE]:[PHASE]],\"MAINTENANCE\", FactorMatrix[[GHGSOURCE]:[GHGSOURCE]], \"track mile\", FactorMatrix[[TYPE]:[TYPE]], I$33)*Years","v":0},{"$f":"SUMIFS(FactorMatrix[[UPSTREAMMATERIALSENERGY]:[UPSTREAMMATERIALSENERGY]], FactorMatrix[[MODE]:[MODE]], $B38, FactorMatrix[[PHASE]:[PHASE]],\"MAINTENANCE\", FactorMatrix[[GHGSOURCE]:[GHGSOURCE]], \"track mile\", FactorMatrix[[TYPE]:[TYPE]], J$33)*Years","v":0},{"$f":"SUMIFS(FactorMatrix[[UPSTREAMTRANSPORTENERGY]:[UPSTREAMTRANSPORTENERGY]], FactorMatrix[[MODE]:[MODE]], $B38, FactorMatrix[[PHASE]:[PHASE]],\"MAINTENANCE\", FactorMatrix[[GHGSOURCE]:[GHGSOURCE]], \"track mile\", FactorMatrix[[TYPE]:[TYPE]], K$33)*Years","v":0},{"$f":"SUMIFS(FactorMatrix[[UPSTREAMTRANSPORTENERGY]:[UPSTREAMTRANSPORTENERGY]], FactorMatrix[[MODE]:[MODE]], $B38, FactorMatrix[[PHASE]:[PHASE]],\"MAINTENANCE\", FactorMatrix[[GHGSOURCE]:[GHGSOURCE]], \"track mile\", FactorMatrix[[TYPE]:[TYPE]], L$33)*Years","v":0},{"$f":"SUMIFS(FactorMatrix[[UPSTREAMTRANSPORTENERGY]:[UPSTREAMTRANSPORTENERGY]], FactorMatrix[[MODE]:[MODE]], $B38, FactorMatrix[[PHASE]:[PHASE]],\"MAINTENANCE\", FactorMatrix[[GHGSOURCE]:[GHGSOURCE]], \"track mile\", FactorMatrix[[TYPE]:[TYPE]], M$33)*Years","v":0},{"$f":"SUMIFS(FactorMatrix[[UPSTREAMTRANSPORTENERGY]:[UPSTREAMTRANSPORTENERGY]], FactorMatrix[[MODE]:[MODE]], $B38, FactorMatrix[[PHASE]:[PHASE]],\"MAINTENANCE\", FactorMatrix[[GHGSOURCE]:[GHGSOURCE]], \"track mile\", FactorMatrix[[TYPE]:[TYPE]], N$33)*Years","v":0},{"$f":"SUMIFS(FactorMatrix[[DOWNSTREAMENERGY]:[DOWNSTREAMENERGY]], FactorMatrix[[MODE]:[MODE]], $B38, FactorMatrix[[PHASE]:[PHASE]],\"MAINTENANCE\", FactorMatrix[[GHGSOURCE]:[GHGSOURCE]], \"track mile\", FactorMatrix[[TYPE]:[TYPE]], O$33)*Years","v":0},{"$f":"SUMIFS(FactorMatrix[[DOWNSTREAMENERGY]:[DOWNSTREAMENERGY]], FactorMatrix[[MODE]:[MODE]], $B38, FactorMatrix[[PHASE]:[PHASE]],\"MAINTENANCE\", FactorMatrix[[GHGSOURCE]:[GHGSOURCE]], \"track mile\", FactorMatrix[[TYPE]:[TYPE]], P$33)*Years","v":0},{"$f":"SUMIFS(FactorMatrix[[DOWNSTREAMENERGY]:[DOWNSTREAMENERGY]], FactorMatrix[[MODE]:[MODE]], $B38, FactorMatrix[[PHASE]:[PHASE]],\"MAINTENANCE\", FactorMatrix[[GHGSOURCE]:[GHGSOURCE]], \"track mile\", FactorMatrix[[TYPE]:[TYPE]], Q$33)*Years","v":0},{"$f":"SUMIFS(FactorMatrix[[DOWNSTREAMENERGY]:[DOWNSTREAMENERGY]], FactorMatrix[[MODE]:[MODE]], $B38, FactorMatrix[[PHASE]:[PHASE]],\"MAINTENANCE\", FactorMatrix[[GHGSOURCE]:[GHGSOURCE]], \"track mile\", FactorMatrix[[TYPE]:[TYPE]], R$33)*Years","v":0},0,0,0,"UPSTREAM MATERIALS","UPSTREAM TRANSPORT","DOWNSTREAM"]
[6,0,0,0,0,0,{"$f":"SUMIFS(FactorMatrix[[UPSTREAMMATERIALSENERGY]:[UPSTREAMMATERIALSENERGY]], FactorMatrix[[MODE]:[MODE]], $B39, FactorMatrix[[PHASE]:[PHASE]],\"MAINTENANCE\", FactorMatrix[[GHGSOURCE]:[GHGSOURCE]], \"track mile\", FactorMatrix[[TYPE]:[TYPE]], G$33)*Years","v":0},{"$f":"SUMIFS(FactorMatrix[[UPSTREAMMATERIALSENERGY]:[UPSTREAMMATERIALSENERGY]], FactorMatrix[[MODE]:[MODE]], $B39, FactorMatrix[[PHASE]:[PHASE]],\"MAINTENANCE\", FactorMatrix[[GHGSOURCE]:[GHGSOURCE]], \"track mile\", FactorMatrix[[TYPE]:[TYPE]], H$33)*Years","v":0},{"$f":"SUMIFS(FactorMatrix[[UPSTREAMMATERIALSENERGY]:[UPSTREAMMATERIALSENERGY]], FactorMatrix[[MODE]:[MODE]], $B39, FactorMatrix[[PHASE]:[PHASE]],\"MAINTENANCE\", FactorMatrix[[GHGSOURCE]:[GHGSOURCE]], \"track mile\", FactorMatrix[[TYPE]:[TYPE]], I$33)*Years","v":0},{"$f":"SUMIFS(FactorMatrix[[UPSTREAMMATERIALSENERGY]:[UPSTREAMMATERIALSENERGY]], FactorMatrix[[MODE]:[MODE]], $B39, FactorMatrix[[PHASE]:[PHASE]],\"MAINTENANCE\", FactorMatrix[[GHGSOURCE]:[GHGSOURCE]], \"track mile\", FactorMatrix[[TYPE]:[TYPE]], J$33)*Years","v":0},{"$f":"SUMIFS(FactorMatrix[[UPSTREAMTRANSPORTENERGY]:[UPSTREAMTRANSPORTENERGY]], FactorMatrix[[MODE]:[MODE]], $B39, FactorMatrix[[PHASE]:[PHASE]],\"MAINTENANCE\", FactorMatrix[[GHGSOURCE]:[GHGSOURCE]], \"track mile\", FactorMatrix[[TYPE]:[TYPE]], K$33)*Years","v":0},{"$f":"SUMIFS(FactorMatrix[[UPSTREAMTRANSPORTENERGY]:[UPSTREAMTRANSPORTENERGY]], FactorMatrix[[MODE]:[MODE]], $B39, FactorMatrix[[PHASE]:[PHASE]],\"MAINTENANCE\", FactorMatrix[[GHGSOURCE]:[GHGSOURCE]], \"track mile\", FactorMatrix[[TYPE]:[TYPE]], L$33)*Years","v":0},{"$f":"SUMIFS(FactorMatrix[[UPSTREAMTRANSPORTENERGY]:[UPSTREAMTRANSPORTENERGY]], FactorMatrix[[MODE]:[MODE]], $B39, FactorMatrix[[PHASE]:[PHASE]],\"MAINTENANCE\", FactorMatrix[[GHGSOURCE]:[GHGSOURCE]], \"track mile\", FactorMatrix[[TYPE]:[TYPE]], M$33)*Years","v":0},{"$f":"SUMIFS(FactorMatrix[[UPSTREAMTRANSPORTENERGY]:[UPSTREAMTRANSPORTENERGY]], FactorMatrix[[MODE]:[MODE]], $B39, FactorMatrix[[PHASE]:[PHASE]],\"MAINTENANCE\", FactorMatrix[[GHGSOURCE]:[GHGSOURCE]], \"track mile\", FactorMatrix[[TYPE]:[TYPE]], N$33)*Years","v":0},{"$f":"SUMIFS(FactorMatrix[[DOWNSTREAMENERGY]:[DOWNSTREAMENERGY]], FactorMatrix[[MODE]:[MODE]], $B39, FactorMatrix[[PHASE]:[PHASE]],\"MAINTENANCE\", FactorMatrix[[GHGSOURCE]:[GHGSOURCE]], \"track mile\", FactorMatrix[[TYPE]:[TYPE]], O$33)*Years","v":0},{"$f":"SUMIFS(FactorMatrix[[DOWNSTREAMENERGY]:[DOWNSTREAMENERGY]], FactorMatrix[[MODE]:[MODE]], $B39, FactorMatrix[[PHASE]:[PHASE]],\"MAINTENANCE\", FactorMatrix[[GHGSOURCE]:[GHGSOURCE]], \"track mile\", FactorMatrix[[TYPE]:[TYPE]], P$33)*Years","v":0},{"$f":"SUMIFS(FactorMatrix[[DOWNSTREAMENERGY]:[DOWNSTREAMENERGY]], FactorMatrix[[MODE]:[MODE]], $B39, FactorMatrix[[PHASE]:[PHASE]],\"MAINTENANCE\", FactorMatrix[[GHGSOURCE]:[GHGSOURCE]], \"track mile\", FactorMatrix[[TYPE]:[TYPE]], Q$33)*Years","v":0},{"$f":"SUMIFS(FactorMatrix[[DOWNSTREAMENERGY]:[DOWNSTREAMENERGY]], FactorMatrix[[MODE]:[MODE]], $B39, FactorMatrix[[PHASE]:[PHASE]],\"MAINTENANCE\", FactorMatrix[[GHGSOURCE]:[GHGSOURCE]], \"track mile\", FactorMatrix[[TYPE]:[TYPE]], R$33)*Years","v":0},0,0,0,{"$f":"V34/Years","v":{"$error":"#DIV/0!"}},{"$f":"W34/Years","v":{"$error":"#DIV/0!"}},{"$f":"X34/Years","v":{"$error":"#DIV/0!"}}]
[7,0,0,0,0,0,{"$f":"SUMIFS(FactorMatrix[[UPSTREAMMATERIALSENERGY]:[UPSTREAMMATERIALSENERGY]], FactorMatrix[[MODE]:[MODE]], $B40, FactorMatrix[[PHASE]:[PHASE]],\"MAINTENANCE\", FactorMatrix[[GHGSOURCE]:[GHGSOURCE]], \"track mile\", FactorMatrix[[TYPE]:[TYPE]], G$33)*Years","v":0},{"$f":"SUMIFS(FactorMatrix[[UPSTREAMMATERIALSENERGY]:[UPSTREAMMATERIALSENERGY]], FactorMatrix[[MODE]:[MODE]], $B40, FactorMatrix[[PHASE]:[PHASE]],\"MAINTENANCE\", FactorMatrix[[GHGSOURCE]:[GHGSOURCE]], \"track mile\", FactorMatrix[[TYPE]:[TYPE]], H$33)*Years","v":0},{"$f":"SUMIFS(FactorMatrix[[UPSTREAMMATERIALSENERGY]:[UPSTREAMMATERIALSENERGY]], FactorMatrix[[MODE]:[MODE]], $B40, FactorMatrix[[PHASE]:[PHASE]],\"MAINTENANCE\", FactorMatrix[[GHGSOURCE]:[GHGSOURCE]], \"track mile\", FactorMatrix[[TYPE]:[TYPE]], I$33)*Years","v":0},{"$f":"SUMIFS(FactorMatrix[[UPSTREAMMATERIALSENERGY]:[UPSTREAMMATERIALSENERGY]], FactorMatrix[[MODE]:[MODE]], $B40, FactorMatrix[[PHASE]:[PHASE]],\"MAINTENANCE\", FactorMatrix[[GHGSOURCE]:[GHGSOURCE]], \"track mile\", FactorMatrix[[TYPE]:[TYPE]], J$33)*Years","v":0},{"$f":"SUMIFS(FactorMatrix[[UPSTREAMTRANSPORTENERGY]:[UPSTREAMTRANSPORTENERGY]], FactorMatrix[[MODE]:[MODE]], $B40, FactorMatrix[[PHASE]:[PHASE]],\"MAINTENANCE\", FactorMatrix[[GHGSOURCE]:[GHGSOURCE]], \"track mile\", FactorMatrix[[TYPE]:[TYPE]], K$33)*Years","v":0},{"$f":"SUMIFS(FactorMatrix[[UPSTREAMTRANSPORTENERGY]:[UPSTREAMTRANSPORTENERGY]], FactorMatrix[[MODE]:[MODE]], $B40, FactorMatrix[[PHASE]:[PHASE]],\"MAINTENANCE\", FactorMatrix[[GHGSOURCE]:[GHGSOURCE]], \"track mile\", FactorMatrix[[TYPE]:[TYPE]], L$33)*Years","v":0},{"$f":"SUMIFS(FactorMatrix[[UPSTREAMTRANSPORTENERGY]:[UPSTREAMTRANSPORTENERGY]], FactorMatrix[[MODE]:[MODE]], $B40, FactorMatrix[[PHASE]:[PHASE]],\"MAINTENANCE\", FactorMatrix[[GHGSOURCE]:[GHGSOURCE]], \"track mile\", FactorMatrix[[TYPE]:[TYPE]], M$33)*Years","v":0},{"$f":"SUMIFS(FactorMatrix[[UPSTREAMTRANSPORTENERGY]:[UPSTREAMTRANSPORTENERGY]], FactorMatrix[[MODE]:[MODE]], $B40, FactorMatrix[[PHASE]:[PHASE]],\"MAINTENANCE\", FactorMatrix[[GHGSOURCE]:[GHGSOURCE]], \"track mile\", FactorMatrix[[TYPE]:[TYPE]], N$33)*Years","v":0},{"$f":"SUMIFS(FactorMatrix[[DOWNSTREAMENERGY]:[DOWNSTREAMENERGY]], FactorMatrix[[MODE]:[MODE]], $B40, FactorMatrix[[PHASE]:[PHASE]],\"MAINTENANCE\", FactorMatrix[[GHGSOURCE]:[GHGSOURCE]], \"track mile\", FactorMatrix[[TYPE]:[TYPE]], O$33)*Years","v":0},{"$f":"SUMIFS(FactorMatrix[[DOWNSTREAMENERGY]:[DOWNSTREAMENERGY]], FactorMatrix[[MODE]:[MODE]], $B40, FactorMatrix[[PHASE]:[PHASE]],\"MAINTENANCE\", FactorMatrix[[GHGSOURCE]:[GHGSOURCE]], \"track mile\", FactorMatrix[[TYPE]:[TYPE]], P$33)*Years","v":0},{"$f":"SUMIFS(FactorMatrix[[DOWNSTREAMENERGY]:[DOWNSTREAMENERGY]], FactorMatrix[[MODE]:[MODE]], $B40, FactorMatrix[[PHASE]:[PHASE]],\"MAINTENANCE\", FactorMatrix[[GHGSOURCE]:[GHGSOURCE]], \"track mile\", FactorMatrix[[TYPE]:[TYPE]], Q$33)*Years","v":0},{"$f":"SUMIFS(FactorMatrix[[DOWNSTREAMENERGY]:[DOWNSTREAMENERGY]], FactorMatrix[[MODE]:[MODE]], $B40, FactorMatrix[[PHASE]:[PHASE]],\"MAINTENANCE\", FactorMatrix[[GHGSOURCE]:[GHGSOURCE]], \"track mile\", FactorMatrix[[TYPE]:[TYPE]], R$33)*Years","v":0},0,0,0]
[8,0,0,0,0,0,{"$f":"SUMIFS(FactorMatrix[[UPSTREAMMATERIALSENERGY]:[UPSTREAMMATERIALSENERGY]], FactorMatrix[[MODE]:[MODE]], $B41, FactorMatrix[[PHASE]:[PHASE]],\"MAINTENANCE\", FactorMatrix[[GHGSOURCE]:[GHGSOURCE]], \"track mile\", FactorMatrix[[TYPE]:[TYPE]], G$33)*Years","v":0},{"$f":"SUMIFS(FactorMatrix[[UPSTREAMMATERIALSENERGY]:[UPSTREAMMATERIALSENERGY]], FactorMatrix[[MODE]:[MODE]], $B41, FactorMatrix[[PHASE]:[PHASE]],\"MAINTENANCE\", FactorMatrix[[GHGSOURCE]:[GHGSOURCE]], \"track mile\", FactorMatrix[[TYPE]:[TYPE]], H$33)*Years","v":0},{"$f":"SUMIFS(FactorMatrix[[UPSTREAMMATERIALSENERGY]:[UPSTREAMMATERIALSENERGY]], FactorMatrix[[MODE]:[MODE]], $B41, FactorMatrix[[PHASE]:[PHASE]],\"MAINTENANCE\", FactorMatrix[[GHGSOURCE]:[GHGSOURCE]], \"track mile\", FactorMatrix[[TYPE]:[TYPE]], I$33)*Years","v":0},{"$f":"SUMIFS(FactorMatrix[[UPSTREAMMATERIALSENERGY]:[UPSTREAMMATERIALSENERGY]], FactorMatrix[[MODE]:[MODE]], $B41, FactorMatrix[[PHASE]:[PHASE]],\"MAINTENANCE\", FactorMatrix[[GHGSOURCE]:[GHGSOURCE]], \"track mile\", FactorMatrix[[TYPE]:[TYPE]], J$33)*Years","v":0},{"$f":"SUMIFS(FactorMatrix[[UPSTREAMTRANSPORTENERGY]:[UPSTREAMTRANSPORTENERGY]], FactorMatrix[[MODE]:[MODE]], $B41, FactorMatrix[[PHASE]:[PHASE]],\"MAINTENANCE\", FactorMatrix[[GHGSOURCE]:[GHGSOURCE]], \"track mile\", FactorMatrix[[TYPE]:[TYPE]], K$33)*Years","v":0},{"$f":"SUMIFS(FactorMatrix[[UPSTREAMTRANSPORTENERGY]:[UPSTREAMTRANSPORTENERGY]], FactorMatrix[[MODE]:[MODE]], $B41, FactorMatrix[[PHASE]:[PHASE]],\"MAINTENANCE\", FactorMatrix[[GHGSOURCE]:[GHGSOURCE]], \"track mile\", FactorMatrix[[TYPE]:[TYPE]], L$33)*Years","v":0},{"$f":"SUMIFS(FactorMatrix[[UPSTREAMTRANSPORTENERGY]:[UPSTREAMTRANSPORTENERGY]], FactorMatrix[[MODE]:[MODE]], $B41, FactorMatrix[[PHASE]:[PHASE]],\"MAINTENANCE\", FactorMatrix[[GHGSOURCE]:[GHGSOURCE]], \"track mile\", FactorMatrix[[TYPE]:[TYPE]], M$33)*Years","v":0},{"$f":"SUMIFS(FactorMatrix[[UPSTREAMTRANSPORTENERGY]:[UPSTREAMTRANSPORTENERGY]], FactorMatrix[[MODE]:[MODE]], $B41, FactorMatrix[[PHASE]:[PHASE]],\"MAINTENANCE\", FactorMatrix[[GHGSOURCE]:[GHGSOURCE]], \"track mile\", FactorMatrix[[TYPE]:[TYPE]], N$33)*Years","v":0},{"$f":"SUMIFS(FactorMatrix[[DOWNSTREAMENERGY]:[DOWNSTREAMENERGY]], FactorMatrix[[MODE]:[MODE]], $B41, FactorMatrix[[PHASE]:[PHASE]],\"MAINTENANCE\", FactorMatrix[[GHGSOURCE]:[GHGSOURCE]], \"track mile\", FactorMatrix[[TYPE]:[TYPE]], O$33)*Years","v":0},{"$f":"SUMIFS(FactorMatrix[[DOWNSTREAMENERGY]:[DOWNSTREAMENERGY]], FactorMatrix[[MODE]:[MODE]], $B41, FactorMatrix[[PHASE]:[PHASE]],\"MAINTENANCE\", FactorMatrix[[GHGSOURCE]:[GHGSOURCE]], \"track mile\", FactorMatrix[[TYPE]:[TYPE]], P$33)*Years","v":0},{"$f":"SUMIFS(FactorMatrix[[DOWNSTREAMENERGY]:[DOWNSTREAMENERGY]], FactorMatrix[[MODE]:[MODE]], $B41, FactorMatrix[[PHASE]:[PHASE]],\"MAINTENANCE\", FactorMatrix[[GHGSOURCE]:[GHGSOURCE]], \"track mile\", FactorMatrix[[TYPE]:[TYPE]], Q$33)*Years","v":0},{"$f":"SUMIFS(FactorMatrix[[DOWNSTREAMENERGY]:[DOWNSTREAMENERGY]], FactorMatrix[[MODE]:[MODE]], $B41, FactorMatrix[[PHASE]:[PHASE]],\"MAINTENANCE\", FactorMatrix[[GHGSOURCE]:[GHGSOURCE]], \"track mile\", FactorMatrix[[TYPE]:[TYPE]], R$33)*Years","v":0},0,0,0]
[9,0,0,0,0,0,{"$f":"SUMIFS(FactorMatrix[[UPSTREAMMATERIALSENERGY]:[UPSTREAMMATERIALSENERGY]], FactorMatrix[[MODE]:[MODE]], $B42, FactorMatrix[[PHASE]:[PHASE]],\"MAINTENANCE\", FactorMatrix[[GHGSOURCE]:[GHGSOURCE]], \"track mile\", FactorMatrix[[TYPE]:[TYPE]], G$33)*Years","v":0},{"$f":"SUMIFS(FactorMatrix[[UPSTREAMMATERIALSENERGY]:[UPSTREAMMATERIALSENERGY]], FactorMatrix[[MODE]:[MODE]], $B42, FactorMatrix[[PHASE]:[PHASE]],\"MAINTENANCE\", FactorMatrix[[GHGSOURCE]:[GHGSOURCE]], \"track mile\", FactorMatrix[[TYPE]:[TYPE]], H$33)*Years","v":0},{"$f":"SUMIFS(FactorMatrix[[UPSTREAMMATERIALSENERGY]:[UPSTREAMMATERIALSENERGY]], FactorMatrix[[MODE]:[MODE]], $B42, FactorMatrix[[PHASE]:[PHASE]],\"MAINTENANCE\", FactorMatrix[[GHGSOURCE]:[GHGSOURCE]], \"track mile\", FactorMatrix[[TYPE]:[TYPE]], I$33)*Years","v":0},{"$f":"SUMIFS(FactorMatrix[[UPSTREAMMATERIALSENERGY]:[UPSTREAMMATERIALSENERGY]], FactorMatrix[[MODE]:[MODE]], $B42, FactorMatrix[[PHASE]:[PHASE]],\"MAINTENANCE\", FactorMatrix[[GHGSOURCE]:[GHGSOURCE]], \"track mile\", FactorMatrix[[TYPE]:[TYPE]], J$33)*Years","v":0},{"$f":"SUMIFS(FactorMatrix[[UPSTREAMTRANSPORTENERGY]:[UPSTREAMTRANSPORTENERGY]], FactorMatrix[[MODE]:[MODE]], $B42, FactorMatrix[[PHASE]:[PHASE]],\"MAINTENANCE\", FactorMatrix[[GHGSOURCE]:[GHGSOURCE]], \"track mile\", FactorMatrix[[TYPE]:[TYPE]], K$33)*Years","v":0},{"$f":"SUMIFS(FactorMatrix[[UPSTREAMTRANSPORTENERGY]:[UPSTREAMTRANSPORTENERGY]], FactorMatrix[[MODE]:[MODE]], $B42, FactorMatrix[[PHASE]:[PHASE]],\"MAINTENANCE\", FactorMatrix[[GHGSOURCE]:[GHGSOURCE]], \"track mile\", FactorMatrix[[TYPE]:[TYPE]], L$33)*Years","v":0},{"$f":"SUMIFS(FactorMatrix[[UPSTREAMTRANSPORTENERGY]:[UPSTREAMTRANSPORTENERGY]], FactorMatrix[[MODE]:[MODE]], $B42, FactorMatrix[[PHASE]:[PHASE]],\"MAINTENANCE\", FactorMatrix[[GHGSOURCE]:[GHGSOURCE]], \"track mile\", FactorMatrix[[TYPE]:[TYPE]], M$33)*Years","v":0},{"$f":"SUMIFS(FactorMatrix[[UPSTREAMTRANSPORTENERGY]:[UPSTREAMTRANSPORTENERGY]], FactorMatrix[[MODE]:[MODE]], $B42, FactorMatrix[[PHASE]:[PHASE]],\"MAINTENANCE\", FactorMatrix[[GHGSOURCE]:[GHGSOURCE]], \"track mile\", FactorMatrix[[TYPE]:[TYPE]], N$33)*Years","v":0},{"$f":"SUMIFS(FactorMatrix[[DOWNSTREAMENERGY]:[DOWNSTREAMENERGY]], FactorMatrix[[MODE]:[MODE]], $B42, FactorMatrix[[PHASE]:[PHASE]],\"MAINTENANCE\", FactorMatrix[[GHGSOURCE]:[GHGSOURCE]], \"track mile\", FactorMatrix[[TYPE]:[TYPE]], O$33)*Years","v":0},{"$f":"SUMIFS(FactorMatrix[[DOWNSTREAMENERGY]:[DOWNSTREAMENERGY]], FactorMatrix[[MODE]:[MODE]], $B42, FactorMatrix[[PHASE]:[PHASE]],\"MAINTENANCE\", FactorMatrix[[GHGSOURCE]:[GHGSOURCE]], \"track mile\", FactorMatrix[[TYPE]:[TYPE]], P$33)*Years","v":0},{"$f":"SUMIFS(FactorMatrix[[DOWNSTREAMENERGY]:[DOWNSTREAMENERGY]], FactorMatrix[[MODE]:[MODE]], $B42, FactorMatrix[[PHASE]:[PHASE]],\"MAINTENANCE\", FactorMatrix[[GHGSOURCE]:[GHGSOURCE]], \"track mile\", FactorMatrix[[TYPE]:[TYPE]], Q$33)*Years","v":0},{"$f":"SUMIFS(FactorMatrix[[DOWNSTREAMENERGY]:[DOWNSTREAMENERGY]], FactorMatrix[[MODE]:[MODE]], $B42, FactorMatrix[[PHASE]:[PHASE]],\"MAINTENANCE\", FactorMatrix[[GHGSOURCE]:[GHGSOURCE]], \"track mile\", FactorMatrix[[TYPE]:[TYPE]], R$33)*Years","v":0},0,0,0]
[10,0,0,0,0,0,{"$f":"SUMIFS(FactorMatrix[[UPSTREAMMATERIALSENERGY]:[UPSTREAMMATERIALSENERGY]], FactorMatrix[[MODE]:[MODE]], $B43, FactorMatrix[[PHASE]:[PHASE]],\"MAINTENANCE\", FactorMatrix[[GHGSOURCE]:[GHGSOURCE]], \"track mile\", FactorMatrix[[TYPE]:[TYPE]], G$33)*Years","v":0},{"$f":"SUMIFS(FactorMatrix[[UPSTREAMMATERIALSENERGY]:[UPSTREAMMATERIALSENERGY]], FactorMatrix[[MODE]:[MODE]], $B43, FactorMatrix[[PHASE]:[PHASE]],\"MAINTENANCE\", FactorMatrix[[GHGSOURCE]:[GHGSOURCE]], \"track mile\", FactorMatrix[[TYPE]:[TYPE]], H$33)*Years","v":0},{"$f":"SUMIFS(FactorMatrix[[UPSTREAMMATERIALSENERGY]:[UPSTREAMMATERIALSENERGY]], FactorMatrix[[MODE]:[MODE]], $B43, FactorMatrix[[PHASE]:[PHASE]],\"MAINTENANCE\", FactorMatrix[[GHGSOURCE]:[GHGSOURCE]], \"track mile\", FactorMatrix[[TYPE]:[TYPE]], I$33)*Years","v":0},{"$f":"SUMIFS(FactorMatrix[[UPSTREAMMATERIALSENERGY]:[UPSTREAMMATERIALSENERGY]], FactorMatrix[[MODE]:[MODE]], $B43, FactorMatrix[[PHASE]:[PHASE]],\"MAINTENANCE\", FactorMatrix[[GHGSOURCE]:[GHGSOURCE]], \"track mile\", FactorMatrix[[TYPE]:[TYPE]], J$33)*Years","v":0},{"$f":"SUMIFS(FactorMatrix[[UPSTREAMTRANSPORTENERGY]:[UPSTREAMTRANSPORTENERGY]], FactorMatrix[[MODE]:[MODE]], $B43, FactorMatrix[[PHASE]:[PHASE]],\"MAINTENANCE\", FactorMatrix[[GHGSOURCE]:[GHGSOURCE]], \"track mile\", FactorMatrix[[TYPE]:[TYPE]], K$33)*Years","v":0},{"$f":"SUMIFS(FactorMatrix[[UPSTREAMTRANSPORTENERGY]:[UPSTREAMTRANSPORTENERGY]], FactorMatrix[[MODE]:[MODE]], $B43, FactorMatrix[[PHASE]:[PHASE]],\"MAINTENANCE\", FactorMatrix[[GHGSOURCE]:[GHGSOURCE]], \"track mile\", FactorMatrix[[TYPE]:[TYPE]], L$33)*Years","v":0},{"$f":"SUMIFS(FactorMatrix[[UPSTREAMTRANSPORTENERGY]:[UPSTREAMTRANSPORTENERGY]], FactorMatrix[[MODE]:[MODE]], $B43, FactorMatrix[[PHASE]:[PHASE]],\"MAINTENANCE\", FactorMatrix[[GHGSOURCE]:[GHGSOURCE]], \"track mile\", FactorMatrix[[TYPE]:[TYPE]], M$33)*Years","v":0},{"$f":"SUMIFS(FactorMatrix[[UPSTREAMTRANSPORTENERGY]:[UPSTREAMTRANSPORTENERGY]], FactorMatrix[[MODE]:[MODE]], $B43, FactorMatrix[[PHASE]:[PHASE]],\"MAINTENANCE\", FactorMatrix[[GHGSOURCE]:[GHGSOURCE]], \"track mile\", FactorMatrix[[TYPE]:[TYPE]], N$33)*Years","v":0},{"$f":"SUMIFS(FactorMatrix[[DOWNSTREAMENERGY]:[DOWNSTREAMENERGY]], FactorMatrix[[MODE]:[MODE]], $B43, FactorMatrix[[PHASE]:[PHASE]],\"MAINTENANCE\", FactorMatrix[[GHGSOURCE]:[GHGSOURCE]], \"track mile\", FactorMatrix[[TYPE]:[TYPE]], O$33)*Years","v":0},{"$f":"SUMIFS(FactorMatrix[[DOWNSTREAMENERGY]:[DOWNSTREAMENERGY]], FactorMatrix[[MODE]:[MODE]], $B43, FactorMatrix[[PHASE]:[PHASE]],\"MAINTENANCE\", FactorMatrix[[GHGSOURCE]:[GHGSOURCE]], \"track mile\", FactorMatrix[[TYPE]:[TYPE]], P$33)*Years","v":0},{"$f":"SUMIFS(FactorMatrix[[DOWNSTREAMENERGY]:[DOWNSTREAMENERGY]], FactorMatrix[[MODE]:[MODE]], $B43, FactorMatrix[[PHASE]:[PHASE]],\"MAINTENANCE\", FactorMatrix[[GHGSOURCE]:[GHGSOURCE]], \"track mile\", FactorMatrix[[TYPE]:[TYPE]], Q$33)*Years","v":0},{"$f":"SUMIFS(FactorMatrix[[DOWNSTREAMENERGY]:[DOWNSTREAMENERGY]], FactorMatrix[[MODE]:[MODE]], $B43, FactorMatrix[[PHASE]:[PHASE]],\"MAINTENANCE\", FactorMatrix[[GHGSOURCE]:[GHGSOURCE]], \"track mile\", FactorMatrix[[TYPE]:[TYPE]], R$33)*Years","v":0},0,0,0]
[11,0,0,0,0,0,{"$f":"SUMIFS(FactorMatrix[[UPSTREAMMATERIALSENERGY]:[UPSTREAMMATERIALSENERGY]], FactorMatrix[[MODE]:[MODE]], $B44, FactorMatrix[[PHASE]:[PHASE]],\"MAINTENANCE\", FactorMatrix[[GHGSOURCE]:[GHGSOURCE]], \"track mile\", FactorMatrix[[TYPE]:[TYPE]], G$33)*Years","v":0},{"$f":"SUMIFS(FactorMatrix[[UPSTREAMMATERIALSENERGY]:[UPSTREAMMATERIALSENERGY]], FactorMatrix[[MODE]:[MODE]], $B44, FactorMatrix[[PHASE]:[PHASE]],\"MAINTENANCE\", FactorMatrix[[GHGSOURCE]:[GHGSOURCE]], \"track mile\", FactorMatrix[[TYPE]:[TYPE]], H$33)*Years","v":0},{"$f":"SUMIFS(FactorMatrix[[UPSTREAMMATERIALSENERGY]:[UPSTREAMMATERIALSENERGY]], FactorMatrix[[MODE]:[MODE]], $B44, FactorMatrix[[PHASE]:[PHASE]],\"MAINTENANCE\", FactorMatrix[[GHGSOURCE]:[GHGSOURCE]], \"track mile\", FactorMatrix[[TYPE]:[TYPE]], I$33)*Years","v":0},{"$f":"SUMIFS(FactorMatrix[[UPSTREAMMATERIALSENERGY]:[UPSTREAMMATERIALSENERGY]], FactorMatrix[[MODE]:[MODE]], $B44, FactorMatrix[[PHASE]:[PHASE]],\"MAINTENANCE\", FactorMatrix[[GHGSOURCE]:[GHGSOURCE]], \"track mile\", FactorMatrix[[TYPE]:[TYPE]], J$33)*Years","v":0},{"$f":"SUMIFS(FactorMatrix[[UPSTREAMTRANSPORTENERGY]:[UPSTREAMTRANSPORTENERGY]], FactorMatrix[[MODE]:[MODE]], $B44, FactorMatrix[[PHASE]:[PHASE]],\"MAINTENANCE\", FactorMatrix[[GHGSOURCE]:[GHGSOURCE]], \"track mile\", FactorMatrix[[TYPE]:[TYPE]], K$33)*Years","v":0},{"$f":"SUMIFS(FactorMatrix[[UPSTREAMTRANSPORTENERGY]:[UPSTREAMTRANSPORTENERGY]], FactorMatrix[[MODE]:[MODE]], $B44, FactorMatrix[[PHASE]:[PHASE]],\"MAINTENANCE\", FactorMatrix[[GHGSOURCE]:[GHGSOURCE]], \"track mile\", FactorMatrix[[TYPE]:[TYPE]], L$33)*Years","v":0},{"$f":"SUMIFS(FactorMatrix[[UPSTREAMTRANSPORTENERGY]:[UPSTREAMTRANSPORTENERGY]], FactorMatrix[[MODE]:[MODE]], $B44, FactorMatrix[[PHASE]:[PHASE]],\"MAINTENANCE\", FactorMatrix[[GHGSOURCE]:[GHGSOURCE]], \"track mile\", FactorMatrix[[TYPE]:[TYPE]], M$33)*Years","v":0},{"$f":"SUMIFS(FactorMatrix[[UPSTREAMTRANSPORTENERGY]:[UPSTREAMTRANSPORTENERGY]], FactorMatrix[[MODE]:[MODE]], $B44, FactorMatrix[[PHASE]:[PHASE]],\"MAINTENANCE\", FactorMatrix[[GHGSOURCE]:[GHGSOURCE]], \"track mile\", FactorMatrix[[TYPE]:[TYPE]], N$33)*Years","v":0},{"$f":"SUMIFS(FactorMatrix[[DOWNSTREAMENERGY]:[DOWNSTREAMENERGY]], FactorMatrix[[MODE]:[MODE]], $B44, FactorMatrix[[PHASE]:[PHASE]],\"MAINTENANCE\", FactorMatrix[[GHGSOURCE]:[GHGSOURCE]], \"track mile\", FactorMatrix[[TYPE]:[TYPE]], O$33)*Years","v":0},{"$f":"SUMIFS(FactorMatrix[[DOWNSTREAMENERGY]:[DOWNSTREAMENERGY]], FactorMatrix[[MODE]:[MODE]], $B44, FactorMatrix[[PHASE]:[PHASE]],\"MAINTENANCE\", FactorMatrix[[GHGSOURCE]:[GHGSOURCE]], \"track mile\", FactorMatrix[[TYPE]:[TYPE]], P$33)*Years","v":0},{"$f":"SUMIFS(FactorMatrix[[DOWNSTREAMENERGY]:[DOWNSTREAMENERGY]], FactorMatrix[[MODE]:[MODE]], $B44, FactorMatrix[[PHASE]:[PHASE]],\"MAINTENANCE\", FactorMatrix[[GHGSOURCE]:[GHGSOURCE]], \"track mile\", FactorMatrix[[TYPE]:[TYPE]], Q$33)*Years","v":0},{"$f":"SUMIFS(FactorMatrix[[DOWNSTREAMENERGY]:[DOWNSTREAMENERGY]], FactorMatrix[[MODE]:[MODE]], $B44, FactorMatrix[[PHASE]:[PHASE]],\"MAINTENANCE\", FactorMatrix[[GHGSOURCE]:[GHGSOURCE]], \"track mile\", FactorMatrix[[TYPE]:[TYPE]], R$33)*Years","v":0},0,0,0]
[12,0,0,0,0,0,{"$f":"SUMIFS(FactorMatrix[[UPSTREAMMATERIALSENERGY]:[UPSTREAMMATERIALSENERGY]], FactorMatrix[[MODE]:[MODE]], $B45, FactorMatrix[[PHASE]:[PHASE]],\"MAINTENANCE\", FactorMatrix[[GHGSOURCE]:[GHGSOURCE]], \"track mile\", FactorMatrix[[TYPE]:[TYPE]], G$33)*Years","v":0},{"$f":"SUMIFS(FactorMatrix[[UPSTREAMMATERIALSENERGY]:[UPSTREAMMATERIALSENERGY]], FactorMatrix[[MODE]:[MODE]], $B45, FactorMatrix[[PHASE]:[PHASE]],\"MAINTENANCE\", FactorMatrix[[GHGSOURCE]:[GHGSOURCE]], \"track mile\", FactorMatrix[[TYPE]:[TYPE]], H$33)*Years","v":0},{"$f":"SUMIFS(FactorMatrix[[UPSTREAMMATERIALSENERGY]:[UPSTREAMMATERIALSENERGY]], FactorMatrix[[MODE]:[MODE]], $B45, FactorMatrix[[PHASE]:[PHASE]],\"MAINTENANCE\", FactorMatrix[[GHGSOURCE]:[GHGSOURCE]], \"track mile\", FactorMatrix[[TYPE]:[TYPE]], I$33)*Years","v":0},{"$f":"SUMIFS(FactorMatrix[[UPSTREAMMATERIALSENERGY]:[UPSTREAMMATERIALSENERGY]], FactorMatrix[[MODE]:[MODE]], $B45, FactorMatrix[[PHASE]:[PHASE]],\"MAINTENANCE\", FactorMatrix[[GHGSOURCE]:[GHGSOURCE]], \"track mile\", FactorMatrix[[TYPE]:[TYPE]], J$33)*Years","v":0},{"$f":"SUMIFS(FactorMatrix[[UPSTREAMTRANSPORTENERGY]:[UPSTREAMTRANSPORTENERGY]], FactorMatrix[[MODE]:[MODE]], $B45, FactorMatrix[[PHASE]:[PHASE]],\"MAINTENANCE\", FactorMatrix[[GHGSOURCE]:[GHGSOURCE]], \"track mile\", FactorMatrix[[TYPE]:[TYPE]], K$33)*Years","v":0},{"$f":"SUMIFS(FactorMatrix[[UPSTREAMTRANSPORTENERGY]:[UPSTREAMTRANSPORTENERGY]], FactorMatrix[[MODE]:[MODE]], $B45, FactorMatrix[[PHASE]:[PHASE]],\"MAINTENANCE\", FactorMatrix[[GHGSOURCE]:[GHGSOURCE]], \"track mile\", FactorMatrix[[TYPE]:[TYPE]], L$33)*Years","v":0},{"$f":"SUMIFS(FactorMatrix[[UPSTREAMTRANSPORTENERGY]:[UPSTREAMTRANSPORTENERGY]], FactorMatrix[[MODE]:[MODE]], $B45, FactorMatrix[[PHASE]:[PHASE]],\"MAINTENANCE\", FactorMatrix[[GHGSOURCE]:[GHGSOURCE]], \"track mile\", FactorMatrix[[TYPE]:[TYPE]], M$33)*Years","v":0},{"$f":"SUMIFS(FactorMatrix[[UPSTREAMTRANSPORTENERGY]:[UPSTREAMTRANSPORTENERGY]], FactorMatrix[[MODE]:[MODE]], $B45, FactorMatrix[[PHASE]:[PHASE]],\"MAINTENANCE\", FactorMatrix[[GHGSOURCE]:[GHGSOURCE]], \"track mile\", FactorMatrix[[TYPE]:[TYPE]], N$33)*Years","v":0},{"$f":"SUMIFS(FactorMatrix[[DOWNSTREAMENERGY]:[DOWNSTREAMENERGY]], FactorMatrix[[MODE]:[MODE]], $B45, FactorMatrix[[PHASE]:[PHASE]],\"MAINTENANCE\", FactorMatrix[[GHGSOURCE]:[GHGSOURCE]], \"track mile\", FactorMatrix[[TYPE]:[TYPE]], O$33)*Years","v":0},{"$f":"SUMIFS(FactorMatrix[[DOWNSTREAMENERGY]:[DOWNSTREAMENERGY]], FactorMatrix[[MODE]:[MODE]], $B45, FactorMatrix[[PHASE]:[PHASE]],\"MAINTENANCE\", FactorMatrix[[GHGSOURCE]:[GHGSOURCE]], \"track mile\", FactorMatrix[[TYPE]:[TYPE]], P$33)*Years","v":0},{"$f":"SUMIFS(FactorMatrix[[DOWNSTREAMENERGY]:[DOWNSTREAMENERGY]], FactorMatrix[[MODE]:[MODE]], $B45, FactorMatrix[[PHASE]:[PHASE]],\"MAINTENANCE\", FactorMatrix[[GHGSOURCE]:[GHGSOURCE]], \"track mile\", FactorMatrix[[TYPE]:[TYPE]], Q$33)*Years","v":0},{"$f":"SUMIFS(FactorMatrix[[DOWNSTREAMENERGY]:[DOWNSTREAMENERGY]], FactorMatrix[[MODE]:[MODE]], $B45, FactorMatrix[[PHASE]:[PHASE]],\"MAINTENANCE\", FactorMatrix[[GHGSOURCE]:[GHGSOURCE]], \"track mile\", FactorMatrix[[TYPE]:[TYPE]], R$33)*Years","v":0},0,0,0]
[13,0,0,0,0,0,{"$f":"SUMIFS(FactorMatrix[[UPSTREAMMATERIALSENERGY]:[UPSTREAMMATERIALSENERGY]], FactorMatrix[[MODE]:[MODE]], $B46, FactorMatrix[[PHASE]:[PHASE]],\"MAINTENANCE\", FactorMatrix[[GHGSOURCE]:[GHGSOURCE]], \"track mile\", FactorMatrix[[TYPE]:[TYPE]], G$33)*Years","v":0},{"$f":"SUMIFS(FactorMatrix[[UPSTREAMMATERIALSENERGY]:[UPSTREAMMATERIALSENERGY]], FactorMatrix[[MODE]:[MODE]], $B46, FactorMatrix[[PHASE]:[PHASE]],\"MAINTENANCE\", FactorMatrix[[GHGSOURCE]:[GHGSOURCE]], \"track mile\", FactorMatrix[[TYPE]:[TYPE]], H$33)*Years","v":0},{"$f":"SUMIFS(FactorMatrix[[UPSTREAMMATERIALSENERGY]:[UPSTREAMMATERIALSENERGY]], FactorMatrix[[MODE]:[MODE]], $B46, FactorMatrix[[PHASE]:[PHASE]],\"MAINTENANCE\", FactorMatrix[[GHGSOURCE]:[GHGSOURCE]], \"track mile\", FactorMatrix[[TYPE]:[TYPE]], I$33)*Years","v":0},{"$f":"SUMIFS(FactorMatrix[[UPSTREAMMATERIALSENERGY]:[UPSTREAMMATERIALSENERGY]], FactorMatrix[[MODE]:[MODE]], $B46, FactorMatrix[[PHASE]:[PHASE]],\"MAINTENANCE\", FactorMatrix[[GHGSOURCE]:[GHGSOURCE]], \"track mile\", FactorMatrix[[TYPE]:[TYPE]], J$33)*Years","v":0},{"$f":"SUMIFS(FactorMatrix[[UPSTREAMTRANSPORTENERGY]:[UPSTREAMTRANSPORTENERGY]], FactorMatrix[[MODE]:[MODE]], $B46, FactorMatrix[[PHASE]:[PHASE]],\"MAINTENANCE\", FactorMatrix[[GHGSOURCE]:[GHGSOURCE]], \"track mile\", FactorMatrix[[TYPE]:[TYPE]], K$33)*Years","v":0},{"$f":"SUMIFS(FactorMatrix[[UPSTREAMTRANSPORTENERGY]:[UPSTREAMTRANSPORTENERGY]], FactorMatrix[[MODE]:[MODE]], $B46, FactorMatrix[[PHASE]:[PHASE]],\"MAINTENANCE\", FactorMatrix[[GHGSOURCE]:[GHGSOURCE]], \"track mile\", FactorMatrix[[TYPE]:[TYPE]], L$33)*Years","v":0},{"$f":"SUMIFS(FactorMatrix[[UPSTREAMTRANSPORTENERGY]:[UPSTREAMTRANSPORTENERGY]], FactorMatrix[[MODE]:[MODE]], $B46, FactorMatrix[[PHASE]:[PHASE]],\"MAINTENANCE\", FactorMatrix[[GHGSOURCE]:[GHGSOURCE]], \"track mile\", FactorMatrix[[TYPE]:[TYPE]], M$33)*Years","v":0},{"$f":"SUMIFS(FactorMatrix[[UPSTREAMTRANSPORTENERGY]:[UPSTREAMTRANSPORTENERGY]], FactorMatrix[[MODE]:[MODE]], $B46, FactorMatrix[[PHASE]:[PHASE]],\"MAINTENANCE\", FactorMatrix[[GHGSOURCE]:[GHGSOURCE]], \"track mile\", FactorMatrix[[TYPE]:[TYPE]], N$33)*Years","v":0},{"$f":"SUMIFS(FactorMatrix[[DOWNSTREAMENERGY]:[DOWNSTREAMENERGY]], FactorMatrix[[MODE]:[MODE]], $B46, FactorMatrix[[PHASE]:[PHASE]],\"MAINTENANCE\", FactorMatrix[[GHGSOURCE]:[GHGSOURCE]], \"track mile\", FactorMatrix[[TYPE]:[TYPE]], O$33)*Years","v":0},{"$f":"SUMIFS(FactorMatrix[[DOWNSTREAMENERGY]:[DOWNSTREAMENERGY]], FactorMatrix[[MODE]:[MODE]], $B46, FactorMatrix[[PHASE]:[PHASE]],\"MAINTENANCE\", FactorMatrix[[GHGSOURCE]:[GHGSOURCE]], \"track mile\", FactorMatrix[[TYPE]:[TYPE]], P$33)*Years","v":0},{"$f":"SUMIFS(FactorMatrix[[DOWNSTREAMENERGY]:[DOWNSTREAMENERGY]], FactorMatrix[[MODE]:[MODE]], $B46, FactorMatrix[[PHASE]:[PHASE]],\"MAINTENANCE\", FactorMatrix[[GHGSOURCE]:[GHGSOURCE]], \"track mile\", FactorMatrix[[TYPE]:[TYPE]], Q$33)*Years","v":0},{"$f":"SUMIFS(FactorMatrix[[DOWNSTREAMENERGY]:[DOWNSTREAMENERGY]], FactorMatrix[[MODE]:[MODE]], $B46, FactorMatrix[[PHASE]:[PHASE]],\"MAINTENANCE\", FactorMatrix[[GHGSOURCE]:[GHGSOURCE]], \"track mile\", FactorMatrix[[TYPE]:[TYPE]], R$33)*Years","v":0},0,0,0]
[14,0,0,0,0,0,{"$f":"SUMIFS(FactorMatrix[[UPSTREAMMATERIALSENERGY]:[UPSTREAMMATERIALSENERGY]], FactorMatrix[[MODE]:[MODE]], $B47, FactorMatrix[[PHASE]:[PHASE]],\"MAINTENANCE\", FactorMatrix[[GHGSOURCE]:[GHGSOURCE]], \"track mile\", FactorMatrix[[TYPE]:[TYPE]], G$33)*Years","v":0},{"$f":"SUMIFS(FactorMatrix[[UPSTREAMMATERIALSENERGY]:[UPSTREAMMATERIALSENERGY]], FactorMatrix[[MODE]:[MODE]], $B47, FactorMatrix[[PHASE]:[PHASE]],\"MAINTENANCE\", FactorMatrix[[GHGSOURCE]:[GHGSOURCE]], \"track mile\", FactorMatrix[[TYPE]:[TYPE]], H$33)*Years","v":0},{"$f":"SUMIFS(FactorMatrix[[UPSTREAMMATERIALSENERGY]:[UPSTREAMMATERIALSENERGY]], FactorMatrix[[MODE]:[MODE]], $B47, FactorMatrix[[PHASE]:[PHASE]],\"MAINTENANCE\", FactorMatrix[[GHGSOURCE]:[GHGSOURCE]], \"track mile\", FactorMatrix[[TYPE]:[TYPE]], I$33)*Years","v":0},{"$f":"SUMIFS(FactorMatrix[[UPSTREAMMATERIALSENERGY]:[UPSTREAMMATERIALSENERGY]], FactorMatrix[[MODE]:[MODE]], $B47, FactorMatrix[[PHASE]:[PHASE]],\"MAINTENANCE\", FactorMatrix[[GHGSOURCE]:[GHGSOURCE]], \"track mile\", FactorMatrix[[TYPE]:[TYPE]], J$33)*Years","v":0},{"$f":"SUMIFS(FactorMatrix[[UPSTREAMTRANSPORTENERGY]:[UPSTREAMTRANSPORTENERGY]], FactorMatrix[[MODE]:[MODE]], $B47, FactorMatrix[[PHASE]:[PHASE]],\"MAINTENANCE\", FactorMatrix[[GHGSOURCE]:[GHGSOURCE]], \"track mile\", FactorMatrix[[TYPE]:[TYPE]], K$33)*Years","v":0},{"$f":"SUMIFS(FactorMatrix[[UPSTREAMTRANSPORTENERGY]:[UPSTREAMTRANSPORTENERGY]], FactorMatrix[[MODE]:[MODE]], $B47, FactorMatrix[[PHASE]:[PHASE]],\"MAINTENANCE\", FactorMatrix[[GHGSOURCE]:[GHGSOURCE]], \"track mile\", FactorMatrix[[TYPE]:[TYPE]], L$33)*Years","v":0},{"$f":"SUMIFS(FactorMatrix[[UPSTREAMTRANSPORTENERGY]:[UPSTREAMTRANSPORTENERGY]], FactorMatrix[[MODE]:[MODE]], $B47, FactorMatrix[[PHASE]:[PHASE]],\"MAINTENANCE\", FactorMatrix[[GHGSOURCE]:[GHGSOURCE]], \"track mile\", FactorMatrix[[TYPE]:[TYPE]], M$33)*Years","v":0},{"$f":"SUMIFS(FactorMatrix[[UPSTREAMTRANSPORTENERGY]:[UPSTREAMTRANSPORTENERGY]], FactorMatrix[[MODE]:[MODE]], $B47, FactorMatrix[[PHASE]:[PHASE]],\"MAINTENANCE\", FactorMatrix[[GHGSOURCE]:[GHGSOURCE]], \"track mile\", FactorMatrix[[TYPE]:[TYPE]], N$33)*Years","v":0},{"$f":"SUMIFS(FactorMatrix[[DOWNSTREAMENERGY]:[DOWNSTREAMENERGY]], FactorMatrix[[MODE]:[MODE]], $B47, FactorMatrix[[PHASE]:[PHASE]],\"MAINTENANCE\", FactorMatrix[[GHGSOURCE]:[GHGSOURCE]], \"track mile\", FactorMatrix[[TYPE]:[TYPE]], O$33)*Years","v":0},{"$f":"SUMIFS(FactorMatrix[[DOWNSTREAMENERGY]:[DOWNSTREAMENERGY]], FactorMatrix[[MODE]:[MODE]], $B47, FactorMatrix[[PHASE]:[PHASE]],\"MAINTENANCE\", FactorMatrix[[GHGSOURCE]:[GHGSOURCE]], \"track mile\", FactorMatrix[[TYPE]:[TYPE]], P$33)*Years","v":0},{"$f":"SUMIFS(FactorMatrix[[DOWNSTREAMENERGY]:[DOWNSTREAMENERGY]], FactorMatrix[[MODE]:[MODE]], $B47, FactorMatrix[[PHASE]:[PHASE]],\"MAINTENANCE\", FactorMatrix[[GHGSOURCE]:[GHGSOURCE]], \"track mile\", FactorMatrix[[TYPE]:[TYPE]], Q$33)*Years","v":0},{"$f":"SUMIFS(FactorMatrix[[DOWNSTREAMENERGY]:[DOWNSTREAMENERGY]], FactorMatrix[[MODE]:[MODE]], $B47, FactorMatrix[[PHASE]:[PHASE]],\"MAINTENANCE\", FactorMatrix[[GHGSOURCE]:[GHGSOURCE]], \"track mile\", FactorMatrix[[TYPE]:[TYPE]], R$33)*Years","v":0},0,0,0]
[15,0,0,0,0,0,{"$f":"SUMIFS(FactorMatrix[[UPSTREAMMATERIALSENERGY]:[UPSTREAMMATERIALSENERGY]], FactorMatrix[[MODE]:[MODE]], $B48, FactorMatrix[[PHASE]:[PHASE]],\"MAINTENANCE\", FactorMatrix[[GHGSOURCE]:[GHGSOURCE]], \"track mile\", FactorMatrix[[TYPE]:[TYPE]], G$33)*Years","v":0},{"$f":"SUMIFS(FactorMatrix[[UPSTREAMMATERIALSENERGY]:[UPSTREAMMATERIALSENERGY]], FactorMatrix[[MODE]:[MODE]], $B48, FactorMatrix[[PHASE]:[PHASE]],\"MAINTENANCE\", FactorMatrix[[GHGSOURCE]:[GHGSOURCE]], \"track mile\", FactorMatrix[[TYPE]:[TYPE]], H$33)*Years","v":0},{"$f":"SUMIFS(FactorMatrix[[UPSTREAMMATERIALSENERGY]:[UPSTREAMMATERIALSENERGY]], FactorMatrix[[MODE]:[MODE]], $B48, FactorMatrix[[PHASE]:[PHASE]],\"MAINTENANCE\", FactorMatrix[[GHGSOURCE]:[GHGSOURCE]], \"track mile\", FactorMatrix[[TYPE]:[TYPE]], I$33)*Years","v":0},{"$f":"SUMIFS(FactorMatrix[[UPSTREAMMATERIALSENERGY]:[UPSTREAMMATERIALSENERGY]], FactorMatrix[[MODE]:[MODE]], $B48, FactorMatrix[[PHASE]:[PHASE]],\"MAINTENANCE\", FactorMatrix[[GHGSOURCE]:[GHGSOURCE]], \"track mile\", FactorMatrix[[TYPE]:[TYPE]], J$33)*Years","v":0},{"$f":"SUMIFS(FactorMatrix[[UPSTREAMTRANSPORTENERGY]:[UPSTREAMTRANSPORTENERGY]], FactorMatrix[[MODE]:[MODE]], $B48, FactorMatrix[[PHASE]:[PHASE]],\"MAINTENANCE\", FactorMatrix[[GHGSOURCE]:[GHGSOURCE]], \"track mile\", FactorMatrix[[TYPE]:[TYPE]], K$33)*Years","v":0},{"$f":"SUMIFS(FactorMatrix[[UPSTREAMTRANSPORTENERGY]:[UPSTREAMTRANSPORTENERGY]], FactorMatrix[[MODE]:[MODE]], $B48, FactorMatrix[[PHASE]:[PHASE]],\"MAINTENANCE\", FactorMatrix[[GHGSOURCE]:[GHGSOURCE]], \"track mile\", FactorMatrix[[TYPE]:[TYPE]], L$33)*Years","v":0},{"$f":"SUMIFS(FactorMatrix[[UPSTREAMTRANSPORTENERGY]:[UPSTREAMTRANSPORTENERGY]], FactorMatrix[[MODE]:[MODE]], $B48, FactorMatrix[[PHASE]:[PHASE]],\"MAINTENANCE\", FactorMatrix[[GHGSOURCE]:[GHGSOURCE]], \"track mile\", FactorMatrix[[TYPE]:[TYPE]], M$33)*Years","v":0},{"$f":"SUMIFS(FactorMatrix[[UPSTREAMTRANSPORTENERGY]:[UPSTREAMTRANSPORTENERGY]], FactorMatrix[[MODE]:[MODE]], $B48, FactorMatrix[[PHASE]:[PHASE]],\"MAINTENANCE\", FactorMatrix[[GHGSOURCE]:[GHGSOURCE]], \"track mile\", FactorMatrix[[TYPE]:[TYPE]], N$33)*Years","v":0},{"$f":"SUMIFS(FactorMatrix[[DOWNSTREAMENERGY]:[DOWNSTREAMENERGY]], FactorMatrix[[MODE]:[MODE]], $B48, FactorMatrix[[PHASE]:[PHASE]],\"MAINTENANCE\", FactorMatrix[[GHGSOURCE]:[GHGSOURCE]], \"track mile\", FactorMatrix[[TYPE]:[TYPE]], O$33)*Years","v":0},{"$f":"SUMIFS(FactorMatrix[[DOWNSTREAMENERGY]:[DOWNSTREAMENERGY]], FactorMatrix[[MODE]:[MODE]], $B48, FactorMatrix[[PHASE]:[PHASE]],\"MAINTENANCE\", FactorMatrix[[GHGSOURCE]:[GHGSOURCE]], \"track mile\", FactorMatrix[[TYPE]:[TYPE]], P$33)*Years","v":0},{"$f":"SUMIFS(FactorMatrix[[DOWNSTREAMENERGY]:[DOWNSTREAMENERGY]], FactorMatrix[[MODE]:[MODE]], $B48, FactorMatrix[[PHASE]:[PHASE]],\"MAINTENANCE\", FactorMatrix[[GHGSOURCE]:[GHGSOURCE]], \"track mile\", FactorMatrix[[TYPE]:[TYPE]], Q$33)*Years","v":0},{"$f":"SUMIFS(FactorMatrix[[DOWNSTREAMENERGY]:[DOWNSTREAMENERGY]], FactorMatrix[[MODE]:[MODE]], $B48, FactorMatrix[[PHASE]:[PHASE]],\"MAINTENANCE\", FactorMatrix[[GHGSOURCE]:[GHGSOURCE]], \"track mile\", FactorMatrix[[TYPE]:[TYPE]], R$33)*Years","v":0},0,0,0]
[16,0,0,0,0,0,{"$f":"SUMIFS(FactorMatrix[[UPSTREAMMATERIALSENERGY]:[UPSTREAMMATERIALSENERGY]], FactorMatrix[[MODE]:[MODE]], $B49, FactorMatrix[[PHASE]:[PHASE]],\"MAINTENANCE\", FactorMatrix[[GHGSOURCE]:[GHGSOURCE]], \"track mile\", FactorMatrix[[TYPE]:[TYPE]], G$33)*Years","v":0},{"$f":"SUMIFS(FactorMatrix[[UPSTREAMMATERIALSENERGY]:[UPSTREAMMATERIALSENERGY]], FactorMatrix[[MODE]:[MODE]], $B49, FactorMatrix[[PHASE]:[PHASE]],\"MAINTENANCE\", FactorMatrix[[GHGSOURCE]:[GHGSOURCE]], \"track mile\", FactorMatrix[[TYPE]:[TYPE]], H$33)*Years","v":0},{"$f":"SUMIFS(FactorMatrix[[UPSTREAMMATERIALSENERGY]:[UPSTREAMMATERIALSENERGY]], FactorMatrix[[MODE]:[MODE]], $B49, FactorMatrix[[PHASE]:[PHASE]],\"MAINTENANCE\", FactorMatrix[[GHGSOURCE]:[GHGSOURCE]], \"track mile\", FactorMatrix[[TYPE]:[TYPE]], I$33)*Years","v":0},{"$f":"SUMIFS(FactorMatrix[[UPSTREAMMATERIALSENERGY]:[UPSTREAMMATERIALSENERGY]], FactorMatrix[[MODE]:[MODE]], $B49, FactorMatrix[[PHASE]:[PHASE]],\"MAINTENANCE\", FactorMatrix[[GHGSOURCE]:[GHGSOURCE]], \"track mile\", FactorMatrix[[TYPE]:[TYPE]], J$33)*Years","v":0},{"$f":"SUMIFS(FactorMatrix[[UPSTREAMTRANSPORTENERGY]:[UPSTREAMTRANSPORTENERGY]], FactorMatrix[[MODE]:[MODE]], $B49, FactorMatrix[[PHASE]:[PHASE]],\"MAINTENANCE\", FactorMatrix[[GHGSOURCE]:[GHGSOURCE]], \"track mile\", FactorMatrix[[TYPE]:[TYPE]], K$33)*Years","v":0},{"$f":"SUMIFS(FactorMatrix[[UPSTREAMTRANSPORTENERGY]:[UPSTREAMTRANSPORTENERGY]], FactorMatrix[[MODE]:[MODE]], $B49, FactorMatrix[[PHASE]:[PHASE]],\"MAINTENANCE\", FactorMatrix[[GHGSOURCE]:[GHGSOURCE]], \"track mile\", FactorMatrix[[TYPE]:[TYPE]], L$33)*Years","v":0},{"$f":"SUMIFS(FactorMatrix[[UPSTREAMTRANSPORTENERGY]:[UPSTREAMTRANSPORTENERGY]], FactorMatrix[[MODE]:[MODE]], $B49, FactorMatrix[[PHASE]:[PHASE]],\"MAINTENANCE\", FactorMatrix[[GHGSOURCE]:[GHGSOURCE]], \"track mile\", FactorMatrix[[TYPE]:[TYPE]], M$33)*Years","v":0},{"$f":"SUMIFS(FactorMatrix[[UPSTREAMTRANSPORTENERGY]:[UPSTREAMTRANSPORTENERGY]], FactorMatrix[[MODE]:[MODE]], $B49, FactorMatrix[[PHASE]:[PHASE]],\"MAINTENANCE\", FactorMatrix[[GHGSOURCE]:[GHGSOURCE]], \"track mile\", FactorMatrix[[TYPE]:[TYPE]], N$33)*Years","v":0},{"$f":"SUMIFS(FactorMatrix[[DOWNSTREAMENERGY]:[DOWNSTREAMENERGY]], FactorMatrix[[MODE]:[MODE]], $B49, FactorMatrix[[PHASE]:[PHASE]],\"MAINTENANCE\", FactorMatrix[[GHGSOURCE]:[GHGSOURCE]], \"track mile\", FactorMatrix[[TYPE]:[TYPE]], O$33)*Years","v":0},{"$f":"SUMIFS(FactorMatrix[[DOWNSTREAMENERGY]:[DOWNSTREAMENERGY]], FactorMatrix[[MODE]:[MODE]], $B49, FactorMatrix[[PHASE]:[PHASE]],\"MAINTENANCE\", FactorMatrix[[GHGSOURCE]:[GHGSOURCE]], \"track mile\", FactorMatrix[[TYPE]:[TYPE]], P$33)*Years","v":0},{"$f":"SUMIFS(FactorMatrix[[DOWNSTREAMENERGY]:[DOWNSTREAMENERGY]], FactorMatrix[[MODE]:[MODE]], $B49, FactorMatrix[[PHASE]:[PHASE]],\"MAINTENANCE\", FactorMatrix[[GHGSOURCE]:[GHGSOURCE]], \"track mile\", FactorMatrix[[TYPE]:[TYPE]], Q$33)*Years","v":0},{"$f":"SUMIFS(FactorMatrix[[DOWNSTREAMENERGY]:[DOWNSTREAMENERGY]], FactorMatrix[[MODE]:[MODE]], $B49, FactorMatrix[[PHASE]:[PHASE]],\"MAINTENANCE\", FactorMatrix[[GHGSOURCE]:[GHGSOURCE]], \"track mile\", FactorMatrix[[TYPE]:[TYPE]], R$33)*Years","v":0},0,0,0]
[17,{"$f":"B23","v":0},0,0,0,0,{"$f":"SUMIFS(FactorMatrix[[UPSTREAMMATERIALSENERGY]:[UPSTREAMMATERIALSENERGY]], FactorMatrix[[MODE]:[MODE]], $B50, FactorMatrix[[PHASE]:[PHASE]],\"MAINTENANCE\", FactorMatrix[[GHGSOURCE]:[GHGSOURCE]], \"track mile\", FactorMatrix[[TYPE]:[TYPE]], G$33)*Years","v":0},{"$f":"SUMIFS(FactorMatrix[[UPSTREAMMATERIALSENERGY]:[UPSTREAMMATERIALSENERGY]], FactorMatrix[[MODE]:[MODE]], $B50, FactorMatrix[[PHASE]:[PHASE]],\"MAINTENANCE\", FactorMatrix[[GHGSOURCE]:[GHGSOURCE]], \"track mile\", FactorMatrix[[TYPE]:[TYPE]], H$33)*Years","v":0},{"$f":"SUMIFS(FactorMatrix[[UPSTREAMMATERIALSENERGY]:[UPSTREAMMATERIALSENERGY]], FactorMatrix[[MODE]:[MODE]], $B50, FactorMatrix[[PHASE]:[PHASE]],\"MAINTENANCE\", FactorMatrix[[GHGSOURCE]:[GHGSOURCE]], \"track mile\", FactorMatrix[[TYPE]:[TYPE]], I$33)*Years","v":0},{"$f":"SUMIFS(FactorMatrix[[UPSTREAMMATERIALSENERGY]:[UPSTREAMMATERIALSENERGY]], FactorMatrix[[MODE]:[MODE]], $B50, FactorMatrix[[PHASE]:[PHASE]],\"MAINTENANCE\", FactorMatrix[[GHGSOURCE]:[GHGSOURCE]], \"track mile\", FactorMatrix[[TYPE]:[TYPE]], J$33)*Years","v":0},{"$f":"SUMIFS(FactorMatrix[[UPSTREAMTRANSPORTENERGY]:[UPSTREAMTRANSPORTENERGY]], FactorMatrix[[MODE]:[MODE]], $B50, FactorMatrix[[PHASE]:[PHASE]],\"MAINTENANCE\", FactorMatrix[[GHGSOURCE]:[GHGSOURCE]], \"track mile\", FactorMatrix[[TYPE]:[TYPE]], K$33)*Years","v":0},{"$f":"SUMIFS(FactorMatrix[[UPSTREAMTRANSPORTENERGY]:[UPSTREAMTRANSPORTENERGY]], FactorMatrix[[MODE]:[MODE]], $B50, FactorMatrix[[PHASE]:[PHASE]],\"MAINTENANCE\", FactorMatrix[[GHGSOURCE]:[GHGSOURCE]], \"track mile\", FactorMatrix[[TYPE]:[TYPE]], L$33)*Years","v":0},{"$f":"SUMIFS(FactorMatrix[[UPSTREAMTRANSPORTENERGY]:[UPSTREAMTRANSPORTENERGY]], FactorMatrix[[MODE]:[MODE]], $B50, FactorMatrix[[PHASE]:[PHASE]],\"MAINTENANCE\", FactorMatrix[[GHGSOURCE]:[GHGSOURCE]], \"track mile\", FactorMatrix[[TYPE]:[TYPE]], M$33)*Years","v":0},{"$f":"SUMIFS(FactorMatrix[[UPSTREAMTRANSPORTENERGY]:[UPSTREAMTRANSPORTENERGY]], FactorMatrix[[MODE]:[MODE]], $B50, FactorMatrix[[PHASE]:[PHASE]],\"MAINTENANCE\", FactorMatrix[[GHGSOURCE]:[GHGSOURCE]], \"track mile\", FactorMatrix[[TYPE]:[TYPE]], N$33)*Years","v":0},{"$f":"SUMIFS(FactorMatrix[[DOWNSTREAMENERGY]:[DOWNSTREAMENERGY]], FactorMatrix[[MODE]:[MODE]], $B50, FactorMatrix[[PHASE]:[PHASE]],\"MAINTENANCE\", FactorMatrix[[GHGSOURCE]:[GHGSOURCE]], \"track mile\", FactorMatrix[[TYPE]:[TYPE]], O$33)*Years","v":0},{"$f":"SUMIFS(FactorMatrix[[DOWNSTREAMENERGY]:[DOWNSTREAMENERGY]], FactorMatrix[[MODE]:[MODE]], $B50, FactorMatrix[[PHASE]:[PHASE]],\"MAINTENANCE\", FactorMatrix[[GHGSOURCE]:[GHGSOURCE]], \"track mile\", FactorMatrix[[TYPE]:[TYPE]], P$33)*Years","v":0},{"$f":"SUMIFS(FactorMatrix[[DOWNSTREAMENERGY]:[DOWNSTREAMENERGY]], FactorMatrix[[MODE]:[MODE]], $B50, FactorMatrix[[PHASE]:[PHASE]],\"MAINTENANCE\", FactorMatrix[[GHGSOURCE]:[GHGSOURCE]], \"track mile\", FactorMatrix[[TYPE]:[TYPE]], Q$33)*Years","v":0},{"$f":"SUMIFS(FactorMatrix[[DOWNSTREAMENERGY]:[DOWNSTREAMENERGY]], FactorMatrix[[MODE]:[MODE]], $B50, FactorMatrix[[PHASE]:[PHASE]],\"MAINTENANCE\", FactorMatrix[[GHGSOURCE]:[GHGSOURCE]], \"track mile\", FactorMatrix[[TYPE]:[TYPE]], R$33)*Years","v":0},0,0,0]
[18,0,0,0,0,0,{"$f":"SUMIFS(FactorMatrix[[UPSTREAMMATERIALSENERGY]:[UPSTREAMMATERIALSENERGY]], FactorMatrix[[MODE]:[MODE]], $B51, FactorMatrix[[PHASE]:[PHASE]],\"MAINTENANCE\", FactorMatrix[[GHGSOURCE]:[GHGSOURCE]], \"track mile\", FactorMatrix[[TYPE]:[TYPE]], G$33)*Years","v":0},{"$f":"SUMIFS(FactorMatrix[[UPSTREAMMATERIALSENERGY]:[UPSTREAMMATERIALSENERGY]], FactorMatrix[[MODE]:[MODE]], $B51, FactorMatrix[[PHASE]:[PHASE]],\"MAINTENANCE\", FactorMatrix[[GHGSOURCE]:[GHGSOURCE]], \"track mile\", FactorMatrix[[TYPE]:[TYPE]], H$33)*Years","v":0},{"$f":"SUMIFS(FactorMatrix[[UPSTREAMMATERIALSENERGY]:[UPSTREAMMATERIALSENERGY]], FactorMatrix[[MODE]:[MODE]], $B51, FactorMatrix[[PHASE]:[PHASE]],\"MAINTENANCE\", FactorMatrix[[GHGSOURCE]:[GHGSOURCE]], \"track mile\", FactorMatrix[[TYPE]:[TYPE]], I$33)*Years","v":0},{"$f":"SUMIFS(FactorMatrix[[UPSTREAMMATERIALSENERGY]:[UPSTREAMMATERIALSENERGY]], FactorMatrix[[MODE]:[MODE]], $B51, FactorMatrix[[PHASE]:[PHASE]],\"MAINTENANCE\", FactorMatrix[[GHGSOURCE]:[GHGSOURCE]], \"track mile\", FactorMatrix[[TYPE]:[TYPE]], J$33)*Years","v":0},{"$f":"SUMIFS(FactorMatrix[[UPSTREAMTRANSPORTENERGY]:[UPSTREAMTRANSPORTENERGY]], FactorMatrix[[MODE]:[MODE]], $B51, FactorMatrix[[PHASE]:[PHASE]],\"MAINTENANCE\", FactorMatrix[[GHGSOURCE]:[GHGSOURCE]], \"track mile\", FactorMatrix[[TYPE]:[TYPE]], K$33)*Years","v":0},{"$f":"SUMIFS(FactorMatrix[[UPSTREAMTRANSPORTENERGY]:[UPSTREAMTRANSPORTENERGY]], FactorMatrix[[MODE]:[MODE]], $B51, FactorMatrix[[PHASE]:[PHASE]],\"MAINTENANCE\", FactorMatrix[[GHGSOURCE]:[GHGSOURCE]], \"track mile\", FactorMatrix[[TYPE]:[TYPE]], L$33)*Years","v":0},{"$f":"SUMIFS(FactorMatrix[[UPSTREAMTRANSPORTENERGY]:[UPSTREAMTRANSPORTENERGY]], FactorMatrix[[MODE]:[MODE]], $B51, FactorMatrix[[PHASE]:[PHASE]],\"MAINTENANCE\", FactorMatrix[[GHGSOURCE]:[GHGSOURCE]], \"track mile\", FactorMatrix[[TYPE]:[TYPE]], M$33)*Years","v":0},{"$f":"SUMIFS(FactorMatrix[[UPSTREAMTRANSPORTENERGY]:[UPSTREAMTRANSPORTENERGY]], FactorMatrix[[MODE]:[MODE]], $B51, FactorMatrix[[PHASE]:[PHASE]],\"MAINTENANCE\", FactorMatrix[[GHGSOURCE]:[GHGSOURCE]], \"track mile\", FactorMatrix[[TYPE]:[TYPE]], N$33)*Years","v":0},{"$f":"SUMIFS(FactorMatrix[[DOWNSTREAMENERGY]:[DOWNSTREAMENERGY]], FactorMatrix[[MODE]:[MODE]], $B51, FactorMatrix[[PHASE]:[PHASE]],\"MAINTENANCE\", FactorMatrix[[GHGSOURCE]:[GHGSOURCE]], \"track mile\", FactorMatrix[[TYPE]:[TYPE]], O$33)*Years","v":0},{"$f":"SUMIFS(FactorMatrix[[DOWNSTREAMENERGY]:[DOWNSTREAMENERGY]], FactorMatrix[[MODE]:[MODE]], $B51, FactorMatrix[[PHASE]:[PHASE]],\"MAINTENANCE\", FactorMatrix[[GHGSOURCE]:[GHGSOURCE]], \"track mile\", FactorMatrix[[TYPE]:[TYPE]], P$33)*Years","v":0},{"$f":"SUMIFS(FactorMatrix[[DOWNSTREAMENERGY]:[DOWNSTREAMENERGY]], FactorMatrix[[MODE]:[MODE]], $B51, FactorMatrix[[PHASE]:[PHASE]],\"MAINTENANCE\", FactorMatrix[[GHGSOURCE]:[GHGSOURCE]], \"track mile\", FactorMatrix[[TYPE]:[TYPE]], Q$33)*Years","v":0},{"$f":"SUMIFS(FactorMatrix[[DOWNSTREAMENERGY]:[DOWNSTREAMENERGY]], FactorMatrix[[MODE]:[MODE]], $B51, FactorMatrix[[PHASE]:[PHASE]],\"MAINTENANCE\", FactorMatrix[[GHGSOURCE]:[GHGSOURCE]], \"track mile\", FactorMatrix[[TYPE]:[TYPE]], R$33)*Years","v":0},0,0,0]
[19,0,0,0,0,0,{"$f":"SUMIFS(FactorMatrix[[UPSTREAMMATERIALSENERGY]:[UPSTREAMMATERIALSENERGY]], FactorMatrix[[MODE]:[MODE]], $B52, FactorMatrix[[PHASE]:[PHASE]],\"MAINTENANCE\", FactorMatrix[[GHGSOURCE]:[GHGSOURCE]], \"track mile\", FactorMatrix[[TYPE]:[TYPE]], G$33)*Years","v":0},{"$f":"SUMIFS(FactorMatrix[[UPSTREAMMATERIALSENERGY]:[UPSTREAMMATERIALSENERGY]], FactorMatrix[[MODE]:[MODE]], $B52, FactorMatrix[[PHASE]:[PHASE]],\"MAINTENANCE\", FactorMatrix[[GHGSOURCE]:[GHGSOURCE]], \"track mile\", FactorMatrix[[TYPE]:[TYPE]], H$33)*Years","v":0},{"$f":"SUMIFS(FactorMatrix[[UPSTREAMMATERIALSENERGY]:[UPSTREAMMATERIALSENERGY]], FactorMatrix[[MODE]:[MODE]], $B52, FactorMatrix[[PHASE]:[PHASE]],\"MAINTENANCE\", FactorMatrix[[GHGSOURCE]:[GHGSOURCE]], \"track mile\", FactorMatrix[[TYPE]:[TYPE]], I$33)*Years","v":0},{"$f":"SUMIFS(FactorMatrix[[UPSTREAMMATERIALSENERGY]:[UPSTREAMMATERIALSENERGY]], FactorMatrix[[MODE]:[MODE]], $B52, FactorMatrix[[PHASE]:[PHASE]],\"MAINTENANCE\", FactorMatrix[[GHGSOURCE]:[GHGSOURCE]], \"track mile\", FactorMatrix[[TYPE]:[TYPE]], J$33)*Years","v":0},{"$f":"SUMIFS(FactorMatrix[[UPSTREAMTRANSPORTENERGY]:[UPSTREAMTRANSPORTENERGY]], FactorMatrix[[MODE]:[MODE]], $B52, FactorMatrix[[PHASE]:[PHASE]],\"MAINTENANCE\", FactorMatrix[[GHGSOURCE]:[GHGSOURCE]], \"track mile\", FactorMatrix[[TYPE]:[TYPE]], K$33)*Years","v":0},{"$f":"SUMIFS(FactorMatrix[[UPSTREAMTRANSPORTENERGY]:[UPSTREAMTRANSPORTENERGY]], FactorMatrix[[MODE]:[MODE]], $B52, FactorMatrix[[PHASE]:[PHASE]],\"MAINTENANCE\", FactorMatrix[[GHGSOURCE]:[GHGSOURCE]], \"track mile\", FactorMatrix[[TYPE]:[TYPE]], L$33)*Years","v":0},{"$f":"SUMIFS(FactorMatrix[[UPSTREAMTRANSPORTENERGY]:[UPSTREAMTRANSPORTENERGY]], FactorMatrix[[MODE]:[MODE]], $B52, FactorMatrix[[PHASE]:[PHASE]],\"MAINTENANCE\", FactorMatrix[[GHGSOURCE]:[GHGSOURCE]], \"track mile\", FactorMatrix[[TYPE]:[TYPE]], M$33)*Years","v":0},{"$f":"SUMIFS(FactorMatrix[[UPSTREAMTRANSPORTENERGY]:[UPSTREAMTRANSPORTENERGY]], FactorMatrix[[MODE]:[MODE]], $B52, FactorMatrix[[PHASE]:[PHASE]],\"MAINTENANCE\", FactorMatrix[[GHGSOURCE]:[GHGSOURCE]], \"track mile\", FactorMatrix[[TYPE]:[TYPE]], N$33)*Years","v":0},{"$f":"SUMIFS(FactorMatrix[[DOWNSTREAMENERGY]:[DOWNSTREAMENERGY]], FactorMatrix[[MODE]:[MODE]], $B52, FactorMatrix[[PHASE]:[PHASE]],\"MAINTENANCE\", FactorMatrix[[GHGSOURCE]:[GHGSOURCE]], \"track mile\", FactorMatrix[[TYPE]:[TYPE]], O$33)*Years","v":0},{"$f":"SUMIFS(FactorMatrix[[DOWNSTREAMENERGY]:[DOWNSTREAMENERGY]], FactorMatrix[[MODE]:[MODE]], $B52, FactorMatrix[[PHASE]:[PHASE]],\"MAINTENANCE\", FactorMatrix[[GHGSOURCE]:[GHGSOURCE]], \"track mile\", FactorMatrix[[TYPE]:[TYPE]], P$33)*Years","v":0},{"$f":"SUMIFS(FactorMatrix[[DOWNSTREAMENERGY]:[DOWNSTREAMENERGY]], FactorMatrix[[MODE]:[MODE]], $B52, FactorMatrix[[PHASE]:[PHASE]],\"MAINTENANCE\", FactorMatrix[[GHGSOURCE]:[GHGSOURCE]], \"track mile\", FactorMatrix[[TYPE]:[TYPE]], Q$33)*Years","v":0},{"$f":"SUMIFS(FactorMatrix[[DOWNSTREAMENERGY]:[DOWNSTREAMENERGY]], FactorMatrix[[MODE]:[MODE]], $B52, FactorMatrix[[PHASE]:[PHASE]],\"MAINTENANCE\", FactorMatrix[[GHGSOURCE]:[GHGSOURCE]], \"track mile\", FactorMatrix[[TYPE]:[TYPE]], R$33)*Years","v":0},0,0,0]
[20,0,0,0,0,0,{"$f":"SUMIFS(FactorMatrix[[UPSTREAMMATERIALSENERGY]:[UPSTREAMMATERIALSENERGY]], FactorMatrix[[MODE]:[MODE]], $B53, FactorMatrix[[PHASE]:[PHASE]],\"MAINTENANCE\", FactorMatrix[[GHGSOURCE]:[GHGSOURCE]], \"track mile\", FactorMatrix[[TYPE]:[TYPE]], G$33)*Years","v":0},{"$f":"SUMIFS(FactorMatrix[[UPSTREAMMATERIALSENERGY]:[UPSTREAMMATERIALSENERGY]], FactorMatrix[[MODE]:[MODE]], $B53, FactorMatrix[[PHASE]:[PHASE]],\"MAINTENANCE\", FactorMatrix[[GHGSOURCE]:[GHGSOURCE]], \"track mile\", FactorMatrix[[TYPE]:[TYPE]], H$33)*Years","v":0},{"$f":"SUMIFS(FactorMatrix[[UPSTREAMMATERIALSENERGY]:[UPSTREAMMATERIALSENERGY]], FactorMatrix[[MODE]:[MODE]], $B53, FactorMatrix[[PHASE]:[PHASE]],\"MAINTENANCE\", FactorMatrix[[GHGSOURCE]:[GHGSOURCE]], \"track mile\", FactorMatrix[[TYPE]:[TYPE]], I$33)*Years","v":0},{"$f":"SUMIFS(FactorMatrix[[UPSTREAMMATERIALSENERGY]:[UPSTREAMMATERIALSENERGY]], FactorMatrix[[MODE]:[MODE]], $B53, FactorMatrix[[PHASE]:[PHASE]],\"MAINTENANCE\", FactorMatrix[[GHGSOURCE]:[GHGSOURCE]], \"track mile\", FactorMatrix[[TYPE]:[TYPE]], J$33)*Years","v":0},{"$f":"SUMIFS(FactorMatrix[[UPSTREAMTRANSPORTENERGY]:[UPSTREAMTRANSPORTENERGY]], FactorMatrix[[MODE]:[MODE]], $B53, FactorMatrix[[PHASE]:[PHASE]],\"MAINTENANCE\", FactorMatrix[[GHGSOURCE]:[GHGSOURCE]], \"track mile\", FactorMatrix[[TYPE]:[TYPE]], K$33)*Years","v":0},{"$f":"SUMIFS(FactorMatrix[[UPSTREAMTRANSPORTENERGY]:[UPSTREAMTRANSPORTENERGY]], FactorMatrix[[MODE]:[MODE]], $B53, FactorMatrix[[PHASE]:[PHASE]],\"MAINTENANCE\", FactorMatrix[[GHGSOURCE]:[GHGSOURCE]], \"track mile\", FactorMatrix[[TYPE]:[TYPE]], L$33)*Years","v":0},{"$f":"SUMIFS(FactorMatrix[[UPSTREAMTRANSPORTENERGY]:[UPSTREAMTRANSPORTENERGY]], FactorMatrix[[MODE]:[MODE]], $B53, FactorMatrix[[PHASE]:[PHASE]],\"MAINTENANCE\", FactorMatrix[[GHGSOURCE]:[GHGSOURCE]], \"track mile\", FactorMatrix[[TYPE]:[TYPE]], M$33)*Years","v":0},{"$f":"SUMIFS(FactorMatrix[[UPSTREAMTRANSPORTENERGY]:[UPSTREAMTRANSPORTENERGY]], FactorMatrix[[MODE]:[MODE]], $B53, FactorMatrix[[PHASE]:[PHASE]],\"MAINTENANCE\", FactorMatrix[[GHGSOURCE]:[GHGSOURCE]], \"track mile\", FactorMatrix[[TYPE]:[TYPE]], N$33)*Years","v":0},{"$f":"SUMIFS(FactorMatrix[[DOWNSTREAMENERGY]:[DOWNSTREAMENERGY]], FactorMatrix[[MODE]:[MODE]], $B53, FactorMatrix[[PHASE]:[PHASE]],\"MAINTENANCE\", FactorMatrix[[GHGSOURCE]:[GHGSOURCE]], \"track mile\", FactorMatrix[[TYPE]:[TYPE]], O$33)*Years","v":0},{"$f":"SUMIFS(FactorMatrix[[DOWNSTREAMENERGY]:[DOWNSTREAMENERGY]], FactorMatrix[[MODE]:[MODE]], $B53, FactorMatrix[[PHASE]:[PHASE]],\"MAINTENANCE\", FactorMatrix[[GHGSOURCE]:[GHGSOURCE]], \"track mile\", FactorMatrix[[TYPE]:[TYPE]], P$33)*Years","v":0},{"$f":"SUMIFS(FactorMatrix[[DOWNSTREAMENERGY]:[DOWNSTREAMENERGY]], FactorMatrix[[MODE]:[MODE]], $B53, FactorMatrix[[PHASE]:[PHASE]],\"MAINTENANCE\", FactorMatrix[[GHGSOURCE]:[GHGSOURCE]], \"track mile\", FactorMatrix[[TYPE]:[TYPE]], Q$33)*Years","v":0},{"$f":"SUMIFS(FactorMatrix[[DOWNSTREAMENERGY]:[DOWNSTREAMENERGY]], FactorMatrix[[MODE]:[MODE]], $B53, FactorMatrix[[PHASE]:[PHASE]],\"MAINTENANCE\", FactorMatrix[[GHGSOURCE]:[GHGSOURCE]], \"track mile\", FactorMatrix[[TYPE]:[TYPE]], R$33)*Years","v":0},0,0,0]
[]
["Facility Operations",null,null,null,null,null,{"$f":"G59/30","v":0},"RESULTS",null,null,"FINAL RESULTS"]
["INPUTS"]
["row","Transit Mode","Building Type","Square Footage","Upstream Materials","Upstream Transport","Downstream","UPSTREAM MATERIALS","UPSTREAM TRANSPORT","DOWNSTREAM","UPSTREAM MATERIALS","UPSTREAM TRANSPORT","DOWNSTREAM"]
[1,{"$f":"'Facility Operations'!B5","v":0},{"$f":"'Facility Operations'!C5","v":0},{"$f":"'Facility Operations'!D5","v":0},{"$f":"SUMIFS(FactorMatrix[[UPSTREAMMATERIALSENERGY]:[UPSTREAMMATERIALSENERGY]], FactorMatrix[[MODE]:[MODE]], $B58, FactorMatrix[[PHASE]:[PHASE]], \"Operations\", FactorMatrix[[GHGSOURCE]:[GHGSOURCE]], $C58)*Years","v":0},{"$f":"SUMIFS(FactorMatrix[[UPSTREAMTRANSPORTENERGY]:[UPSTREAMTRANSPORTENERGY]], FactorMatrix[[MODE]:[MODE]], $B58, FactorMatrix[[PHASE]:[PHASE]], \"Operations\", FactorMatrix[[GHGSOURCE]:[GHGSOURCE]], $C58)*Years","v":0},{"$f":"SUMIFS(FactorMatrix[[DOWNSTREAMENERGY]:[DOWNSTREAMENERGY]], FactorMatrix[[MODE]:[MODE]], $B58, FactorMatrix[[PHASE]:[PHASE]], \"Operations\", FactorMatrix[[GHGSOURCE]:[GHGSOURCE]], $C58)*Years","v":0},{"$f":"$D58*E58","v":0},{"$f":"$D58*F58","v":0},{"$f":"$D58*G58","v":0},{"$f":"SUM(H58:H77)","v":0},{"$f":"SUM(I58:I77)","v":0},{"$f":"SUM(J58:J77)","v":0}]
[2,{"$f":"'Facility Operations'!B6","v":0},{"$f":"'Facility Operations'!C6","v":0},{"$f":"'Facility Operations'!D6","v":0},{"$f":"SUMIFS(FactorMatrix[[UPSTREAMMATERIALSENERGY]:[UPSTREAMMATERIALSENERGY]], FactorMatrix[[MODE]:[MODE]], $B59, FactorMatrix[[PHASE]:[PHASE]], \"Operations\", FactorMatrix[[GHGSOURCE]:[GHGSOURCE]], $C59)*Years","v":0},{"$f":"SUMIFS(FactorMatrix[[UPSTREAMTRANSPORTENERGY]:[UPSTREAMTRANSPORTENERGY]], FactorMatrix[[MODE]:[MODE]], $B59, FactorMatrix[[PHASE]:[PHASE]], \"Operations\", FactorMatrix[[GHGSOURCE]:[GHGSOURCE]], $C59)*Years","v":0},{"$f":"SUMIFS(FactorMatrix[[DOWNSTREAMENERGY]:[DOWNSTREAMENERGY]], FactorMatrix[[MODE]:[MODE]], $B59, FactorMatrix[[PHASE]:[PHASE]], \"Operations\", FactorMatrix[[GHGSOURCE]:[GHGSOURCE]], $C59)*Years","v":0},{"$f":"$D59*E59","v":0},0,0]
[3,{"$f":"'Facility Operations'!B7","v":0},{"$f":"'Facility Operations'!C7","v":0},{"$f":"'Facility Operations'!D7","v":0},{"$f":"SUMIFS(FactorMatrix[[UPSTREAMMATERIALSENERGY]:[UPSTREAMMATERIALSENERGY]], FactorMatrix[[MODE]:[MODE]], $B60, FactorMatrix[[PHASE]:[PHASE]], \"Operations\", FactorMatrix[[GHGSOURCE]:[GHGSOURCE]], $C60)*Years","v":0},{"$f":"SUMIFS(FactorMatrix[[UPSTREAMTRANSPORTENERGY]:[UPSTREAMTRANSPORTENERGY]], FactorMatrix[[MODE]:[MODE]], $B60, FactorMatrix[[PHASE]:[PHASE]], \"Operations\", FactorMatrix[[GHGSOURCE]:[GHGSOURCE]], $C60)*Years","v":0},{"$f":"SUMIFS(FactorMatrix[[DOWNSTREAMENERGY]:[DOWNSTREAMENERGY]], FactorMatrix[[MODE]:[MODE]], $B60, FactorMatrix[[PHASE]:[PHASE]], \"Operations\", FactorMatrix[[GHGSOURCE]:[GHGSOURCE]], $C60)*Years","v":0},0,0,0,"Annual"]
[4,{"$f":"'Facility Operations'!B8","v":0},{"$f":"'Facility Operations'!C8","v":0},{"$f":"'Facility Operations'!D8","v":0},{"$f":"SUMIFS(FactorMatrix[[UPSTREAMMATERIALSENERGY]:[UPSTREAMMATERIALSENERGY]], FactorMatrix[[MODE]:[MODE]], $B61, FactorMatrix[[PHASE]:[PHASE]], \"Operations\", FactorMatrix[[GHGSOURCE]:[GHGSOURCE]], $C61)*Years","v":0},{"$f":"SUMIFS(FactorMatrix[[UPSTREAMTRANSPORTENERGY]:[UPSTREAMTRANSPORTENERGY]], FactorMatrix[[MODE]:[MODE]], $B61, FactorMatrix[[PHASE]:[PHASE]], \"Operations\", FactorMatrix[[GHGSOURCE]:[GHGSOURCE]], $C61)*Years","v":0},{"$f":"SUMIFS(FactorMatrix[[DOWNSTREAMENERGY]:[DOWNSTREAMENERGY]], FactorMatrix[[MODE]:[MODE]], $B61, FactorMatrix[[PHASE]:[PHASE]], \"Operations\", FactorMatrix[[GHGSOURCE]:[GHGSOURCE]], $C61)*Years","v":0},0,0,0]
[5,{"$f":"'Facility Operations'!B9","v":0},{"$f":"'Facility Operations'!C9","v":0},{"$f":"'Facility Operations'!D9","v":0},{"$f":"SUMIFS(FactorMatrix[[UPSTREAMMATERIALSENERGY]:[UPSTREAMMATERIALSENERGY]], FactorMatrix[[MODE]:[MODE]], $B62, FactorMatrix[[PHASE]:[PHASE]], \"Operations\", FactorMatrix[[GHGSOURCE]:[GHGSOURCE]], $C62)*Years","v":0},{"$f":"SUMIFS(FactorMatrix[[UPSTREAMTRANSPORTENERGY]:[UPSTREAMTRANSPORTENERGY]], FactorMatrix[[MODE]:[MODE]], $B62, FactorMatrix[[PHASE]:[PHASE]], \"Operations\", FactorMatrix[[GHGSOURCE]:[GHGSOURCE]], $C62)*Years","v":0},{"$f":"SUMIFS(FactorMatrix[[DOWNSTREAMENERGY]:[DOWNSTREAMENERGY]], FactorMatrix[[MODE]:[MODE]], $B62, FactorMatrix[[PHASE]:[PHASE]], \"Operations\", FactorMatrix[[GHGSOURCE]:[GHGSOURCE]], $C62)*Years","v":0},0,0,0,"UPSTREAM MATERIALS","UPSTREAM TRANSPORT","DOWNSTREAM"]
[6,{"$f":"'Facility Operations'!B10","v":0},{"$f":"'Facility Operations'!C10","v":0},{"$f":"'Facility Operations'!D10","v":0},{"$f":"SUMIFS(FactorMatrix[[UPSTREAMMATERIALSENERGY]:[UPSTREAMMATERIALSENERGY]], FactorMatrix[[MODE]:[MODE]], $B63, FactorMatrix[[PHASE]:[PHASE]], \"Operations\", FactorMatrix[[GHGSOURCE]:[GHGSOURCE]], $C63)*Years","v":0},{"$f":"SUMIFS(FactorMatrix[[UPSTREAMTRANSPORTENERGY]:[UPSTREAMTRANSPORTENERGY]], FactorMatrix[[MODE]:[MODE]], $B63, FactorMatrix[[PHASE]:[PHASE]], \"Operations\", FactorMatrix[[GHGSOURCE]:[GHGSOURCE]], $C63)*Years","v":0},{"$f":"SUMIFS(FactorMatrix[[DOWNSTREAMENERGY]:[DOWNSTREAMENERGY]], FactorMatrix[[MODE]:[MODE]], $B63, FactorMatrix[[PHASE]:[PHASE]], \"Operations\", FactorMatrix[[GHGSOURCE]:[GHGSOURCE]], $C63)*Years","v":0},0,0,0,{"$f":"K58/Years","v":{"$error":"#DIV/0!"}},{"$f":"L58/Years","v":{"$error":"#DIV/0!"}},{"$f":"M58/Years","v":{"$error":"#DIV/0!"}}]
[7,{"$f":"'Facility Operations'!B11","v":0},{"$f":"'Facility Operations'!C11","v":0},{"$f":"'Facility Operations'!D11","v":0},{"$f":"SUMIFS(FactorMatrix[[UPSTREAMMATERIALSENERGY]:[UPSTREAMMATERIALSENERGY]], FactorMatrix[[MODE]:[MODE]], $B64, FactorMatrix[[PHASE]:[PHASE]], \"Operations\", FactorMatrix[[GHGSOURCE]:[GHGSOURCE]], $C64)*Years","v":0},{"$f":"SUMIFS(FactorMatrix[[UPSTREAMTRANSPORTENERGY]:[UPSTREAMTRANSPORTENERGY]], FactorMatrix[[MODE]:[MODE]], $B64, FactorMatrix[[PHASE]:[PHASE]], \"Operations\", FactorMatrix[[GHGSOURCE]:[GHGSOURCE]], $C64)*Years","v":0},{"$f":"SUMIFS(FactorMatrix[[DOWNSTREAMENERGY]:[DOWNSTREAMENERGY]], FactorMatrix[[MODE]:[MODE]], $B64, FactorMatrix[[PHASE]:[PHASE]], \"Operations\", FactorMatrix[[GHGSOURCE]:[GHGSOURCE]], $C64)*Years","v":0},0,0,0]
[8,{"$f":"'Facility Operations'!B12","v":0},{"$f":"'Facility Operations'!C12","v":0},{"$f":"'Facility Operations'!D12","v":0},{"$f":"SUMIFS(FactorMatrix[[UPSTREAMMATERIALSENERGY]:[UPSTREAMMATERIALSENERGY]], FactorMatrix[[MODE]:[MODE]], $B65, FactorMatrix[[PHASE]:[PHASE]], \"Operations\", FactorMatrix[[GHGSOURCE]:[GHGSOURCE]], $C65)*Years","v":0},{"$f":"SUMIFS(FactorMatrix[[UPSTREAMTRANSPORTENERGY]:[UPSTREAMTRANSPORTENERGY]], FactorMatrix[[MODE]:[MODE]], $B65, FactorMatrix[[PHASE]:[PHASE]], \"Operations\", FactorMatrix[[GHGSOURCE]:[GHGSOURCE]], $C65)*Years","v":0},{"$f":"SUMIFS(FactorMatrix[[DOWNSTREAMENERGY]:[DOWNSTREAMENERGY]], FactorMatrix[[MODE]:[MODE]], $B65, FactorMatrix[[PHASE]:[PHASE]], \"Operations\", FactorMatrix[[GHGSOURCE]:[GHGSOURCE]], $C65)*Years","v":0},0,0,0]
[9,{"$f":"'Facility Operations'!B13","v":0},{"$f":"'Facility Operations'!C13","v":0},{"$f":"'Facility Operations'!D13","v":0},{"$f":"SUMIFS(FactorMatrix[[UPSTREAMMATERIALSENERGY]:[UPSTREAMMATERIALSENERGY]], FactorMatrix[[MODE]:[MODE]], $B66, FactorMatrix[[PHASE]:[PHASE]], \"Operations\", FactorMatrix[[GHGSOURCE]:[GHGSOURCE]], $C66)*Years","v":0},{"$f":"SUMIFS(FactorMatrix[[UPSTREAMTRANSPORTENERGY]:[UPSTREAMTRANSPORTENERGY]], FactorMatrix[[MODE]:[MODE]], $B66, FactorMatrix[[PHASE]:[PHASE]], \"Operations\", FactorMatrix[[GHGSOURCE]:[GHGSOURCE]], $C66)*Years","v":0},{"$f":"SUMIFS(FactorMatrix[[DOWNSTREAMENERGY]:[DOWNSTREAMENERGY]], FactorMatrix[[MODE]:[MODE]], $B66, FactorMatrix[[PHASE]:[PHASE]], \"Operations\", FactorMatrix[[GHGSOURCE]:[GHGSOURCE]], $C66)*Years","v":0},0,0,0]
[10,{"$f":"'Facility Operations'!B14","v":0},{"$f":"'Facility Operations'!C14","v":0},{"$f":"'Facility Operations'!D14","v":0},{"$f":"SUMIFS(FactorMatrix[[UPSTREAMMATERIALSENERGY]:[UPSTREAMMATERIALSENERGY]], FactorMatrix[[MODE]:[MODE]], $B67, FactorMatrix[[PHASE]:[PHASE]], \"Operations\", FactorMatrix[[GHGSOURCE]:[GHGSOURCE]], $C67)*Years","v":0},{"$f":"SUMIFS(FactorMatrix[[UPSTREAMTRANSPORTENERGY]:[UPSTREAMTRANSPORTENERGY]], FactorMatrix[[MODE]:[MODE]], $B67, FactorMatrix[[PHASE]:[PHASE]], \"Operations\", FactorMatrix[[GHGSOURCE]:[GHGSOURCE]], $C67)*Years","v":0},{"$f":"SUMIFS(FactorMatrix[[DOWNSTREAMENERGY]:[DOWNSTREAMENERGY]], FactorMatrix[[MODE]:[MODE]], $B67, FactorMatrix[[PHASE]:[PHASE]], \"Operations\", FactorMatrix[[GHGSOURCE]:[GHGSOURCE]], $C67)*Years","v":0},0,0,0]
[11,{"$f":"'Facility Operations'!B15","v":0},{"$f":"'Facility Operations'!C15","v":0},{"$f":"'Facility Operations'!D15","v":0},{"$f":"SUMIFS(FactorMatrix[[UPSTREAMMATERIALSENERGY]:[UPSTREAMMATERIALSENERGY]], FactorMatrix[[MODE]:[MODE]], $B68, FactorMatrix[[PHASE]:[PHASE]], \"Operations\", FactorMatrix[[GHGSOURCE]:[GHGSOURCE]], $C68)*Years","v":0},{"$f":"SUMIFS(FactorMatrix[[UPSTREAMTRANSPORTENERGY]:[UPSTREAMTRANSPORTENERGY]], FactorMatrix[[MODE]:[MODE]], $B68, FactorMatrix[[PHASE]:[PHASE]], \"Operations\", FactorMatrix[[GHGSOURCE]:[GHGSOURCE]], $C68)*Years","v":0},{"$f":"SUMIFS(FactorMatrix[[DOWNSTREAMENERGY]:[DOWNSTREAMENERGY]], FactorMatrix[[MODE]:[MODE]], $B68, FactorMatrix[[PHASE]:[PHASE]], \"Operations\", FactorMatrix[[GHGSOURCE]:[GHGSOURCE]], $C68)*Years","v":0},0,0,0]
[12,{"$f":"'Facility Operations'!B16","v":0},{"$f":"'Facility Operations'!C16","v":0},{"$f":"'Facility Operations'!D16","v":0},{"$f":"SUMIFS(FactorMatrix[[UPSTREAMMATERIALSENERGY]:[UPSTREAMMATERIALSENERGY]], FactorMatrix[[MODE]:[MODE]], $B69, FactorMatrix[[PHASE]:[PHASE]], \"Operations\", FactorMatrix[[GHGSOURCE]:[GHGSOURCE]], $C69)*Years","v":0},{"$f":"SUMIFS(FactorMatrix[[UPSTREAMTRANSPORTENERGY]:[UPSTREAMTRANSPORTENERGY]], FactorMatrix[[MODE]:[MODE]], $B69, FactorMatrix[[PHASE]:[PHASE]], \"Operations\", FactorMatrix[[GHGSOURCE]:[GHGSOURCE]], $C69)*Years","v":0},{"$f":"SUMIFS(FactorMatrix[[DOWNSTREAMENERGY]:[DOWNSTREAMENERGY]], FactorMatrix[[MODE]:[MODE]], $B69, FactorMatrix[[PHASE]:[PHASE]], \"Operations\", FactorMatrix[[GHGSOURCE]:[GHGSOURCE]], $C69)*Years","v":0},0,0,0]
[13,{"$f":"'Facility Operations'!B17","v":0},{"$f":"'Facility Operations'!C17","v":0},{"$f":"'Facility Operations'!D17","v":0},{"$f":"SUMIFS(FactorMatrix[[UPSTREAMMATERIALSENERGY]:[UPSTREAMMATERIALSENERGY]], FactorMatrix[[MODE]:[MODE]], $B70, FactorMatrix[[PHASE]:[PHASE]], \"Operations\", FactorMatrix[[GHGSOURCE]:[GHGSOURCE]], $C70)*Years","v":0},{"$f":"SUMIFS(FactorMatrix[[UPSTREAMTRANSPORTENERGY]:[UPSTREAMTRANSPORTENERGY]], FactorMatrix[[MODE]:[MODE]], $B70, FactorMatrix[[PHASE]:[PHASE]], \"Operations\", FactorMatrix[[GHGSOURCE]:[GHGSOURCE]], $C70)*Years","v":0},{"$f":"SUMIFS(FactorMatrix[[DOWNSTREAMENERGY]:[DOWNSTREAMENERGY]], FactorMatrix[[MODE]:[MODE]], $B70, FactorMatrix[[PHASE]:[PHASE]], \"Operations\", FactorMatrix[[GHGSOURCE]:[GHGSOURCE]], $C70)*Years","v":0},0,0,0]
[14,{"$f":"'Facility Operations'!B18","v":0},{"$f":"'Facility Operations'!C18","v":0},{"$f":"'Facility Operations'!D18","v":0},{"$f":"SUMIFS(FactorMatrix[[UPSTREAMMATERIALSENERGY]:[UPSTREAMMATERIALSENERGY]], FactorMatrix[[MODE]:[MODE]], $B71, FactorMatrix[[PHASE]:[PHASE]], \"Operations\", FactorMatrix[[GHGSOURCE]:[GHGSOURCE]], $C71)*Years","v":0},{"$f":"SUMIFS(FactorMatrix[[UPSTREAMTRANSPORTENERGY]:[UPSTREAMTRANSPORTENERGY]], FactorMatrix[[MODE]:[MODE]], $B71, FactorMatrix[[PHASE]:[PHASE]], \"Operations\", FactorMatrix[[GHGSOURCE]:[GHGSOURCE]], $C71)*Years","v":0},{"$f":"SUMIFS(FactorMatrix[[DOWNSTREAMENERGY]:[DOWNSTREAMENERGY]], FactorMatrix[[MODE]:[MODE]], $B71, FactorMatrix[[PHASE]:[PHASE]], \"Operations\", FactorMatrix[[GHGSOURCE]:[GHGSOURCE]], $C71)*Years","v":0},0,0,0]
[15,{"$f":"'Facility Operations'!B19","v":0},{"$f":"'Facility Operations'!C19","v":0},{"$f":"'Facility Operations'!D19","v":0},{"$f":"SUMIFS(FactorMatrix[[UPSTREAMMATERIALSENERGY]:[UPSTREAMMATERIALSENERGY]], FactorMatrix[[MODE]:[MODE]], $B72, FactorMatrix[[PHASE]:[PHASE]], \"Operations\", FactorMatrix[[GHGSOURCE]:[GHGSOURCE]], $C72)*Years","v":0},{"$f":"SUMIFS(FactorMatrix[[UPSTREAMTRANSPORTENERGY]:[UPSTREAMTRANSPORTENERGY]], FactorMatrix[[MODE]:[MODE]], $B72, FactorMatrix[[PHASE]:[PHASE]], \"Operations\", FactorMatrix[[GHGSOURCE]:[GHGSOURCE]], $C72)*Years","v":0},{"$f":"SUMIFS(FactorMatrix[[DOWNSTREAMENERGY]:[DOWNSTREAMENERGY]], FactorMatrix[[MODE]:[MODE]], $B72, FactorMatrix[[PHASE]:[PHASE]], \"Operations\", FactorMatrix[[GHGSOURCE]:[GHGSOURCE]], $C72)*Years","v":0},0,0,0]
[16,{"$f":"'Facility Operations'!B20","v":0},{"$f":"'Facility Operations'!C20","v":0},{"$f":"'Facility Operations'!D20","v":0},{"$f":"SUMIFS(FactorMatrix[[UPSTREAMMATERIALSENERGY]:[UPSTREAMMATERIALSENERGY]], FactorMatrix[[MODE]:[MODE]], $B73, FactorMatrix[[PHASE]:[PHASE]], \"Operations\", FactorMatrix[[GHGSOURCE]:[GHGSOURCE]], $C73)*Years","v":0},{"$f":"SUMIFS(FactorMatrix[[UPSTREAMTRANSPORTENERGY]:[UPSTREAMTRANSPORTENERGY]], FactorMatrix[[MODE]:[MODE]], $B73, FactorMatrix[[PHASE]:[PHASE]], \"Operations\", FactorMatrix[[GHGSOURCE]:[GHGSOURCE]], $C73)*Years","v":0},{"$f":"SUMIFS(FactorMatrix[[DOWNSTREAMENERGY]:[DOWNSTREAMENERGY]], FactorMatrix[[MODE]:[MODE]], $B73, FactorMatrix[[PHASE]:[PHASE]], \"Operations\", FactorMatrix[[GHGSOURCE]:[GHGSOURCE]], $C73)*Years","v":0},0,0,0]
[17,{"$f":"'Facility Operations'!B21","v":0},{"$f":"'Facility Operations'!C21","v":0},{"$f":"'Facility Operations'!D21","v":0},{"$f":"SUMIFS(FactorMatrix[[UPSTREAMMATERIALSENERGY]:[UPSTREAMMATERIALSENERGY]], FactorMatrix[[MODE]:[MODE]], $B74, FactorMatrix[[PHASE]:[PHASE]], \"Operations\", FactorMatrix[[GHGSOURCE]:[GHGSOURCE]], $C74)*Years","v":0},{"$f":"SUMIFS(FactorMatrix[[UPSTREAMTRANSPORTENERGY]:[UPSTREAMTRANSPORTENERGY]], FactorMatrix[[MODE]:[MODE]], $B74, FactorMatrix[[PHASE]:[PHASE]], \"Operations\", FactorMatrix[[GHGSOURCE]:[GHGSOURCE]], $C74)*Years","v":0},{"$f":"SUMIFS(FactorMatrix[[DOWNSTREAMENERGY]:[DOWNSTREAMENERGY]], FactorMatrix[[MODE]:[MODE]], $B74, FactorMatrix[[PHASE]:[PHASE]], \"Operations\", FactorMatrix[[GHGSOURCE]:[GHGSOURCE]], $C74)*Years","v":0},0,0,0]
[18,{"$f":"'Facility Operations'!B22","v":0},{"$f":"'Facility Operations'!C22","v":0},{"$f":"'Facility Operations'!D22","v":0},{"$f":"SUMIFS(FactorMatrix[[UPSTREAMMATERIALSENERGY]:[UPSTREAMMATERIALSENERGY]], FactorMatrix[[MODE]:[MODE]], $B75, FactorMatrix[[PHASE]:[PHASE]], \"Operations\", FactorMatrix[[GHGSOURCE]:[GHGSOURCE]], $C75)*Years","v":0},{"$f":"SUMIFS(FactorMatrix[[UPSTREAMTRANSPORTENERGY]:[UPSTREAMTRANSPORTENERGY]], FactorMatrix[[MODE]:[MODE]], $B75, FactorMatrix[[PHASE]:[PHASE]], \"Operations\", FactorMatrix[[GHGSOURCE]:[GHGSOURCE]], $C75)*Years","v":0},{"$f":"SUMIFS(FactorMatrix[[DOWNSTREAMENERGY]:[DOWNSTREAMENERGY]], FactorMatrix[[MODE]:[MODE]], $B75, FactorMatrix[[PHASE]:[PHASE]], \"Operations\", FactorMatrix[[GHGSOURCE]:[GHGSOURCE]], $C75)*Years","v":0},0,0,0]
[19,{"$f":"'Facility Operations'!B23","v":0},{"$f":"'Facility Operations'!C23","v":0},{"$f":"'Facility Operations'!D23","v":0},{"$f":"SUMIFS(FactorMatrix[[UPSTREAMMATERIALSENERGY]:[UPSTREAMMATERIALSENERGY]], FactorMatrix[[MODE]:[MODE]], $B76, FactorMatrix[[PHASE]:[PHASE]], \"Operations\", FactorMatrix[[GHGSOURCE]:[GHGSOURCE]], $C76)*Years","v":0},{"$f":"SUMIFS(FactorMatrix[[UPSTREAMTRANSPORTENERGY]:[UPSTREAMTRANSPORTENERGY]], FactorMatrix[[MODE]:[MODE]], $B76, FactorMatrix[[PHASE]:[PHASE]], \"Operations\", FactorMatrix[[GHGSOURCE]:[GHGSOURCE]], $C76)*Years","v":0},{"$f":"SUMIFS(FactorMatrix[[DOWNSTREAMENERGY]:[DOWNSTREAMENERGY]], FactorMatrix[[MODE]:[MODE]], $B76, FactorMatrix[[PHASE]:[PHASE]], \"Operations\", FactorMatrix[[GHGSOURCE]:[GHGSOURCE]], $C76)*Years","v":0},0,0,0]
[20,{"$f":"'Facility Operations'!B24","v":0},{"$f":"'Facility Operations'!C24","v":0},{"$f":"'Facility Operations'!D24","v":0},{"$f":"SUMIFS(FactorMatrix[[UPSTREAMMATERIALSENERGY]:[UPSTREAMMATERIALSENERGY]], FactorMatrix[[MODE]:[MODE]], $B77, FactorMatrix[[PHASE]:[PHASE]], \"Operations\", FactorMatrix[[GHGSOURCE]:[GHGSOURCE]], $C77)*Years","v":0},{"$f":"SUMIFS(FactorMatrix[[UPSTREAMTRANSPORTENERGY]:[UPSTREAMTRANSPORTENERGY]], FactorMatrix[[MODE]:[MODE]], $B77, FactorMatrix[[PHASE]:[PHASE]], \"Operations\", FactorMatrix[[GHGSOURCE]:[GHGSOURCE]], $C77)*Years","v":0},{"$f":"SUMIFS(FactorMatrix[[DOWNSTREAMENERGY]:[DOWNSTREAMENERGY]], FactorMatrix[[MODE]:[MODE]], $B77, FactorMatrix[[PHASE]:[PHASE]], \"Operations\", FactorMatrix[[GHGSOURCE]:[GHGSOURCE]], $C77)*Years","v":0},0,0,0]
[]
["Vehicle Operations",null,null,null,null,null,{"$f":"G82/Years","v":{"$error":"#DIV/0!"}},{"$f":"F82*G79","v":{"$error":"#DIV/0!"}},null,"RESULTS",null,null,"FINAL RESULTS"]
["INPUTS",null,null,null,null,null,"Factors"]
["row","Operation Mode ","Fuel Source","eGrid Subregion (if applicable)","NERC Region (Deduced from eGrid)","VMT","Upstream Materials","Upstream Transport","Downstream","UPSTREAM MATERIALS","UPSTREAM TRANSPORT","DOWNSTREAM","UPSTREAM MATERIALS","UPSTREAM TRANSPORT","DOWNSTREAM"]
[1,{"$f":"'Vehicle Operations&Maintenance'!B5","v":0},{"$f":"'Vehicle Operations&Maintenance'!C5","v":0},{"$f":"'Vehicle Operations&Maintenance'!D5","v":0},{"$f":"_xlfn.IFNA(INDEX(Dropdowns!L$3:L$31, MATCH(D82, EGridSubregions, 0)), 0)","v":0},{"$f":"'Vehicle Operations&Maintenance'!E5","v":0},{"$f":"(SUMIFS(FactorMatrix[[UPSTREAMMATERIALSENERGY]:[UPSTREAMMATERIALSENERGY]], FactorMatrix[[MODE]:[MODE]], $B82, FactorMatrix[[PHASE]:[PHASE]], \"Operations\", FactorMatrix[[GHGSOURCE]:[GHGSOURCE]], \"Vehicle\", FactorMatrix[[TYPE]:[TYPE]], $C82, FactorMatrix[[STATE /REGION]:[STATE /REGION]], $D82)*Years\n+\nSUMIFS(FactorMatrix[[UPSTREAMMATERIALSENERGY]:[UPSTREAMMATERIALSENERGY]], FactorMatrix[[MODE]:[MODE]], $B82, FactorMatrix[[PHASE]:[PHASE]], \"Operations\", FactorMatrix[[GHGSOURCE]:[GHGSOURCE]], \"Vehicle\", FactorMatrix[[TYPE]:[TYPE]], $C82, FactorMatrix[[STATE /REGION]:[STATE /REGION]], $E82)*Years)/IF(AND(D82=0, E82=0), 2, 1)","v":0},{"$f":"(SUMIFS(FactorMatrix[[UPSTREAMTRANSPORTENERGY]:[UPSTREAMTRANSPORTENERGY]], FactorMatrix[[MODE]:[MODE]], $B82, FactorMatrix[[PHASE]:[PHASE]], \"Operations\", FactorMatrix[[GHGSOURCE]:[GHGSOURCE]], \"Vehicle\", FactorMatrix[[TYPE]:[TYPE]], $C82, FactorMatrix[[STATE /REGION]:[STATE /REGION]], $D82)*Years\n+\nSUMIFS(FactorMatrix[[UPSTREAMTRANSPORTENERGY]:[UPSTREAMTRANSPORTENERGY]], FactorMatrix[[MODE]:[MODE]], $B82, FactorMatrix[[PHASE]:[PHASE]], \"Operations\", FactorMatrix[[GHGSOURCE]:[GHGSOURCE]], \"Vehicle\", FactorMatrix[[TYPE]:[TYPE]], $C82, FactorMatrix[[STATE /REGION]:[STATE /REGION]], $E82)*Years)/IF(AND(D82=0, E82=0), 2, 1)","v":0},{"$f":"(SUMIFS(FactorMatrix[[DOWNSTREAMENERGY]:[DOWNSTREAMENERGY]], FactorMatrix[[MODE]:[MODE]], $B82, FactorMatrix[[PHASE]:[PHASE]], \"Operations\", FactorMatrix[[GHGSOURCE]:[GHGSOURCE]], \"Vehicle\", FactorMatrix[[TYPE]:[TYPE]], $C82, FactorMatrix[[STATE /REGION]:[STATE /REGION]], $D82)*Years\n+\nSUMIFS(FactorMatrix[[DOWNSTREAMENERGY]:[DOWNSTREAMENERGY]], FactorMatrix[[MODE]:[MODE]], $B82, FactorMatrix[[PHASE]:[PHASE]], \"Operations\", FactorMatrix[[GHGSOURCE]:[GHGSOURCE]], \"Vehicle\", FactorMatrix[[TYPE]:[TYPE]], $C82, FactorMatrix[[STATE /REGION]:[STATE /REGION]], $E82)*Years)/IF(AND(D82=0, E82=0), 2, 1)","v":0},{"$f":"$F82*G82","v":0},{"$f":"$F82*H82","v":0},{"$f":"$F82*I82","v":0},{"$f":"SUM(J82:J101)","v":0},{"$f":"SUM(K82:K101)","v":0},{"$f":"SUM(L82:L101)","v":0}]
[2,{"$f":"'Vehicle Operations&Maintenance'!B6","v":0},{"$f":"'Vehicle Operations&Maintenance'!C6","v":0},{"$f":"'Vehicle Operations&Maintenance'!D6","v":0},{"$f":"_xlfn.IFNA(INDEX(Dropdowns!L$3:L$31, MATCH(D83, EGridSubregions, 0)), 0)","v":0},{"$f":"'Vehicle Operations&Maintenance'!E6","v":0},{"$f":"(SUMIFS(FactorMatrix[[UPSTREAMMATERIALSENERGY]:[UPSTREAMMATERIALSENERGY]], FactorMatrix[[MODE]:[MODE]], $B83, FactorMatrix[[PHASE]:[PHASE]], \"Operations\", FactorMatrix[[GHGSOURCE]:[GHGSOURCE]], \"Vehicle\", FactorMatrix[[TYPE]:[TYPE]], $C83, FactorMatrix[[STATE /REGION]:[STATE /REGION]], $D83)*Years\n+\nSUMIFS(FactorMatrix[[UPSTREAMMATERIALSENERGY]:[UPSTREAMMATERIALSENERGY]], FactorMatrix[[MODE]:[MODE]], $B83, FactorMatrix[[PHASE]:[PHASE]], \"Operations\", FactorMatrix[[GHGSOURCE]:[GHGSOURCE]], \"Vehicle\", FactorMatrix[[TYPE]:[TYPE]], $C83, FactorMatrix[[STATE /REGION]:[STATE /REGION]], $E83)*Years)/IF(AND(D83=0, E83=0), 2, 1)","v":0},{"$f":"(SUMIFS(FactorMatrix[[UPSTREAMTRANSPORTENERGY]:[UPSTREAMTRANSPORTENERGY]], FactorMatrix[[MODE]:[MODE]], $B83, FactorMatrix[[PHASE]:[PHASE]], \"Operations\", FactorMatrix[[GHGSOURCE]:[GHGSOURCE]], \"Vehicle\", FactorMatrix[[TYPE]:[TYPE]], $C83, FactorMatrix[[STATE /REGION]:[STATE /REGION]], $D83)*Years\n+\nSUMIFS(FactorMatrix[[UPSTREAMTRANSPORTENERGY]:[UPSTREAMTRANSPORTENERGY]], FactorMatrix[[MODE]:[MODE]], $B83, FactorMatrix[[PHASE]:[PHASE]], \"Operations\", FactorMatrix[[GHGSOURCE]:[GHGSOURCE]], \"Vehicle\", FactorMatrix[[TYPE]:[TYPE]], $C83, FactorMatrix[[STATE /REGION]:[STATE /REGION]], $E83)*Years)/IF(AND(D83=0, E83=0), 2, 1)","v":0},{"$f":"(SUMIFS(FactorMatrix[[DOWNSTREAMENERGY]:[DOWNSTREAMENERGY]], FactorMatrix[[MODE]:[MODE]], $B83, FactorMatrix[[PHASE]:[PHASE]], \"Operations\", FactorMatrix[[GHGSOURCE]:[GHGSOURCE]], \"Vehicle\", FactorMatrix[[TYPE]:[TYPE]], $C83, FactorMatrix[[STATE /REGION]:[STATE /REGION]], $D83)*Years\n+\nSUMIFS(FactorMatrix[[DOWNSTREAMENERGY]:[DOWNSTREAMENERGY]], FactorMatrix[[MODE]:[MODE]], $B83, FactorMatrix[[PHASE]:[PHASE]], \"Operations\", FactorMatrix[[GHGSOURCE]:[GHGSOURCE]], \"Vehicle\", FactorMatrix[[TYPE]:[TYPE]], $C83, FactorMatrix[[STATE /REGION]:[STATE /REGION]], $E83)*Years)/IF(AND(D83=0, E83=0), 2, 1)","v":0},{"$f":"$F83*G83","v":0},0,0]
[3,{"$f":"'Vehicle Operations&Maintenance'!B7","v":0},{"$f":"'Vehicle Operations&Maintenance'!C7","v":0},{"$f":"'Vehicle Operations&Maintenance'!D7","v":0},{"$f":"_xlfn.IFNA(INDEX(Dropdowns!L$3:L$31, MATCH(D84, EGridSubregions, 0)), 0)","v":0},{"$f":"'Vehicle Operations&Maintenance'!E7","v":0},{"$f":"(SUMIFS(FactorMatrix[[UPSTREAMMATERIALSENERGY]:[UPSTREAMMATERIALSENERGY]], FactorMatrix[[MODE]:[MODE]], $B84, FactorMatrix[[PHASE]:[PHASE]], \"Operations\", FactorMatrix[[GHGSOURCE]:[GHGSOURCE]], \"Vehicle\", FactorMatrix[[TYPE]:[TYPE]], $C84, FactorMatrix[[STATE /REGION]:[STATE /REGION]], $D84)*Years\n+\nSUMIFS(FactorMatrix[[UPSTREAMMATERIALSENERGY]:[UPSTREAMMATERIALSENERGY]], FactorMatrix[[MODE]:[MODE]], $B84, FactorMatrix[[PHASE]:[PHASE]], \"Operations\", FactorMatrix[[GHGSOURCE]:[GHGSOURCE]], \"Vehicle\", FactorMatrix[[TYPE]:[TYPE]], $C84, FactorMatrix[[STATE /REGION]:[STATE /REGION]], $E84)*Years)/IF(AND(D84=0, E84=0), 2, 1)","v":0},{"$f":"(SUMIFS(FactorMatrix[[UPSTREAMTRANSPORTENERGY]:[UPSTREAMTRANSPORTENERGY]], FactorMatrix[[MODE]:[MODE]], $B84, FactorMatrix[[PHASE]:[PHASE]], \"Operations\", FactorMatrix[[GHGSOURCE]:[GHGSOURCE]], \"Vehicle\", FactorMatrix[[TYPE]:[TYPE]], $C84, FactorMatrix[[STATE /REGION]:[STATE /REGION]], $D84)*Years\n+\nSUMIFS(FactorMatrix[[UPSTREAMTRANSPORTENERGY]:[UPSTREAMTRANSPORTENERGY]], FactorMatrix[[MODE]:[MODE]], $B84, FactorMatrix[[PHASE]:[PHASE]], \"Operations\", FactorMatrix[[GHGSOURCE]:[GHGSOURCE]], \"Vehicle\", FactorMatrix[[TYPE]:[TYPE]], $C84, FactorMatrix[[STATE /REGION]:[STATE /REGION]], $E84)*Years)/IF(AND(D84=0, E84=0), 2, 1)","v":0},{"$f":"(SUMIFS(FactorMatrix[[DOWNSTREAMENERGY]:[DOWNSTREAMENERGY]], FactorMatrix[[MODE]:[MODE]], $B84, FactorMatrix[[PHASE]:[PHASE]], \"Operations\", FactorMatrix[[GHGSOURCE]:[GHGSOURCE]], \"Vehicle\", FactorMatrix[[TYPE]:[TYPE]], $C84, FactorMatrix[[STATE /REGION]:[STATE /REGION]], $D84)*Years\n+\nSUMIFS(FactorMatrix[[DOWNSTREAMENERGY]:[DOWNSTREAMENERGY]], FactorMatrix[[MODE]:[MODE]], $B84, FactorMatrix[[PHASE]:[PHASE]], \"Operations\", FactorMatrix[[GHGSOURCE]:[GHGSOURCE]], \"Vehicle\", FactorMatrix[[TYPE]:[TYPE]], $C84, FactorMatrix[[STATE /REGION]:[STATE /REGION]], $E84)*Years)/IF(AND(D84=0, E84=0), 2, 1)","v":0},0,0,0,"Annual"]
[4,{"$f":"'Vehicle Operations&Maintenance'!B8","v":0},{"$f":"'Vehicle Operations&Maintenance'!C8","v":0},{"$f":"'Vehicle Operations&Maintenance'!D8","v":0},{"$f":"_xlfn.IFNA(INDEX(Dropdowns!L$3:L$31, MATCH(D85, EGridSubregions, 0)), 0)","v":0},{"$f":"'Vehicle Operations&Maintenance'!E8","v":0},{"$f":"(SUMIFS(FactorMatrix[[UPSTREAMMATERIALSENERGY]:[UPSTREAMMATERIALSENERGY]], FactorMatrix[[MODE]:[MODE]], $B85, FactorMatrix[[PHASE]:[PHASE]], \"Operations\", FactorMatrix[[GHGSOURCE]:[GHGSOURCE]], \"Vehicle\", FactorMatrix[[TYPE]:[TYPE]], $C85, FactorMatrix[[STATE /REGION]:[STATE /REGION]], $D85)*Years\n+\nSUMIFS(FactorMatrix[[UPSTREAMMATERIALSENERGY]:[UPSTREAMMATERIALSENERGY]], FactorMatrix[[MODE]:[MODE]], $B85, FactorMatrix[[PHASE]:[PHASE]], \"Operations\", FactorMatrix[[GHGSOURCE]:[GHGSOURCE]], \"Vehicle\", FactorMatrix[[TYPE]:[TYPE]], $C85, FactorMatrix[[STATE /REGION]:[STATE /REGION]], $E85)*Years)/IF(AND(D85=0, E85=0), 2, 1)","v":0},{"$f":"(SUMIFS(FactorMatrix[[UPSTREAMTRANSPORTENERGY]:[UPSTREAMTRANSPORTENERGY]], FactorMatrix[[MODE]:[MODE]], $B85, FactorMatrix[[PHASE]:[PHASE]], \"Operations\", FactorMatrix[[GHGSOURCE]:[GHGSOURCE]], \"Vehicle\", FactorMatrix[[TYPE]:[TYPE]], $C85, FactorMatrix[[STATE /REGION]:[STATE /REGION]], $D85)*Years\n+\nSUMIFS(FactorMatrix[[UPSTREAMTRANSPORTENERGY]:[UPSTREAMTRANSPORTENERGY]], FactorMatrix[[MODE]:[MODE]], $B85, FactorMatrix[[PHASE]:[PHASE]], \"Operations\", FactorMatrix[[GHGSOURCE]:[GHGSOURCE]], \"Vehicle\", FactorMatrix[[TYPE]:[TYPE]], $C85, FactorMatrix[[STATE /REGION]:[STATE /REGION]], $E85)*Years)/IF(AND(D85=0, E85=0), 2, 1)","v":0},{"$f":"(SUMIFS(FactorMatrix[[DOWNSTREAMENERGY]:[DOWNSTREAMENERGY]], FactorMatrix[[MODE]:[MODE]], $B85, FactorMatrix[[PHASE]:[PHASE]], \"Operations\", FactorMatrix[[GHGSOURCE]:[GHGSOURCE]], \"Vehicle\", FactorMatrix[[TYPE]:[TYPE]], $C85, FactorMatrix[[STATE /REGION]:[STATE /REGION]], $D85)*Years\n+\nSUMIFS(FactorMatrix[[DOWNSTREAMENERGY]:[DOWNSTREAMENERGY]], FactorMatrix[[MODE]:[MODE]], $B85, FactorMatrix[[PHASE]:[PHASE]], \"Operations\", FactorMatrix[[GHGSOURCE]:[GHGSOURCE]], \"Vehicle\", FactorMatrix[[TYPE]:[TYPE]], $C85, FactorMatrix[[STATE /REGION]:[STATE /REGION]], $E85)*Years)/IF(AND(D85=0, E85=0), 2, 1)","v":0},0,0,0]
[5,{"$f":"'Vehicle Operations&Maintenance'!B9","v":0},{"$f":"'Vehicle Operations&Maintenance'!C9","v":0},{"$f":"'Vehicle Operations&Maintenance'!D9","v":0},{"$f":"_xlfn.IFNA(INDEX(Dropdowns!L$3:L$31, MATCH(D86, EGridSubregions, 0)), 0)","v":0},{"$f":"'Vehicle Operations&Maintenance'!E9","v":0},{"$f":"(SUMIFS(FactorMatrix[[UPSTREAMMATERIALSENERGY]:[UPSTREAMMATERIALSENERGY]], FactorMatrix[[MODE]:[MODE]], $B86, FactorMatrix[[PHASE]:[PHASE]], \"Operations\", FactorMatrix[[GHGSOURCE]:[GHGSOURCE]], \"Vehicle\", FactorMatrix[[TYPE]:[TYPE]], $C86, FactorMatrix[[STATE /REGION]:[STATE /REGION]], $D86)*Years\n+\nSUMIFS(FactorMatrix[[UPSTREAMMATERIALSENERGY]:[UPSTREAMMATERIALSENERGY]], FactorMatrix[[MODE]:[MODE]], $B86, FactorMatrix[[PHASE]:[PHASE]], \"Operations\", FactorMatrix[[GHGSOURCE]:[GHGSOURCE]], \"Vehicle\", FactorMatrix[[TYPE]:[TYPE]], $C86, FactorMatrix[[STATE /REGION]:[STATE /REGION]], $E86)*Years)/IF(AND(D86=0, E86=0), 2, 1)","v":0},{"$f":"(SUMIFS(FactorMatrix[[UPSTREAMTRANSPORTENERGY]:[UPSTREAMTRANSPORTENERGY]], FactorMatrix[[MODE]:[MODE]], $B86, FactorMatrix[[PHASE]:[PHASE]], \"Operations\", FactorMatrix[[GHGSOURCE]:[GHGSOURCE]], \"Vehicle\", FactorMatrix[[TYPE]:[TYPE]], $C86, FactorMatrix[[STATE /REGION]:[STATE /REGION]], $D86)*Years\n+\nSUMIFS(FactorMatrix[[UPSTREAMTRANSPORTENERGY]:[UPSTREAMTRANSPORTENERGY]], FactorMatrix[[MODE]:[MODE]], $B86, FactorMatrix[[PHASE]:[PHASE]], \"Operations\", FactorMatrix[[GHGSOURCE]:[GHGSOURCE]], \"Vehicle\", FactorMatrix[[TYPE]:[TYPE]], $C86, FactorMatrix[[STATE /REGION]:[STATE /REGION]], $E86)*Years)/IF(AND(D86=0, E86=0), 2, 1)","v":0},{"$f":"(SUMIFS(FactorMatrix[[DOWNSTREAMENERGY]:[DOWNSTREAMENERGY]], FactorMatrix[[MODE]:[MODE]], $B86, FactorMatrix[[PHASE]:[PHASE]], \"Operations\", FactorMatrix[[GHGSOURCE]:[GHGSOURCE]], \"Vehicle\", FactorMatrix[[TYPE]:[TYPE]], $C86, FactorMatrix[[STATE /REGION]:[STATE /REGION]], $D86)*Years\n+\nSUMIFS(FactorMatrix[[DOWNSTREAMENERGY]:[DOWNSTREAMENERGY]], FactorMatrix[[MODE]:[MODE]], $B86, FactorMatrix[[PHASE]:[PHASE]], \"Operations\", FactorMatrix[[GHGSOURCE]:[GHGSOURCE]], \"Vehicle\", FactorMatrix[[TYPE]:[TYPE]], $C86, FactorMatrix[[STATE /REGION]:[STATE /REGION]], $E86)*Years)/IF(AND(D86=0, E86=0), 2, 1)","v":0},0,0,0,"UPSTREAM MATERIALS","UPSTREAM TRANSPORT","DOWNSTREAM"]
[6,{"$f":"'Vehicle Operations&Maintenance'!B10","v":0},{"$f":"'Vehicle Operations&Maintenance'!C10","v":0},{"$f":"'Vehicle Operations&Maintenance'!D10","v":0},{"$f":"_xlfn.IFNA(INDEX(Dropdowns!L$3:L$31, MATCH(D87, EGridSubregions, 0)), 0)","v":0},{"$f":"'Vehicle Operations&Maintenance'!E10","v":0},{"$f":"(SUMIFS(FactorMatrix[[UPSTREAMMATERIALSENERGY]:[UPSTREAMMATERIALSENERGY]], FactorMatrix[[MODE]:[MODE]], $B87, FactorMatrix[[PHASE]:[PHASE]], \"Operations\", FactorMatrix[[GHGSOURCE]:[GHGSOURCE]], \"Vehicle\", FactorMatrix[[TYPE]:[TYPE]], $C87, FactorMatrix[[STATE /REGION]:[STATE /REGION]], $D87)*Years\n+\nSUMIFS(FactorMatrix[[UPSTREAMMATERIALSENERGY]:[UPSTREAMMATERIALSENERGY]], FactorMatrix[[MODE]:[MODE]], $B87, FactorMatrix[[PHASE]:[PHASE]], \"Operations\", FactorMatrix[[GHGSOURCE]:[GHGSOURCE]], \"Vehicle\", FactorMatrix[[TYPE]:[TYPE]], $C87, FactorMatrix[[STATE /REGION]:[STATE /REGION]], $E87)*Years)/IF(AND(D87=0, E87=0), 2, 1)","v":0},{"$f":"(SUMIFS(FactorMatrix[[UPSTREAMTRANSPORTENERGY]:[UPSTREAMTRANSPORTENERGY]], FactorMatrix[[MODE]:[MODE]], $B87, FactorMatrix[[PHASE]:[PHASE]], \"Operations\", FactorMatrix[[GHGSOURCE]:[GHGSOURCE]], \"Vehicle\", FactorMatrix[[TYPE]:[TYPE]], $C87, FactorMatrix[[STATE /REGION]:[STATE /REGION]], $D87)*Years\n+\nSUMIFS(FactorMatrix[[UPSTREAMTRANSPORTENERGY]:[UPSTREAMTRANSPORTENERGY]], FactorMatrix[[MODE]:[MODE]], $B87, FactorMatrix[[PHASE]:[PHASE]], \"Operations\", FactorMatrix[[GHGSOURCE]:[GHGSOURCE]], \"Vehicle\", FactorMatrix[[TYPE]:[TYPE]], $C87, FactorMatrix[[STATE /REGION]:[STATE /REGION]], $E87)*Years)/IF(AND(D87=0, E87=0), 2, 1)","v":0},{"$f":"(SUMIFS(FactorMatrix[[DOWNSTREAMENERGY]:[DOWNSTREAMENERGY]], FactorMatrix[[MODE]:[MODE]], $B87, FactorMatrix[[PHASE]:[PHASE]], \"Operations\", FactorMatrix[[GHGSOURCE]:[GHGSOURCE]], \"Vehicle\", FactorMatrix[[TYPE]:[TYPE]], $C87, FactorMatrix[[STATE /REGION]:[STATE /REGION]], $D87)*Years\n+\nSUMIFS(FactorMatrix[[DOWNSTREAMENERGY]:[DOWNSTREAMENERGY]], FactorMatrix[[MODE]:[MODE]], $B87, FactorMatrix[[PHASE]:[PHASE]], \"Operations\", FactorMatrix[[GHGSOURCE]:[GHGSOURCE]], \"Vehicle\", FactorMatrix[[TYPE]:[TYPE]], $C87, FactorMatrix[[STATE /REGION]:[STATE /REGION]], $E87)*Years)/IF(AND(D87=0, E87=0), 2, 1)","v":0},0,0,0,{"$f":"M82/Years","v":{"$error":"#DIV/0!"}},{"$f":"N82/Years","v":{"$error":"#DIV/0!"}},{"$f":"O82/Years","v":{"$error":"#DIV/0!"}}]
[7,{"$f":"'Vehicle Operations&Maintenance'!B11","v":0},{"$f":"'Vehicle Operations&Maintenance'!C11","v":0},{"$f":"'Vehicle Operations&Maintenance'!D11","v":0},{"$f":"_xlfn.IFNA(INDEX(Dropdowns!L$3:L$31, MATCH(D88, EGridSubregions, 0)), 0)","v":0},{"$f":"'Vehicle Operations&Maintenance'!E11","v":0},{"$f":"(SUMIFS(FactorMatrix[[UPSTREAMMATERIALSENERGY]:[UPSTREAMMATERIALSENERGY]], FactorMatrix[[MODE]:[MODE]], $B88, FactorMatrix[[PHASE]:[PHASE]], \"Operations\", FactorMatrix[[GHGSOURCE]:[GHGSOURCE]], \"Vehicle\", FactorMatrix[[TYPE]:[TYPE]], $C88, FactorMatrix[[STATE /REGION]:[STATE /REGION]], $D88)*Years\n+\nSUMIFS(FactorMatrix[[UPSTREAMMATERIALSENERGY]:[UPSTREAMMATERIALSENERGY]], FactorMatrix[[MODE]:[MODE]], $B88, FactorMatrix[[PHASE]:[PHASE]], \"Operations\", FactorMatrix[[GHGSOURCE]:[GHGSOURCE]], \"Vehicle\", FactorMatrix[[TYPE]:[TYPE]], $C88, FactorMatrix[[STATE /REGION]:[STATE /REGION]], $E88)*Years)/IF(AND(D88=0, E88=0), 2, 1)","v":0},{"$f":"(SUMIFS(FactorMatrix[[UPSTREAMTRANSPORTENERGY]:[UPSTREAMTRANSPORTENERGY]], FactorMatrix[[MODE]:[MODE]], $B88, FactorMatrix[[PHASE]:[PHASE]], \"Operations\", FactorMatrix[[GHGSOURCE]:[GHGSOURCE]], \"Vehicle\", FactorMatrix[[TYPE]:[TYPE]], $C88, FactorMatrix[[STATE /REGION]:[STATE /REGION]], $D88)*Years\n+\nSUMIFS(FactorMatrix[[UPSTREAMTRANSPORTENERGY]:[UPSTREAMTRANSPORTENERGY]], FactorMatrix[[MODE]:[MODE]], $B88, FactorMatrix[[PHASE]:[PHASE]], \"Operations\", FactorMatrix[[GHGSOURCE]:[GHGSOURCE]], \"Vehicle\", FactorMatrix[[TYPE]:[TYPE]], $C88, FactorMatrix[[STATE /REGION]:[STATE /REGION]], $E88)*Years)/IF(AND(D88=0, E88=0), 2, 1)","v":0},{"$f":"(SUMIFS(FactorMatrix[[DOWNSTREAMENERGY]:[DOWNSTREAMENERGY]], FactorMatrix[[MODE]:[MODE]], $B88, FactorMatrix[[PHASE]:[PHASE]], \"Operations\", FactorMatrix[[GHGSOURCE]:[GHGSOURCE]], \"Vehicle\", FactorMatrix[[TYPE]:[TYPE]], $C88, FactorMatrix[[STATE /REGION]:[STATE /REGION]], $D88)*Years\n+\nSUMIFS(FactorMatrix[[DOWNSTREAMENERGY]:[DOWNSTREAMENERGY]], FactorMatrix[[MODE]:[MODE]], $B88, FactorMatrix[[PHASE]:[PHASE]], \"Operations\", FactorMatrix[[GHGSOURCE]:[GHGSOURCE]], \"Vehicle\", FactorMatrix[[TYPE]:[TYPE]], $C88, FactorMatrix[[STATE /REGION]:[STATE /REGION]], $E88)*Years)/IF(AND(D88=0, E88=0), 2, 1)","v":0},0,0,0]
[8,{"$f":"'Vehicle Operations&Maintenance'!B12","v":0},{"$f":"'Vehicle Operations&Maintenance'!C12","v":0},{"$f":"'Vehicle Operations&Maintenance'!D12","v":0},{"$f":"_xlfn.IFNA(INDEX(Dropdowns!L$3:L$31, MATCH(D89, EGridSubregions, 0)), 0)","v":0},{"$f":"'Vehicle Operations&Maintenance'!E12","v":0},{"$f":"(SUMIFS(FactorMatrix[[UPSTREAMMATERIALSENERGY]:[UPSTREAMMATERIALSENERGY]], FactorMatrix[[MODE]:[MODE]], $B89, FactorMatrix[[PHASE]:[PHASE]], \"Operations\", FactorMatrix[[GHGSOURCE]:[GHGSOURCE]], \"Vehicle\", FactorMatrix[[TYPE]:[TYPE]], $C89, FactorMatrix[[STATE /REGION]:[STATE /REGION]], $D89)*Years\n+\nSUMIFS(FactorMatrix[[UPSTREAMMATERIALSENERGY]:[UPSTREAMMATERIALSENERGY]], FactorMatrix[[MODE]:[MODE]], $B89, FactorMatrix[[PHASE]:[PHASE]], \"Operations\", FactorMatrix[[GHGSOURCE]:[GHGSOURCE]], \"Vehicle\", FactorMatrix[[TYPE]:[TYPE]], $C89, FactorMatrix[[STATE /REGION]:[STATE /REGION]], $E89)*Years)/IF(AND(D89=0, E89=0), 2, 1)","v":0},{"$f":"(SUMIFS(FactorMatrix[[UPSTREAMTRANSPORTENERGY]:[UPSTREAMTRANSPORTENERGY]], FactorMatrix[[MODE]:[MODE]], $B89, FactorMatrix[[PHASE]:[PHASE]], \"Operations\", FactorMatrix[[GHGSOURCE]:[GHGSOURCE]], \"Vehicle\", FactorMatrix[[TYPE]:[TYPE]], $C89, FactorMatrix[[STATE /REGION]:[STATE /REGION]], $D89)*Years\n+\nSUMIFS(FactorMatrix[[UPSTREAMTRANSPORTENERGY]:[UPSTREAMTRANSPORTENERGY]], FactorMatrix[[MODE]:[MODE]], $B89, FactorMatrix[[PHASE]:[PHASE]], \"Operations\", FactorMatrix[[GHGSOURCE]:[GHGSOURCE]], \"Vehicle\", FactorMatrix[[TYPE]:[TYPE]], $C89, FactorMatrix[[STATE /REGION]:[STATE /REGION]], $E89)*Years)/IF(AND(D89=0, E89=0), 2, 1)","v":0},{"$f":"(SUMIFS(FactorMatrix[[DOWNSTREAMENERGY]:[DOWNSTREAMENERGY]], FactorMatrix[[MODE]:[MODE]], $B89, FactorMatrix[[PHASE]:[PHASE]], \"Operations\", FactorMatrix[[GHGSOURCE]:[GHGSOURCE]], \"Vehicle\", FactorMatrix[[TYPE]:[TYPE]], $C89, FactorMatrix[[STATE /REGION]:[STATE /REGION]], $D89)*Years\n+\nSUMIFS(FactorMatrix[[DOWNSTREAMENERGY]:[DOWNSTREAMENERGY]], FactorMatrix[[MODE]:[MODE]], $B89, FactorMatrix[[PHASE]:[PHASE]], \"Operations\", FactorMatrix[[GHGSOURCE]:[GHGSOURCE]], \"Vehicle\", FactorMatrix[[TYPE]:[TYPE]], $C89, FactorMatrix[[STATE /REGION]:[STATE /REGION]], $E89)*Years)/IF(AND(D89=0, E89=0), 2, 1)","v":0},0,0,0]
[9,{"$f":"'Vehicle Operations&Maintenance'!B13","v":0},{"$f":"'Vehicle Operations&Maintenance'!C13","v":0},{"$f":"'Vehicle Operations&Maintenance'!D13","v":0},{"$f":"_xlfn.IFNA(INDEX(Dropdowns!L$3:L$31, MATCH(D90, EGridSubregions, 0)), 0)","v":0},{"$f":"'Vehicle Operations&Maintenance'!E13","v":0},{"$f":"(SUMIFS(FactorMatrix[[UPSTREAMMATERIALSENERGY]:[UPSTREAMMATERIALSENERGY]], FactorMatrix[[MODE]:[MODE]], $B90, FactorMatrix[[PHASE]:[PHASE]], \"Operations\", FactorMatrix[[GHGSOURCE]:[GHGSOURCE]], \"Vehicle\", FactorMatrix[[TYPE]:[TYPE]], $C90, FactorMatrix[[STATE /REGION]:[STATE /REGION]], $D90)*Years\n+\nSUMIFS(FactorMatrix[[UPSTREAMMATERIALSENERGY]:[UPSTREAMMATERIALSENERGY]], FactorMatrix[[MODE]:[MODE]], $B90, FactorMatrix[[PHASE]:[PHASE]], \"Operations\", FactorMatrix[[GHGSOURCE]:[GHGSOURCE]], \"Vehicle\", FactorMatrix[[TYPE]:[TYPE]], $C90, FactorMatrix[[STATE /REGION]:[STATE /REGION]], $E90)*Years)/IF(AND(D90=0, E90=0), 2, 1)","v":0},{"$f":"(SUMIFS(FactorMatrix[[UPSTREAMTRANSPORTENERGY]:[UPSTREAMTRANSPORTENERGY]], FactorMatrix[[MODE]:[MODE]], $B90, FactorMatrix[[PHASE]:[PHASE]], \"Operations\", FactorMatrix[[GHGSOURCE]:[GHGSOURCE]], \"Vehicle\", FactorMatrix[[TYPE]:[TYPE]], $C90, FactorMatrix[[STATE /REGION]:[STATE /REGION]], $D90)*Years\n+\nSUMIFS(FactorMatrix[[UPSTREAMTRANSPORTENERGY]:[UPSTREAMTRANSPORTENERGY]], FactorMatrix[[MODE]:[MODE]], $B90, FactorMatrix[[PHASE]:[PHASE]], \"Operations\", FactorMatrix[[GHGSOURCE]:[GHGSOURCE]], \"Vehicle\", FactorMatrix[[TYPE]:[TYPE]], $C90, FactorMatrix[[STATE /REGION]:[STATE /REGION]], $E90)*Years)/IF(AND(D90=0, E90=0), 2, 1)","v":0},{"$f":"(SUMIFS(FactorMatrix[[DOWNSTREAMENERGY]:[DOWNSTREAMENERGY]], FactorMatrix[[MODE]:[MODE]], $B90, FactorMatrix[[PHASE]:[PHASE]], \"Operations\", FactorMatrix[[GHGSOURCE]:[GHGSOURCE]], \"Vehicle\", FactorMatrix[[TYPE]:[TYPE]], $C90, FactorMatrix[[STATE /REGION]:[STATE /REGION]], $D90)*Years\n+\nSUMIFS(FactorMatrix[[DOWNSTREAMENERGY]:[DOWNSTREAMENERGY]], FactorMatrix[[MODE]:[MODE]], $B90, FactorMatrix[[PHASE]:[PHASE]], \"Operations\", FactorMatrix[[GHGSOURCE]:[GHGSOURCE]], \"Vehicle\", FactorMatrix[[TYPE]:[TYPE]], $C90, FactorMatrix[[STATE /REGION]:[STATE /REGION]], $E90)*Years)/IF(AND(D90=0, E90=0), 2, 1)","v":0},0,0,0]
[10,{"$f":"'Vehicle Operations&Maintenance'!B14","v":0},{"$f":"'Vehicle Operations&Maintenance'!C14","v":0},{"$f":"'Vehicle Operations&Maintenance'!D14","v":0},{"$f":"_xlfn.IFNA(INDEX(Dropdowns!L$3:L$31, MATCH(D91, EGridSubregions, 0)), 0)","v":0},{"$f":"'Vehicle Operations&Maintenance'!E14","v":0},{"$f":"(SUMIFS(FactorMatrix[[UPSTREAMMATERIALSENERGY]:[UPSTREAMMATERIALSENERGY]], FactorMatrix[[MODE]:[MODE]], $B91, FactorMatrix[[PHASE]:[PHASE]], \"Operations\", FactorMatrix[[GHGSOURCE]:[GHGSOURCE]], \"Vehicle\", FactorMatrix[[TYPE]:[TYPE]], $C91, FactorMatrix[[STATE /REGION]:[STATE /REGION]], $D91)*Years\n+\nSUMIFS(FactorMatrix[[UPSTREAMMATERIALSENERGY]:[UPSTREAMMATERIALSENERGY]], FactorMatrix[[MODE]:[MODE]], $B91, FactorMatrix[[PHASE]:[PHASE]], \"Operations\", FactorMatrix[[GHGSOURCE]:[GHGSOURCE]], \"Vehicle\", FactorMatrix[[TYPE]:[TYPE]], $C91, FactorMatrix[[STATE /REGION]:[STATE /REGION]], $E91)*Years)/IF(AND(D91=0, E91=0), 2, 1)","v":0},{"$f":"(SUMIFS(FactorMatrix[[UPSTREAMTRANSPORTENERGY]:[UPSTREAMTRANSPORTENERGY]], FactorMatrix[[MODE]:[MODE]], $B91, FactorMatrix[[PHASE]:[PHASE]], \"Operations\", FactorMatrix[[GHGSOURCE]:[GHGSOURCE]], \"Vehicle\", FactorMatrix[[TYPE]:[TYPE]], $C91, FactorMatrix[[STATE /REGION]:[STATE /REGION]], $D91)*Years\n+\nSUMIFS(FactorMatrix[[UPSTREAMTRANSPORTENERGY]:[UPSTREAMTRANSPORTENERGY]], FactorMatrix[[MODE]:[MODE]], $B91, FactorMatrix[[PHASE]:[PHASE]], \"Operations\", FactorMatrix[[GHGSOURCE]:[GHGSOURCE]], \"Vehicle\", FactorMatrix[[TYPE]:[TYPE]], $C91, FactorMatrix[[STATE /REGION]:[STATE /REGION]], $E91)*Years)/IF(AND(D91=0, E91=0), 2, 1)","v":0},{"$f":"(SUMIFS(FactorMatrix[[DOWNSTREAMENERGY]:[DOWNSTREAMENERGY]], FactorMatrix[[MODE]:[MODE]], $B91, FactorMatrix[[PHASE]:[PHASE]], \"Operations\", FactorMatrix[[GHGSOURCE]:[GHGSOURCE]], \"Vehicle\", FactorMatrix[[TYPE]:[TYPE]], $C91, FactorMatrix[[STATE /REGION]:[STATE /REGION]], $D91)*Years\n+\nSUMIFS(FactorMatrix[[DOWNSTREAMENERGY]:[DOWNSTREAMENERGY]], FactorMatrix[[MODE]:[MODE]], $B91, FactorMatrix[[PHASE]:[PHASE]], \"Operations\", FactorMatrix[[GHGSOURCE]:[GHGSOURCE]], \"Vehicle\", FactorMatrix[[TYPE]:[TYPE]], $C91, FactorMatrix[[STATE /REGION]:[STATE /REGION]], $E91)*Years)/IF(AND(D91=0, E91=0), 2, 1)","v":0},0,0,0]
[11,{"$f":"'Vehicle Operations&Maintenance'!B15","v":0},{"$f":"'Vehicle Operations&Maintenance'!C15","v":0},{"$f":"'Vehicle Operations&Maintenance'!D15","v":0},{"$f":"_xlfn.IFNA(INDEX(Dropdowns!L$3:L$31, MATCH(D92, EGridSubregions, 0)), 0)","v":0},{"$f":"'Vehicle Operations&Maintenance'!E15","v":0},{"$f":"(SUMIFS(FactorMatrix[[UPSTREAMMATERIALSENERGY]:[UPSTREAMMATERIALSENERGY]], FactorMatrix[[MODE]:[MODE]], $B92, FactorMatrix[[PHASE]:[PHASE]], \"Operations\", FactorMatrix[[GHGSOURCE]:[GHGSOURCE]], \"Vehicle\", FactorMatrix[[TYPE]:[TYPE]], $C92, FactorMatrix[[STATE /REGION]:[STATE /REGION]], $D92)*Years\n+\nSUMIFS(FactorMatrix[[UPSTREAMMATERIALSENERGY]:[UPSTREAMMATERIALSENERGY]], FactorMatrix[[MODE]:[MODE]], $B92, FactorMatrix[[PHASE]:[PHASE]], \"Operations\", FactorMatrix[[GHGSOURCE]:[GHGSOURCE]], \"Vehicle\", FactorMatrix[[TYPE]:[TYPE]], $C92, FactorMatrix[[STATE /REGION]:[STATE /REGION]], $E92)*Years)/IF(AND(D92=0, E92=0), 2, 1)","v":0},{"$f":"(SUMIFS(FactorMatrix[[UPSTREAMTRANSPORTENERGY]:[UPSTREAMTRANSPORTENERGY]], FactorMatrix[[MODE]:[MODE]], $B92, FactorMatrix[[PHASE]:[PHASE]], \"Operations\", FactorMatrix[[GHGSOURCE]:[GHGSOURCE]], \"Vehicle\", FactorMatrix[[TYPE]:[TYPE]], $C92, FactorMatrix[[STATE /REGION]:[STATE /REGION]], $D92)*Years\n+\nSUMIFS(FactorMatrix[[UPSTREAMTRANSPORTENERGY]:[UPSTREAMTRANSPORTENERGY]], FactorMatrix[[MODE]:[MODE]], $B92, FactorMatrix[[PHASE]:[PHASE]], \"Operations\", FactorMatrix[[GHGSOURCE]:[GHGSOURCE]], \"Vehicle\", FactorMatrix[[TYPE]:[TYPE]], $C92, FactorMatrix[[STATE /REGION]:[STATE /REGION]], $E92)*Years)/IF(AND(D92=0, E92=0), 2, 1)","v":0},{"$f":"(SUMIFS(FactorMatrix[[DOWNSTREAMENERGY]:[DOWNSTREAMENERGY]], FactorMatrix[[MODE]:[MODE]], $B92, FactorMatrix[[PHASE]:[PHASE]], \"Operations\", FactorMatrix[[GHGSOURCE]:[GHGSOURCE]], \"Vehicle\", FactorMatrix[[TYPE]:[TYPE]], $C92, FactorMatrix[[STATE /REGION]:[STATE /REGION]], $D92)*Years\n+\nSUMIFS(FactorMatrix[[DOWNSTREAMENERGY]:[DOWNSTREAMENERGY]], FactorMatrix[[MODE]:[MODE]], $B92, FactorMatrix[[PHASE]:[PHASE]], \"Operations\", FactorMatrix[[GHGSOURCE]:[GHGSOURCE]], \"Vehicle\", FactorMatrix[[TYPE]:[TYPE]], $C92, FactorMatrix[[STATE /REGION]:[STATE /REGION]], $E92)*Years)/IF(AND(D92=0, E92=0), 2, 1)","v":0},0,0,0]
[12,{"$f":"'Vehicle Operations&Maintenance'!B16","v":0},{"$f":"'Vehicle Operations&Maintenance'!C16","v":0},{"$f":"'Vehicle Operations&Maintenance'!D16","v":0},{"$f":"_xlfn.IFNA(INDEX(Dropdowns!L$3:L$31, MATCH(D93, EGridSubregions, 0)), 0)","v":0},{"$f":"'Vehicle Operations&Maintenance'!E16","v":0},{"$f":"(SUMIFS(FactorMatrix[[UPSTREAMMATERIALSENERGY]:[UPSTREAMMATERIALSENERGY]], FactorMatrix[[MODE]:[MODE]], $B93, FactorMatrix[[PHASE]:[PHASE]], \"Operations\", FactorMatrix[[GHGSOURCE]:[GHGSOURCE]], \"Vehicle\", FactorMatrix[[TYPE]:[TYPE]], $C93, FactorMatrix[[STATE /REGION]:[STATE /REGION]], $D93)*Years\n+\nSUMIFS(FactorMatrix[[UPSTREAMMATERIALSENERGY]:[UPSTREAMMATERIALSENERGY]], FactorMatrix[[MODE]:[MODE]], $B93, FactorMatrix[[PHASE]:[PHASE]], \"Operations\", FactorMatrix[[GHGSOURCE]:[GHGSOURCE]], \"Vehicle\", FactorMatrix[[TYPE]:[TYPE]], $C93, FactorMatrix[[STATE /REGION]:[STATE /REGION]], $E93)*Years)/IF(AND(D93=0, E93=0), 2, 1)","v":0},{"$f":"(SUMIFS(FactorMatrix[[UPSTREAMTRANSPORTENERGY]:[UPSTREAMTRANSPORTENERGY]], FactorMatrix[[MODE]:[MODE]], $B93, FactorMatrix[[PHASE]:[PHASE]], \"Operations\", FactorMatrix[[GHGSOURCE]:[GHGSOURCE]], \"Vehicle\", FactorMatrix[[TYPE]:[TYPE]], $C93, FactorMatrix[[STATE /REGION]:[STATE /REGION]], $D93)*Years\n+\nSUMIFS(FactorMatrix[[UPSTREAMTRANSPORTENERGY]:[UPSTREAMTRANSPORTENERGY]], FactorMatrix[[MODE]:[MODE]], $B93, FactorMatrix[[PHASE]:[PHASE]], \"Operations\", FactorMatrix[[GHGSOURCE]:[GHGSOURCE]], \"Vehicle\", FactorMatrix[[TYPE]:[TYPE]], $C93, FactorMatrix[[STATE /REGION]:[STATE /REGION]], $E93)*Years)/IF(AND(D93=0, E93=0), 2, 1)","v":0},{"$f":"(SUMIFS(FactorMatrix[[DOWNSTREAMENERGY]:[DOWNSTREAMENERGY]], FactorMatrix[[MODE]:[MODE]], $B93, FactorMatrix[[PHASE]:[PHASE]], \"Operations\", FactorMatrix[[GHGSOURCE]:[GHGSOURCE]], \"Vehicle\", FactorMatrix[[TYPE]:[TYPE]], $C93, FactorMatrix[[STATE /REGION]:[STATE /REGION]], $D93)*Years\n+\nSUMIFS(FactorMatrix[[DOWNSTREAMENERGY]:[DOWNSTREAMENERGY]], FactorMatrix[[MODE]:[MODE]], $B93, FactorMatrix[[PHASE]:[PHASE]], \"Operations\", FactorMatrix[[GHGSOURCE]:[GHGSOURCE]], \"Vehicle\", FactorMatrix[[TYPE]:[TYPE]], $C93, FactorMatrix[[STATE /REGION]:[STATE /REGION]], $E93)*Years)/IF(AND(D93=0, E93=0), 2, 1)","v":0},0,0,0]
[13,{"$f":"'Vehicle Operations&Maintenance'!B17","v":0},{"$f":"'Vehicle Operations&Maintenance'!C17","v":0},{"$f":"'Vehicle Operations&Maintenance'!D17","v":0},{"$f":"_xlfn.IFNA(INDEX(Dropdowns!L$3:L$31, MATCH(D94, EGridSubregions, 0)), 0)","v":0},{"$f":"'Vehicle Operations&Maintenance'!E17","v":0},{"$f":"(SUMIFS(FactorMatrix[[UPSTREAMMATERIALSENERGY]:[UPSTREAMMATERIALSENERGY]], FactorMatrix[[MODE]:[MODE]], $B94, FactorMatrix[[PHASE]:[PHASE]], \"Operations\", FactorMatrix[[GHGSOURCE]:[GHGSOURCE]], \"Vehicle\", FactorMatrix[[TYPE]:[TYPE]], $C94, FactorMatrix[[STATE /REGION]:[STATE /REGION]], $D94)*Years\n+\nSUMIFS(FactorMatrix[[UPSTREAMMATERIALSENERGY]:[UPSTREAMMATERIALSENERGY]], FactorMatrix[[MODE]:[MODE]], $B94, FactorMatrix[[PHASE]:[PHASE]], \"Operations\", FactorMatrix[[GHGSOURCE]:[GHGSOURCE]], \"Vehicle\", FactorMatrix[[TYPE]:[TYPE]], $C94, FactorMatrix[[STATE /REGION]:[STATE /REGION]], $E94)*Years)/IF(AND(D94=0, E94=0), 2, 1)","v":0},{"$f":"(SUMIFS(FactorMatrix[[UPSTREAMTRANSPORTENERGY]:[UPSTREAMTRANSPORTENERGY]], FactorMatrix[[MODE]:[MODE]], $B94, FactorMatrix[[PHASE]:[PHASE]], \"Operations\", FactorMatrix[[GHGSOURCE]:[GHGSOURCE]], \"Vehicle\", FactorMatrix[[TYPE]:[TYPE]], $C94, FactorMatrix[[STATE /REGION]:[STATE /REGION]], $D94)*Years\n+\nSUMIFS(FactorMatrix[[UPSTREAMTRANSPORTENERGY]:[UPSTREAMTRANSPORTENERGY]], FactorMatrix[[MODE]:[MODE]], $B94, FactorMatrix[[PHASE]:[PHASE]], \"Operations\", FactorMatrix[[GHGSOURCE]:[GHGSOURCE]], \"Vehicle\", FactorMatrix[[TYPE]:[TYPE]], $C94, FactorMatrix[[STATE /REGION]:[STATE /REGION]], $E94)*Years)/IF(AND(D94=0, E94=0), 2, 1)","v":0},{"$f":"(SUMIFS(FactorMatrix[[DOWNSTREAMENERGY]:[DOWNSTREAMENERGY]], FactorMatrix[[MODE]:[MODE]], $B94, FactorMatrix[[PHASE]:[PHASE]], \"Operations\", FactorMatrix[[GHGSOURCE]:[GHGSOURCE]], \"Vehicle\", FactorMatrix[[TYPE]:[TYPE]], $C94, FactorMatrix[[STATE /REGION]:[STATE /REGION]], $D94)*Years\n+\nSUMIFS(FactorMatrix[[DOWNSTREAMENERGY]:[DOWNSTREAMENERGY]], FactorMatrix[[MODE]:[MODE]], $B94, FactorMatrix[[PHASE]:[PHASE]], \"Operations\", FactorMatrix[[GHGSOURCE]:[GHGSOURCE]], \"Vehicle\", FactorMatrix[[TYPE]:[TYPE]], $C94, FactorMatrix[[STATE /REGION]:[STATE /REGION]], $E94)*Years)/IF(AND(D94=0, E94=0), 2, 1)","v":0},0,0,0]
[14,{"$f":"'Vehicle Operations&Maintenance'!B18","v":0},{"$f":"'Vehicle Operations&Maintenance'!C18","v":0},{"$f":"'Vehicle Operations&Maintenance'!D18","v":0},{"$f":"_xlfn.IFNA(INDEX(Dropdowns!L$3:L$31, MATCH(D95, EGridSubregions, 0)), 0)","v":0},{"$f":"'Vehicle Operations&Maintenance'!E18","v":0},{"$f":"(SUMIFS(FactorMatrix[[UPSTREAMMATERIALSENERGY]:[UPSTREAMMATERIALSENERGY]], FactorMatrix[[MODE]:[MODE]], $B95, FactorMatrix[[PHASE]:[PHASE]], \"Operations\", FactorMatrix[[GHGSOURCE]:[GHGSOURCE]], \"Vehicle\", FactorMatrix[[TYPE]:[TYPE]], $C95, FactorMatrix[[STATE /REGION]:[STATE /REGION]], $D95)*Years\n+\nSUMIFS(FactorMatrix[[UPSTREAMMATERIALSENERGY]:[UPSTREAMMATERIALSENERGY]], FactorMatrix[[MODE]:[MODE]], $B95, FactorMatrix[[PHASE]:[PHASE]], \"Operations\", FactorMatrix[[GHGSOURCE]:[GHGSOURCE]], \"Vehicle\", FactorMatrix[[TYPE]:[TYPE]], $C95, FactorMatrix[[STATE /REGION]:[STATE /REGION]], $E95)*Years)/IF(AND(D95=0, E95=0), 2, 1)","v":0},{"$f":"(SUMIFS(FactorMatrix[[UPSTREAMTRANSPORTENERGY]:[UPSTREAMTRANSPORTENERGY]], FactorMatrix[[MODE]:[MODE]], $B95, FactorMatrix[[PHASE]:[PHASE]], \"Operations\", FactorMatrix[[GHGSOURCE]:[GHGSOURCE]], \"Vehicle\", FactorMatrix[[TYPE]:[TYPE]], $C95, FactorMatrix[[STATE /REGION]:[STATE /REGION]], $D95)*Years\n+\nSUMIFS(FactorMatrix[[UPSTREAMTRANSPORTENERGY]:[UPSTREAMTRANSPORTENERGY]], FactorMatrix[[MODE]:[MODE]], $B95, FactorMatrix[[PHASE]:[PHASE]], \"Operations\", FactorMatrix[[GHGSOURCE]:[GHGSOURCE]], \"Vehicle\", FactorMatrix[[TYPE]:[TYPE]], $C95, FactorMatrix[[STATE /REGION]:[STATE /REGION]], $E95)*Years)/IF(AND(D95=0, E95=0), 2, 1)","v":0},{"$f":"(SUMIFS(FactorMatrix[[DOWNSTREAMENERGY]:[DOWNSTREAMENERGY]], FactorMatrix[[MODE]:[MODE]], $B95, FactorMatrix[[PHASE]:[PHASE]], \"Operations\", FactorMatrix[[GHGSOURCE]:[GHGSOURCE]], \"Vehicle\", FactorMatrix[[TYPE]:[TYPE]], $C95, FactorMatrix[[STATE /REGION]:[STATE /REGION]], $D95)*Years\n+\nSUMIFS(FactorMatrix[[DOWNSTREAMENERGY]:[DOWNSTREAMENERGY]], FactorMatrix[[MODE]:[MODE]], $B95, FactorMatrix[[PHASE]:[PHASE]], \"Operations\", FactorMatrix[[GHGSOURCE]:[GHGSOURCE]], \"Vehicle\", FactorMatrix[[TYPE]:[TYPE]], $C95, FactorMatrix[[STATE /REGION]:[STATE /REGION]], $E95)*Years)/IF(AND(D95=0, E95=0), 2, 1)","v":0},0,0,0]
[15,{"$f":"'Vehicle Operations&Maintenance'!B20","v":0},{"$f":"'Vehicle Operations&Maintenance'!C20","v":0},{"$f":"'Vehicle Operations&Maintenance'!D20","v":0},{"$f":"_xlfn.IFNA(INDEX(Dropdowns!L$3:L$31, MATCH(D96, EGridSubregions, 0)), 0)","v":0},{"$f":"'Vehicle Operations&Maintenance'!E20","v":0},{"$f":"(SUMIFS(FactorMatrix[[UPSTREAMMATERIALSENERGY]:[UPSTREAMMATERIALSENERGY]], FactorMatrix[[MODE]:[MODE]], $B96, FactorMatrix[[PHASE]:[PHASE]], \"Operations\", FactorMatrix[[GHGSOURCE]:[GHGSOURCE]], \"Vehicle\", FactorMatrix[[TYPE]:[TYPE]], $C96, FactorMatrix[[STATE /REGION]:[STATE /REGION]], $D96)*Years\n+\nSUMIFS(FactorMatrix[[UPSTREAMMATERIALSENERGY]:[UPSTREAMMATERIALSENERGY]], FactorMatrix[[MODE]:[MODE]], $B96, FactorMatrix[[PHASE]:[PHASE]], \"Operations\", FactorMatrix[[GHGSOURCE]:[GHGSOURCE]], \"Vehicle\", FactorMatrix[[TYPE]:[TYPE]], $C96, FactorMatrix[[STATE /REGION]:[STATE /REGION]], $E96)*Years)/IF(AND(D96=0, E96=0), 2, 1)","v":0},{"$f":"(SUMIFS(FactorMatrix[[UPSTREAMTRANSPORTENERGY]:[UPSTREAMTRANSPORTENERGY]], FactorMatrix[[MODE]:[MODE]], $B96, FactorMatrix[[PHASE]:[PHASE]], \"Operations\", FactorMatrix[[GHGSOURCE]:[GHGSOURCE]], \"Vehicle\", FactorMatrix[[TYPE]:[TYPE]], $C96, FactorMatrix[[STATE /REGION]:[STATE /REGION]], $D96)*Years\n+\nSUMIFS(FactorMatrix[[UPSTREAMTRANSPORTENERGY]:[UPSTREAMTRANSPORTENERGY]], FactorMatrix[[MODE]:[MODE]], $B96, FactorMatrix[[PHASE]:[PHASE]], \"Operations\", FactorMatrix[[GHGSOURCE]:[GHGSOURCE]], \"Vehicle\", FactorMatrix[[TYPE]:[TYPE]], $C96, FactorMatrix[[STATE /REGION]:[STATE /REGION]], $E96)*Years)/IF(AND(D96=0, E96=0), 2, 1)","v":0},{"$f":"(SUMIFS(FactorMatrix[[DOWNSTREAMENERGY]:[DOWNSTREAMENERGY]], FactorMatrix[[MODE]:[MODE]], $B96, FactorMatrix[[PHASE]:[PHASE]], \"Operations\", FactorMatrix[[GHGSOURCE]:[GHGSOURCE]], \"Vehicle\", FactorMatrix[[TYPE]:[TYPE]], $C96, FactorMatrix[[STATE /REGION]:[STATE /REGION]], $D96)*Years\n+\nSUMIFS(FactorMatrix[[DOWNSTREAMENERGY]:[DOWNSTREAMENERGY]], FactorMatrix[[MODE]:[MODE]], $B96, FactorMatrix[[PHASE]:[PHASE]], \"Operations\", FactorMatrix[[GHGSOURCE]:[GHGSOURCE]], \"Vehicle\", FactorMatrix[[TYPE]:[TYPE]], $C96, FactorMatrix[[STATE /REGION]:[STATE /REGION]], $E96)*Years)/IF(AND(D96=0, E96=0), 2, 1)","v":0},0,0,0]
[16,{"$f":"'Vehicle Operations&Maintenance'!B21","v":0},{"$f":"'Vehicle Operations&Maintenance'!C21","v":0},{"$f":"'Vehicle Operations&Maintenance'!D21","v":0},{"$f":"_xlfn.IFNA(INDEX(Dropdowns!L$3:L$31, MATCH(D97, EGridSubregions, 0)), 0)","v":0},{"$f":"'Vehicle Operations&Maintenance'!E21","v":0},{"$f":"(SUMIFS(FactorMatrix[[UPSTREAMMATERIALSENERGY]:[UPSTREAMMATERIALSENERGY]], FactorMatrix[[MODE]:[MODE]], $B97, FactorMatrix[[PHASE]:[PHASE]], \"Operations\", FactorMatrix[[GHGSOURCE]:[GHGSOURCE]], \"Vehicle\", FactorMatrix[[TYPE]:[TYPE]], $C97, FactorMatrix[[STATE /REGION]:[STATE /REGION]], $D97)*Years\n+\nSUMIFS(FactorMatrix[[UPSTREAMMATERIALSENERGY]:[UPSTREAMMATERIALSENERGY]], FactorMatrix[[MODE]:[MODE]], $B97, FactorMatrix[[PHASE]:[PHASE]], \"Operations\", FactorMatrix[[GHGSOURCE]:[GHGSOURCE]], \"Vehicle\", FactorMatrix[[TYPE]:[TYPE]], $C97, FactorMatrix[[STATE /REGION]:[STATE /REGION]], $E97)*Years)/IF(AND(D97=0, E97=0), 2, 1)","v":0},{"$f":"(SUMIFS(FactorMatrix[[UPSTREAMTRANSPORTENERGY]:[UPSTREAMTRANSPORTENERGY]], FactorMatrix[[MODE]:[MODE]], $B97, FactorMatrix[[PHASE]:[PHASE]], \"Operations\", FactorMatrix[[GHGSOURCE]:[GHGSOURCE]], \"Vehicle\", FactorMatrix[[TYPE]:[TYPE]], $C97, FactorMatrix[[STATE /REGION]:[STATE /REGION]], $D97)*Years\n+\nSUMIFS(FactorMatrix[[UPSTREAMTRANSPORTENERGY]:[UPSTREAMTRANSPORTENERGY]], FactorMatrix[[MODE]:[MODE]], $B97, FactorMatrix[[PHASE]:[PHASE]], \"Operations\", FactorMatrix[[GHGSOURCE]:[GHGSOURCE]], \"Vehicle\", FactorMatrix[[TYPE]:[TYPE]], $C97, FactorMatrix[[STATE /REGION]:[STATE /REGION]], $E97)*Years)/IF(AND(D97=0, E97=0), 2, 1)","v":0},{"$f":"(SUMIFS(FactorMatrix[[DOWNSTREAMENERGY]:[DOWNSTREAMENERGY]], FactorMatrix[[MODE]:[MODE]], $B97, FactorMatrix[[PHASE]:[PHASE]], \"Operations\", FactorMatrix[[GHGSOURCE]:[GHGSOURCE]], \"Vehicle\", FactorMatrix[[TYPE]:[TYPE]], $C97, FactorMatrix[[STATE /REGION]:[STATE /REGION]], $D97)*Years\n+\nSUMIFS(FactorMatrix[[DOWNSTREAMENERGY]:[DOWNSTREAMENERGY]], FactorMatrix[[MODE]:[MODE]], $B97, FactorMatrix[[PHASE]:[PHASE]], \"Operations\", FactorMatrix[[GHGSOURCE]:[GHGSOURCE]], \"Vehicle\", FactorMatrix[[TYPE]:[TYPE]], $C97, FactorMatrix[[STATE /REGION]:[STATE /REGION]], $E97)*Years)/IF(AND(D97=0, E97=0), 2, 1)","v":0},0,0,0]
[17,{"$f":"'Vehicle Operations&Maintenance'!B22","v":0},{"$f":"'Vehicle Operations&Maintenance'!C22","v":0},{"$f":"'Vehicle Operations&Maintenance'!D22","v":0},{"$f":"_xlfn.IFNA(INDEX(Dropdowns!L$3:L$31, MATCH(D98, EGridSubregions, 0)), 0)","v":0},{"$f":"'Vehicle Operations&Maintenance'!E22","v":0},{"$f":"(SUMIFS(FactorMatrix[[UPSTREAMMATERIALSENERGY]:[UPSTREAMMATERIALSENERGY]], FactorMatrix[[MODE]:[MODE]], $B98, FactorMatrix[[PHASE]:[PHASE]], \"Operations\", FactorMatrix[[GHGSOURCE]:[GHGSOURCE]], \"Vehicle\", FactorMatrix[[TYPE]:[TYPE]], $C98, FactorMatrix[[STATE /REGION]:[STATE /REGION]], $D98)*Years\n+\nSUMIFS(FactorMatrix[[UPSTREAMMATERIALSENERGY]:[UPSTREAMMATERIALSENERGY]], FactorMatrix[[MODE]:[MODE]], $B98, FactorMatrix[[PHASE]:[PHASE]], \"Operations\", FactorMatrix[[GHGSOURCE]:[GHGSOURCE]], \"Vehicle\", FactorMatrix[[TYPE]:[TYPE]], $C98, FactorMatrix[[STATE /REGION]:[STATE /REGION]], $E98)*Years)/IF(AND(D98=0, E98=0), 2, 1)","v":0},{"$f":"(SUMIFS(FactorMatrix[[UPSTREAMTRANSPORTENERGY]:[UPSTREAMTRANSPORTENERGY]], FactorMatrix[[MODE]:[MODE]], $B98, FactorMatrix[[PHASE]:[PHASE]], \"Operations\", FactorMatrix[[GHGSOURCE]:[GHGSOURCE]], \"Vehicle\", FactorMatrix[[TYPE]:[TYPE]], $C98, FactorMatrix[[STATE /REGION]:[STATE /REGION]], $D98)*Years\n+\nSUMIFS(FactorMatrix[[UPSTREAMTRANSPORTENERGY]:[UPSTREAMTRANSPORTENERGY]], FactorMatrix[[MODE]:[MODE]], $B98, FactorMatrix[[PHASE]:[PHASE]], \"Operations\", FactorMatrix[[GHGSOURCE]:[GHGSOURCE]], \"Vehicle\", FactorMatrix[[TYPE]:[TYPE]], $C98, FactorMatrix[[STATE /REGION]:[STATE /REGION]], $E98)*Years)/IF(AND(D98=0, E98=0), 2, 1)","v":0},{"$f":"(SUMIFS(FactorMatrix[[DOWNSTREAMENERGY]:[DOWNSTREAMENERGY]], FactorMatrix[[MODE]:[MODE]], $B98, FactorMatrix[[PHASE]:[PHASE]], \"Operations\", FactorMatrix[[GHGSOURCE]:[GHGSOURCE]], \"Vehicle\", FactorMatrix[[TYPE]:[TYPE]], $C98, FactorMatrix[[STATE /REGION]:[STATE /REGION]], $D98)*Years\n+\nSUMIFS(FactorMatrix[[DOWNSTREAMENERGY]:[DOWNSTREAMENERGY]], FactorMatrix[[MODE]:[MODE]], $B98, FactorMatrix[[PHASE]:[PHASE]], \"Operations\", FactorMatrix[[GHGSOURCE]:[GHGSOURCE]], \"Vehicle\", FactorMatrix[[TYPE]:[TYPE]], $C98, FactorMatrix[[STATE /REGION]:[STATE /REGION]], $E98)*Years)/IF(AND(D98=0, E98=0), 2, 1)","v":0},0,0,0]
[18,{"$f":"'Vehicle Operations&Maintenance'!B23","v":0},{"$f":"'Vehicle Operations&Maintenance'!C23","v":0},{"$f":"'Vehicle Operations&Maintenance'!D23","v":0},{"$f":"_xlfn.IFNA(INDEX(Dropdowns!L$3:L$31, MATCH(D99, EGridSubregions, 0)), 0)","v":0},{"$f":"'Vehicle Operations&Maintenance'!E23","v":0},{"$f":"(SUMIFS(FactorMatrix[[UPSTREAMMATERIALSENERGY]:[UPSTREAMMATERIALSENERGY]], FactorMatrix[[MODE]:[MODE]], $B99, FactorMatrix[[PHASE]:[PHASE]], \"Operations\", FactorMatrix[[GHGSOURCE]:[GHGSOURCE]], \"Vehicle\", FactorMatrix[[TYPE]:[TYPE]], $C99, FactorMatrix[[STATE /REGION]:[STATE /REGION]], $D99)*Years\n+\nSUMIFS(FactorMatrix[[UPSTREAMMATERIALSENERGY]:[UPSTREAMMATERIALSENERGY]], FactorMatrix[[MODE]:[MODE]], $B99, FactorMatrix[[PHASE]:[PHASE]], \"Operations\", FactorMatrix[[GHGSOURCE]:[GHGSOURCE]], \"Vehicle\", FactorMatrix[[TYPE]:[TYPE]], $C99, FactorMatrix[[STATE /REGION]:[STATE /REGION]], $E99)*Years)/IF(AND(D99=0, E99=0), 2, 1)","v":0},{"$f":"(SUMIFS(FactorMatrix[[UPSTREAMTRANSPORTENERGY]:[UPSTREAMTRANSPORTENERGY]], FactorMatrix[[MODE]:[MODE]], $B99, FactorMatrix[[PHASE]:[PHASE]], \"Operations\", FactorMatrix[[GHGSOURCE]:[GHGSOURCE]], \"Vehicle\", FactorMatrix[[TYPE]:[TYPE]], $C99, FactorMatrix[[STATE /REGION]:[STATE /REGION]], $D99)*Years\n+\nSUMIFS(FactorMatrix[[UPSTREAMTRANSPORTENERGY]:[UPSTREAMTRANSPORTENERGY]], FactorMatrix[[MODE]:[MODE]], $B99, FactorMatrix[[PHASE]:[PHASE]], \"Operations\", FactorMatrix[[GHGSOURCE]:[GHGSOURCE]], \"Vehicle\", FactorMatrix[[TYPE]:[TYPE]], $C99, FactorMatrix[[STATE /REGION]:[STATE /REGION]], $E99)*Years)/IF(AND(D99=0, E99=0), 2, 1)","v":0},{"$f":"(SUMIFS(FactorMatrix[[DOWNSTREAMENERGY]:[DOWNSTREAMENERGY]], FactorMatrix[[MODE]:[MODE]], $B99, FactorMatrix[[PHASE]:[PHASE]], \"Operations\", FactorMatrix[[GHGSOURCE]:[GHGSOURCE]], \"Vehicle\", FactorMatrix[[TYPE]:[TYPE]], $C99, FactorMatrix[[STATE /REGION]:[STATE /REGION]], $D99)*Years\n+\nSUMIFS(FactorMatrix[[DOWNSTREAMENERGY]:[DOWNSTREAMENERGY]], FactorMatrix[[MODE]:[MODE]], $B99, FactorMatrix[[PHASE]:[PHASE]], \"Operations\", FactorMatrix[[GHGSOURCE]:[GHGSOURCE]], \"Vehicle\", FactorMatrix[[TYPE]:[TYPE]], $C99, FactorMatrix[[STATE /REGION]:[STATE /REGION]], $E99)*Years)/IF(AND(D99=0, E99=0), 2, 1)","v":0},0,0,0]
[19,{"$f":"'Vehicle Operations&Maintenance'!B24","v":0},{"$f":"'Vehicle Operations&Maintenance'!C24","v":0},{"$f":"'Vehicle Operations&Maintenance'!D24","v":0},{"$f":"_xlfn.IFNA(INDEX(Dropdowns!L$3:L$31, MATCH(D100, EGridSubregions, 0)), 0)","v":0},{"$f":"'Vehicle Operations&Maintenance'!E24","v":0},{"$f":"(SUMIFS(FactorMatrix[[UPSTREAMMATERIALSENERGY]:[UPSTREAMMATERIALSENERGY]], FactorMatrix[[MODE]:[MODE]], $B100, FactorMatrix[[PHASE]:[PHASE]], \"Operations\", FactorMatrix[[GHGSOURCE]:[GHGSOURCE]], \"Vehicle\", FactorMatrix[[TYPE]:[TYPE]], $C100, FactorMatrix[[STATE /REGION]:[STATE /REGION]], $D100)*Years\n+\nSUMIFS(FactorMatrix[[UPSTREAMMATERIALSENERGY]:[UPSTREAMMATERIALSENERGY]], FactorMatrix[[MODE]:[MODE]], $B100, FactorMatrix[[PHASE]:[PHASE]], \"Operations\", FactorMatrix[[GHGSOURCE]:[GHGSOURCE]], \"Vehicle\", FactorMatrix[[TYPE]:[TYPE]], $C100, FactorMatrix[[STATE /REGION]:[STATE /REGION]], $E100)*Years)/IF(AND(D100=0, E100=0), 2, 1)","v":0},{"$f":"(SUMIFS(FactorMatrix[[UPSTREAMTRANSPORTENERGY]:[UPSTREAMTRANSPORTENERGY]], FactorMatrix[[MODE]:[MODE]], $B100, FactorMatrix[[PHASE]:[PHASE]], \"Operations\", FactorMatrix[[GHGSOURCE]:[GHGSOURCE]], \"Vehicle\", FactorMatrix[[TYPE]:[TYPE]], $C100, FactorMatrix[[STATE /REGION]:[STATE /REGION]], $D100)*Years\n+\nSUMIFS(FactorMatrix[[UPSTREAMTRANSPORTENERGY]:[UPSTREAMTRANSPORTENERGY]], FactorMatrix[[MODE]:[MODE]], $B100, FactorMatrix[[PHASE]:[PHASE]], \"Operations\", FactorMatrix[[GHGSOURCE]:[GHGSOURCE]], \"Vehicle\", FactorMatrix[[TYPE]:[TYPE]], $C100, FactorMatrix[[STATE /REGION]:[STATE /REGION]], $E100)*Years)/IF(AND(D100=0, E100=0), 2, 1)","v":0},{"$f":"(SUMIFS(FactorMatrix[[DOWNSTREAMENERGY]:[DOWNSTREAMENERGY]], FactorMatrix[[MODE]:[MODE]], $B100, FactorMatrix[[PHASE]:[PHASE]], \"Operations\", FactorMatrix[[GHGSOURCE]:[GHGSOURCE]], \"Vehicle\", FactorMatrix[[TYPE]:[TYPE]], $C100, FactorMatrix[[STATE /REGION]:[STATE /REGION]], $D100)*Years\n+\nSUMIFS(FactorMatrix[[DOWNSTREAMENERGY]:[DOWNSTREAMENERGY]], FactorMatrix[[MODE]:[MODE]], $B100, FactorMatrix[[PHASE]:[PHASE]], \"Operations\", FactorMatrix[[GHGSOURCE]:[GHGSOURCE]], \"Vehicle\", FactorMatrix[[TYPE]:[TYPE]], $C100, FactorMatrix[[STATE /REGION]:[STATE /REGION]], $E100)*Years)/IF(AND(D100=0, E100=0), 2, 1)","v":0},0,0,0]
[20,{"$f":"'Vehicle Operations&Maintenance'!B25","v":0},{"$f":"'Vehicle Operations&Maintenance'!C25","v":0},{"$f":"'Vehicle Operations&Maintenance'!D25","v":0},{"$f":"_xlfn.IFNA(INDEX(Dropdowns!L$3:L$31, MATCH(D101, EGridSubregions, 0)), 0)","v":0},{"$f":"'Vehicle Operations&Maintenance'!E25","v":0},{"$f":"(SUMIFS(FactorMatrix[[UPSTREAMMATERIALSENERGY]:[UPSTREAMMATERIALSENERGY]], FactorMatrix[[MODE]:[MODE]], $B101, FactorMatrix[[PHASE]:[PHASE]], \"Operations\", FactorMatrix[[GHGSOURCE]:[GHGSOURCE]], \"Vehicle\", FactorMatrix[[TYPE]:[TYPE]], $C101, FactorMatrix[[STATE /REGION]:[STATE /REGION]], $D101)*Years\n+\nSUMIFS(FactorMatrix[[UPSTREAMMATERIALSENERGY]:[UPSTREAMMATERIALSENERGY]], FactorMatrix[[MODE]:[MODE]], $B101, FactorMatrix[[PHASE]:[PHASE]], \"Operations\", FactorMatrix[[GHGSOURCE]:[GHGSOURCE]], \"Vehicle\", FactorMatrix[[TYPE]:[TYPE]], $C101, FactorMatrix[[STATE /REGION]:[STATE /REGION]], $E101)*Years)/IF(AND(D101=0, E101=0), 2, 1)","v":0},{"$f":"(SUMIFS(FactorMatrix[[UPSTREAMTRANSPORTENERGY]:[UPSTREAMTRANSPORTENERGY]], FactorMatrix[[MODE]:[MODE]], $B101, FactorMatrix[[PHASE]:[PHASE]], \"Operations\", FactorMatrix[[GHGSOURCE]:[GHGSOURCE]], \"Vehicle\", FactorMatrix[[TYPE]:[TYPE]], $C101, FactorMatrix[[STATE /REGION]:[STATE /REGION]], $D101)*Years\n+\nSUMIFS(FactorMatrix[[UPSTREAMTRANSPORTENERGY]:[UPSTREAMTRANSPORTENERGY]], FactorMatrix[[MODE]:[MODE]], $B101, FactorMatrix[[PHASE]:[PHASE]], \"Operations\", FactorMatrix[[GHGSOURCE]:[GHGSOURCE]], \"Vehicle\", FactorMatrix[[TYPE]:[TYPE]], $C101, FactorMatrix[[STATE /REGION]:[STATE /REGION]], $E101)*Years)/IF(AND(D101=0, E101=0), 2, 1)","v":0},{"$f":"(SUMIFS(FactorMatrix[[DOWNSTREAMENERGY]:[DOWNSTREAMENERGY]], FactorMatrix[[MODE]:[MODE]], $B101, FactorMatrix[[PHASE]:[PHASE]], \"Operations\", FactorMatrix[[GHGSOURCE]:[GHGSOURCE]], \"Vehicle\", FactorMatrix[[TYPE]:[TYPE]], $C101, FactorMatrix[[STATE /REGION]:[STATE /REGION]], $D101)*Years\n+\nSUMIFS(FactorMatrix[[DOWNSTREAMENERGY]:[DOWNSTREAMENERGY]], FactorMatrix[[MODE]:[MODE]], $B101, FactorMatrix[[PHASE]:[PHASE]], \"Operations\", FactorMatrix[[GHGSOURCE]:[GHGSOURCE]], \"Vehicle\", FactorMatrix[[TYPE]:[TYPE]], $C101, FactorMatrix[[STATE /REGION]:[STATE /REGION]], $E101)*Years)/IF(AND(D101=0, E101=0), 2, 1)","v":0},0,0,0]
[]
["Vehicle Maintenance",null,null,null,null,null,"RESULTS",null,null,"FINAL RESULTS"]
["INPUTS"]
["row","Operation Mode ","VMT","Upstream Materials","Upstream Transport","Downstream","UPSTREAM MATERIALS","UPSTREAM TRANSPORT","DOWNSTREAM","UPSTREAM MATERIALS","UPSTREAM TRANSPORT","DOWNSTREAM"]
[1,{"$f":"B82","v":0},{"$f":"F82","v":0},{"$f":" SUMIFS(FactorMatrix[[UPSTREAMMATERIALSENERGY]:[UPSTREAMMATERIALSENERGY]], FactorMatrix[[MODE]:[MODE]], $B106, FactorMatrix[[PHASE]:[PHASE]], \"Maintenance\", FactorMatrix[[GHGSOURCE]:[GHGSOURCE]], \"Vehicle\")*Years","v":0},{"$f":" SUMIFS(FactorMatrix[[UPSTREAMTRANSPORTENERGY]:[UPSTREAMTRANSPORTENERGY]], FactorMatrix[[MODE]:[MODE]], $B106, FactorMatrix[[PHASE]:[PHASE]], \"Maintenance\", FactorMatrix[[GHGSOURCE]:[GHGSOURCE]], \"Vehicle\")*Years","v":0},{"$f":" SUMIFS(FactorMatrix[[DOWNSTREAMENERGY]:[DOWNSTREAMENERGY]], FactorMatrix[[MODE]:[MODE]], $B106, FactorMatrix[[PHASE]:[PHASE]], \"Maintenance\", FactorMatrix[[GHGSOURCE]:[GHGSOURCE]], \"Vehicle\")*Years","v":0},{"$f":"$C106*D106","v":0},0,{"$f":"$C106*F106","v":0},{"$f":"SUM(G106:G125)","v":0},{"$f":"SUM(H106:H125)","v":0},{"$f":"SUM(I106:I125)","v":0}]
[2,0,{"$f":"F83","v":0},{"$f":" SUMIFS(FactorMatrix[[UPSTREAMMATERIALSENERGY]:[UPSTREAMMATERIALSENERGY]], FactorMatrix[[MODE]:[MODE]], $B107, FactorMatrix[[PHASE]:[PHASE]], \"Maintenance\", FactorMatrix[[GHGSOURCE]:[GHGSOURCE]], \"Vehicle\")*Years","v":0},{"$f":" SUMIFS(FactorMatrix[[UPSTREAMTRANSPORTENERGY]:[UPSTREAMTRANSPORTENERGY]], FactorMatrix[[MODE]:[MODE]], $B107, FactorMatrix[[PHASE]:[PHASE]], \"Maintenance\", FactorMatrix[[GHGSOURCE]:[GHGSOURCE]], \"Vehicle\")*Years","v":0},{"$f":" SUMIFS(FactorMatrix[[DOWNSTREAMENERGY]:[DOWNSTREAMENERGY]], FactorMatrix[[MODE]:[MODE]], $B107, FactorMatrix[[PHASE]:[PHASE]], \"Maintenance\", FactorMatrix[[GHGSOURCE]:[GHGSOURCE]], \"Vehicle\")*Years","v":0},0,0,0]
[3,0,{"$f":"F84","v":0},{"$f":" SUMIFS(FactorMatrix[[UPSTREAMMATERIALSENERGY]:[UPSTREAMMATERIALSENERGY]], FactorMatrix[[MODE]:[MODE]], $B108, FactorMatrix[[PHASE]:[PHASE]], \"Maintenance\", FactorMatrix[[GHGSOURCE]:[GHGSOURCE]], \"Vehicle\")*Years","v":0},{"$f":" SUMIFS(FactorMatrix[[UPSTREAMTRANSPORTENERGY]:[UPSTREAMTRANSPORTENERGY]], FactorMatrix[[MODE]:[MODE]], $B108, FactorMatrix[[PHASE]:[PHASE]], \"Maintenance\", FactorMatrix[[GHGSOURCE]:[GHGSOURCE]], \"Vehicle\")*Years","v":0},{"$f":" SUMIFS(FactorMatrix[[DOWNSTREAMENERGY]:[DOWNSTREAMENERGY]], FactorMatrix[[MODE]:[MODE]], $B108, FactorMatrix[[PHASE]:[PHASE]], \"Maintenance\", FactorMatrix[[GHGSOURCE]:[GHGSOURCE]], \"Vehicle\")*Years","v":0},0,0,0,"Annual"]
[4,0,{"$f":"F85","v":0},{"$f":" SUMIFS(FactorMatrix[[UPSTREAMMATERIALSENERGY]:[UPSTREAMMATERIALSENERGY]], FactorMatrix[[MODE]:[MODE]], $B109, FactorMatrix[[PHASE]:[PHASE]], \"Maintenance\", FactorMatrix[[GHGSOURCE]:[GHGSOURCE]], \"Vehicle\")*Years","v":0},{"$f":" SUMIFS(FactorMatrix[[UPSTREAMTRANSPORTENERGY]:[UPSTREAMTRANSPORTENERGY]], FactorMatrix[[MODE]:[MODE]], $B109, FactorMatrix[[PHASE]:[PHASE]], \"Maintenance\", FactorMatrix[[GHGSOURCE]:[GHGSOURCE]], \"Vehicle\")*Years","v":0},{"$f":" SUMIFS(FactorMatrix[[DOWNSTREAMENERGY]:[DOWNSTREAMENERGY]], FactorMatrix[[MODE]:[MODE]], $B109, FactorMatrix[[PHASE]:[PHASE]], \"Maintenance\", FactorMatrix[[GHGSOURCE]:[GHGSOURCE]], \"Vehicle\")*Years","v":0},0,0,0]
[5,0,{"$f":"F86","v":0},{"$f":" SUMIFS(FactorMatrix[[UPSTREAMMATERIALSENERGY]:[UPSTREAMMATERIALSENERGY]], FactorMatrix[[MODE]:[MODE]], $B110, FactorMatrix[[PHASE]:[PHASE]], \"Maintenance\", FactorMatrix[[GHGSOURCE]:[GHGSOURCE]], \"Vehicle\")*Years","v":0},{"$f":" SUMIFS(FactorMatrix[[UPSTREAMTRANSPORTENERGY]:[UPSTREAMTRANSPORTENERGY]], FactorMatrix[[MODE]:[MODE]], $B110, FactorMatrix[[PHASE]:[PHASE]], \"Maintenance\", FactorMatrix[[GHGSOURCE]:[GHGSOURCE]], \"Vehicle\")*Years","v":0},{"$f":" SUMIFS(FactorMatrix[[DOWNSTREAMENERGY]:[DOWNSTREAMENERGY]], FactorMatrix[[MODE]:[MODE]], $B110, FactorMatrix[[PHASE]:[PHASE]], \"Maintenance\", FactorMatrix[[GHGSOURCE]:[GHGSOURCE]], \"Vehicle\")*Years","v":0},0,0,0,"UPSTREAM MATERIALS","UPSTREAM TRANSPORT","DOWNSTREAM"]
[6,0,{"$f":"F87","v":0},{"$f":" SUMIFS(FactorMatrix[[UPSTREAMMATERIALSENERGY]:[UPSTREAMMATERIALSENERGY]], FactorMatrix[[MODE]:[MODE]], $B111, FactorMatrix[[PHASE]:[PHASE]], \"Maintenance\", FactorMatrix[[GHGSOURCE]:[GHGSOURCE]], \"Vehicle\")*Years","v":0},{"$f":" SUMIFS(FactorMatrix[[UPSTREAMTRANSPORTENERGY]:[UPSTREAMTRANSPORTENERGY]], FactorMatrix[[MODE]:[MODE]], $B111, FactorMatrix[[PHASE]:[PHASE]], \"Maintenance\", FactorMatrix[[GHGSOURCE]:[GHGSOURCE]], \"Vehicle\")*Years","v":0},{"$f":" SUMIFS(FactorMatrix[[DOWNSTREAMENERGY]:[DOWNSTREAMENERGY]], FactorMatrix[[MODE]:[MODE]], $B111, FactorMatrix[[PHASE]:[PHASE]], \"Maintenance\", FactorMatrix[[GHGSOURCE]:[GHGSOURCE]], \"Vehicle\")*Years","v":0},0,0,0,{"$f":"J106/Years","v":{"$error":"#DIV/0!"}},{"$f":"K106/Years","v":{"$error":"#DIV/0!"}},{"$f":"L106/Years","v":{"$error":"#DIV/0!"}}]
[7,0,0,{"$f":" SUMIFS(FactorMatrix[[UPSTREAMMATERIALSENERGY]:[UPSTREAMMATERIALSENERGY]], FactorMatrix[[MODE]:[MODE]], $B112, FactorMatrix[[PHASE]:[PHASE]], \"Maintenance\", FactorMatrix[[GHGSOURCE]:[GHGSOURCE]], \"Vehicle\")*Years","v":0},{"$f":" SUMIFS(FactorMatrix[[UPSTREAMTRANSPORTENERGY]:[UPSTREAMTRANSPORTENERGY]], FactorMatrix[[MODE]:[MODE]], $B112, FactorMatrix[[PHASE]:[PHASE]], \"Maintenance\", FactorMatrix[[GHGSOURCE]:[GHGSOURCE]], \"Vehicle\")*Years","v":0},{"$f":" SUMIFS(FactorMatrix[[DOWNSTREAMENERGY]:[DOWNSTREAMENERGY]], FactorMatrix[[MODE]:[MODE]], $B112, FactorMatrix[[PHASE]:[PHASE]], \"Maintenance\", FactorMatrix[[GHGSOURCE]:[GHGSOURCE]], \"Vehicle\")*Years","v":0},0,0,0]
[8,0,0,{"$f":" SUMIFS(FactorMatrix[[UPSTREAMMATERIALSENERGY]:[UPSTREAMMATERIALSENERGY]], FactorMatrix[[MODE]:[MODE]], $B113, FactorMatrix[[PHASE]:[PHASE]], \"Maintenance\", FactorMatrix[[GHGSOURCE]:[GHGSOURCE]], \"Vehicle\")*Years","v":0},{"$f":" SUMIFS(FactorMatrix[[UPSTREAMTRANSPORTENERGY]:[UPSTREAMTRANSPORTENERGY]], FactorMatrix[[MODE]:[MODE]], $B113, FactorMatrix[[PHASE]:[PHASE]], \"Maintenance\", FactorMatrix[[GHGSOURCE]:[GHGSOURCE]], \"Vehicle\")*Years","v":0},{"$f":" SUMIFS(FactorMatrix[[DOWNSTREAMENERGY]:[DOWNSTREAMENERGY]], FactorMatrix[[MODE]:[MODE]], $B113, FactorMatrix[[PHASE]:[PHASE]], \"Maintenance\", FactorMatrix[[GHGSOURCE]:[GHGSOURCE]], \"Vehicle\")*Years","v":0},0,0,0]
[9,0,0,{"$f":" SUMIFS(FactorMatrix[[UPSTREAMMATERIALSENERGY]:[UPSTREAMMATERIALSENERGY]], FactorMatrix[[MODE]:[MODE]], $B114, FactorMatrix[[PHASE]:[PHASE]], \"Maintenance\", FactorMatrix[[GHGSOURCE]:[GHGSOURCE]], \"Vehicle\")*Years","v":0},{"$f":" SUMIFS(FactorMatrix[[UPSTREAMTRANSPORTENERGY]:[UPSTREAMTRANSPORTENERGY]], FactorMatrix[[MODE]:[MODE]], $B114, FactorMatrix[[PHASE]:[PHASE]], \"Maintenance\", FactorMatrix[[GHGSOURCE]:[GHGSOURCE]], \"Vehicle\")*Years","v":0},{"$f":" SUMIFS(FactorMatrix[[DOWNSTREAMENERGY]:[DOWNSTREAMENERGY]], FactorMatrix[[MODE]:[MODE]], $B114, FactorMatrix[[PHASE]:[PHASE]], \"Maintenance\", FactorMatrix[[GHGSOURCE]:[GHGSOURCE]], \"Vehicle\")*Years","v":0},0,0,0]
[10,0,0,{"$f":" SUMIFS(FactorMatrix[[UPSTREAMMATERIALSENERGY]:[UPSTREAMMATERIALSENERGY]], FactorMatrix[[MODE]:[MODE]], $B115, FactorMatrix[[PHASE]:[PHASE]], \"Maintenance\", FactorMatrix[[GHGSOURCE]:[GHGSOURCE]], \"Vehicle\")*Years","v":0},{"$f":" SUMIFS(FactorMatrix[[UPSTREAMTRANSPORTENERGY]:[UPSTREAMTRANSPORTENERGY]], FactorMatrix[[MODE]:[MODE]], $B115, FactorMatrix[[PHASE]:[PHASE]], \"Maintenance\", FactorMatrix[[GHGSOURCE]:[GHGSOURCE]], \"Vehicle\")*Years","v":0},{"$f":" SUMIFS(FactorMatrix[[DOWNSTREAMENERGY]:[DOWNSTREAMENERGY]], FactorMatrix[[MODE]:[MODE]], $B115, FactorMatrix[[PHASE]:[PHASE]], \"Maintenance\", FactorMatrix[[GHGSOURCE]:[GHGSOURCE]], \"Vehicle\")*Years","v":0},0,0,0]
[11,0,0,{"$f":" SUMIFS(FactorMatrix[[UPSTREAMMATERIALSENERGY]:[UPSTREAMMATERIALSENERGY]], FactorMatrix[[MODE]:[MODE]], $B116, FactorMatrix[[PHASE]:[PHASE]], \"Maintenance\", FactorMatrix[[GHGSOURCE]:[GHGSOURCE]], \"Vehicle\")*Years","v":0},{"$f":" SUMIFS(FactorMatrix[[UPSTREAMTRANSPORTENERGY]:[UPSTREAMTRANSPORTENERGY]], FactorMatrix[[MODE]:[MODE]], $B116, FactorMatrix[[PHASE]:[PHASE]], \"Maintenance\", FactorMatrix[[GHGSOURCE]:[GHGSOURCE]], \"Vehicle\")*Years","v":0},{"$f":" SUMIFS(FactorMatrix[[DOWNSTREAMENERGY]:[DOWNSTREAMENERGY]], FactorMatrix[[MODE]:[MODE]], $B116, FactorMatrix[[PHASE]:[PHASE]], \"Maintenance\", FactorMatrix[[GHGSOURCE]:[GHGSOURCE]], \"Vehicle\")*Years","v":0},0,0,0]
[12,0,0,{"$f":" SUMIFS(FactorMatrix[[UPSTREAMMATERIALSENERGY]:[UPSTREAMMATERIALSENERGY]], FactorMatrix[[MODE]:[MODE]], $B117, FactorMatrix[[PHASE]:[PHASE]], \"Maintenance\", FactorMatrix[[GHGSOURCE]:[GHGSOURCE]], \"Vehicle\")*Years","v":0},{"$f":" SUMIFS(FactorMatrix[[UPSTREAMTRANSPORTENERGY]:[UPSTREAMTRANSPORTENERGY]], FactorMatrix[[MODE]:[MODE]], $B117, FactorMatrix[[PHASE]:[PHASE]], \"Maintenance\", FactorMatrix[[GHGSOURCE]:[GHGSOURCE]], \"Vehicle\")*Years","v":0},{"$f":" SUMIFS(FactorMatrix[[DOWNSTREAMENERGY]:[DOWNSTREAMENERGY]], FactorMatrix[[MODE]:[MODE]], $B117, FactorMatrix[[PHASE]:[PHASE]], \"Maintenance\", FactorMatrix[[GHGSOURCE]:[GHGSOURCE]], \"Vehicle\")*Years","v":0},0,0,0]
[13,0,0,{"$f":" SUMIFS(FactorMatrix[[UPSTREAMMATERIALSENERGY]:[UPSTREAMMATERIALSENERGY]], FactorMatrix[[MODE]:[MODE]], $B118, FactorMatrix[[PHASE]:[PHASE]], \"Maintenance\", FactorMatrix[[GHGSOURCE]:[GHGSOURCE]], \"Vehicle\")*Years","v":0},{"$f":" SUMIFS(FactorMatrix[[UPSTREAMTRANSPORTENERGY]:[UPSTREAMTRANSPORTENERGY]], FactorMatrix[[MODE]:[MODE]], $B118, FactorMatrix[[PHASE]:[PHASE]], \"Maintenance\", FactorMatrix[[GHGSOURCE]:[GHGSOURCE]], \"Vehicle\")*Years","v":0},{"$f":" SUMIFS(FactorMatrix[[DOWNSTREAMENERGY]:[DOWNSTREAMENERGY]], FactorMatrix[[MODE]:[MODE]], $B118, FactorMatrix[[PHASE]:[PHASE]], \"Maintenance\", FactorMatrix[[GHGSOURCE]:[GHGSOURCE]], \"Vehicle\")*Years","v":0},0,0,0]
[14,0,0,{"$f":" SUMIFS(FactorMatrix[[UPSTREAMMATERIALSENERGY]:[UPSTREAMMATERIALSENERGY]], FactorMatrix[[MODE]:[MODE]], $B119, FactorMatrix[[PHASE]:[PHASE]], \"Maintenance\", FactorMatrix[[GHGSOURCE]:[GHGSOURCE]], \"Vehicle\")*Years","v":0},{"$f":" SUMIFS(FactorMatrix[[UPSTREAMTRANSPORTENERGY]:[UPSTREAMTRANSPORTENERGY]], FactorMatrix[[MODE]:[MODE]], $B119, FactorMatrix[[PHASE]:[PHASE]], \"Maintenance\", FactorMatrix[[GHGSOURCE]:[GHGSOURCE]], \"Vehicle\")*Years","v":0},{"$f":" SUMIFS(FactorMatrix[[DOWNSTREAMENERGY]:[DOWNSTREAMENERGY]], FactorMatrix[[MODE]:[MODE]], $B119, FactorMatrix[[PHASE]:[PHASE]], \"Maintenance\", FactorMatrix[[GHGSOURCE]:[GHGSOURCE]], \"Vehicle\")*Years","v":0},0,0,0]
[15,0,0,{"$f":" SUMIFS(FactorMatrix[[UPSTREAMMATERIALSENERGY]:[UPSTREAMMATERIALSENERGY]], FactorMatrix[[MODE]:[MODE]], $B120, FactorMatrix[[PHASE]:[PHASE]], \"Maintenance\", FactorMatrix[[GHGSOURCE]:[GHGSOURCE]], \"Vehicle\")*Years","v":0},{"$f":" SUMIFS(FactorMatrix[[UPSTREAMTRANSPORTENERGY]:[UPSTREAMTRANSPORTENERGY]], FactorMatrix[[MODE]:[MODE]], $B120, FactorMatrix[[PHASE]:[PHASE]], \"Maintenance\", FactorMatrix[[GHGSOURCE]:[GHGSOURCE]], \"Vehicle\")*Years","v":0},{"$f":" SUMIFS(FactorMatrix[[DOWNSTREAMENERGY]:[DOWNSTREAMENERGY]], FactorMatrix[[MODE]:[MODE]], $B120, FactorMatrix[[PHASE]:[PHASE]], \"Maintenance\", FactorMatrix[[GHGSOURCE]:[GHGSOURCE]], \"Vehicle\")*Years","v":0},0,0,0]
[16,0,0,{"$f":" SUMIFS(FactorMatrix[[UPSTREAMMATERIALSENERGY]:[UPSTREAMMATERIALSENERGY]], FactorMatrix[[MODE]:[MODE]], $B121, FactorMatrix[[PHASE]:[PHASE]], \"Maintenance\", FactorMatrix[[GHGSOURCE]:[GHGSOURCE]], \"Vehicle\")*Years","v":0},{"$f":" SUMIFS(FactorMatrix[[UPSTREAMTRANSPORTENERGY]:[UPSTREAMTRANSPORTENERGY]], FactorMatrix[[MODE]:[MODE]], $B121, FactorMatrix[[PHASE]:[PHASE]], \"Maintenance\", FactorMatrix[[GHGSOURCE]:[GHGSOURCE]], \"Vehicle\")*Years","v":0},{"$f":" SUMIFS(FactorMatrix[[DOWNSTREAMENERGY]:[DOWNSTREAMENERGY]], FactorMatrix[[MODE]:[MODE]], $B121, FactorMatrix[[PHASE]:[PHASE]], \"Maintenance\", FactorMatrix[[GHGSOURCE]:[GHGSOURCE]], \"Vehicle\")*Years","v":0},0,0,0]
[17,0,0,{"$f":" SUMIFS(FactorMatrix[[UPSTREAMMATERIALSENERGY]:[UPSTREAMMATERIALSENERGY]], FactorMatrix[[MODE]:[MODE]], $B122, FactorMatrix[[PHASE]:[PHASE]], \"Maintenance\", FactorMatrix[[GHGSOURCE]:[GHGSOURCE]], \"Vehicle\")*Years","v":0},{"$f":" SUMIFS(FactorMatrix[[UPSTREAMTRANSPORTENERGY]:[UPSTREAMTRANSPORTENERGY]], FactorMatrix[[MODE]:[MODE]], $B122, FactorMatrix[[PHASE]:[PHASE]], \"Maintenance\", FactorMatrix[[GHGSOURCE]:[GHGSOURCE]], \"Vehicle\")*Years","v":0},{"$f":" SUMIFS(FactorMatrix[[DOWNSTREAMENERGY]:[DOWNSTREAMENERGY]], FactorMatrix[[MODE]:[MODE]], $B122, FactorMatrix[[PHASE]:[PHASE]], \"Maintenance\", FactorMatrix[[GHGSOURCE]:[GHGSOURCE]], \"Vehicle\")*Years","v":0},{"$f":"$C122*D122","v":0},0,0]
[18,0,0,{"$f":" SUMIFS(FactorMatrix[[UPSTREAMMATERIALSENERGY]:[UPSTREAMMATERIALSENERGY]], FactorMatrix[[MODE]:[MODE]], $B123, FactorMatrix[[PHASE]:[PHASE]], \"Maintenance\", FactorMatrix[[GHGSOURCE]:[GHGSOURCE]], \"Vehicle\")*Years","v":0},{"$f":" SUMIFS(FactorMatrix[[UPSTREAMTRANSPORTENERGY]:[UPSTREAMTRANSPORTENERGY]], FactorMatrix[[MODE]:[MODE]], $B123, FactorMatrix[[PHASE]:[PHASE]], \"Maintenance\", FactorMatrix[[GHGSOURCE]:[GHGSOURCE]], \"Vehicle\")*Years","v":0},{"$f":" SUMIFS(FactorMatrix[[DOWNSTREAMENERGY]:[DOWNSTREAMENERGY]], FactorMatrix[[MODE]:[MODE]], $B123, FactorMatrix[[PHASE]:[PHASE]], \"Maintenance\", FactorMatrix[[GHGSOURCE]:[GHGSOURCE]], \"Vehicle\")*Years","v":0},0,0,0]
[19,0,0,{"$f":" SUMIFS(FactorMatrix[[UPSTREAMMATERIALSENERGY]:[UPSTREAMMATERIALSENERGY]], FactorMatrix[[MODE]:[MODE]], $B124, FactorMatrix[[PHASE]:[PHASE]], \"Maintenance\", FactorMatrix[[GHGSOURCE]:[GHGSOURCE]], \"Vehicle\")*Years","v":0},{"$f":" SUMIFS(FactorMatrix[[UPSTREAMTRANSPORTENERGY]:[UPSTREAMTRANSPORTENERGY]], FactorMatrix[[MODE]:[MODE]], $B124, FactorMatrix[[PHASE]:[PHASE]], \"Maintenance\", FactorMatrix[[GHGSOURCE]:[GHGSOURCE]], \"Vehicle\")*Years","v":0},{"$f":" SUMIFS(FactorMatrix[[DOWNSTREAMENERGY]:[DOWNSTREAMENERGY]], FactorMatrix[[MODE]:[MODE]], $B124, FactorMatrix[[PHASE]:[PHASE]], \"Maintenance\", FactorMatrix[[GHGSOURCE]:[GHGSOURCE]], \"Vehicle\")*Years","v":0},0,0,0]
[20,0,0,{"$f":" SUMIFS(FactorMatrix[[UPSTREAMMATERIALSENERGY]:[UPSTREAMMATERIALSENERGY]], FactorMatrix[[MODE]:[MODE]], $B125, FactorMatrix[[PHASE]:[PHASE]], \"Maintenance\", FactorMatrix[[GHGSOURCE]:[GHGSOURCE]], \"Vehicle\")*Years","v":0},{"$f":" SUMIFS(FactorMatrix[[UPSTREAMTRANSPORTENERGY]:[UPSTREAMTRANSPORTENERGY]], FactorMatrix[[MODE]:[MODE]], $B125, FactorMatrix[[PHASE]:[PHASE]], \"Maintenance\", FactorMatrix[[GHGSOURCE]:[GHGSOURCE]], \"Vehicle\")*Years","v":0},{"$f":" SUMIFS(FactorMatrix[[DOWNSTREAMENERGY]:[DOWNSTREAMENERGY]], FactorMatrix[[MODE]:[MODE]], $B125, FactorMatrix[[PHASE]:[PHASE]], \"Maintenance\", FactorMatrix[[GHGSOURCE]:[GHGSOURCE]], \"Vehicle\")*Years","v":0},0,0,0]
[]
["Displaced Emissions",null,null,null,null,null,{"$f":"G130/Years","v":{"$error":"#DIV/0!"}},null,null,"RESULTS",null,null,"FINAL RESULTS"]
["INPUTS",null,null,null,null,null,"Factors"]
["row","Operation Mode ","Fuel Source","eGrid Subregion (if applicable)","NERC Region (Deduced from eGrid","VMT","Upstream Materials","Upstream Transport","Downstream","UPSTREAM MATERIALS","UPSTREAM TRANSPORT","DOWNSTREAM","UPSTREAM MATERIALS","UPSTREAM TRANSPORT","DOWNSTREAM"]
[1,{"$f":"'Displaced Emissions'!B5","v":0},{"$f":"'Displaced Emissions'!C5","v":0},{"$f":"'Displaced Emissions'!D5","v":0},{"$f":"_xlfn.IFNA(INDEX(Dropdowns!L$3:L$31, MATCH(D130, EGridSubregions, 0)), 0)","v":0},{"$f":"'Displaced Emissions'!E5","v":0},{"$f":"(SUMIFS(FactorMatrix[[UPSTREAMMATERIALSENERGY]:[UPSTREAMMATERIALSENERGY]], FactorMatrix[[MODE]:[MODE]], $B130, FactorMatrix[[PHASE]:[PHASE]], \"Operations\", FactorMatrix[[GHGSOURCE]:[GHGSOURCE]], \"Vehicle\", FactorMatrix[[TYPE]:[TYPE]], $C130, FactorMatrix[[STATE /REGION]:[STATE /REGION]], $D130)*Years\n+\nSUMIFS(FactorMatrix[[UPSTREAMMATERIALSENERGY]:[UPSTREAMMATERIALSENERGY]], FactorMatrix[[MODE]:[MODE]], $B130, FactorMatrix[[PHASE]:[PHASE]], \"Operations\", FactorMatrix[[GHGSOURCE]:[GHGSOURCE]], \"Vehicle\", FactorMatrix[[TYPE]:[TYPE]], $C130, FactorMatrix[[STATE /REGION]:[STATE /REGION]], $E130)*Years)/IF(AND(D130=0, E130=0), 2, 1)","v":0},{"$f":"(SUMIFS(FactorMatrix[[UPSTREAMTRANSPORTENERGY]:[UPSTREAMTRANSPORTENERGY]], FactorMatrix[[MODE]:[MODE]], $B130, FactorMatrix[[PHASE]:[PHASE]], \"Operations\", FactorMatrix[[GHGSOURCE]:[GHGSOURCE]], \"Vehicle\", FactorMatrix[[TYPE]:[TYPE]], $C130, FactorMatrix[[STATE /REGION]:[STATE /REGION]], $D130)*Years\n+\nSUMIFS(FactorMatrix[[UPSTREAMTRANSPORTENERGY]:[UPSTREAMTRANSPORTENERGY]], FactorMatrix[[MODE]:[MODE]], $B130, FactorMatrix[[PHASE]:[PHASE]], \"Operations\", FactorMatrix[[GHGSOURCE]:[GHGSOURCE]], \"Vehicle\", FactorMatrix[[TYPE]:[TYPE]], $C130, FactorMatrix[[STATE /REGION]:[STATE /REGION]], $E130)*Years)/IF(AND(D130=0, E130=0), 2, 1)","v":0},{"$f":"(SUMIFS(FactorMatrix[[DOWNSTREAMENERGY]:[DOWNSTREAMENERGY]], FactorMatrix[[MODE]:[MODE]], $B130, FactorMatrix[[PHASE]:[PHASE]], \"Operations\", FactorMatrix[[GHGSOURCE]:[GHGSOURCE]], \"Vehicle\", FactorMatrix[[TYPE]:[TYPE]], $C130, FactorMatrix[[STATE /REGION]:[STATE /REGION]], $D130)*Years\n+\nSUMIFS(FactorMatrix[[DOWNSTREAMENERGY]:[DOWNSTREAMENERGY]], FactorMatrix[[MODE]:[MODE]], $B130, FactorMatrix[[PHASE]:[PHASE]], \"Operations\", FactorMatrix[[GHGSOURCE]:[GHGSOURCE]], \"Vehicle\", FactorMatrix[[TYPE]:[TYPE]], $C130, FactorMatrix[[STATE /REGION]:[STATE /REGION]], $E130)*Years)/IF(AND(D130=0, E130=0), 2, 1)","v":0},{"$f":"$F130*G130","v":0},{"$f":"$F130*H130","v":0},0,{"$f":"SUM(J130:J149)","v":0},{"$f":"SUM(K130:K149)","v":0},{"$f":"SUM(L130:L149)","v":0}]
[2,{"$f":"'Displaced Emissions'!B6","v":0},{"$f":"'Displaced Emissions'!C6","v":0},{"$f":"'Displaced Emissions'!D6","v":0},{"$f":"_xlfn.IFNA(INDEX(Dropdowns!L$3:L$31, MATCH(D131, EGridSubregions, 0)), 0)","v":0},{"$f":"'Displaced Emissions'!E6","v":0},{"$f":"(SUMIFS(FactorMatrix[[UPSTREAMMATERIALSENERGY]:[UPSTREAMMATERIALSENERGY]], FactorMatrix[[MODE]:[MODE]], $B131, FactorMatrix[[PHASE]:[PHASE]], \"Operations\", FactorMatrix[[GHGSOURCE]:[GHGSOURCE]], \"Vehicle\", FactorMatrix[[TYPE]:[TYPE]], $C131, FactorMatrix[[STATE /REGION]:[STATE /REGION]], $D131)*Years\n+\nSUMIFS(FactorMatrix[[UPSTREAMMATERIALSENERGY]:[UPSTREAMMATERIALSENERGY]], FactorMatrix[[MODE]:[MODE]], $B131, FactorMatrix[[PHASE]:[PHASE]], \"Operations\", FactorMatrix[[GHGSOURCE]:[GHGSOURCE]], \"Vehicle\", FactorMatrix[[TYPE]:[TYPE]], $C131, FactorMatrix[[STATE /REGION]:[STATE /REGION]], $E131)*Years)/IF(AND(D131=0, E131=0), 2, 1)","v":0},{"$f":"(SUMIFS(FactorMatrix[[UPSTREAMTRANSPORTENERGY]:[UPSTREAMTRANSPORTENERGY]], FactorMatrix[[MODE]:[MODE]], $B131, FactorMatrix[[PHASE]:[PHASE]], \"Operations\", FactorMatrix[[GHGSOURCE]:[GHGSOURCE]], \"Vehicle\", FactorMatrix[[TYPE]:[TYPE]], $C131, FactorMatrix[[STATE /REGION]:[STATE /REGION]], $D131)*Years\n+\nSUMIFS(FactorMatrix[[UPSTREAMTRANSPORTENERGY]:[UPSTREAMTRANSPORTENERGY]], FactorMatrix[[MODE]:[MODE]], $B131, FactorMatrix[[PHASE]:[PHASE]], \"Operations\", FactorMatrix[[GHGSOURCE]:[GHGSOURCE]], \"Vehicle\", FactorMatrix[[TYPE]:[TYPE]], $C131, FactorMatrix[[STATE /REGION]:[STATE /REGION]], $E131)*Years)/IF(AND(D131=0, E131=0), 2, 1)","v":0},{"$f":"(SUMIFS(FactorMatrix[[DOWNSTREAMENERGY]:[DOWNSTREAMENERGY]], FactorMatrix[[MODE]:[MODE]], $B131, FactorMatrix[[PHASE]:[PHASE]], \"Operations\", FactorMatrix[[GHGSOURCE]:[GHGSOURCE]], \"Vehicle\", FactorMatrix[[TYPE]:[TYPE]], $C131, FactorMatrix[[STATE /REGION]:[STATE /REGION]], $D131)*Years\n+\nSUMIFS(FactorMatrix[[DOWNSTREAMENERGY]:[DOWNSTREAMENERGY]], FactorMatrix[[MODE]:[MODE]], $B131, FactorMatrix[[PHASE]:[PHASE]], \"Operations\", FactorMatrix[[GHGSOURCE]:[GHGSOURCE]], \"Vehicle\", FactorMatrix[[TYPE]:[TYPE]], $C131, FactorMatrix[[STATE /REGION]:[STATE /REGION]], $E131)*Years)/IF(AND(D131=0, E131=0), 2, 1)","v":0},{"$f":"$F131*G131","v":0},0,0]
[3,{"$f":"'Displaced Emissions'!B7","v":0},{"$f":"'Displaced Emissions'!C7","v":0},{"$f":"'Displaced Emissions'!D7","v":0},{"$f":"_xlfn.IFNA(INDEX(Dropdowns!L$3:L$31, MATCH(D132, EGridSubregions, 0)), 0)","v":0},{"$f":"'Displaced Emissions'!E7","v":0},{"$f":"(SUMIFS(FactorMatrix[[UPSTREAMMATERIALSENERGY]:[UPSTREAMMATERIALSENERGY]], FactorMatrix[[MODE]:[MODE]], $B132, FactorMatrix[[PHASE]:[PHASE]], \"Operations\", FactorMatrix[[GHGSOURCE]:[GHGSOURCE]], \"Vehicle\", FactorMatrix[[TYPE]:[TYPE]], $C132, FactorMatrix[[STATE /REGION]:[STATE /REGION]], $D132)*Years\n+\nSUMIFS(FactorMatrix[[UPSTREAMMATERIALSENERGY]:[UPSTREAMMATERIALSENERGY]], FactorMatrix[[MODE]:[MODE]], $B132, FactorMatrix[[PHASE]:[PHASE]], \"Operations\", FactorMatrix[[GHGSOURCE]:[GHGSOURCE]], \"Vehicle\", FactorMatrix[[TYPE]:[TYPE]], $C132, FactorMatrix[[STATE /REGION]:[STATE /REGION]], $E132)*Years)/IF(AND(D132=0, E132=0), 2, 1)","v":0},{"$f":"(SUMIFS(FactorMatrix[[UPSTREAMTRANSPORTENERGY]:[UPSTREAMTRANSPORTENERGY]], FactorMatrix[[MODE]:[MODE]], $B132, FactorMatrix[[PHASE]:[PHASE]], \"Operations\", FactorMatrix[[GHGSOURCE]:[GHGSOURCE]], \"Vehicle\", FactorMatrix[[TYPE]:[TYPE]], $C132, FactorMatrix[[STATE /REGION]:[STATE /REGION]], $D132)*Years\n+\nSUMIFS(FactorMatrix[[UPSTREAMTRANSPORTENERGY]:[UPSTREAMTRANSPORTENERGY]], FactorMatrix[[MODE]:[MODE]], $B132, FactorMatrix[[PHASE]:[PHASE]], \"Operations\", FactorMatrix[[GHGSOURCE]:[GHGSOURCE]], \"Vehicle\", FactorMatrix[[TYPE]:[TYPE]], $C132, FactorMatrix[[STATE /REGION]:[STATE /REGION]], $E132)*Years)/IF(AND(D132=0, E132=0), 2, 1)","v":0},{"$f":"(SUMIFS(FactorMatrix[[DOWNSTREAMENERGY]:[DOWNSTREAMENERGY]], FactorMatrix[[MODE]:[MODE]], $B132, FactorMatrix[[PHASE]:[PHASE]], \"Operations\", FactorMatrix[[GHGSOURCE]:[GHGSOURCE]], \"Vehicle\", FactorMatrix[[TYPE]:[TYPE]], $C132, FactorMatrix[[STATE /REGION]:[STATE /REGION]], $D132)*Years\n+\nSUMIFS(FactorMatrix[[DOWNSTREAMENERGY]:[DOWNSTREAMENERGY]], FactorMatrix[[MODE]:[MODE]], $B132, FactorMatrix[[PHASE]:[PHASE]], \"Operations\", FactorMatrix[[GHGSOURCE]:[GHGSOURCE]], \"Vehicle\", FactorMatrix[[TYPE]:[TYPE]], $C132, FactorMatrix[[STATE /REGION]:[STATE /REGION]], $E132)*Years)/IF(AND(D132=0, E132=0), 2, 1)","v":0},0,0,0,"Annual"]
[4,{"$f":"'Displaced Emissions'!B8","v":0},{"$f":"'Displaced Emissions'!C8","v":0},{"$f":"'Displaced Emissions'!D8","v":0},{"$f":"_xlfn.IFNA(INDEX(Dropdowns!L$3:L$31, MATCH(D133, EGridSubregions, 0)), 0)","v":0},{"$f":"'Displaced Emissions'!E8","v":0},{"$f":"(SUMIFS(FactorMatrix[[UPSTREAMMATERIALSENERGY]:[UPSTREAMMATERIALSENERGY]], FactorMatrix[[MODE]:[MODE]], $B133, FactorMatrix[[PHASE]:[PHASE]], \"Operations\", FactorMatrix[[GHGSOURCE]:[GHGSOURCE]], \"Vehicle\", FactorMatrix[[TYPE]:[TYPE]], $C133, FactorMatrix[[STATE /REGION]:[STATE /REGION]], $D133)*Years\n+\nSUMIFS(FactorMatrix[[UPSTREAMMATERIALSENERGY]:[UPSTREAMMATERIALSENERGY]], FactorMatrix[[MODE]:[MODE]], $B133, FactorMatrix[[PHASE]:[PHASE]], \"Operations\", FactorMatrix[[GHGSOURCE]:[GHGSOURCE]], \"Vehicle\", FactorMatrix[[TYPE]:[TYPE]], $C133, FactorMatrix[[STATE /REGION]:[STATE /REGION]], $E133)*Years)/IF(AND(D133=0, E133=0), 2, 1)","v":0},{"$f":"(SUMIFS(FactorMatrix[[UPSTREAMTRANSPORTENERGY]:[UPSTREAMTRANSPORTENERGY]], FactorMatrix[[MODE]:[MODE]], $B133, FactorMatrix[[PHASE]:[PHASE]], \"Operations\", FactorMatrix[[GHGSOURCE]:[GHGSOURCE]], \"Vehicle\", FactorMatrix[[TYPE]:[TYPE]], $C133, FactorMatrix[[STATE /REGION]:[STATE /REGION]], $D133)*Years\n+\nSUMIFS(FactorMatrix[[UPSTREAMTRANSPORTENERGY]:[UPSTREAMTRANSPORTENERGY]], FactorMatrix[[MODE]:[MODE]], $B133, FactorMatrix[[PHASE]:[PHASE]], \"Operations\", FactorMatrix[[GHGSOURCE]:[GHGSOURCE]], \"Vehicle\", FactorMatrix[[TYPE]:[TYPE]], $C133, FactorMatrix[[STATE /REGION]:[STATE /REGION]], $E133)*Years)/IF(AND(D133=0, E133=0), 2, 1)","v":0},{"$f":"(SUMIFS(FactorMatrix[[DOWNSTREAMENERGY]:[DOWNSTREAMENERGY]], FactorMatrix[[MODE]:[MODE]], $B133, FactorMatrix[[PHASE]:[PHASE]], \"Operations\", FactorMatrix[[GHGSOURCE]:[GHGSOURCE]], \"Vehicle\", FactorMatrix[[TYPE]:[TYPE]], $C133, FactorMatrix[[STATE /REGION]:[STATE /REGION]], $D133)*Years\n+\nSUMIFS(FactorMatrix[[DOWNSTREAMENERGY]:[DOWNSTREAMENERGY]], FactorMatrix[[MODE]:[MODE]], $B133, FactorMatrix[[PHASE]:[PHASE]], \"Operations\", FactorMatrix[[GHGSOURCE]:[GHGSOURCE]], \"Vehicle\", FactorMatrix[[TYPE]:[TYPE]], $C133, FactorMatrix[[STATE /REGION]:[STATE /REGION]], $E133)*Years)/IF(AND(D133=0, E133=0), 2, 1)","v":0},0,0,0]
[5,{"$f":"'Displaced Emissions'!B9","v":0},{"$f":"'Displaced Emissions'!C9","v":0},{"$f":"'Displaced Emissions'!D9","v":0},{"$f":"_xlfn.IFNA(INDEX(Dropdowns!L$3:L$31, MATCH(D134, EGridSubregions, 0)), 0)","v":0},{"$f":"'Displaced Emissions'!E9","v":0},{"$f":"(SUMIFS(FactorMatrix[[UPSTREAMMATERIALSENERGY]:[UPSTREAMMATERIALSENERGY]], FactorMatrix[[MODE]:[MODE]], $B134, FactorMatrix[[PHASE]:[PHASE]], \"Operations\", FactorMatrix[[GHGSOURCE]:[GHGSOURCE]], \"Vehicle\", FactorMatrix[[TYPE]:[TYPE]], $C134, FactorMatrix[[STATE /REGION]:[STATE /REGION]], $D134)*Years\n+\nSUMIFS(FactorMatrix[[UPSTREAMMATERIALSENERGY]:[UPSTREAMMATERIALSENERGY]], FactorMatrix[[MODE]:[MODE]], $B134, FactorMatrix[[PHASE]:[PHASE]], \"Operations\", FactorMatrix[[GHGSOURCE]:[GHGSOURCE]], \"Vehicle\", FactorMatrix[[TYPE]:[TYPE]], $C134, FactorMatrix[[STATE /REGION]:[STATE /REGION]], $E134)*Years)/IF(AND(D134=0, E134=0), 2, 1)","v":0},{"$f":"(SUMIFS(FactorMatrix[[UPSTREAMTRANSPORTENERGY]:[UPSTREAMTRANSPORTENERGY]], FactorMatrix[[MODE]:[MODE]], $B134, FactorMatrix[[PHASE]:[PHASE]], \"Operations\", FactorMatrix[[GHGSOURCE]:[GHGSOURCE]], \"Vehicle\", FactorMatrix[[TYPE]:[TYPE]], $C134, FactorMatrix[[STATE /REGION]:[STATE /REGION]], $D134)*Years\n+\nSUMIFS(FactorMatrix[[UPSTREAMTRANSPORTENERGY]:[UPSTREAMTRANSPORTENERGY]], FactorMatrix[[MODE]:[MODE]], $B134, FactorMatrix[[PHASE]:[PHASE]], \"Operations\", FactorMatrix[[GHGSOURCE]:[GHGSOURCE]], \"Vehicle\", FactorMatrix[[TYPE]:[TYPE]], $C134, FactorMatrix[[STATE /REGION]:[STATE /REGION]], $E134)*Years)/IF(AND(D134=0, E134=0), 2, 1)","v":0},{"$f":"(SUMIFS(FactorMatrix[[DOWNSTREAMENERGY]:[DOWNSTREAMENERGY]], FactorMatrix[[MODE]:[MODE]], $B134, FactorMatrix[[PHASE]:[PHASE]], \"Operations\", FactorMatrix[[GHGSOURCE]:[GHGSOURCE]], \"Vehicle\", FactorMatrix[[TYPE]:[TYPE]], $C134, FactorMatrix[[STATE /REGION]:[STATE /REGION]], $D134)*Years\n+\nSUMIFS(FactorMatrix[[DOWNSTREAMENERGY]:[DOWNSTREAMENERGY]], FactorMatrix[[MODE]:[MODE]], $B134, FactorMatrix[[PHASE]:[PHASE]], \"Operations\", FactorMatrix[[GHGSOURCE]:[GHGSOURCE]], \"Vehicle\", FactorMatrix[[TYPE]:[TYPE]], $C134, FactorMatrix[[STATE /REGION]:[STATE /REGION]], $E134)*Years)/IF(AND(D134=0, E134=0), 2, 1)","v":0},0,0,0,"UPSTREAM MATERIALS","UPSTREAM TRANSPORT","DOWNSTREAM"]
[6,{"$f":"'Displaced Emissions'!B10","v":0},{"$f":"'Displaced Emissions'!C10","v":0},{"$f":"'Displaced Emissions'!D10","v":0},{"$f":"_xlfn.IFNA(INDEX(Dropdowns!L$3:L$31, MATCH(D135, EGridSubregions, 0)), 0)","v":0},{"$f":"'Displaced Emissions'!E10","v":0},{"$f":"(SUMIFS(FactorMatrix[[UPSTREAMMATERIALSENERGY]:[UPSTREAMMATERIALSENERGY]], FactorMatrix[[MODE]:[MODE]], $B135, FactorMatrix[[PHASE]:[PHASE]], \"Operations\", FactorMatrix[[GHGSOURCE]:[GHGSOURCE]], \"Vehicle\", FactorMatrix[[TYPE]:[TYPE]], $C135, FactorMatrix[[STATE /REGION]:[STATE /REGION]], $D135)*Years\n+\nSUMIFS(FactorMatrix[[UPSTREAMMATERIALSENERGY]:[UPSTREAMMATERIALSENERGY]], FactorMatrix[[MODE]:[MODE]], $B135, FactorMatrix[[PHASE]:[PHASE]], \"Operations\", FactorMatrix[[GHGSOURCE]:[GHGSOURCE]], \"Vehicle\", FactorMatrix[[TYPE]:[TYPE]], $C135, FactorMatrix[[STATE /REGION]:[STATE /REGION]], $E135)*Years)/IF(AND(D135=0, E135=0), 2, 1)","v":0},{"$f":"(SUMIFS(FactorMatrix[[UPSTREAMTRANSPORTENERGY]:[UPSTREAMTRANSPORTENERGY]], FactorMatrix[[MODE]:[MODE]], $B135, FactorMatrix[[PHASE]:[PHASE]], \"Operations\", FactorMatrix[[GHGSOURCE]:[GHGSOURCE]], \"Vehicle\", FactorMatrix[[TYPE]:[TYPE]], $C135, FactorMatrix[[STATE /REGION]:[STATE /REGION]], $D135)*Years\n+\nSUMIFS(FactorMatrix[[UPSTREAMTRANSPORTENERGY]:[UPSTREAMTRANSPORTENERGY]], FactorMatrix[[MODE]:[MODE]], $B135, FactorMatrix[[PHASE]:[PHASE]], \"Operations\", FactorMatrix[[GHGSOURCE]:[GHGSOURCE]], \"Vehicle\", FactorMatrix[[TYPE]:[TYPE]], $C135, FactorMatrix[[STATE /REGION]:[STATE /REGION]], $E135)*Years)/IF(AND(D135=0, E135=0), 2, 1)","v":0},{"$f":"(SUMIFS(FactorMatrix[[DOWNSTREAMENERGY]:[DOWNSTREAMENERGY]], FactorMatrix[[MODE]:[MODE]], $B135, FactorMatrix[[PHASE]:[PHASE]], \"Operations\", FactorMatrix[[GHGSOURCE]:[GHGSOURCE]], \"Vehicle\", FactorMatrix[[TYPE]:[TYPE]], $C135, FactorMatrix[[STATE /REGION]:[STATE /REGION]], $D135)*Years\n+\nSUMIFS(FactorMatrix[[DOWNSTREAMENERGY]:[DOWNSTREAMENERGY]], FactorMatrix[[MODE]:[MODE]], $B135, FactorMatrix[[PHASE]:[PHASE]], \"Operations\", FactorMatrix[[GHGSOURCE]:[GHGSOURCE]], \"Vehicle\", FactorMatrix[[TYPE]:[TYPE]], $C135, FactorMatrix[[STATE /REGION]:[STATE /REGION]], $E135)*Years)/IF(AND(D135=0, E135=0), 2, 1)","v":0},0,0,0,{"$f":"M130/Years","v":{"$error":"#DIV/0!"}},{"$f":"N130/Years","v":{"$error":"#DIV/0!"}},{"$f":"O130/Years","v":{"$error":"#DIV/0!"}}]
[7,{"$f":"'Displaced Emissions'!B11","v":0},{"$f":"'Displaced Emissions'!C11","v":0},{"$f":"'Displaced Emissions'!D11","v":0},{"$f":"_xlfn.IFNA(INDEX(Dropdowns!L$3:L$31, MATCH(D136, EGridSubregions, 0)), 0)","v":0},{"$f":"'Displaced Emissions'!E11","v":0},{"$f":"(SUMIFS(FactorMatrix[[UPSTREAMMATERIALSENERGY]:[UPSTREAMMATERIALSENERGY]], FactorMatrix[[MODE]:[MODE]], $B136, FactorMatrix[[PHASE]:[PHASE]], \"Operations\", FactorMatrix[[GHGSOURCE]:[GHGSOURCE]], \"Vehicle\", FactorMatrix[[TYPE]:[TYPE]], $C136, FactorMatrix[[STATE /REGION]:[STATE /REGION]], $D136)*Years\n+\nSUMIFS(FactorMatrix[[UPSTREAMMATERIALSENERGY]:[UPSTREAMMATERIALSENERGY]], FactorMatrix[[MODE]:[MODE]], $B136, FactorMatrix[[PHASE]:[PHASE]], \"Operations\", FactorMatrix[[GHGSOURCE]:[GHGSOURCE]], \"Vehicle\", FactorMatrix[[TYPE]:[TYPE]], $C136, FactorMatrix[[STATE /REGION]:[STATE /REGION]], $E136)*Years)/IF(AND(D136=0, E136=0), 2, 1)","v":0},{"$f":"(SUMIFS(FactorMatrix[[UPSTREAMTRANSPORTENERGY]:[UPSTREAMTRANSPORTENERGY]], FactorMatrix[[MODE]:[MODE]], $B136, FactorMatrix[[PHASE]:[PHASE]], \"Operations\", FactorMatrix[[GHGSOURCE]:[GHGSOURCE]], \"Vehicle\", FactorMatrix[[TYPE]:[TYPE]], $C136, FactorMatrix[[STATE /REGION]:[STATE /REGION]], $D136)*Years\n+\nSUMIFS(FactorMatrix[[UPSTREAMTRANSPORTENERGY]:[UPSTREAMTRANSPORTENERGY]], FactorMatrix[[MODE]:[MODE]], $B136, FactorMatrix[[PHASE]:[PHASE]], \"Operations\", FactorMatrix[[GHGSOURCE]:[GHGSOURCE]], \"Vehicle\", FactorMatrix[[TYPE]:[TYPE]], $C136, FactorMatrix[[STATE /REGION]:[STATE /REGION]], $E136)*Years)/IF(AND(D136=0, E136=0), 2, 1)","v":0},{"$f":"(SUMIFS(FactorMatrix[[DOWNSTREAMENERGY]:[DOWNSTREAMENERGY]], FactorMatrix[[MODE]:[MODE]], $B136, FactorMatrix[[PHASE]:[PHASE]], \"Operations\", FactorMatrix[[GHGSOURCE]:[GHGSOURCE]], \"Vehicle\", FactorMatrix[[TYPE]:[TYPE]], $C136, FactorMatrix[[STATE /REGION]:[STATE /REGION]], $D136)*Years\n+\nSUMIFS(FactorMatrix[[DOWNSTREAMENERGY]:[DOWNSTREAMENERGY]], FactorMatrix[[MODE]:[MODE]], $B136, FactorMatrix[[PHASE]:[PHASE]], \"Operations\", FactorMatrix[[GHGSOURCE]:[GHGSOURCE]], \"Vehicle\", FactorMatrix[[TYPE]:[TYPE]], $C136, FactorMatrix[[STATE /REGION]:[STATE /REGION]], $E136)*Years)/IF(AND(D136=0, E136=0), 2, 1)","v":0},0,0,0]
[8,{"$f":"'Displaced Emissions'!B12","v":0},{"$f":"'Displaced Emissions'!C12","v":0},{"$f":"'Displaced Emissions'!D12","v":0},{"$f":"_xlfn.IFNA(INDEX(Dropdowns!L$3:L$31, MATCH(D137, EGridSubregions, 0)), 0)","v":0},{"$f":"'Displaced Emissions'!E12","v":0},{"$f":"(SUMIFS(FactorMatrix[[UPSTREAMMATERIALSENERGY]:[UPSTREAMMATERIALSENERGY]], FactorMatrix[[MODE]:[MODE]], $B137, FactorMatrix[[PHASE]:[PHASE]], \"Operations\", FactorMatrix[[GHGSOURCE]:[GHGSOURCE]], \"Vehicle\", FactorMatrix[[TYPE]:[TYPE]], $C137, FactorMatrix[[STATE /REGION]:[STATE /REGION]], $D137)*Years\n+\nSUMIFS(FactorMatrix[[UPSTREAMMATERIALSENERGY]:[UPSTREAMMATERIALSENERGY]], FactorMatrix[[MODE]:[MODE]], $B137, FactorMatrix[[PHASE]:[PHASE]], \"Operations\", FactorMatrix[[GHGSOURCE]:[GHGSOURCE]], \"Vehicle\", FactorMatrix[[TYPE]:[TYPE]], $C137, FactorMatrix[[STATE /REGION]:[STATE /REGION]], $E137)*Years)/IF(AND(D137=0, E137=0), 2, 1)","v":0},{"$f":"(SUMIFS(FactorMatrix[[UPSTREAMTRANSPORTENERGY]:[UPSTREAMTRANSPORTENERGY]], FactorMatrix[[MODE]:[MODE]], $B137, FactorMatrix[[PHASE]:[PHASE]], \"Operations\", FactorMatrix[[GHGSOURCE]:[GHGSOURCE]], \"Vehicle\", FactorMatrix[[TYPE]:[TYPE]], $C137, FactorMatrix[[STATE /REGION]:[STATE /REGION]], $D137)*Years\n+\nSUMIFS(FactorMatrix[[UPSTREAMTRANSPORTENERGY]:[UPSTREAMTRANSPORTENERGY]], FactorMatrix[[MODE]:[MODE]], $B137, FactorMatrix[[PHASE]:[PHASE]], \"Operations\", FactorMatrix[[GHGSOURCE]:[GHGSOURCE]], \"Vehicle\", FactorMatrix[[TYPE]:[TYPE]], $C137, FactorMatrix[[STATE /REGION]:[STATE /REGION]], $E137)*Years)/IF(AND(D137=0, E137=0), 2, 1)","v":0},{"$f":"(SUMIFS(FactorMatrix[[DOWNSTREAMENERGY]:[DOWNSTREAMENERGY]], FactorMatrix[[MODE]:[MODE]], $B137, FactorMatrix[[PHASE]:[PHASE]], \"Operations\", FactorMatrix[[GHGSOURCE]:[GHGSOURCE]], \"Vehicle\", FactorMatrix[[TYPE]:[TYPE]], $C137, FactorMatrix[[STATE /REGION]:[STATE /REGION]], $D137)*Years\n+\nSUMIFS(FactorMatrix[[DOWNSTREAMENERGY]:[DOWNSTREAMENERGY]], FactorMatrix[[MODE]:[MODE]], $B137, FactorMatrix[[PHASE]:[PHASE]], \"Operations\", FactorMatrix[[GHGSOURCE]:[GHGSOURCE]], \"Vehicle\", FactorMatrix[[TYPE]:[TYPE]], $C137, FactorMatrix[[STATE /REGION]:[STATE /REGION]], $E137)*Years)/IF(AND(D137=0, E137=0), 2, 1)","v":0},0,0,0]
[9,{"$f":"'Displaced Emissions'!B13","v":0},{"$f":"'Displaced Emissions'!C13","v":0},{"$f":"'Displaced Emissions'!D13","v":0},{"$f":"_xlfn.IFNA(INDEX(Dropdowns!L$3:L$31, MATCH(D138, EGridSubregions, 0)), 0)","v":0},{"$f":"'Displaced Emissions'!E13","v":0},{"$f":"(SUMIFS(FactorMatrix[[UPSTREAMMATERIALSENERGY]:[UPSTREAMMATERIALSENERGY]], FactorMatrix[[MODE]:[MODE]], $B138, FactorMatrix[[PHASE]:[PHASE]], \"Operations\", FactorMatrix[[GHGSOURCE]:[GHGSOURCE]], \"Vehicle\", FactorMatrix[[TYPE]:[TYPE]], $C138, FactorMatrix[[STATE /REGION]:[STATE /REGION]], $D138)*Years\n+\nSUMIFS(FactorMatrix[[UPSTREAMMATERIALSENERGY]:[UPSTREAMMATERIALSENERGY]], FactorMatrix[[MODE]:[MODE]], $B138, FactorMatrix[[PHASE]:[PHASE]], \"Operations\", FactorMatrix[[GHGSOURCE]:[GHGSOURCE]], \"Vehicle\", FactorMatrix[[TYPE]:[TYPE]], $C138, FactorMatrix[[STATE /REGION]:[STATE /REGION]], $E138)*Years)/IF(AND(D138=0, E138=0), 2, 1)","v":0},{"$f":"(SUMIFS(FactorMatrix[[UPSTREAMTRANSPORTENERGY]:[UPSTREAMTRANSPORTENERGY]], FactorMatrix[[MODE]:[MODE]], $B138, FactorMatrix[[PHASE]:[PHASE]], \"Operations\", FactorMatrix[[GHGSOURCE]:[GHGSOURCE]], \"Vehicle\", FactorMatrix[[TYPE]:[TYPE]], $C138, FactorMatrix[[STATE /REGION]:[STATE /REGION]], $D138)*Years\n+\nSUMIFS(FactorMatrix[[UPSTREAMTRANSPORTENERGY]:[UPSTREAMTRANSPORTENERGY]], FactorMatrix[[MODE]:[MODE]], $B138, FactorMatrix[[PHASE]:[PHASE]], \"Operations\", FactorMatrix[[GHGSOURCE]:[GHGSOURCE]], \"Vehicle\", FactorMatrix[[TYPE]:[TYPE]], $C138, FactorMatrix[[STATE /REGION]:[STATE /REGION]], $E138)*Years)/IF(AND(D138=0, E138=0), 2, 1)","v":0},{"$f":"(SUMIFS(FactorMatrix[[DOWNSTREAMENERGY]:[DOWNSTREAMENERGY]], FactorMatrix[[MODE]:[MODE]], $B138, FactorMatrix[[PHASE]:[PHASE]], \"Operations\", FactorMatrix[[GHGSOURCE]:[GHGSOURCE]], \"Vehicle\", FactorMatrix[[TYPE]:[TYPE]], $C138, FactorMatrix[[STATE /REGION]:[STATE /REGION]], $D138)*Years\n+\nSUMIFS(FactorMatrix[[DOWNSTREAMENERGY]:[DOWNSTREAMENERGY]], FactorMatrix[[MODE]:[MODE]], $B138, FactorMatrix[[PHASE]:[PHASE]], \"Operations\", FactorMatrix[[GHGSOURCE]:[GHGSOURCE]], \"Vehicle\", FactorMatrix[[TYPE]:[TYPE]], $C138, FactorMatrix[[STATE /REGION]:[STATE /REGION]], $E138)*Years)/IF(AND(D138=0, E138=0), 2, 1)","v":0},0,0,0]
[10,{"$f":"'Displaced Emissions'!B14","v":0},{"$f":"'Displaced Emissions'!C14","v":0},{"$f":"'Displaced Emissions'!D14","v":0},{"$f":"_xlfn.IFNA(INDEX(Dropdowns!L$3:L$31, MATCH(D139, EGridSubregions, 0)), 0)","v":0},{"$f":"'Displaced Emissions'!E14","v":0},{"$f":"(SUMIFS(FactorMatrix[[UPSTREAMMATERIALSENERGY]:[UPSTREAMMATERIALSENERGY]], FactorMatrix[[MODE]:[MODE]], $B139, FactorMatrix[[PHASE]:[PHASE]], \"Operations\", FactorMatrix[[GHGSOURCE]:[GHGSOURCE]], \"Vehicle\", FactorMatrix[[TYPE]:[TYPE]], $C139, FactorMatrix[[STATE /REGION]:[STATE /REGION]], $D139)*Years\n+\nSUMIFS(FactorMatrix[[UPSTREAMMATERIALSENERGY]:[UPSTREAMMATERIALSENERGY]], FactorMatrix[[MODE]:[MODE]], $B139, FactorMatrix[[PHASE]:[PHASE]], \"Operations\", FactorMatrix[[GHGSOURCE]:[GHGSOURCE]], \"Vehicle\", FactorMatrix[[TYPE]:[TYPE]], $C139, FactorMatrix[[STATE /REGION]:[STATE /REGION]], $E139)*Years)/IF(AND(D139=0, E139=0), 2, 1)","v":0},{"$f":"(SUMIFS(FactorMatrix[[UPSTREAMTRANSPORTENERGY]:[UPSTREAMTRANSPORTENERGY]], FactorMatrix[[MODE]:[MODE]], $B139, FactorMatrix[[PHASE]:[PHASE]], \"Operations\", FactorMatrix[[GHGSOURCE]:[GHGSOURCE]], \"Vehicle\", FactorMatrix[[TYPE]:[TYPE]], $C139, FactorMatrix[[STATE /REGION]:[STATE /REGION]], $D139)*Years\n+\nSUMIFS(FactorMatrix[[UPSTREAMTRANSPORTENERGY]:[UPSTREAMTRANSPORTENERGY]], FactorMatrix[[MODE]:[MODE]], $B139, FactorMatrix[[PHASE]:[PHASE]], \"Operations\", FactorMatrix[[GHGSOURCE]:[GHGSOURCE]], \"Vehicle\", FactorMatrix[[TYPE]:[TYPE]], $C139, FactorMatrix[[STATE /REGION]:[STATE /REGION]], $E139)*Years)/IF(AND(D139=0, E139=0), 2, 1)","v":0},{"$f":"(SUMIFS(FactorMatrix[[DOWNSTREAMENERGY]:[DOWNSTREAMENERGY]], FactorMatrix[[MODE]:[MODE]], $B139, FactorMatrix[[PHASE]:[PHASE]], \"Operations\", FactorMatrix[[GHGSOURCE]:[GHGSOURCE]], \"Vehicle\", FactorMatrix[[TYPE]:[TYPE]], $C139, FactorMatrix[[STATE /REGION]:[STATE /REGION]], $D139)*Years\n+\nSUMIFS(FactorMatrix[[DOWNSTREAMENERGY]:[DOWNSTREAMENERGY]], FactorMatrix[[MODE]:[MODE]], $B139, FactorMatrix[[PHASE]:[PHASE]], \"Operations\", FactorMatrix[[GHGSOURCE]:[GHGSOURCE]], \"Vehicle\", FactorMatrix[[TYPE]:[TYPE]], $C139, FactorMatrix[[STATE /REGION]:[STATE /REGION]], $E139)*Years)/IF(AND(D139=0, E139=0), 2, 1)","v":0},0,0,0]
[11,{"$f":"'Displaced Emissions'!B15","v":0},{"$f":"'Displaced Emissions'!C15","v":0},{"$f":"'Displaced Emissions'!D15","v":0},{"$f":"_xlfn.IFNA(INDEX(Dropdowns!L$3:L$31, MATCH(D140, EGridSubregions, 0)), 0)","v":0},{"$f":"'Displaced Emissions'!E15","v":0},{"$f":"(SUMIFS(FactorMatrix[[UPSTREAMMATERIALSENERGY]:[UPSTREAMMATERIALSENERGY]], FactorMatrix[[MODE]:[MODE]], $B140, FactorMatrix[[PHASE]:[PHASE]], \"Operations\", FactorMatrix[[GHGSOURCE]:[GHGSOURCE]], \"Vehicle\", FactorMatrix[[TYPE]:[TYPE]], $C140, FactorMatrix[[STATE /REGION]:[STATE /REGION]], $D140)*Years\n+\nSUMIFS(FactorMatrix[[UPSTREAMMATERIALSENERGY]:[UPSTREAMMATERIALSENERGY]], FactorMatrix[[MODE]:[MODE]], $B140, FactorMatrix[[PHASE]:[PHASE]], \"Operations\", FactorMatrix[[GHGSOURCE]:[GHGSOURCE]], \"Vehicle\", FactorMatrix[[TYPE]:[TYPE]], $C140, FactorMatrix[[STATE /REGION]:[STATE /REGION]], $E140)*Years)/IF(AND(D140=0, E140=0), 2, 1)","v":0},{"$f":"(SUMIFS(FactorMatrix[[UPSTREAMTRANSPORTENERGY]:[UPSTREAMTRANSPORTENERGY]], FactorMatrix[[MODE]:[MODE]], $B140, FactorMatrix[[PHASE]:[PHASE]], \"Operations\", FactorMatrix[[GHGSOURCE]:[GHGSOURCE]], \"Vehicle\", FactorMatrix[[TYPE]:[TYPE]], $C140, FactorMatrix[[STATE /REGION]:[STATE /REGION]], $D140)*Years\n+\nSUMIFS(FactorMatrix[[UPSTREAMTRANSPORTENERGY]:[UPSTREAMTRANSPORTENERGY]], FactorMatrix[[MODE]:[MODE]], $B140, FactorMatrix[[PHASE]:[PHASE]], \"Operations\", FactorMatrix[[GHGSOURCE]:[GHGSOURCE]], \"Vehicle\", FactorMatrix[[TYPE]:[TYPE]], $C140, FactorMatrix[[STATE /REGION]:[STATE /REGION]], $E140)*Years)/IF(AND(D140=0, E140=0), 2, 1)","v":0},{"$f":"(SUMIFS(FactorMatrix[[DOWNSTREAMENERGY]:[DOWNSTREAMENERGY]], FactorMatrix[[MODE]:[MODE]], $B140, FactorMatrix[[PHASE]:[PHASE]], \"Operations\", FactorMatrix[[GHGSOURCE]:[GHGSOURCE]], \"Vehicle\", FactorMatrix[[TYPE]:[TYPE]], $C140, FactorMatrix[[STATE /REGION]:[STATE /REGION]], $D140)*Years\n+\nSUMIFS(FactorMatrix[[DOWNSTREAMENERGY]:[DOWNSTREAMENERGY]], FactorMatrix[[MODE]:[MODE]], $B140, FactorMatrix[[PHASE]:[PHASE]], \"Operations\", FactorMatrix[[GHGSOURCE]:[GHGSOURCE]], \"Vehicle\", FactorMatrix[[TYPE]:[TYPE]], $C140, FactorMatrix[[STATE /REGION]:[STATE /REGION]], $E140)*Years)/IF(AND(D140=0, E140=0), 2, 1)","v":0},0,0,0]
[12,{"$f":"'Displaced Emissions'!B16","v":0},{"$f":"'Displaced Emissions'!C16","v":0},{"$f":"'Displaced Emissions'!D16","v":0},{"$f":"_xlfn.IFNA(INDEX(Dropdowns!L$3:L$31, MATCH(D141, EGridSubregions, 0)), 0)","v":0},{"$f":"'Displaced Emissions'!E16","v":0},{"$f":"(SUMIFS(FactorMatrix[[UPSTREAMMATERIALSENERGY]:[UPSTREAMMATERIALSENERGY]], FactorMatrix[[MODE]:[MODE]], $B141, FactorMatrix[[PHASE]:[PHASE]], \"Operations\", FactorMatrix[[GHGSOURCE]:[GHGSOURCE]], \"Vehicle\", FactorMatrix[[TYPE]:[TYPE]], $C141, FactorMatrix[[STATE /REGION]:[STATE /REGION]], $D141)*Years\n+\nSUMIFS(FactorMatrix[[UPSTREAMMATERIALSENERGY]:[UPSTREAMMATERIALSENERGY]], FactorMatrix[[MODE]:[MODE]], $B141, FactorMatrix[[PHASE]:[PHASE]], \"Operations\", FactorMatrix[[GHGSOURCE]:[GHGSOURCE]], \"Vehicle\", FactorMatrix[[TYPE]:[TYPE]], $C141, FactorMatrix[[STATE /REGION]:[STATE /REGION]], $E141)*Years)/IF(AND(D141=0, E141=0), 2, 1)","v":0},{"$f":"(SUMIFS(FactorMatrix[[UPSTREAMTRANSPORTENERGY]:[UPSTREAMTRANSPORTENERGY]], FactorMatrix[[MODE]:[MODE]], $B141, FactorMatrix[[PHASE]:[PHASE]], \"Operations\", FactorMatrix[[GHGSOURCE]:[GHGSOURCE]], \"Vehicle\", FactorMatrix[[TYPE]:[TYPE]], $C141, FactorMatrix[[STATE /REGION]:[STATE /REGION]], $D141)*Years\n+\nSUMIFS(FactorMatrix[[UPSTREAMTRANSPORTENERGY]:[UPSTREAMTRANSPORTENERGY]], FactorMatrix[[MODE]:[MODE]], $B141, FactorMatrix[[PHASE]:[PHASE]], \"Operations\", FactorMatrix[[GHGSOURCE]:[GHGSOURCE]], \"Vehicle\", FactorMatrix[[TYPE]:[TYPE]], $C141, FactorMatrix[[STATE /REGION]:[STATE /REGION]], $E141)*Years)/IF(AND(D141=0, E141=0), 2, 1)","v":0},{"$f":"(SUMIFS(FactorMatrix[[DOWNSTREAMENERGY]:[DOWNSTREAMENERGY]], FactorMatrix[[MODE]:[MODE]], $B141, FactorMatrix[[PHASE]:[PHASE]], \"Operations\", FactorMatrix[[GHGSOURCE]:[GHGSOURCE]], \"Vehicle\", FactorMatrix[[TYPE]:[TYPE]], $C141, FactorMatrix[[STATE /REGION]:[STATE /REGION]], $D141)*Years\n+\nSUMIFS(FactorMatrix[[DOWNSTREAMENERGY]:[DOWNSTREAMENERGY]], FactorMatrix[[MODE]:[MODE]], $B141, FactorMatrix[[PHASE]:[PHASE]], \"Operations\", FactorMatrix[[GHGSOURCE]:[GHGSOURCE]], \"Vehicle\", FactorMatrix[[TYPE]:[TYPE]], $C141, FactorMatrix[[STATE /REGION]:[STATE /REGION]], $E141)*Years)/IF(AND(D141=0, E141=0), 2, 1)","v":0},0,0,0]
[13,{"$f":"'Displaced Emissions'!B17","v":0},{"$f":"'Displaced Emissions'!C17","v":0},{"$f":"'Displaced Emissions'!D17","v":0},{"$f":"_xlfn.IFNA(INDEX(Dropdowns!L$3:L$31, MATCH(D142, EGridSubregions, 0)), 0)","v":0},{"$f":"'Displaced Emissions'!E17","v":0},{"$f":"(SUMIFS(FactorMatrix[[UPSTREAMMATERIALSENERGY]:[UPSTREAMMATERIALSENERGY]], FactorMatrix[[MODE]:[MODE]], $B142, FactorMatrix[[PHASE]:[PHASE]], \"Operations\", FactorMatrix[[GHGSOURCE]:[GHGSOURCE]], \"Vehicle\", FactorMatrix[[TYPE]:[TYPE]], $C142, FactorMatrix[[STATE /REGION]:[STATE /REGION]], $D142)*Years\n+\nSUMIFS(FactorMatrix[[UPSTREAMMATERIALSENERGY]:[UPSTREAMMATERIALSENERGY]], FactorMatrix[[MODE]:[MODE]], $B142, FactorMatrix[[PHASE]:[PHASE]], \"Operations\", FactorMatrix[[GHGSOURCE]:[GHGSOURCE]], \"Vehicle\", FactorMatrix[[TYPE]:[TYPE]], $C142, FactorMatrix[[STATE /REGION]:[STATE /REGION]], $E142)*Years)/IF(AND(D142=0, E142=0), 2, 1)","v":0},{"$f":"(SUMIFS(FactorMatrix[[UPSTREAMTRANSPORTENERGY]:[UPSTREAMTRANSPORTENERGY]], FactorMatrix[[MODE]:[MODE]], $B142, FactorMatrix[[PHASE]:[PHASE]], \"Operations\", FactorMatrix[[GHGSOURCE]:[GHGSOURCE]], \"Vehicle\", FactorMatrix[[TYPE]:[TYPE]], $C142, FactorMatrix[[STATE /REGION]:[STATE /REGION]], $D142)*Years\n+\nSUMIFS(FactorMatrix[[UPSTREAMTRANSPORTENERGY]:[UPSTREAMTRANSPORTENERGY]], FactorMatrix[[MODE]:[MODE]], $B142, FactorMatrix[[PHASE]:[PHASE]], \"Operations\", FactorMatrix[[GHGSOURCE]:[GHGSOURCE]], \"Vehicle\", FactorMatrix[[TYPE]:[TYPE]], $C142, FactorMatrix[[STATE /REGION]:[STATE /REGION]], $E142)*Years)/IF(AND(D142=0, E142=0), 2, 1)","v":0},{"$f":"(SUMIFS(FactorMatrix[[DOWNSTREAMENERGY]:[DOWNSTREAMENERGY]], FactorMatrix[[MODE]:[MODE]], $B142, FactorMatrix[[PHASE]:[PHASE]], \"Operations\", FactorMatrix[[GHGSOURCE]:[GHGSOURCE]], \"Vehicle\", FactorMatrix[[TYPE]:[TYPE]], $C142, FactorMatrix[[STATE /REGION]:[STATE /REGION]], $D142)*Years\n+\nSUMIFS(FactorMatrix[[DOWNSTREAMENERGY]:[DOWNSTREAMENERGY]], FactorMatrix[[MODE]:[MODE]], $B142, FactorMatrix[[PHASE]:[PHASE]], \"Operations\", FactorMatrix[[GHGSOURCE]:[GHGSOURCE]], \"Vehicle\", FactorMatrix[[TYPE]:[TYPE]], $C142, FactorMatrix[[STATE /REGION]:[STATE /REGION]], $E142)*Years)/IF(AND(D142=0, E142=0), 2, 1)","v":0},0,0,0]
[14,{"$f":"'Displaced Emissions'!B18","v":0},{"$f":"'Displaced Emissions'!C18","v":0},{"$f":"'Displaced Emissions'!D18","v":0},{"$f":"_xlfn.IFNA(INDEX(Dropdowns!L$3:L$31, MATCH(D143, EGridSubregions, 0)), 0)","v":0},{"$f":"'Displaced Emissions'!E18","v":0},{"$f":"(SUMIFS(FactorMatrix[[UPSTREAMMATERIALSENERGY]:[UPSTREAMMATERIALSENERGY]], FactorMatrix[[MODE]:[MODE]], $B143, FactorMatrix[[PHASE]:[PHASE]], \"Operations\", FactorMatrix[[GHGSOURCE]:[GHGSOURCE]], \"Vehicle\", FactorMatrix[[TYPE]:[TYPE]], $C143, FactorMatrix[[STATE /REGION]:[STATE /REGION]], $D143)*Years\n+\nSUMIFS(FactorMatrix[[UPSTREAMMATERIALSENERGY]:[UPSTREAMMATERIALSENERGY]], FactorMatrix[[MODE]:[MODE]], $B143, FactorMatrix[[PHASE]:[PHASE]], \"Operations\", FactorMatrix[[GHGSOURCE]:[GHGSOURCE]], \"Vehicle\", FactorMatrix[[TYPE]:[TYPE]], $C143, FactorMatrix[[STATE /REGION]:[STATE /REGION]], $E143)*Years)/IF(AND(D143=0, E143=0), 2, 1)","v":0},{"$f":"(SUMIFS(FactorMatrix[[UPSTREAMTRANSPORTENERGY]:[UPSTREAMTRANSPORTENERGY]], FactorMatrix[[MODE]:[MODE]], $B143, FactorMatrix[[PHASE]:[PHASE]], \"Operations\", FactorMatrix[[GHGSOURCE]:[GHGSOURCE]], \"Vehicle\", FactorMatrix[[TYPE]:[TYPE]], $C143, FactorMatrix[[STATE /REGION]:[STATE /REGION]], $D143)*Years\n+\nSUMIFS(FactorMatrix[[UPSTREAMTRANSPORTENERGY]:[UPSTREAMTRANSPORTENERGY]], FactorMatrix[[MODE]:[MODE]], $B143, FactorMatrix[[PHASE]:[PHASE]], \"Operations\", FactorMatrix[[GHGSOURCE]:[GHGSOURCE]], \"Vehicle\", FactorMatrix[[TYPE]:[TYPE]], $C143, FactorMatrix[[STATE /REGION]:[STATE /REGION]], $E143)*Years)/IF(AND(D143=0, E143=0), 2, 1)","v":0},{"$f":"(SUMIFS(FactorMatrix[[DOWNSTREAMENERGY]:[DOWNSTREAMENERGY]], FactorMatrix[[MODE]:[MODE]], $B143, FactorMatrix[[PHASE]:[PHASE]], \"Operations\", FactorMatrix[[GHGSOURCE]:[GHGSOURCE]], \"Vehicle\", FactorMatrix[[TYPE]:[TYPE]], $C143, FactorMatrix[[STATE /REGION]:[STATE /REGION]], $D143)*Years\n+\nSUMIFS(FactorMatrix[[DOWNSTREAMENERGY]:[DOWNSTREAMENERGY]], FactorMatrix[[MODE]:[MODE]], $B143, FactorMatrix[[PHASE]:[PHASE]], \"Operations\", FactorMatrix[[GHGSOURCE]:[GHGSOURCE]], \"Vehicle\", FactorMatrix[[TYPE]:[TYPE]], $C143, FactorMatrix[[STATE /REGION]:[STATE /REGION]], $E143)*Years)/IF(AND(D143=0, E143=0), 2, 1)","v":0},0,0,0]
[15,{"$f":"'Displaced Emissions'!B19","v":0},{"$f":"'Displaced Emissions'!C19","v":0},{"$f":"'Displaced Emissions'!D19","v":0},{"$f":"_xlfn.IFNA(INDEX(Dropdowns!L$3:L$31, MATCH(D144, EGridSubregions, 0)), 0)","v":0},{"$f":"'Displaced Emissions'!E19","v":0},{"$f":"(SUMIFS(FactorMatrix[[UPSTREAMMATERIALSENERGY]:[UPSTREAMMATERIALSENERGY]], FactorMatrix[[MODE]:[MODE]], $B144, FactorMatrix[[PHASE]:[PHASE]], \"Operations\", FactorMatrix[[GHGSOURCE]:[GHGSOURCE]], \"Vehicle\", FactorMatrix[[TYPE]:[TYPE]], $C144, FactorMatrix[[STATE /REGION]:[STATE /REGION]], $D144)*Years\n+\nSUMIFS(FactorMatrix[[UPSTREAMMATERIALSENERGY]:[UPSTREAMMATERIALSENERGY]], FactorMatrix[[MODE]:[MODE]], $B144, FactorMatrix[[PHASE]:[PHASE]], \"Operations\", FactorMatrix[[GHGSOURCE]:[GHGSOURCE]], \"Vehicle\", FactorMatrix[[TYPE]:[TYPE]], $C144, FactorMatrix[[STATE /REGION]:[STATE /REGION]], $E144)*Years)/IF(AND(D144=0, E144=0), 2, 1)","v":0},{"$f":"(SUMIFS(FactorMatrix[[UPSTREAMTRANSPORTENERGY]:[UPSTREAMTRANSPORTENERGY]], FactorMatrix[[MODE]:[MODE]], $B144, FactorMatrix[[PHASE]:[PHASE]], \"Operations\", FactorMatrix[[GHGSOURCE]:[GHGSOURCE]], \"Vehicle\", FactorMatrix[[TYPE]:[TYPE]], $C144, FactorMatrix[[STATE /REGION]:[STATE /REGION]], $D144)*Years\n+\nSUMIFS(FactorMatrix[[UPSTREAMTRANSPORTENERGY]:[UPSTREAMTRANSPORTENERGY]], FactorMatrix[[MODE]:[MODE]], $B144, FactorMatrix[[PHASE]:[PHASE]], \"Operations\", FactorMatrix[[GHGSOURCE]:[GHGSOURCE]], \"Vehicle\", FactorMatrix[[TYPE]:[TYPE]], $C144, FactorMatrix[[STATE /REGION]:[STATE /REGION]], $E144)*Years)/IF(AND(D144=0, E144=0), 2, 1)","v":0},{"$f":"(SUMIFS(FactorMatrix[[DOWNSTREAMENERGY]:[DOWNSTREAMENERGY]], FactorMatrix[[MODE]:[MODE]], $B144, FactorMatrix[[PHASE]:[PHASE]], \"Operations\", FactorMatrix[[GHGSOURCE]:[GHGSOURCE]], \"Vehicle\", FactorMatrix[[TYPE]:[TYPE]], $C144, FactorMatrix[[STATE /REGION]:[STATE /REGION]], $D144)*Years\n+\nSUMIFS(FactorMatrix[[DOWNSTREAMENERGY]:[DOWNSTREAMENERGY]], FactorMatrix[[MODE]:[MODE]], $B144, FactorMatrix[[PHASE]:[PHASE]], \"Operations\", FactorMatrix[[GHGSOURCE]:[GHGSOURCE]], \"Vehicle\", FactorMatrix[[TYPE]:[TYPE]], $C144, FactorMatrix[[STATE /REGION]:[STATE /REGION]], $E144)*Years)/IF(AND(D144=0, E144=0), 2, 1)","v":0},0,0,0]
[16,{"$f":"'Displaced Emissions'!B20","v":0},{"$f":"'Displaced Emissions'!C20","v":0},{"$f":"'Displaced Emissions'!D20","v":0},{"$f":"_xlfn.IFNA(INDEX(Dropdowns!L$3:L$31, MATCH(D145, EGridSubregions, 0)), 0)","v":0},{"$f":"'Displaced Emissions'!E20","v":0},{"$f":"(SUMIFS(FactorMatrix[[UPSTREAMMATERIALSENERGY]:[UPSTREAMMATERIALSENERGY]], FactorMatrix[[MODE]:[MODE]], $B145, FactorMatrix[[PHASE]:[PHASE]], \"Operations\", FactorMatrix[[GHGSOURCE]:[GHGSOURCE]], \"Vehicle\", FactorMatrix[[TYPE]:[TYPE]], $C145, FactorMatrix[[STATE /REGION]:[STATE /REGION]], $D145)*Years\n+\nSUMIFS(FactorMatrix[[UPSTREAMMATERIALSENERGY]:[UPSTREAMMATERIALSENERGY]], FactorMatrix[[MODE]:[MODE]], $B145, FactorMatrix[[PHASE]:[PHASE]], \"Operations\", FactorMatrix[[GHGSOURCE]:[GHGSOURCE]], \"Vehicle\", FactorMatrix[[TYPE]:[TYPE]], $C145, FactorMatrix[[STATE /REGION]:[STATE /REGION]], $E145)*Years)/IF(AND(D145=0, E145=0), 2, 1)","v":0},{"$f":"(SUMIFS(FactorMatrix[[UPSTREAMTRANSPORTENERGY]:[UPSTREAMTRANSPORTENERGY]], FactorMatrix[[MODE]:[MODE]], $B145, FactorMatrix[[PHASE]:[PHASE]], \"Operations\", FactorMatrix[[GHGSOURCE]:[GHGSOURCE]], \"Vehicle\", FactorMatrix[[TYPE]:[TYPE]], $C145, FactorMatrix[[STATE /REGION]:[STATE /REGION]], $D145)*Years\n+\nSUMIFS(FactorMatrix[[UPSTREAMTRANSPORTENERGY]:[UPSTREAMTRANSPORTENERGY]], FactorMatrix[[MODE]:[MODE]], $B145, FactorMatrix[[PHASE]:[PHASE]], \"Operations\", FactorMatrix[[GHGSOURCE]:[GHGSOURCE]], \"Vehicle\", FactorMatrix[[TYPE]:[TYPE]], $C145, FactorMatrix[[STATE /REGION]:[STATE /REGION]], $E145)*Years)/IF(AND(D145=0, E145=0), 2, 1)","v":0},{"$f":"(SUMIFS(FactorMatrix[[DOWNSTREAMENERGY]:[DOWNSTREAMENERGY]], FactorMatrix[[MODE]:[MODE]], $B145, FactorMatrix[[PHASE]:[PHASE]], \"Operations\", FactorMatrix[[GHGSOURCE]:[GHGSOURCE]], \"Vehicle\", FactorMatrix[[TYPE]:[TYPE]], $C145, FactorMatrix[[STATE /REGION]:[STATE /REGION]], $D145)*Years\n+\nSUMIFS(FactorMatrix[[DOWNSTREAMENERGY]:[DOWNSTREAMENERGY]], FactorMatrix[[MODE]:[MODE]], $B145, FactorMatrix[[PHASE]:[PHASE]], \"Operations\", FactorMatrix[[GHGSOURCE]:[GHGSOURCE]], \"Vehicle\", FactorMatrix[[TYPE]:[TYPE]], $C145, FactorMatrix[[STATE /REGION]:[STATE /REGION]], $E145)*Years)/IF(AND(D145=0, E145=0), 2, 1)","v":0},0,0,0]
[17,{"$f":"'Displaced Emissions'!B21","v":0},{"$f":"'Displaced Emissions'!C21","v":0},{"$f":"'Displaced Emissions'!D21","v":0},{"$f":"_xlfn.IFNA(INDEX(Dropdowns!L$3:L$31, MATCH(D146, EGridSubregions, 0)), 0)","v":0},{"$f":"'Displaced Emissions'!E21","v":0},{"$f":"(SUMIFS(FactorMatrix[[UPSTREAMMATERIALSENERGY]:[UPSTREAMMATERIALSENERGY]], FactorMatrix[[MODE]:[MODE]], $B146, FactorMatrix[[PHASE]:[PHASE]], \"Operations\", FactorMatrix[[GHGSOURCE]:[GHGSOURCE]], \"Vehicle\", FactorMatrix[[TYPE]:[TYPE]], $C146, FactorMatrix[[STATE /REGION]:[STATE /REGION]], $D146)*Years\n+\nSUMIFS(FactorMatrix[[UPSTREAMMATERIALSENERGY]:[UPSTREAMMATERIALSENERGY]], FactorMatrix[[MODE]:[MODE]], $B146, FactorMatrix[[PHASE]:[PHASE]], \"Operations\", FactorMatrix[[GHGSOURCE]:[GHGSOURCE]], \"Vehicle\", FactorMatrix[[TYPE]:[TYPE]], $C146, FactorMatrix[[STATE /REGION]:[STATE /REGION]], $E146)*Years)/IF(AND(D146=0, E146=0), 2, 1)","v":0},{"$f":"(SUMIFS(FactorMatrix[[UPSTREAMTRANSPORTENERGY]:[UPSTREAMTRANSPORTENERGY]], FactorMatrix[[MODE]:[MODE]], $B146, FactorMatrix[[PHASE]:[PHASE]], \"Operations\", FactorMatrix[[GHGSOURCE]:[GHGSOURCE]], \"Vehicle\", FactorMatrix[[TYPE]:[TYPE]], $C146, FactorMatrix[[STATE /REGION]:[STATE /REGION]], $D146)*Years\n+\nSUMIFS(FactorMatrix[[UPSTREAMTRANSPORTENERGY]:[UPSTREAMTRANSPORTENERGY]], FactorMatrix[[MODE]:[MODE]], $B146, FactorMatrix[[PHASE]:[PHASE]], \"Operations\", FactorMatrix[[GHGSOURCE]:[GHGSOURCE]], \"Vehicle\", FactorMatrix[[TYPE]:[TYPE]], $C146, FactorMatrix[[STATE /REGION]:[STATE /REGION]], $E146)*Years)/IF(AND(D146=0, E146=0), 2, 1)","v":0},{"$f":"(SUMIFS(FactorMatrix[[DOWNSTREAMENERGY]:[DOWNSTREAMENERGY]], FactorMatrix[[MODE]:[MODE]], $B146, FactorMatrix[[PHASE]:[PHASE]], \"Operations\", FactorMatrix[[GHGSOURCE]:[GHGSOURCE]], \"Vehicle\", FactorMatrix[[TYPE]:[TYPE]], $C146, FactorMatrix[[STATE /REGION]:[STATE /REGION]], $D146)*Years\n+\nSUMIFS(FactorMatrix[[DOWNSTREAMENERGY]:[DOWNSTREAMENERGY]], FactorMatrix[[MODE]:[MODE]], $B146, FactorMatrix[[PHASE]:[PHASE]], \"Operations\", FactorMatrix[[GHGSOURCE]:[GHGSOURCE]], \"Vehicle\", FactorMatrix[[TYPE]:[TYPE]], $C146, FactorMatrix[[STATE /REGION]:[STATE /REGION]], $E146)*Years)/IF(AND(D146=0, E146=0), 2, 1)","v":0},0,0,0]
[18,{"$f":"'Displaced Emissions'!B22","v":0},{"$f":"'Displaced Emissions'!C22","v":0},{"$f":"'Displaced Emissions'!D22","v":0},{"$f":"_xlfn.IFNA(INDEX(Dropdowns!L$3:L$31, MATCH(D147, EGridSubregions, 0)), 0)","v":0},{"$f":"'Displaced Emissions'!E22","v":0},{"$f":"(SUMIFS(FactorMatrix[[UPSTREAMMATERIALSENERGY]:[UPSTREAMMATERIALSENERGY]], FactorMatrix[[MODE]:[MODE]], $B147, FactorMatrix[[PHASE]:[PHASE]], \"Operations\", FactorMatrix[[GHGSOURCE]:[GHGSOURCE]], \"Vehicle\", FactorMatrix[[TYPE]:[TYPE]], $C147, FactorMatrix[[STATE /REGION]:[STATE /REGION]], $D147)*Years\n+\nSUMIFS(FactorMatrix[[UPSTREAMMATERIALSENERGY]:[UPSTREAMMATERIALSENERGY]], FactorMatrix[[MODE]:[MODE]], $B147, FactorMatrix[[PHASE]:[PHASE]], \"Operations\", FactorMatrix[[GHGSOURCE]:[GHGSOURCE]], \"Vehicle\", FactorMatrix[[TYPE]:[TYPE]], $C147, FactorMatrix[[STATE /REGION]:[STATE /REGION]], $E147)*Years)/IF(AND(D147=0, E147=0), 2, 1)","v":0},{"$f":"(SUMIFS(FactorMatrix[[UPSTREAMTRANSPORTENERGY]:[UPSTREAMTRANSPORTENERGY]], FactorMatrix[[MODE]:[MODE]], $B147, FactorMatrix[[PHASE]:[PHASE]], \"Operations\", FactorMatrix[[GHGSOURCE]:[GHGSOURCE]], \"Vehicle\", FactorMatrix[[TYPE]:[TYPE]], $C147, FactorMatrix[[STATE /REGION]:[STATE /REGION]], $D147)*Years\n+\nSUMIFS(FactorMatrix[[UPSTREAMTRANSPORTENERGY]:[UPSTREAMTRANSPORTENERGY]], FactorMatrix[[MODE]:[MODE]], $B147, FactorMatrix[[PHASE]:[PHASE]], \"Operations\", FactorMatrix[[GHGSOURCE]:[GHGSOURCE]], \"Vehicle\", FactorMatrix[[TYPE]:[TYPE]], $C147, FactorMatrix[[STATE /REGION]:[STATE /REGION]], $E147)*Years)/IF(AND(D147=0, E147=0), 2, 1)","v":0},{"$f":"(SUMIFS(FactorMatrix[[DOWNSTREAMENERGY]:[DOWNSTREAMENERGY]], FactorMatrix[[MODE]:[MODE]], $B147, FactorMatrix[[PHASE]:[PHASE]], \"Operations\", FactorMatrix[[GHGSOURCE]:[GHGSOURCE]], \"Vehicle\", FactorMatrix[[TYPE]:[TYPE]], $C147, FactorMatrix[[STATE /REGION]:[STATE /REGION]], $D147)*Years\n+\nSUMIFS(FactorMatrix[[DOWNSTREAMENERGY]:[DOWNSTREAMENERGY]], FactorMatrix[[MODE]:[MODE]], $B147, FactorMatrix[[PHASE]:[PHASE]], \"Operations\", FactorMatrix[[GHGSOURCE]:[GHGSOURCE]], \"Vehicle\", FactorMatrix[[TYPE]:[TYPE]], $C147, FactorMatrix[[STATE /REGION]:[STATE /REGION]], $E147)*Years)/IF(AND(D147=0, E147=0), 2, 1)","v":0},0,0,0]
[19,{"$f":"'Displaced Emissions'!B23","v":0},{"$f":"'Displaced Emissions'!C23","v":0},{"$f":"'Displaced Emissions'!D23","v":0},{"$f":"_xlfn.IFNA(INDEX(Dropdowns!L$3:L$31, MATCH(D148, EGridSubregions, 0)), 0)","v":0},{"$f":"'Displaced Emissions'!E23","v":0},{"$f":"(SUMIFS(FactorMatrix[[UPSTREAMMATERIALSENERGY]:[UPSTREAMMATERIALSENERGY]], FactorMatrix[[MODE]:[MODE]], $B148, FactorMatrix[[PHASE]:[PHASE]], \"Operations\", FactorMatrix[[GHGSOURCE]:[GHGSOURCE]], \"Vehicle\", FactorMatrix[[TYPE]:[TYPE]], $C148, FactorMatrix[[STATE /REGION]:[STATE /REGION]], $D148)*Years\n+\nSUMIFS(FactorMatrix[[UPSTREAMMATERIALSENERGY]:[UPSTREAMMATERIALSENERGY]], FactorMatrix[[MODE]:[MODE]], $B148, FactorMatrix[[PHASE]:[PHASE]], \"Operations\", FactorMatrix[[GHGSOURCE]:[GHGSOURCE]], \"Vehicle\", FactorMatrix[[TYPE]:[TYPE]], $C148, FactorMatrix[[STATE /REGION]:[STATE /REGION]], $E148)*Years)/IF(AND(D148=0, E148=0), 2, 1)","v":0},{"$f":"(SUMIFS(FactorMatrix[[UPSTREAMTRANSPORTENERGY]:[UPSTREAMTRANSPORTENERGY]], FactorMatrix[[MODE]:[MODE]], $B148, FactorMatrix[[PHASE]:[PHASE]], \"Operations\", FactorMatrix[[GHGSOURCE]:[GHGSOURCE]], \"Vehicle\", FactorMatrix[[TYPE]:[TYPE]], $C148, FactorMatrix[[STATE /REGION]:[STATE /REGION]], $D148)*Years\n+\nSUMIFS(FactorMatrix[[UPSTREAMTRANSPORTENERGY]:[UPSTREAMTRANSPORTENERGY]], FactorMatrix[[MODE]:[MODE]], $B148, FactorMatrix[[PHASE]:[PHASE]], \"Operations\", FactorMatrix[[GHGSOURCE]:[GHGSOURCE]], \"Vehicle\", FactorMatrix[[TYPE]:[TYPE]], $C148, FactorMatrix[[STATE /REGION]:[STATE /REGION]], $E148)*Years)/IF(AND(D148=0, E148=0), 2, 1)","v":0},{"$f":"(SUMIFS(FactorMatrix[[DOWNSTREAMENERGY]:[DOWNSTREAMENERGY]], FactorMatrix[[MODE]:[MODE]], $B148, FactorMatrix[[PHASE]:[PHASE]], \"Operations\", FactorMatrix[[GHGSOURCE]:[GHGSOURCE]], \"Vehicle\", FactorMatrix[[TYPE]:[TYPE]], $C148, FactorMatrix[[STATE /REGION]:[STATE /REGION]], $D148)*Years\n+\nSUMIFS(FactorMatrix[[DOWNSTREAMENERGY]:[DOWNSTREAMENERGY]], FactorMatrix[[MODE]:[MODE]], $B148, FactorMatrix[[PHASE]:[PHASE]], \"Operations\", FactorMatrix[[GHGSOURCE]:[GHGSOURCE]], \"Vehicle\", FactorMatrix[[TYPE]:[TYPE]], $C148, FactorMatrix[[STATE /REGION]:[STATE /REGION]], $E148)*Years)/IF(AND(D148=0, E148=0), 2, 1)","v":0},0,0,0]
[20,{"$f":"'Displaced Emissions'!B24","v":0},{"$f":"'Displaced Emissions'!C24","v":0},{"$f":"'Displaced Emissions'!D24","v":0},{"$f":"_xlfn.IFNA(INDEX(Dropdowns!L$3:L$31, MATCH(D149, EGridSubregions, 0)), 0)","v":0},{"$f":"'Displaced Emissions'!E24","v":0},{"$f":"(SUMIFS(FactorMatrix[[UPSTREAMMATERIALSENERGY]:[UPSTREAMMATERIALSENERGY]], FactorMatrix[[MODE]:[MODE]], $B149, FactorMatrix[[PHASE]:[PHASE]], \"Operations\", FactorMatrix[[GHGSOURCE]:[GHGSOURCE]], \"Vehicle\", FactorMatrix[[TYPE]:[TYPE]], $C149, FactorMatrix[[STATE /REGION]:[STATE /REGION]], $D149)*Years\n+\nSUMIFS(FactorMatrix[[UPSTREAMMATERIALSENERGY]:[UPSTREAMMATERIALSENERGY]], FactorMatrix[[MODE]:[MODE]], $B149, FactorMatrix[[PHASE]:[PHASE]], \"Operations\", FactorMatrix[[GHGSOURCE]:[GHGSOURCE]], \"Vehicle\", FactorMatrix[[TYPE]:[TYPE]], $C149, FactorMatrix[[STATE /REGION]:[STATE /REGION]], $E149)*Years)/IF(AND(D149=0, E149=0), 2, 1)","v":0},{"$f":"(SUMIFS(FactorMatrix[[UPSTREAMTRANSPORTENERGY]:[UPSTREAMTRANSPORTENERGY]], FactorMatrix[[MODE]:[MODE]], $B149, FactorMatrix[[PHASE]:[PHASE]], \"Operations\", FactorMatrix[[GHGSOURCE]:[GHGSOURCE]], \"Vehicle\", FactorMatrix[[TYPE]:[TYPE]], $C149, FactorMatrix[[STATE /REGION]:[STATE /REGION]], $D149)*Years\n+\nSUMIFS(FactorMatrix[[UPSTREAMTRANSPORTENERGY]:[UPSTREAMTRANSPORTENERGY]], FactorMatrix[[MODE]:[MODE]], $B149, FactorMatrix[[PHASE]:[PHASE]], \"Operations\", FactorMatrix[[GHGSOURCE]:[GHGSOURCE]], \"Vehicle\", FactorMatrix[[TYPE]:[TYPE]], $C149, FactorMatrix[[STATE /REGION]:[STATE /REGION]], $E149)*Years)/IF(AND(D149=0, E149=0), 2, 1)","v":0},{"$f":"(SUMIFS(FactorMatrix[[DOWNSTREAMENERGY]:[DOWNSTREAMENERGY]], FactorMatrix[[MODE]:[MODE]], $B149, FactorMatrix[[PHASE]:[PHASE]], \"Operations\", FactorMatrix[[GHGSOURCE]:[GHGSOURCE]], \"Vehicle\", FactorMatrix[[TYPE]:[TYPE]], $C149, FactorMatrix[[STATE /REGION]:[STATE /REGION]], $D149)*Years\n+\nSUMIFS(FactorMatrix[[DOWNSTREAMENERGY]:[DOWNSTREAMENERGY]], FactorMatrix[[MODE]:[MODE]], $B149, FactorMatrix[[PHASE]:[PHASE]], \"Operations\", FactorMatrix[[GHGSOURCE]:[GHGSOURCE]], \"Vehicle\", FactorMatrix[[TYPE]:[TYPE]], $C149, FactorMatrix[[STATE /REGION]:[STATE /REGION]], $E149)*Years)/IF(AND(D149=0, E149=0), 2, 1)","v":0},0,0,0]
[]
["Collected Results"]
[null,"Upstream Materials","Upstream Transport","Upstream","Downstream ","Total "]
["Construction ",{"$f":"AL12","v":{"$error":"#DIV/0!"}},{"$f":"AM12","v":{"$error":"#DIV/0!"}},{"$f":"SUM(B153:C153)","v":{"$error":"#DIV/0!"}},{"$f":"AN12","v":{"$error":"#DIV/0!"}},{"$f":"SUM(D153:E153)","v":{"$error":"#DIV/0!"}}]
["Transitway Maintenance",{"$f":"V39","v":{"$error":"#DIV/0!"}},{"$f":"W39","v":{"$error":"#DIV/0!"}},{"$error":"#DIV/0!"},{"$f":"X39","v":{"$error":"#DIV/0!"}},{"$error":"#DIV/0!"}]
["Facility Operations",{"$f":"K63","v":{"$error":"#DIV/0!"}},{"$f":"L63","v":{"$error":"#DIV/0!"}},{"$error":"#DIV/0!"},{"$f":"M63","v":{"$error":"#DIV/0!"}},{"$error":"#DIV/0!"}]
["Vehicle Operations",{"$f":"M87","v":{"$error":"#DIV/0!"}},{"$f":"N87","v":{"$error":"#DIV/0!"}},{"$error":"#DIV/0!"},{"$f":"O87","v":{"$error":"#DIV/0!"}},{"$error":"#DIV/0!"}]
["Vehicle Maintenance",{"$f":"J111","v":{"$error":"#DIV/0!"}},{"$f":"K111","v":{"$error":"#DIV/0!"}},{"$error":"#DIV/0!"},{"$f":"L111","v":{"$error":"#DIV/0!"}},{"$error":"#DIV/0!"}]
["Displaced Emissions",{"$f":"M135","v":{"$error":"#DIV/0!"}},{"$f":"N135","v":{"$error":"#DIV/0!"}},{"$error":"#DIV/0!"},{"$f":"O135","v":{"$error":"#DIV/0!"}},{"$error":"#DIV/0!"}]

{"sheet":"FactorMatrix","index":9,"n_rows":359,"n_cols":13,"rows_kept":359,"cut":false,"hidden":true,"merged":[]}
["MODE","PHASE","GHGSOURCE","TYPE","STATE /REGION","UPSTREAMMATERIALSEMISSIONS","UPSTREAMTRANSPORTEMISSIONS","DOWNSTREAMEMISSIONS","MTCO2eq","UPSTREAMMATERIALSENERGY","UPSTREAMTRANSPORTENERGY","DOWNSTREAMENERGY","mmBTU"]
["HEAVY RAIL","CONSTRUCTION","TRACK MILE","UNDERGROUND","Average US ",163642,4592,5046," /mi ",1089738,46882,48863,"/mi"]
["HEAVY RAIL","CONSTRUCTION","TRACK MILE","UNDERGROUND","AL",163642,4592,4967," /mi ",1089738,46882,48863,"/mi"]
["HEAVY RAIL","CONSTRUCTION","TRACK MILE","UNDERGROUND","AK",163642,4592,4977," /mi ",1089738,46882,48863,"/mi"]
["HEAVY RAIL","CONSTRUCTION","TRACK MILE","UNDERGROUND","AZ",163642,4592,4987," /mi ",1089738,46882,48863,"/mi"]
["HEAVY RAIL","CONSTRUCTION","TRACK MILE","UNDERGROUND","AR",163642,4592,5165," /mi ",1089738,46882,48863,"/mi"]
["HEAVY RAIL","CONSTRUCTION","TRACK MILE","UNDERGROUND","CA",163642,4592,4503," /mi ",1089738,46882,48863,"/mi"]
["HEAVY RAIL","CONSTRUCTION","TRACK MILE","UNDERGROUND","CO",163642,4592,5520," /mi ",1089738,46882,48863,"/mi"]
["HEAVY RAIL","CONSTRUCTION","TRACK MILE","UNDERGROUND","CT",163642,4592,4552," /mi ",1089738,46882,48863,"/mi"]
["HEAVY RAIL","CONSTRUCTION","TRACK MILE","UNDERGROUND","DC",163642,4592,4532," /mi ",1089738,46882,48863,"/mi"]
["HEAVY RAIL","CONSTRUCTION","TRACK MILE","UNDERGROUND","DE",163642,4592,4937," /mi ",1089738,46882,48863,"/mi"]
["HEAVY RAIL","CONSTRUCTION","TRACK MILE","UNDERGROUND","FL",163642,4592,5076," /mi ",1089738,46882,48863,"/mi"]
["HEAVY RAIL","CONSTRUCTION","TRACK MILE","UNDERGROUND","GA",163642,4592,5056," /mi ",1089738,46882,48863,"/mi"]
["HEAVY RAIL","CONSTRUCTION","TRACK MILE","UNDERGROUND","HI",163642,4592,5570," /mi ",1089738,46882,48863,"/mi"]
["HEAVY RAIL","CONSTRUCTION","TRACK MILE","UNDERGROUND","ID",163642,4592,4246," /mi ",1089738,46882,48863,"/mi"]
["HEAVY RAIL","CONSTRUCTION","TRACK MILE","UNDERGROUND","IL",163642,4592,4868," /mi ",1089738,46882,48863,"/mi"]
["HEAVY RAIL","CONSTRUCTION","TRACK MILE","UNDERGROUND","IN",163642,4592,5886," /mi ",1089738,46882,48863,"/mi"]
["HEAVY RAIL","CONSTRUCTION","TRACK MILE","UNDERGROUND","IA",163642,4592,5046," /mi ",1089738,46882,48863,"/mi"]
["HEAVY RAIL","CONSTRUCTION","TRACK MILE","UNDERGROUND","KS",163642,4592,5244," /mi ",1089738,46882,48863,"/mi"]
["HEAVY RAIL","CONSTRUCTION","TRACK MILE","UNDERGROUND","KY",163642,4592,6004," /mi ",1089738,46882,48863,"/mi"]
["HEAVY RAIL","CONSTRUCTION","TRACK MILE","UNDERGROUND","LA",163642,4592,4928," /mi ",1089738,46882,48863,"/mi"]
["HEAVY RAIL","CONSTRUCTION","TRACK MILE","UNDERGROUND","ME",163642,4592,4404," /mi ",1089738,46882,48863,"/mi"]
["HEAVY RAIL","CONSTRUCTION","TRACK MILE","UNDERGROUND","MD",163642,4592,5066," /mi ",1089738,46882,48863,"/mi"]
["HEAVY RAIL","CONSTRUCTION","TRACK MILE","UNDERGROUND","MA",163642,4592,4878," /mi ",1089738,46882,48863,"/mi"]
["HEAVY RAIL","CONSTRUCTION","TRACK MILE","UNDERGROUND","MI",163642,4592,5155," /mi ",1089738,46882,48863,"/mi"]
["HEAVY RAIL","CONSTRUCTION","TRACK MILE","UNDERGROUND","MN",163642,4592,5066," /mi ",1089738,46882,48863,"/mi"]
["HEAVY RAIL","CONSTRUCTION","TRACK MILE","UNDERGROUND","MS",163642,4592,4987," /mi ",1089738,46882,48863,"/mi"]
["HEAVY RAIL","CONSTRUCTION","TRACK MILE","UNDERGROUND","MO",163642,4592,5738," /mi ",1089738,46882,48863,"/mi"]
["HEAVY RAIL","CONSTRUCTION","TRACK MILE","UNDERGROUND","MT",163642,4592,5303," /mi ",1089738,46882,48863,"/mi"]
["HEAVY RAIL","CONSTRUCTION","TRACK MILE","UNDERGROUND","NE",163642,4592,5333," /mi ",1089738,46882,48863,"/mi"]
["HEAVY RAIL","CONSTRUCTION","TRACK MILE","UNDERGROUND","NV",163642,4592,4819," /mi ",1089738,46882,48863,"/mi"]
["HEAVY RAIL","CONSTRUCTION","TRACK MILE","UNDERGROUND","NH",163642,4592,4374," /mi ",1089738,46882,48863,"/mi"]
["HEAVY RAIL","CONSTRUCTION","TRACK MILE","UNDERGROUND","NJ",163642,4592,4612," /mi ",1089738,46882,48863,"/mi"]
["HEAVY RAIL","CONSTRUCTION","TRACK MILE","UNDERGROUND","NM",163642,4592,5619," /mi ",1089738,46882,48863,"/mi"]
["HEAVY RAIL","CONSTRUCTION","TRACK MILE","UNDERGROUND","NY",163642,4592,4523," /mi ",1089738,46882,48863,"/mi"]
["HEAVY RAIL","CONSTRUCTION","TRACK MILE","UNDERGROUND","NC",163642,4592,4918," /mi ",1089738,46882,48863,"/mi"]
["HEAVY RAIL","CONSTRUCTION","TRACK MILE","UNDERGROUND","ND",163642,4592,5718," /mi ",1089738,46882,48863,"/mi"]
["HEAVY RAIL","CONSTRUCTION","TRACK MILE","UNDERGROUND","OH",163642,4592,5520," /mi ",1089738,46882,48863,"/mi"]
["HEAVY RAIL","CONSTRUCTION","TRACK MILE","UNDERGROUND","OK",163642,4592,5096," /mi ",1089738,46882,48863,"/mi"]
["HEAVY RAIL","CONSTRUCTION","TRACK MILE","UNDERGROUND","OR",163642,4592,4365," /mi ",1089738,46882,48863,"/mi"]
["HEAVY RAIL","CONSTRUCTION","TRACK MILE","UNDERGROUND","PA",163642,4592,4908," /mi ",1089738,46882,48863,"/mi"]
["HEAVY RAIL","CONSTRUCTION","TRACK MILE","UNDERGROUND","RI",163642,4592,4918," /mi ",1089738,46882,48863,"/mi"]
["HEAVY RAIL","CONSTRUCTION","TRACK MILE","UNDERGROUND","SC",163642,4592,4681," /mi ",1089738,46882,48863,"/mi"]
["HEAVY RAIL","CONSTRUCTION","TRACK MILE","UNDERGROUND","SD",163642,4592,4572," /mi ",1089738,46882,48863,"/mi"]
["HEAVY RAIL","CONSTRUCTION","TRACK MILE","UNDERGROUND","TN",163642,4592,5046," /mi ",1089738,46882,48863,"/mi"]
["HEAVY RAIL","CONSTRUCTION","TRACK MILE","UNDERGROUND","TX",163642,4592,5096," /mi ",1089738,46882,48863,"/mi"]
["HEAVY RAIL","CONSTRUCTION","TRACK MILE","UNDERGROUND","UT",163642,4592,5678," /mi ",1089738,46882,48863,"/mi"]
["HEAVY RAIL","CONSTRUCTION","TRACK MILE","UNDERGROUND","VT",163642,4592,4127," /mi ",1089738,46882,48863,"/mi"]
["HEAVY RAIL","CONSTRUCTION","TRACK MILE","UNDERGROUND","VA",163642,4592,4868," /mi ",1089738,46882,48863,"/mi"]
["HEAVY RAIL","CONSTRUCTION","TRACK MILE","UNDERGROUND","WA",163642,4592,4246," /mi ",1089738,46882,48863,"/mi"]
["HEAVY RAIL","CONSTRUCTION","TRACK MILE","UNDERGROUND","WV",163642,4592,6024," /mi ",1089738,46882,48863,"/mi"]
["HEAVY RAIL","CONSTRUCTION","TRACK MILE","UNDERGROUND","WI",163642,4592,5441," /mi ",1089738,46882,48863,"/mi"]
["HEAVY RAIL","CONSTRUCTION","TRACK MILE","UNDERGROUND","WY",163642,4592,6073," /mi ",1089738,46882,48863,"/mi"]
["HEAVY RAIL","CONSTRUCTION","TRACK MILE","ELEVATED",0,5343,167,912," /mi ",47446,1704,9309,"/mi"]
["HEAVY RAIL","CONSTRUCTION","TRACK MILE","AT-GRADE",0,695,110,460," /mi ",6399,1121,4699,"/mi"]
["HEAVY RAIL","CONSTRUCTION","TRACK MILE","CATENARY",0,3161,0,0," /mi ",0,0,0,"/mi"]
["HEAVY RAIL","CONSTRUCTION","STATION","UNDERGROUND",0,209486,5964,2085," /facility ",1373824,60887,21283,"/facility"]
["HEAVY RAIL","CONSTRUCTION","STATION","ELEVATED",0,194969,5573,1442," /facility ",1273029,56896,14724,"/facility"]
["HEAVY RAIL","CONSTRUCTION","STATION","AT-GRADE",0,119188,3433,581," /facility ",778620,35048,5932,"/facility"]
["HEAVY RAIL","MAINTENANCE","TRACK MILE","UNDERGROUND",0,0,0,4.42," /mi/yr ",null,null,45,"/mi/yr"]
["HEAVY RAIL","MAINTENANCE","TRACK MILE","ELEVATED",0,0,0,4.42," /mi/yr ",null,null,45,"/mi/yr"]
["HEAVY RAIL","MAINTENANCE","TRACK MILE","AT-GRADE",0,0,0,4.42," /mi/yr ",null,null,45,"/mi/yr"]
["HEAVY RAIL","MAINTENANCE","VEHICLE",0,0,0,0,2.9E-4," /veh0mil/yr ",null,null,"-","/veh-mil/yr"]
["HEAVY RAIL","OPERATIONS","VEHICLE","ELECTRIC","US",2.0882961550469747E-3,null,null," /veh0mile/yr ",8.1329250565581406E-4,null,7.8899999999999999E-4,"/veh-mile/yr"]
["HEAVY RAIL","OPERATIONS","VEHICLE","ELECTRIC","AKGD",2.8031809073703735E-3,null,null," /veh0mile/yr ",1.2456260023917948E-3,null,7.8899999999999999E-4,"/veh-mile/yr"]
["HEAVY RAIL","OPERATIONS","VEHICLE","ELECTRIC","AKMS",1.36097200184863E-3,null,null," /veh0mile/yr ",1.2456260023917948E-3,null,7.8899999999999999E-4,"/veh-mile/yr"]
["HEAVY RAIL","OPERATIONS","VEHICLE","ELECTRIC","AZNM",2.1583629844650347E-3,null,null," /veh0mile/yr ",6.7000000000000002E-4,null,7.8899999999999999E-4,"/veh-mile/yr"]
["HEAVY RAIL","OPERATIONS","VEHICLE","ELECTRIC","CAMX",1.308675745109063E-3,null,null," /veh0mile/yr ",6.7000000000000002E-4,null,7.8899999999999999E-4,"/veh-mile/yr"]
["HEAVY RAIL","OPERATIONS","VEHICLE","ELECTRIC","ERCT",2.0867729631031035E-3,null,null," /veh0mile/yr ",8.0800000000000002E-4,null,7.8899999999999999E-4,"/veh-mile/yr"]
["HEAVY RAIL","OPERATIONS","VEHICLE","ELECTRIC","FRCC",2.1278991455876174E-3,null,null," /veh0mile/yr ",9.3400000000000004E-4,null,7.8899999999999999E-4,"/veh-mile/yr"]
["HEAVY RAIL","OPERATIONS","VEHICLE","ELECTRIC","HIMS",2.9222437443162802E-3,null,null," /veh0mile/yr ",1.818E-3,null,7.8899999999999999E-4,"/veh-mile/yr"]
["HEAVY RAIL","OPERATIONS","VEHICLE","ELECTRIC","HIOA",4.22812697086158E-3,null,null," /veh0mile/yr ",1.818E-3,null,7.8899999999999999E-4,"/veh-mile/yr"]
["HEAVY RAIL","OPERATIONS","VEHICLE","ELECTRIC","MROE",3.898863645661492E-3,null,null," /veh0mile/yr ",1.0870000000000001E-3,null,7.8899999999999999E-4,"/veh-mile/yr"]
["HEAVY RAIL","OPERATIONS","VEHICLE","ELECTRIC","MROW",2.504635286371681E-3,null,null," /veh0mile/yr ",1.0870000000000001E-3,null,7.8899999999999999E-4,"/veh-mile/yr"]
["HEAVY RAIL","OPERATIONS","VEHICLE","ELECTRIC","NEWE",1.3531021768052971E-3,null,null," /veh0mile/yr ",5.9299999999999999E-4,null,7.8899999999999999E-4,"/veh-mile/yr"]
["HEAVY RAIL","OPERATIONS","VEHICLE","ELECTRIC","NWPP",1.5328388261820604E-3,null,null," /veh0mile/yr ",6.7000000000000002E-4,null,7.8899999999999999E-4,"/veh-mile/yr"]
["HEAVY RAIL","OPERATIONS","VEHICLE","ELECTRIC","NYCW",1.6145834605031315E-3,null,null," /veh0mile/yr ",5.9299999999999999E-4,null,7.8899999999999999E-4,"/veh-mile/yr"]
["HEAVY RAIL","OPERATIONS","VEHICLE","ELECTRIC","NYLI",3.0786247838870237E-3,null,null," /veh0mile/yr ",5.9299999999999999E-4,null,7.8899999999999999E-4,"/veh-mile/yr"]
["HEAVY RAIL","OPERATIONS","VEHICLE","ELECTRIC","NYUP",5.9531418472953495E-4,null,null," /veh0mile/yr ",5.9299999999999999E-4,null,7.8899999999999999E-4,"/veh-mile/yr"]
["HEAVY RAIL","OPERATIONS","VEHICLE","ELECTRIC","PRMS",4.0834237361938464E-3,null,null," /veh0mile/yr ",8.1329250565581406E-4,null,7.8899999999999999E-4,"/veh-mile/yr"]
["HEAVY RAIL","OPERATIONS","VEHICLE","ELECTRIC","RFCE",1.6638333333549562E-3,null,null," /veh0mile/yr ",8.1099999999999998E-4,null,7.8899999999999999E-4,"/veh-mile/yr"]
["HEAVY RAIL","OPERATIONS","VEHICLE","ELECTRIC","RFCM",2.9443300275024077E-3,null,null," /veh0mile/yr ",8.1099999999999998E-4,null,7.8899999999999999E-4,"/veh-mile/yr"]
["HEAVY RAIL","OPERATIONS","VEHICLE","ELECTRIC","RFCW",2.5152976299787771E-3,null,null," /veh0mile/yr ",8.1099999999999998E-4,null,7.8899999999999999E-4,"/veh-mile/yr"]
["HEAVY RAIL","OPERATIONS","VEHICLE","ELECTRIC","RMPA",2.9235130709361723E-3,null,null," /veh0mile/yr ",6.7000000000000002E-4,null,7.8899999999999999E-4,"/veh-mile/yr"]
["HEAVY RAIL","OPERATIONS","VEHICLE","ELECTRIC","SPNO",2.4391380327852333E-3,null,null," /veh0mile/yr ",8.7299999999999997E-4,null,7.8899999999999999E-4,"/veh-mile/yr"]
["HEAVY RAIL","OPERATIONS","VEHICLE","ELECTRIC","SPSO",2.3756717017906128E-3,null,null," /veh0mile/yr ",8.7299999999999997E-4,null,7.8899999999999999E-4,"/veh-mile/yr"]
["HEAVY RAIL","OPERATIONS","VEHICLE","ELECTRIC","SRMV",1.8841884345682765E-3,null,null," /veh0mile/yr ",7.85E-4,null,7.8899999999999999E-4,"/veh-mile/yr"]
["HEAVY RAIL","OPERATIONS","VEHICLE","ELECTRIC","SRMW",3.7861474418150473E-3,null,null," /veh0mile/yr ",7.85E-4,null,7.8899999999999999E-4,"/veh-mile/yr"]
["HEAVY RAIL","OPERATIONS","VEHICLE","ELECTRIC","SRSO",2.193904129822022E-3,null,null," /veh0mile/yr ",7.85E-4,null,7.8899999999999999E-4,"/veh-mile/yr"]
["HEAVY RAIL","OPERATIONS","VEHICLE","ELECTRIC","SRTV",2.130437798827402E-3,null,null," /veh0mile/yr ",7.85E-4,null,7.8899999999999999E-4,"/veh-mile/yr"]
["HEAVY RAIL","OPERATIONS","VEHICLE","ELECTRIC","SRVC",1.5899585240772185E-3,null,null," /veh0mile/yr ",7.85E-4,null,7.8899999999999999E-4,"/veh-mile/yr"]
["HEAVY RAIL","OPERATIONS","VEHICLE","ELECTRIC","100% renewable energy",0,0,0," /sq0ft/yr ",null,null,7.8899999999999999E-4,"/veh-mile/yr"]
["HEAVY RAIL","OPERATIONS","STATION","ELECTRICITY",0,0,0,6.4700000000000001E-3," /sq0ft/yr ",null,null,5.7321999999999998E-2,"/sq-ft/yr"]
["HEAVY RAIL","OPERATIONS","MAINTENANCE/STORAGE FACILITY","ELECTRICITY",0,0,0,4.8999999999999998E-3," /sq0ft/yr ",null,null,4.3332000000000002E-2,"/sq-ft/yr"]
["HEAVY RAIL","OPERATIONS","MAINTENANCE/STORAGE FACILITY","HEAT",0,0,0,1.6999999999999999E-3," /sq0ft/yr ",null,null,8.8710000000000004E-3,"/sq-ft/yr"]
["COMMUTER RAIL","CONSTRUCTION","TRACK MILE","UNDERGROUND","Average US ",163642,4592,5046," /mi ",1089738,46882,48863,"/mi"]
["COMMUTER RAIL","CONSTRUCTION","TRACK MILE","UNDERGROUND","AL",163642,4592,4967," /mi ",1089738,46882,48863,"/mi"]
["COMMUTER RAIL","CONSTRUCTION","TRACK MILE","UNDERGROUND","AK",163642,4592,4977," /mi ",1089738,46882,48863,"/mi"]
["COMMUTER RAIL","CONSTRUCTION","TRACK MILE","UNDERGROUND","AZ",163642,4592,4987," /mi ",1089738,46882,48863,"/mi"]
["COMMUTER RAIL","CONSTRUCTION","TRACK MILE","UNDERGROUND","AR",163642,4592,5165," /mi ",1089738,46882,48863,"/mi"]
["COMMUTER RAIL","CONSTRUCTION","TRACK MILE","UNDERGROUND","CA",163642,4592,4503," /mi ",1089738,46882,48863,"/mi"]
["COMMUTER RAIL","CONSTRUCTION","TRACK MILE","UNDERGROUND","CO",163642,4592,5520," /mi ",1089738,46882,48863,"/mi"]
["COMMUTER RAIL","CONSTRUCTION","TRACK MILE","UNDERGROUND","CT",163642,4592,4552," /mi ",1089738,46882,48863,"/mi"]
["COMMUTER RAIL","CONSTRUCTION","TRACK MILE","UNDERGROUND","DE",163642,4592,4937," /mi ",1089738,46882,48863,"/mi"]
["COMMUTER RAIL","CONSTRUCTION","TRACK MILE","UNDERGROUND","DC",163642,4592,4532," /mi ",1089738,46882,48863,"/mi"]
["COMMUTER RAIL","CONSTRUCTION","TRACK MILE","UNDERGROUND","FL",163642,4592,5076," /mi ",1089738,46882,48863,"/mi"]
["COMMUTER RAIL","CONSTRUCTION","TRACK MILE","UNDERGROUND","GA",163642,4592,5056," /mi ",1089738,46882,48863,"/mi"]
["COMMUTER RAIL","CONSTRUCTION","TRACK MILE","UNDERGROUND","HI",163642,4592,5570," /mi ",1089738,46882,48863,"/mi"]
["COMMUTER RAIL","CONSTRUCTION","TRACK MILE","UNDERGROUND","ID",163642,4592,4246," /mi ",1089738,46882,48863,"/mi"]
["COMMUTER RAIL","CONSTRUCTION","TRACK MILE","UNDERGROUND","IL",163642,4592,4868," /mi ",1089738,46882,48863,"/mi"]
["COMMUTER RAIL","CONSTRUCTION","TRACK MILE","UNDERGROUND","IN",163642,4592,5886," /mi ",1089738,46882,48863,"/mi"]
["COMMUTER RAIL","CONSTRUCTION","TRACK MILE","UNDERGROUND","IA",163642,4592,5046," /mi ",1089738,46882,48863,"/mi"]
["COMMUTER RAIL","CONSTRUCTION","TRACK MILE","UNDERGROUND","KS",163642,4592,5244," /mi ",1089738,46882,48863,"/mi"]
["COMMUTER RAIL","CONSTRUCTION","TRACK MILE","UNDERGROUND","KY",163642,4592,6004," /mi ",1089738,46882,48863,"/mi"]
["COMMUTER RAIL","CONSTRUCTION","TRACK MILE","UNDERGROUND","LA",163642,4592,4928," /mi ",1089738,46882,48863,"/mi"]
["COMMUTER RAIL","CONSTRUCTION","TRACK MILE","UNDERGROUND","ME",163642,4592,4404," /mi ",1089738,46882,48863,"/mi"]
["COMMUTER RAIL","CONSTRUCTION","TRACK MILE","UNDERGROUND","MD",163642,4592,5066," /mi ",1089738,46882,48863,"/mi"]
["COMMUTER RAIL","CONSTRUCTION","TRACK MILE","UNDERGROUND","MA",163642,4592,4878," /mi ",1089738,46882,48863,"/mi"]
["COMMUTER RAIL","CONSTRUCTION","TRACK MILE","UNDERGROUND","MI",163642,4592,5155," /mi ",1089738,46882,48863,"/mi"]
["COMMUTER RAIL","CONSTRUCTION","TRACK MILE","UNDERGROUND","MN",163642,4592,5066," /mi ",1089738,46882,48863,"/mi"]
["COMMUTER RAIL","CONSTRUCTION","TRACK MILE","UNDERGROUND","MS",163642,4592,4987," /mi ",1089738,46882,48863,"/mi"]
["COMMUTER RAIL","CONSTRUCTION","TRACK MILE","UNDERGROUND","MO",163642,4592,5738," /mi ",1089738,46882,48863,"/mi"]
["COMMUTER RAIL","CONSTRUCTION","TRACK MILE","UNDERGROUND","MT",163642,4592,5303," /mi ",1089738,46882,48863,"/mi"]
["COMMUTER RAIL","CONSTRUCTION","TRACK MILE","UNDERGROUND","NE",163642,4592,5333," /mi ",1089738,46882,48863,"/mi"]
["COMMUTER RAIL","CONSTRUCTION","TRACK MILE","UNDERGROUND","NV",163642,4592,4819," /mi ",1089738,46882,48863,"/mi"]
["COMMUTER RAIL","CONSTRUCTION","TRACK MILE","UNDERGROUND","NH",163642,4592,4374," /mi ",1089738,46882,48863,"/mi"]
["COMMUTER RAIL","CONSTRUCTION","TRACK MILE","UNDERGROUND","NJ",163642,4592,4612," /mi ",1089738,46882,48863,"/mi"]
["COMMUTER RAIL","CONSTRUCTION","TRACK MILE","UNDERGROUND","NM",163642,4592,5619," /mi ",1089738,46882,48863,"/mi"]
["COMMUTER RAIL","CONSTRUCTION","TRACK MILE","UNDERGROUND","NY",163642,4592,4523," /mi ",1089738,46882,48863,"/mi"]
["COMMUTER RAIL","CONSTRUCTION","TRACK MILE","UNDERGROUND","NC",163642,4592,4918," /mi ",1089738,46882,48863,"/mi"]
["COMMUTER RAIL","CONSTRUCTION","TRACK MILE","UNDERGROUND","ND",163642,4592,5718," /mi ",1089738,46882,48863,"/mi"]
["COMMUTER RAIL","CONSTRUCTION","TRACK MILE","UNDERGROUND","OH",163642,4592,5520," /mi ",1089738,46882,48863,"/mi"]
["COMMUTER RAIL","CONSTRUCTION","TRACK MILE","UNDERGROUND","OK",163642,4592,5096," /mi ",1089738,46882,48863,"/mi"]
["COMMUTER RAIL","CONSTRUCTION","TRACK MILE","UNDERGROUND","OR",163642,4592,4365," /mi ",1089738,46882,48863,"/mi"]
["COMMUTER RAIL","CONSTRUCTION","TRACK MILE","UNDERGROUND","PA",163642,4592,4908," /mi ",1089738,46882,48863,"/mi"]
["COMMUTER RAIL","CONSTRUCTION","TRACK MILE","UNDERGROUND","RI",163642,4592,4918," /mi ",1089738,46882,48863,"/mi"]
["COMMUTER RAIL","CONSTRUCTION","TRACK MILE","UNDERGROUND","SC",163642,4592,4681," /mi ",1089738,46882,48863,"/mi"]
["COMMUTER RAIL","CONSTRUCTION","TRACK MILE","UNDERGROUND","SD",163642,4592,4572," /mi ",1089738,46882,48863,"/mi"]
["COMMUTER RAIL","CONSTRUCTION","TRACK MILE","UNDERGROUND","TN",163642,4592,5046," /mi ",1089738,46882,48863,"/mi"]
["COMMUTER RAIL","CONSTRUCTION","TRACK MILE","UNDERGROUND","TX",163642,4592,5096," /mi ",1089738,46882,48863,"/mi"]
["COMMUTER RAIL","CONSTRUCTION","TRACK MILE","UNDERGROUND","UT",163642,4592,5678," /mi ",1089738,46882,48863,"/mi"]
["COMMUTER RAIL","CONSTRUCTION","TRACK MILE","UNDERGROUND","VT",163642,4592,4127," /mi ",1089738,46882,48863,"/mi"]
["COMMUTER RAIL","CONSTRUCTION","TRACK MILE","UNDERGROUND","VA",163642,4592,4868," /mi ",1089738,46882,48863,"/mi"]
["COMMUTER RAIL","CONSTRUCTION","TRACK MILE","UNDERGROUND","WA",163642,4592,4246," /mi ",1089738,46882,48863,"/mi"]
["COMMUTER RAIL","CONSTRUCTION","TRACK MILE","UNDERGROUND","WV",163642,4592,6024," /mi ",1089738,46882,48863,"/mi"]
["COMMUTER RAIL","CONSTRUCTION","TRACK MILE","UNDERGROUND","WI",163642,4592,5441," /mi ",1089738,46882,48863,"/mi"]
["COMMUTER RAIL","CONSTRUCTION","TRACK MILE","UNDERGROUND","WY",163642,4592,6073," /mi ",1089738,46882,48863,"/mi"]
["COMMUTER RAIL","CONSTRUCTION","TRACK MILE","ELEVATED",0,5343,167,912," /mi ",47446,1704,9309,"/mi"]
["COMMUTER RAIL","CONSTRUCTION","TRACK MILE","AT-GRADE",0,695,110,460," /mi ",6399,1121,4699,"/mi"]
["COMMUTER RAIL","CONSTRUCTION","TRACK MILE","CATENARY",0,3161,null,null," /facility ",null,null,"-","/mi"]
["COMMUTER RAIL","CONSTRUCTION","STATION","UNDERGROUND",0,209486,5964,2085," /facility ",1373824,60887,21283,"/facility"]
["COMMUTER RAIL","CONSTRUCTION","STATION","ELEVATED",0,194969,5573,1442," /facility ",1273029,56896,14724,"/facility"]
["COMMUTER RAIL","CONSTRUCTION","STATION","AT-GRADE",0,119188,3433,581," /mi/yr ",778620,35048,5932,"/facility"]
["COMMUTER RAIL","MAINTENANCE","TRACK MILE","UNDERGROUND",0,0,null,4.42," /mi/yr ",null,null,45,"/mi/yr"]
["COMMUTER RAIL","MAINTENANCE","TRACK MILE","ELEVATED",0,0,null,4.42," /mi/yr ",null,null,45,"/mi/yr"]
["COMMUTER RAIL","MAINTENANCE","TRACK MILE","AT-GRADE",0,0,null,4.42," /veh0mil/yr ",null,null,45,"/mi/yr"]
["COMMUTER RAIL","MAINTENANCE","VEHICLE",0,0,0,null,9.7499999999999996E-4," /veh0mile/yr ",null,null,"-","/veh-mil/yr"]
["COMMUTER RAIL","OPERATIONS","VEHICLE","ELECTRIC","US MIX",3.2972421705978849E-3,null,null," /veh0mile/yr ",2.155159856685805E-3,null,2.0907866666666662E-3," /veh-mile/yr "]
["COMMUTER RAIL","OPERATIONS","VEHICLE","ELECTRIC","AKGD",4.4259844453855869E-3,null,null," /veh0mile/yr ",3.3E-3,null,2.0907866666666662E-3," /veh-mile/yr "]
["COMMUTER RAIL","OPERATIONS","VEHICLE","ELECTRIC","AKMS",2.148859138898038E-3,null,null," /veh0mile/yr ",3.3E-3,null,2.0907866666666662E-3," /veh-mile/yr "]
["COMMUTER RAIL","OPERATIONS","VEHICLE","ELECTRIC","AZNM",3.4078717401438384E-3,null,null," /veh0mile/yr ",1.7799999999999999E-3,null,2.0907866666666662E-3," /veh-mile/yr "]
["COMMUTER RAIL","OPERATIONS","VEHICLE","ELECTRIC","CAMX",2.0662877935122897E-3,null,null," /veh0mile/yr ",1.7799999999999999E-3,null,2.0907866666666662E-3," /veh-mile/yr "]
["COMMUTER RAIL","OPERATIONS","VEHICLE","ELECTRIC","ERCT",3.2948371799555809E-3,null,null," /veh0mile/yr ",2.14E-3,null,2.0907866666666662E-3," /veh-mile/yr "]
["COMMUTER RAIL","OPERATIONS","VEHICLE","ELECTRIC","FRCC",3.3597719272977721E-3,null,null," /veh0mile/yr ",2.48E-3,null,2.0907866666666662E-3," /veh-mile/yr "]
["COMMUTER RAIL","OPERATIONS","VEHICLE","ELECTRIC","HIMS",4.6139745472589654E-3,null,null," /veh0mile/yr ",4.8199999999999996E-3,null,2.0907866666666662E-3," /veh-mile/yr "]
["COMMUTER RAIL","OPERATIONS","VEHICLE","ELECTRIC","HIOA",6.6758531912603659E-3,null,null," /veh0mile/yr ",4.8199999999999996E-3,null,2.0907866666666662E-3," /veh-mile/yr "]
["COMMUTER RAIL","OPERATIONS","VEHICLE","ELECTRIC","MROE",6.1559743807491256E-3,null,null," /veh0mile/yr ",2.8800000000000002E-3,null,2.0907866666666662E-3," /veh-mile/yr "]
["COMMUTER RAIL","OPERATIONS","VEHICLE","ELECTRIC","MROW",3.9546062794941321E-3,null,null," /veh0mile/yr ",2.8800000000000002E-3,null,2.0907866666666662E-3," /veh-mile/yr "]
["COMMUTER RAIL","OPERATIONS","VEHICLE","ELECTRIC","NEWE",2.1364333539128041E-3,null,null," /veh0mile/yr ",1.57E-3,null,2.0907866666666662E-3," /veh-mile/yr "]
["COMMUTER RAIL","OPERATIONS","VEHICLE","ELECTRIC","NWPP",2.4202222497045982E-3,null,null," /veh0mile/yr ",1.7799999999999999E-3,null,2.0907866666666662E-3," /veh-mile/yr "]
["COMMUTER RAIL","OPERATIONS","VEHICLE","ELECTRIC","NYCW",2.5492900808415453E-3,null,null," /veh0mile/yr ",1.57E-3,null,2.0907866666666662E-3," /veh-mile/yr "]
["COMMUTER RAIL","OPERATIONS","VEHICLE","ELECTRIC","NYLI",4.8608869198687749E-3,null,null," /veh0mile/yr ",1.57E-3,null,2.0907866666666662E-3," /veh-mile/yr "]
["COMMUTER RAIL","OPERATIONS","VEHICLE","ELECTRIC","NYUP",9.3995050936689019E-4,null,null," /veh0mile/yr ",1.57E-3,null,2.0907866666666662E-3," /veh-mile/yr "]
["COMMUTER RAIL","OPERATIONS","VEHICLE","ELECTRIC","PRMS",6.4473790802415491E-3,null,null," /veh0mile/yr ",2.155159856685805E-3,null,2.0907866666666662E-3," /veh-mile/yr "]
["COMMUTER RAIL","OPERATIONS","VEHICLE","ELECTRIC","RFCE",2.627051444942686E-3,null,null," /veh0mile/yr ",2.15E-3,null,2.0907866666666662E-3," /veh-mile/yr "]
["COMMUTER RAIL","OPERATIONS","VEHICLE","ELECTRIC","RFCM",4.6488469115723635E-3,null,null," /veh0mile/yr ",2.15E-3,null,2.0907866666666662E-3," /veh-mile/yr "]
["COMMUTER RAIL","OPERATIONS","VEHICLE","ELECTRIC","RFCW",3.9714412139902552E-3,null,null," /veh0mile/yr ",2.15E-3,null,2.0907866666666662E-3," /veh-mile/yr "]
["COMMUTER RAIL","OPERATIONS","VEHICLE","ELECTRIC","RMPA",4.6159787061275503E-3,null,null," /veh0mile/yr ",1.7799999999999999E-3,null,2.0907866666666662E-3," /veh-mile/yr "]
["COMMUTER RAIL","OPERATIONS","VEHICLE","ELECTRIC","SPNO",3.851191681875088E-3,null,null," /veh0mile/yr ",2.31E-3,null,2.0907866666666662E-3," /veh-mile/yr "]
["COMMUTER RAIL","OPERATIONS","VEHICLE","ELECTRIC","SPSO",3.7509837384457822E-3,null,null," /veh0mile/yr ",2.31E-3,null,2.0907866666666662E-3," /veh-mile/yr "]
["COMMUTER RAIL","OPERATIONS","VEHICLE","ELECTRIC","SRMV",2.9749734245292365E-3,null,null," /veh0mile/yr ",2.0799999999999998E-3,null,2.0907866666666662E-3," /veh-mile/yr "]
["COMMUTER RAIL","OPERATIONS","VEHICLE","ELECTRIC","SRMW",5.9780050732186792E-3,null,null," /veh0mile/yr ",2.0799999999999998E-3,null,2.0907866666666662E-3," /veh-mile/yr "]
["COMMUTER RAIL","OPERATIONS","VEHICLE","ELECTRIC","SRSO",3.4639881884642502E-3,null,null," /veh0mile/yr ",2.0799999999999998E-3,null,2.0907866666666662E-3," /veh-mile/yr "]
["COMMUTER RAIL","OPERATIONS","VEHICLE","ELECTRIC","SRTV",3.3637802450349444E-3,null,null," /veh0mile/yr ",2.0799999999999998E-3,null,2.0907866666666662E-3," /veh-mile/yr "]
["COMMUTER RAIL","OPERATIONS","VEHICLE","ELECTRIC","SRVC",2.5104093987909737E-3,null,null,"/veh-mile/yr ",2.0799999999999998E-3,null,2.0907866666666662E-3," /veh-mile/yr "]
["COMMUTER RAIL","OPERATIONS","VEHICLE","ELECTRIC","100% renewable energy",null,null,null," /sq0ft/yr ",null,null,2.0907866666666662E-3,"/veh-mile/yr"]
["COMMUTER RAIL","OPERATIONS","VEHICLE","DIESEL",0,null,null,2.8029999999999999E-2," /sq0ft/yr ",null,null,5.7245999999999998E-2," /veh-mile/yr "]
["COMMUTER RAIL","OPERATIONS","STATION",0,0,null,null,6.4700000000000001E-3," /sq0ft/yr ",null,null,5.7321999999999998E-2,"/sq-ft/yr"]
["COMMUTER RAIL","OPERATIONS","MAINTENANCE/STORAGE FACILITY","ELECTRICITY",0,null,null,4.8999999999999998E-3," /mi ",null,null,4.3332000000000002E-2,"/sq-ft/yr"]
["COMMUTER RAIL","OPERATIONS","MAINTENANCE/STORAGE FACILITY","HEAT",0,null,null,1.6999999999999999E-3," /mi ",null,null,8.8710000000000004E-3,"/sq-ft/yr"]
["LIGHT RAIL OR STREETCAR","CONSTRUCTION","TRACK MILE","UNDERGROUND","US MIX",163642,4592,5046," /mi ",1089738,46882,48863,"/mi"]
["LIGHT RAIL OR STREETCAR","CONSTRUCTION","TRACK MILE","UNDERGROUND","AL",163642,4592,4967," /mi ",1089738,46882,48863,"/mi"]
["LIGHT RAIL OR STREETCAR","CONSTRUCTION","TRACK MILE","UNDERGROUND","AK",163642,4592,4977," /mi ",1089738,46882,48863,"/mi"]
["LIGHT RAIL OR STREETCAR","CONSTRUCTION","TRACK MILE","UNDERGROUND","AZ",163642,4592,4987," /mi ",1089738,46882,48863,"/mi"]
["LIGHT RAIL OR STREETCAR","CONSTRUCTION","TRACK MILE","UNDERGROUND","AR",163642,4592,5165," /mi ",1089738,46882,48863,"/mi"]
["LIGHT RAIL OR STREETCAR","CONSTRUCTION","TRACK MILE","UNDERGROUND","CA",163642,4592,4503," /mi ",1089738,46882,48863,"/mi"]
["LIGHT RAIL OR STREETCAR","CONSTRUCTION","TRACK MILE","UNDERGROUND","CO",163642,4592,5520," /mi ",1089738,46882,48863,"/mi"]
["LIGHT RAIL OR STREETCAR","CONSTRUCTION","TRACK MILE","UNDERGROUND","CT",163642,4592,4552," /mi ",1089738,46882,48863,"/mi"]
["LIGHT RAIL OR STREETCAR","CONSTRUCTION","TRACK MILE","UNDERGROUND","DC",163642,4592,4532," /mi ",1089738,46882,48863,"/mi"]
["LIGHT RAIL OR STREETCAR","CONSTRUCTION","TRACK MILE","UNDERGROUND","DE",163642,4592,4937," /mi ",1089738,46882,48863,"/mi"]
["LIGHT RAIL OR STREETCAR","CONSTRUCTION","TRACK MILE","UNDERGROUND","FL",163642,4592,5076," /mi ",1089738,46882,48863,"/mi"]
["LIGHT RAIL OR STREETCAR","CONSTRUCTION","TRACK MILE","UNDERGROUND","GA",163642,4592,5056," /mi ",1089738,46882,48863,"/mi"]
["LIGHT RAIL OR STREETCAR","CONSTRUCTION","TRACK MILE","UNDERGROUND","HI",163642,4592,5570," /mi ",1089738,46882,48863,"/mi"]
["LIGHT RAIL OR STREETCAR","CONSTRUCTION","TRACK MILE","UNDERGROUND","ID",163642,4592,4246," /mi ",1089738,46882,48863,"/mi"]
["LIGHT RAIL OR STREETCAR","CONSTRUCTION","TRACK MILE","UNDERGROUND","IL",163642,4592,4868," /mi ",1089738,46882,48863,"/mi"]
["LIGHT RAIL OR STREETCAR","CONSTRUCTION","TRACK MILE","UNDERGROUND","IN",163642,4592,5886," /mi ",1089738,46882,48863,"/mi"]
["LIGHT RAIL OR STREETCAR","CONSTRUCTION","TRACK MILE","UNDERGROUND","IA",163642,4592,5046," /mi ",1089738,46882,48863,"/mi"]
["LIGHT RAIL OR STREETCAR","CONSTRUCTION","TRACK MILE","UNDERGROUND","KS",163642,4592,5244," /mi ",1089738,46882,48863,"/mi"]
["LIGHT RAIL OR STREETCAR","CONSTRUCTION","TRACK MILE","UNDERGROUND","KY",163642,4592,6004," /mi ",1089738,46882,48863,"/mi"]
["LIGHT RAIL OR STREETCAR","CONSTRUCTION","TRACK MILE","UNDERGROUND","LA",163642,4592,4928," /mi ",1089738,46882,48863,"/mi"]
["LIGHT RAIL OR STREETCAR","CONSTRUCTION","TRACK MILE","UNDERGROUND","ME",163642,4592,4404," /mi ",1089738,46882,48863,"/mi"]
["LIGHT RAIL OR STREETCAR","CONSTRUCTION","TRACK MILE","UNDERGROUND","MD",163642,4592,5066," /mi ",1089738,46882,48863,"/mi"]
["LIGHT RAIL OR STREETCAR","CONSTRUCTION","TRACK MILE","UNDERGROUND","MA",163642,4592,4878," /mi ",1089738,46882,48863,"/mi"]
["LIGHT RAIL OR STREETCAR","CONSTRUCTION","TRACK MILE","UNDERGROUND","MI",163642,4592,5155," /mi ",1089738,46882,48863,"/mi"]
["LIGHT RAIL OR STREETCAR","CONSTRUCTION","TRACK MILE","UNDERGROUND","MN",163642,4592,5066," /mi ",1089738,46882,48863,"/mi"]
["LIGHT RAIL OR STREETCAR","CONSTRUCTION","TRACK MILE","UNDERGROUND","MS",163642,4592,4987," /mi ",1089738,46882,48863,"/mi"]
["LIGHT RAIL OR STREETCAR","CONSTRUCTION","TRACK MILE","UNDERGROUND","MO",163642,4592,5738," /mi ",1089738,46882,48863,"/mi"]
["LIGHT RAIL OR STREETCAR","CONSTRUCTION","TRACK MILE","UNDERGROUND","MT",163642,4592,5303," /mi ",1089738,46882,48863,"/mi"]
["LIGHT RAIL OR STREETCAR","CONSTRUCTION","TRACK MILE","UNDERGROUND","NE",163642,4592,5333," /mi ",1089738,46882,48863,"/mi"]
["LIGHT RAIL OR STREETCAR","CONSTRUCTION","TRACK MILE","UNDERGROUND","NV",163642,4592,4819," /mi ",1089738,46882,48863,"/mi"]
["LIGHT RAIL OR STREETCAR","CONSTRUCTION","TRACK MILE","UNDERGROUND","NH",163642,4592,4374," /mi ",1089738,46882,48863,"/mi"]
["LIGHT RAIL OR STREETCAR","CONSTRUCTION","TRACK MILE","UNDERGROUND","NJ",163642,4592,4612," /mi ",1089738,46882,48863,"/mi"]
["LIGHT RAIL OR STREETCAR","CONSTRUCTION","TRACK MILE","UNDERGROUND","NM",163642,4592,5619," /mi ",1089738,46882,48863,"/mi"]
["LIGHT RAIL OR STREETCAR","CONSTRUCTION","TRACK MILE","UNDERGROUND","NY",163642,4592,4523," /mi ",1089738,46882,48863,"/mi"]
["LIGHT RAIL OR STREETCAR","CONSTRUCTION","TRACK MILE","UNDERGROUND","NC",163642,4592,4918," /mi ",1089738,46882,48863,"/mi"]
["LIGHT RAIL OR STREETCAR","CONSTRUCTION","TRACK MILE","UNDERGROUND","ND",163642,4592,5718," /mi ",1089738,46882,48863,"/mi"]
["LIGHT RAIL OR STREETCAR","CONSTRUCTION","TRACK MILE","UNDERGROUND","OH",163642,4592,5520," /mi ",1089738,46882,48863,"/mi"]
["LIGHT RAIL OR STREETCAR","CONSTRUCTION","TRACK MILE","UNDERGROUND","OK",163642,4592,5096," /mi ",1089738,46882,48863,"/mi"]
["LIGHT RAIL OR STREETCAR","CONSTRUCTION","TRACK MILE","UNDERGROUND","OR",163642,4592,4365," /mi ",1089738,46882,48863,"/mi"]
["LIGHT RAIL OR STREETCAR","CONSTRUCTION","TRACK MILE","UNDERGROUND","PA",163642,4592,4908," /mi ",1089738,46882,48863,"/mi"]
["LIGHT RAIL OR STREETCAR","CONSTRUCTION","TRACK MILE","UNDERGROUND","RI",163642,4592,4918," /mi ",1089738,46882,48863,"/mi"]
["LIGHT RAIL OR STREETCAR","CONSTRUCTION","TRACK MILE","UNDERGROUND","SC",163642,4592,4681," /mi ",1089738,46882,48863,"/mi"]
["LIGHT RAIL OR STREETCAR","CONSTRUCTION","TRACK MILE","UNDERGROUND","SD",163642,4592,4572," /mi ",1089738,46882,48863,"/mi"]
["LIGHT RAIL OR STREETCAR","CONSTRUCTION","TRACK MILE","UNDERGROUND","TN",163642,4592,5046," /mi ",1089738,46882,48863,"/mi"]
["LIGHT RAIL OR STREETCAR","CONSTRUCTION","TRACK MILE","UNDERGROUND","TX",163642,4592,5096," /mi ",1089738,46882,48863,"/mi"]
["LIGHT RAIL OR STREETCAR","CONSTRUCTION","TRACK MILE","UNDERGROUND","UT",163642,4592,5678," /mi ",1089738,46882,48863,"/mi"]
["LIGHT RAIL OR STREETCAR","CONSTRUCTION","TRACK MILE","UNDERGROUND","VT",163642,4592,4127," /mi ",1089738,46882,48863,"/mi"]
["LIGHT RAIL OR STREETCAR","CONSTRUCTION","TRACK MILE","UNDERGROUND","VA",163642,4592,4868," /mi ",1089738,46882,48863,"/mi"]
["LIGHT RAIL OR STREETCAR","CONSTRUCTION","TRACK MILE","UNDERGROUND","WA",163642,4592,4246," /mi ",1089738,46882,48863,"/mi"]
["LIGHT RAIL OR STREETCAR","CONSTRUCTION","TRACK MILE","UNDERGROUND","WV",163642,4592,6024," /mi ",1089738,46882,48863,"/mi"]
["LIGHT RAIL OR STREETCAR","CONSTRUCTION","TRACK MILE","UNDERGROUND","WI",163642,4592,5441," /mi ",1089738,46882,48863,"/mi"]
["LIGHT RAIL OR STREETCAR","CONSTRUCTION","TRACK MILE","UNDERGROUND","WY",163642,4592,6073," /mi ",1089738,46882,48863,"/mi"]
["LIGHT RAIL OR STREETCAR","CONSTRUCTION","TRACK MILE","ELEVATED",0,4901,146,793," /mi ",44466,1492,8094,"/mi"]
["LIGHT RAIL OR STREETCAR","CONSTRUCTION","TRACK MILE","AT-GRADE",0,348,77,138," /mi ",3820,783,1413,"/mi"]
["LIGHT RAIL OR STREETCAR","CONSTRUCTION","TRACK MILE","CONVERTED OR UPGRADED",0,201,68,95," /facility ",2941,697,965,"/mi"]
["LIGHT RAIL OR STREETCAR","CONSTRUCTION","TRACK MILE","CATENARY",0,3161,null,null," /facility ",null,null,"-","/mi"]
["LIGHT RAIL OR STREETCAR","CONSTRUCTION","STATION","UNDERGROUND",0,52253,1487,782," /facility ",342790,15183,7984,"/facility"]
["LIGHT RAIL OR STREETCAR","CONSTRUCTION","STATION","ELEVATED",0,8337,2399,383," /mi/yr ",548011,24497,3908,"/facility"]
["LIGHT RAIL OR STREETCAR","CONSTRUCTION","STATION","AT-GRADE",0,3674,112,11," /mi/yr ",24137,1145,113,"/facility"]
["LIGHT RAIL OR STREETCAR","MAINTENANCE","TRACK MILE","UNDERGROUND",0,null,null,4.42," /mi/yr ",null,null,45,"/mi/yr"]
["LIGHT RAIL OR STREETCAR","MAINTENANCE","TRACK MILE","ELEVATED",0,null,null,4.42," /mi/yr ",null,null,45,"/mi/yr"]
["LIGHT RAIL OR STREETCAR","MAINTENANCE","TRACK MILE","AT-GRADE",0,null,null,4.42," /veh0mile/yr ",null,null,45,"/mi/yr"]
["LIGHT RAIL OR STREETCAR","MAINTENANCE","TRACK MILE","CONVERTED OR UPGRADED",0,null,null,4.42," /veh0mile/yr ",null,null,45,"/mi/yr"]
["LIGHT RAIL OR STREETCAR","MAINTENANCE","VEHICLE",0,0,null,null,1.2E-5," /veh0mile/yr ",null,null,"-","/veh-mile/yr"]
["LIGHT RAIL OR STREETCAR","OPERATIONS","VEHICLE","ELECTRIC","US",2.9863634063577674E-3,null,null," /veh0mile/yr ",1.2771475469043772E-3,null,1.2389999999999999E-3,"/veh-mile/yr"]
["LIGHT RAIL OR STREETCAR","OPERATIONS","VEHICLE","ELECTRIC","AKGD",4.0086828024559276E-3,null,null," /veh0mile/yr ",1.9559999999999998E-3,null,1.2389999999999999E-3,"/veh-mile/yr"]
["LIGHT RAIL OR STREETCAR","OPERATIONS","VEHICLE","ELECTRIC","AKMS",1.9462550719042051E-3,null,null," /veh0mile/yr ",1.9559999999999998E-3,null,1.2389999999999999E-3,"/veh-mile/yr"]
["LIGHT RAIL OR STREETCAR","OPERATIONS","VEHICLE","ELECTRIC","AZNM",3.0865623244412514E-3,null,null," /veh0mile/yr ",1.052E-3,null,1.2389999999999999E-3,"/veh-mile/yr"]
["LIGHT RAIL OR STREETCAR","OPERATIONS","VEHICLE","ELECTRIC","CAMX",1.8714689228998649E-3,null,null," /veh0mile/yr ",1.052E-3,null,1.2389999999999999E-3,"/veh-mile/yr"]
["LIGHT RAIL OR STREETCAR","OPERATIONS","VEHICLE","ELECTRIC","ERCT",2.9841851690081259E-3,null,null," /veh0mile/yr ",1.2689999999999999E-3,null,1.2389999999999999E-3,"/veh-mile/yr"]
["LIGHT RAIL OR STREETCAR","OPERATIONS","VEHICLE","ELECTRIC","FRCC",3.0429975774484324E-3,null,null," /veh0mile/yr ",1.467E-3,null,1.2389999999999999E-3,"/veh-mile/yr"]
["LIGHT RAIL OR STREETCAR","OPERATIONS","VEHICLE","ELECTRIC","HIMS",4.1789483552861963E-3,null,null," /veh0mile/yr ",2.856E-3,null,1.2389999999999999E-3,"/veh-mile/yr"]
["LIGHT RAIL OR STREETCAR","OPERATIONS","VEHICLE","ELECTRIC","HIOA",6.0464238430450535E-3,null,null," /veh0mile/yr ",2.856E-3,null,1.2389999999999999E-3,"/veh-mile/yr"]
["LIGHT RAIL OR STREETCAR","OPERATIONS","VEHICLE","ELECTRIC","MROE",5.5755615359643299E-3,null,null," /veh0mile/yr ",1.707E-3,null,1.2389999999999999E-3,"/veh-mile/yr"]
["LIGHT RAIL OR STREETCAR","OPERATIONS","VEHICLE","ELECTRIC","MROW",3.5817482819262979E-3,null,null," /veh0mile/yr ",1.707E-3,null,1.2389999999999999E-3,"/veh-mile/yr"]
["LIGHT RAIL OR STREETCAR","OPERATIONS","VEHICLE","ELECTRIC","NEWE",1.9350008455977265E-3,null,null," /veh0mile/yr ",9.3199999999999999E-4,null,1.2389999999999999E-3,"/veh-mile/yr"]
["LIGHT RAIL OR STREETCAR","OPERATIONS","VEHICLE","ELECTRIC","NWPP",2.1920328528553601E-3,null,null," /veh0mile/yr ",1.052E-3,null,1.2389999999999999E-3,"/veh-mile/yr"]
["LIGHT RAIL OR STREETCAR","OPERATIONS","VEHICLE","ELECTRIC","NYCW",2.3089315906194264E-3,null,null," /veh0mile/yr ",9.3199999999999999E-4,null,1.2389999999999999E-3,"/veh-mile/yr"]
["LIGHT RAIL OR STREETCAR","OPERATIONS","VEHICLE","ELECTRIC","NYLI",4.4025807231826697E-3,null,null," /veh0mile/yr ",9.3199999999999999E-4,null,1.2389999999999999E-3,"/veh-mile/yr"]
["LIGHT RAIL OR STREETCAR","OPERATIONS","VEHICLE","ELECTRIC","NYUP",8.5132776415134488E-4,null,null," /veh0mile/yr ",9.3199999999999999E-4,null,1.2389999999999999E-3,"/veh-mile/yr"]
["LIGHT RAIL OR STREETCAR","OPERATIONS","VEHICLE","ELECTRIC","PRMS",5.8394912948291616E-3,null,null," /veh0mile/yr ",1.2771475469043772E-3,null,1.2389999999999999E-3,"/veh-mile/yr"]
["LIGHT RAIL OR STREETCAR","OPERATIONS","VEHICLE","ELECTRIC","RFCE",2.3793612649244838E-3,null,null," /veh0mile/yr ",1.274E-3,null,1.2389999999999999E-3,"/veh-mile/yr"]
["LIGHT RAIL OR STREETCAR","OPERATIONS","VEHICLE","ELECTRIC","RFCM",4.2105327968559904E-3,null,null," /veh0mile/yr ",1.274E-3,null,1.2389999999999999E-3,"/veh-mile/yr"]
["LIGHT RAIL OR STREETCAR","OPERATIONS","VEHICLE","ELECTRIC","RFCW",3.5969959433737853E-3,null,null," /veh0mile/yr ",1.274E-3,null,1.2389999999999999E-3,"/veh-mile/yr"]
["LIGHT RAIL OR STREETCAR","OPERATIONS","VEHICLE","ELECTRIC","RMPA",4.1807635530775634E-3,null,null," /veh0mile/yr ",1.052E-3,null,1.2389999999999999E-3,"/veh-mile/yr"]
["LIGHT RAIL OR STREETCAR","OPERATIONS","VEHICLE","ELECTRIC","SPNO",3.4880840758917363E-3,null,null," /veh0mile/yr ",1.371E-3,null,1.2389999999999999E-3,"/veh-mile/yr"]
["LIGHT RAIL OR STREETCAR","OPERATIONS","VEHICLE","ELECTRIC","SPSO",3.3973241863233623E-3,null,null," /veh0mile/yr ",1.371E-3,null,1.2389999999999999E-3,"/veh-mile/yr"]
["LIGHT RAIL OR STREETCAR","OPERATIONS","VEHICLE","ELECTRIC","SRMV",2.6944796015058773E-3,null,null," /veh0mile/yr ",1.232E-3,null,1.2389999999999999E-3,"/veh-mile/yr"]
["LIGHT RAIL OR STREETCAR","OPERATIONS","VEHICLE","ELECTRIC","SRMW",5.4143719720908994E-3,null,null," /veh0mile/yr ",1.232E-3,null,1.2389999999999999E-3,"/veh-mile/yr"]
["LIGHT RAIL OR STREETCAR","OPERATIONS","VEHICLE","ELECTRIC","SRSO",3.137387862599541E-3,null,null," /veh0mile/yr ",1.232E-3,null,1.2389999999999999E-3,"/veh-mile/yr"]
["LIGHT RAIL OR STREETCAR","OPERATIONS","VEHICLE","ELECTRIC","SRTV",3.046627973031167E-3,null,null," /sq0ft/yr ",1.232E-3,null,1.2389999999999999E-3,"/veh-mile/yr"]
["LIGHT RAIL OR STREETCAR","OPERATIONS","VEHICLE","ELECTRIC","SRVC",2.2737167534668972E-3,null,null," /sq0ft/yr ",1.232E-3,null,1.2389999999999999E-3,"/veh-mile/yr"]
["LIGHT RAIL OR STREETCAR","OPERATIONS","VEHICLE","ELECTRIC","100% renewable energy",null,null,null," /sq0ft/yr ",null,null,1.2390000000000001E-3,"/veh-mile/yr"]
["LIGHT RAIL OR STREETCAR","OPERATIONS","STATION",0,0,null,null,6.4700000000000001E-3,"/mi",null,null,5.7321999999999998E-2,"/sq-ft/yr"]
["LIGHT RAIL OR STREETCAR","OPERATIONS","MAINTENANCE/STORAGE FACILITY","ELECTRICITY",0,null,null,4.8999999999999998E-3,"/mi",null,null,4.3332000000000002E-2,"/sq-ft/yr"]
["LIGHT RAIL OR STREETCAR","OPERATIONS","MAINTENANCE/STORAGE FACILITY","HEAT",0,null,null,1.6999999999999999E-3,"/mi",null,null,8.8710000000000004E-3,"/sq-ft/yr"]
["BUS/BRT","CONSTRUCTION","TRACK MILE","AT-GRADE",0,196,24,250,"/facility",1176,248,2551,"/mi"]
["BUS/BRT","CONSTRUCTION","TRACK MILE","CONVERTED OR UPGRADED",0,98,13,89,"/facility",975,132,909,"/mi"]
["BUS/BRT","CONSTRUCTION","TRACK MILE","CATENARY",0,902,null,null,"/facility",null,null,null,"/mi"]
["BUS/BRT","CONSTRUCTION","STATION","UNDERGROUND",0,3674,112,11,"/mi/yr",24137,1145,113,"/facility"]
["BUS/BRT","CONSTRUCTION","STATION","ELEVATED",0,3674,112,11,"/mi/yr",24137,1145,113,"/facility"]
["BUS/BRT","CONSTRUCTION","STATION","AT-GRADE",0,3674,112,11,"/mi/yr",24137,1145,113,"/facility"]
["BUS/BRT","MAINTENANCE","TRACK MILE","AT-GRADE",0,null,null,0.50631999999999999,"/mi/yr",null,null,5,"/mi/yr"]
["BUS/BRT","MAINTENANCE","TRACK MILE","CONVERTED OR UPGRADED",0,null,null,0.50631999999999999,"/mi/yr",null,null,5,"/mi/yr"]
["BUS/BRT","MAINTENANCE","VEHICLE",0,0,null,null,5.0000000000000002E-5,"/veh0mile/yr",null,null,0,"/veh-mile/yr"]
["BUS/BRT","OPERATIONS","VEHICLE","DIESEL",0,1.66E-4,1.6899999999999999E-4,1.619E-3," /veh0mile/yr ",1.317E-3,2.4239999999999999E-3,2.0477999999999998E-3,"/veh-mile/yr"]
["BUS/BRT","OPERATIONS","VEHICLE","CNG",0,3.4000000000000002E-4,7.6000000000000004E-5,1.5070000000000001E-3," /veh0mile/yr ",2.6210000000000001E-3,1.08E-3,2.4091E-3,"/veh-mile/yr"]
["BUS/BRT","OPERATIONS","VEHICLE","HYBRID DIESEL",0,1.37E-4,1.3899999999999999E-4,1.3389999999999999E-3," /veh0mile/yr ",1.088E-3,2.0019999999999999E-3,1.691E-3,"/veh-mile/yr"]
["BUS/BRT","OPERATIONS","VEHICLE","GAS",0,null,null,null," /veh0mile/yr ",null,null,null,"/veh-mile/yr"]
["BUS/BRT","OPERATIONS","VEHICLE","ELECTRIC","US MIX",1.13E-4,9.2699999999999998E-4,0," /veh0mile/yr ",8.0000000000000004E-4,7.5249999999999996E-3,8.0759999999999998E-3,"/veh-mile/yr"]
["BUS/BRT","OPERATIONS","VEHICLE","ELECTRIC","ASCC",1.74E-4,1.255E-3,null," /veh0mile/yr ",1.3910000000000001E-3,1.1358999999999999E-2,8.0759999999999998E-3,"/veh-mile/yr"]
["BUS/BRT","OPERATIONS","VEHICLE","ELECTRIC","FRCC",1.55E-4,9.8999999999999999E-4,null," /veh0mile/yr ",1.189E-3,8.3759999999999998E-3,8.0759999999999998E-3,"/veh-mile/yr"]
["BUS/BRT","OPERATIONS","VEHICLE","ELECTRIC","HICC",2.6200000000000003E-4,1.916E-3,null," /veh0mile/yr ",2.529E-3,1.6084000000000001E-2,8.0759999999999998E-3,"/veh-mile/yr"]
["BUS/BRT","OPERATIONS","VEHICLE","ELECTRIC","MRO",1.2899999999999999E-4,1.351E-3,null," /veh0mile/yr ",7.9500000000000003E-4,1.0333999999999999E-2,8.0759999999999998E-3,"/veh-mile/yr"]
["BUS/BRT","OPERATIONS","VEHICLE","ELECTRIC","NPCC",9.7999999999999997E-5,5.0000000000000001E-4,null," /veh0mile/yr ",8.2399999999999997E-4,5.2490000000000002E-3,8.0759999999999998E-3,"/veh-mile/yr"]
["BUS/BRT","OPERATIONS","VEHICLE","ELECTRIC","RFC",1.18E-4,9.0899999999999998E-4,null," /veh0mile/yr ",8.5599999999999999E-4,7.4460000000000004E-3,8.0759999999999998E-3,"/veh-mile/yr"]
["BUS/BRT","OPERATIONS","VEHICLE","ELECTRIC","SERC",1.1400000000000001E-4,8.6399999999999997E-4,null," /veh0mile/yr ",8.3799999999999999E-4,7.1939999999999999E-3,8.0759999999999998E-3,"/veh-mile/yr"]
["BUS/BRT","OPERATIONS","VEHICLE","ELECTRIC","SPP",1.0399999999999999E-4,1.096E-3,null," /veh0mile/yr ",6.2200000000000005E-4,8.3180000000000007E-3,8.0759999999999998E-3,"/veh-mile/yr"]
["BUS/BRT","OPERATIONS","VEHICLE","ELECTRIC","TRE",1.2300000000000001E-4,8.61E-4,null," /veh0mile/yr ",9.1500000000000001E-4,7.3540000000000003E-3,8.0759999999999998E-3,"/veh-mile/yr"]
["BUS/BRT","OPERATIONS","VEHICLE","ELECTRIC","WECC",9.0000000000000006E-5,7.5000000000000002E-4,null," /veh0mile/yr ",6.29E-4,6.2300000000000003E-3,8.0759999999999998E-3,"/veh-mile/yr"]
["BUS/BRT","OPERATIONS","VEHICLE","ELECTRIC","100% renewable energy",0,0,0,"/sq0ft/yr",6.29E-4,6.2300000000000003E-3,8.0759999999999998E-3,"/veh-mile/yr"]
["BUS/BRT","OPERATIONS","STATION","ELECTRICITY",0,null,null,7.3920000000000001E-3,"/sq0ft/yr",null,null,5.7321999999999998E-2,"/sq-ft/yr"]
["BUS/BRT","OPERATIONS","STATION","HEAT",0,null,null,0,"/sq0ft/yr",null,null,0,"/sq-ft/yr"]
["BUS/BRT","OPERATIONS","MAINTENANCE/STORAGE FACILITY","ELECTRICITY",0,null,null,8.5599999999999999E-3,"/sq0ft/yr",null,null,7.5745999999999994E-2,"/sq-ft/yr"]
["BUS/BRT","OPERATIONS","MAINTENANCE/STORAGE FACILITY","HEAT",0,null,null,5.5999999999999995E-4," /veh0mile/yr ",null,null,5.1180000000000002E-3,"/sq-ft/yr"]
["VANPOOL","OPERATIONS","VEHICLE","DIESEL",0,1.1900000000000001E-4,1.21E-4,1.163E-3," /veh0mile/yr ",9.4399999999999996E-4,1.737E-3,1.4677000000000001E-2,"/veh-mile/yr"]
["VANPOOL","OPERATIONS","VEHICLE","GAS",0,null,null,null," /veh0mile/yr ",null,null,null,"/veh-mile/yr"]
["SCHOOL BUS","OPERATIONS","VEHICLE","DIESEL",0,1.5200000000000001E-4,1.5300000000000001E-4,1.475E-3," /veh0mile/yr ",1.1980000000000001E-3,2.2049999999999999E-3,1.8631000000000002E-2,"/veh-mile/yr"]
["SCHOOL BUS","OPERATIONS","VEHICLE","CNG",0,3.1E-4,6.8999999999999997E-5,1.366E-3," /veh0mile/yr ",2.3839999999999998E-3,9.8299999999999993E-4,2.1919000000000001E-2,"/veh-mile/yr"]
["DR BUS","OPERATIONS","VEHICLE","DIESEL",0,1.1900000000000001E-4,1.21E-4,1.163E-3," /veh0mile/yr ",9.4399999999999996E-4,1.737E-3,1.4677000000000001E-2,"/veh-mile/yr"]
["DR BUS","OPERATIONS","VEHICLE","CNG",0,2.4399999999999999E-4,5.3999999999999998E-5,1.7600000000000001E-3," /veh0mile/yr ",1.8779999999999999E-3,7.7399999999999995E-4,1.7266E-2,"/veh-mile/yr"]
["SEDAN/AUTO","OPERATIONS","VEHICLE","GAS",0,6.9999999999999999E-6,7.1000000000000005E-5,3.3E-4," /veh0mile/yr ",2.22E-4,4.8999999999999998E-4,4.2890000000000003E-3,"/veh-mile/yr"]
["SEDAN/AUTO","OPERATIONS","VEHICLE","DIESEL",0,2.9E-5,2.9E-5,2.81E-4," /veh0mile/yr ",2.2900000000000001E-4,4.2099999999999999E-4,3.5530000000000002E-3,"/veh-mile/yr"]
["SEDAN/AUTO","OPERATIONS","VEHICLE","HYBRID ELECTRIC",0,5.0000000000000004E-6,5.1E-5,2.3699999999999999E-4," /veh0mile/yr ",1.5899999999999999E-4,6.8099999999999996E-4,3.0760000000000002E-3,"/veh-mile/yr"]
["SEDAN/AUTO","OPERATIONS","VEHICLE","ALL ELECTRIC","US MIX",1.8E-5,1.47E-4,null," /veh0mile/yr ",1.27E-4,1.196E-3,1.2830000000000001E-3,"/veh-mile/yr"]
["SEDAN/AUTO","OPERATIONS","VEHICLE","ALL ELECTRIC","ASCC",2.8E-5,1.9900000000000001E-4,null," /veh0mile/yr ",2.2100000000000001E-4,1.805E-3,1.2830000000000001E-3,"/veh-mile/yr"]
["SEDAN/AUTO","OPERATIONS","VEHICLE","ALL ELECTRIC","FRCC",2.5000000000000001E-5,1.5699999999999999E-4,null," /veh0mile/yr ",1.8900000000000001E-4,1.3309999999999999E-3,1.2830000000000001E-3,"/veh-mile/yr"]
["SEDAN/AUTO","OPERATIONS","VEHICLE","ALL ELECTRIC","HICC",4.1999999999999998E-5,3.0400000000000002E-4,null," /veh0mile/yr ",4.0200000000000001E-4,2.5560000000000001E-3,1.2830000000000001E-3,"/veh-mile/yr"]
["SEDAN/AUTO","OPERATIONS","VEHICLE","ALL ELECTRIC","MRO",2.0999999999999999E-5,2.1499999999999999E-4,null," /veh0mile/yr ",1.26E-4,1.642E-3,1.2830000000000001E-3,"/veh-mile/yr"]
["SEDAN/AUTO","OPERATIONS","VEHICLE","ALL ELECTRIC","NPCC",1.5999999999999999E-5,8.0000000000000007E-5,null," /veh0mile/yr ",1.3100000000000001E-4,8.34E-4,1.2830000000000001E-3,"/veh-mile/yr"]
["SEDAN/AUTO","OPERATIONS","VEHICLE","ALL ELECTRIC","RFC",1.9000000000000001E-5,1.45E-4,null," /veh0mile/yr ",1.36E-4,1.183E-3,1.2830000000000001E-3,"/veh-mile/yr"]
["SEDAN/AUTO","OPERATIONS","VEHICLE","ALL ELECTRIC","SERC",1.8E-5,1.37E-4,null," /veh0mile/yr ",1.3300000000000001E-4,1.1429999999999999E-3,1.2830000000000001E-3,"/veh-mile/yr"]
["SEDAN/AUTO","OPERATIONS","VEHICLE","ALL ELECTRIC","SPP",1.5999999999999999E-5,1.74E-4,null," /veh0mile/yr ",9.8999999999999994E-5,1.322E-3,1.2830000000000001E-3,"/veh-mile/yr"]
["SEDAN/AUTO","OPERATIONS","VEHICLE","ALL ELECTRIC","TRE",2.0000000000000002E-5,1.37E-4,null," /veh0mile/yr ",1.45E-4,1.1689999999999999E-3,1.2830000000000001E-3,"/veh-mile/yr"]
["SEDAN/AUTO","OPERATIONS","VEHICLE","ALL ELECTRIC","WECC",1.4E-5,1.1900000000000001E-4,null," /veh0mile/yr ",1E-4,9.8999999999999999E-4,1.2830000000000001E-3,"/veh-mile/yr"]
["SEDAN/AUTO","OPERATIONS","VEHICLE","ALL ELECTRIC","100% renewable energy",null,null,null," /veh0mile/yr ",null,null,1.2830000000000001E-3,"/veh-mile/yr"]
["SEDAN/AUTO","OPERATIONS","VEHICLE","PLUG-IN HYBRID ELECTRIC","US MIX",1.2999999999999999E-5,1.1400000000000001E-4,1.02E-4," /veh0mile/yr ",1.4799999999999999E-4,1.039E-3,2.1210000000000001E-3,"/veh-mile/yr"]
["SEDAN/AUTO","OPERATIONS","VEHICLE","PLUG-IN HYBRID ELECTRIC","ASCC",1.9000000000000001E-5,1.46E-4,1.02E-4," /veh0mile/yr ",2.0599999999999999E-4,1.4189999999999999E-3,2.1210000000000001E-3,"/veh-mile/yr"]
["SEDAN/AUTO","OPERATIONS","VEHICLE","PLUG-IN HYBRID ELECTRIC","FRCC",1.7E-5,1.2E-4,1.02E-4," /veh0mile/yr ",1.8599999999999999E-4,1.1230000000000001E-3,2.1210000000000001E-3,"/veh-mile/yr"]
["SEDAN/AUTO","OPERATIONS","VEHICLE","PLUG-IN HYBRID ELECTRIC","HICC",2.8E-5,2.12E-4,1.02E-4," /veh0mile/yr ",3.19E-4,1.8879999999999999E-3,2.1210000000000001E-3,"/veh-mile/yr"]
["SEDAN/AUTO","OPERATIONS","VEHICLE","PLUG-IN HYBRID ELECTRIC","MRO",1.5E-5,1.56E-4,1.02E-4," /veh0mile/yr ",1.47E-4,1.317E-3,2.1210000000000001E-3,"/veh-mile/yr"]
["SEDAN/AUTO","OPERATIONS","VEHICLE","PLUG-IN HYBRID ELECTRIC","NPCC",1.2E-5,7.2000000000000002E-5,1.02E-4," /veh0mile/yr ",1.4999999999999999E-4,8.1300000000000003E-4,2.1210000000000001E-3,"/veh-mile/yr"]
["SEDAN/AUTO","OPERATIONS","VEHICLE","PLUG-IN HYBRID ELECTRIC","RFC",1.4E-5,1.12E-4,1.02E-4," /veh0mile/yr ",1.5300000000000001E-4,1.031E-3,2.1210000000000001E-3,"/veh-mile/yr"]
["SEDAN/AUTO","OPERATIONS","VEHICLE","PLUG-IN HYBRID ELECTRIC","SERC",1.2999999999999999E-5,1.08E-4,1.02E-4," /veh0mile/yr ",1.5100000000000001E-4,1.0059999999999999E-3,2.1210000000000001E-3,"/veh-mile/yr"]
["SEDAN/AUTO","OPERATIONS","VEHICLE","PLUG-IN HYBRID ELECTRIC","SPP",1.2E-5,1.3100000000000001E-4,1.02E-4," /veh0mile/yr ",1.2999999999999999E-4,1.1169999999999999E-3,2.1210000000000001E-3,"/veh-mile/yr"]
["SEDAN/AUTO","OPERATIONS","VEHICLE","PLUG-IN HYBRID ELECTRIC","TRE",1.4E-5,1.07E-4,1.02E-4,"/space",1.5899999999999999E-4,1.0219999999999999E-3,2.1210000000000001E-3,"/veh-mile/yr"]
["SEDAN/AUTO","OPERATIONS","VEHICLE","PLUG-IN HYBRID ELECTRIC","WECC",1.1E-5,9.6000000000000002E-5,1.02E-4,"/space",1.3100000000000001E-4,9.1E-4,2.1210000000000001E-3,"/veh-mile/yr"]
["SEDAN/AUTO","OPERATIONS","VEHICLE","PLUG-IN HYBRID ELECTRIC","100% renewable energy",1.1E-5,9.6000000000000002E-5,1.02E-4,"/space",1.3100000000000001E-4,9.1E-4,2.1210000000000001E-3,"/veh-mile/yr"]
["PARKING","CONSTRUCTION","LOT < 50",0,0,0.17,7.0000000000000007E-2,0.18,"/space",2.5796000000000001,0.67223999999999995,1.8245,"/space"]
["PARKING","CONSTRUCTION","GARAGE < 50",0,0,5.3,0.14000000000000001,1,"/space",44.043999999999997,1.4590000000000001,10.304500000000001,"/space"]
["PARKING","CONSTRUCTION","LOT 50 0 500",0,0,0.2114,9.1199999999999989E-2,0.2082,"/space",3.2316363636363636,0.93099999999999994,2.1272727272727274,"/space"]
["PARKING","CONSTRUCTION","GARAGE 50 0 500",0,0,5.3688000000000002,0.14660000000000001,0.74739999999999995,"/tree/yr",44.36,1.4975999999999998,7.6308000000000007,"/space"]
["PARKING","CONSTRUCTION","LOT > 500",0,0,0.22838,0.1128,0.20827999999999999,null,3.5688727272727276,1.1515636363636363,2.1261090909090909,"/space"]
["PARKING","CONSTRUCTION","GARAGE > 500",0,0,5.4148999999999994,0.15424000000000002,0.74221999999999999,null,44.992727272727272,1.73214,7.5768363636363638,"/space"]
["C STORAGE","CONSTRUCTION",null,0,0,null,null,0.83679999999999999,"/tree/yr",null,null,null,"/tree/yr"]
[]
[]
[]
[null,null,null,null,null,null,null,{"$f":"SUM(H94:H95)","v":6.6E-3}]

{"sheet":"Matrix_2024","index":10,"n_rows":352,"n_cols":18,"rows_kept":352,"cut":false,"hidden":true,"merged":[]}
["MODE","PHASE","GHG SOURCE","TYPE","STATE /REGION","MATERIALS ","TRANSPORT","TOTAL UPSTREAM","DOWNSTREAM","MTCO2eq","MATERIALS ","TRANSPORT","TOTAL UPSTREAM","DOWNSTREAM","mmBTU"]
["HEAVY RAIL","CONSTRUCTION","TRACK MILE","UNDERGROUND","US MIX",163642,4592,168234,5046,"/mi",1089738,46882,1136620,48863,"/mi",null,null,"1 kwh = 3,412 BTU "]
["HEAVY RAIL","CONSTRUCTION","TRACK MILE","UNDERGROUND","AL",163642,4592,168234,4967,"/mi",1089738,46882,1136620,48863,"/mi",null,null,"https://www.eia.gov/energyexplained/units-and-calculators/energy-conversion-calculators.php"]
["HEAVY RAIL","CONSTRUCTION","TRACK MILE","UNDERGROUND","AK",163642,4592,168234,4977,"/mi",1089738,46882,1136620,48863,"/mi"]
["HEAVY RAIL","CONSTRUCTION","TRACK MILE","UNDERGROUND","AZ",163642,4592,168234,4987,"/mi",1089738,46882,1136620,48863,"/mi"]
["HEAVY RAIL","CONSTRUCTION","TRACK MILE","UNDERGROUND","AR",163642,4592,168234,5165,"/mi",1089738,46882,1136620,48863,"/mi"]
["HEAVY RAIL","CONSTRUCTION","TRACK MILE","UNDERGROUND","CA",163642,4592,168234,4503,"/mi",1089738,46882,1136620,48863,"/mi"]
["HEAVY RAIL","CONSTRUCTION","TRACK MILE","UNDERGROUND","CO",163642,4592,168234,5520,"/mi",1089738,46882,1136620,48863,"/mi"]
["HEAVY RAIL","CONSTRUCTION","TRACK MILE","UNDERGROUND","CT",163642,4592,168234,4552,"/mi",1089738,46882,1136620,48863,"/mi"]
["HEAVY RAIL","CONSTRUCTION","TRACK MILE","UNDERGROUND","DC",163642,4592,168234,4532,"/mi",1089738,46882,1136620,48863,"/mi"]
["HEAVY RAIL","CONSTRUCTION","TRACK MILE","UNDERGROUND","DE",163642,4592,168234,4937,"/mi",1089738,46882,1136620,48863,"/mi"]
["HEAVY RAIL","CONSTRUCTION","TRACK MILE","UNDERGROUND","FL",163642,4592,168234,5076,"/mi",1089738,46882,1136620,48863,"/mi"]
["HEAVY RAIL","CONSTRUCTION","TRACK MILE","UNDERGROUND","GA",163642,4592,168234,5056,"/mi",1089738,46882,1136620,48863,"/mi"]
["HEAVY RAIL","CONSTRUCTION","TRACK MILE","UNDERGROUND","HI",163642,4592,168234,5570,"/mi",1089738,46882,1136620,48863,"/mi"]
["HEAVY RAIL","CONSTRUCTION","TRACK MILE","UNDERGROUND","ID",163642,4592,168234,4246,"/mi",1089738,46882,1136620,48863,"/mi"]
["HEAVY RAIL","CONSTRUCTION","TRACK MILE","UNDERGROUND","IL",163642,4592,168234,4868,"/mi",1089738,46882,1136620,48863,"/mi"]
["HEAVY RAIL","CONSTRUCTION","TRACK MILE","UNDERGROUND","IN",163642,4592,168234,5886,"/mi",1089738,46882,1136620,48863,"/mi"]
["HEAVY RAIL","CONSTRUCTION","TRACK MILE","UNDERGROUND","IA",163642,4592,168234,5046,"/mi",1089738,46882,1136620,48863,"/mi"]
["HEAVY RAIL","CONSTRUCTION","TRACK MILE","UNDERGROUND","KS",163642,4592,168234,5244,"/mi",1089738,46882,1136620,48863,"/mi"]
["HEAVY RAIL","CONSTRUCTION","TRACK MILE","UNDERGROUND","KY",163642,4592,168234,6004,"/mi",1089738,46882,1136620,48863,"/mi"]
["HEAVY RAIL","CONSTRUCTION","TRACK MILE","UNDERGROUND","LA",163642,4592,168234,4928,"/mi",1089738,46882,1136620,48863,"/mi"]
["HEAVY RAIL","CONSTRUCTION","TRACK MILE","UNDERGROUND","ME",163642,4592,168234,4404,"/mi",1089738,46882,1136620,48863,"/mi"]
["HEAVY RAIL","CONSTRUCTION","TRACK MILE","UNDERGROUND","MD",163642,4592,168234,5066,"/mi",1089738,46882,1136620,48863,"/mi"]
["HEAVY RAIL","CONSTRUCTION","TRACK MILE","UNDERGROUND","MA",163642,4592,168234,4878,"/mi",1089738,46882,1136620,48863,"/mi"]
["HEAVY RAIL","CONSTRUCTION","TRACK MILE","UNDERGROUND","MI",163642,4592,168234,5155,"/mi",1089738,46882,1136620,48863,"/mi"]
["HEAVY RAIL","CONSTRUCTION","TRACK MILE","UNDERGROUND","MN",163642,4592,168234,5066,"/mi",1089738,46882,1136620,48863,"/mi"]
["HEAVY RAIL","CONSTRUCTION","TRACK MILE","UNDERGROUND","MS",163642,4592,168234,4987,"/mi",1089738,46882,1136620,48863,"/mi"]
["HEAVY RAIL","CONSTRUCTION","TRACK MILE","UNDERGROUND","MO",163642,4592,168234,5738,"/mi",1089738,46882,1136620,48863,"/mi"]
["HEAVY RAIL","CONSTRUCTION","TRACK MILE","UNDERGROUND","MT",163642,4592,168234,5303,"/mi",1089738,46882,1136620,48863,"/mi"]
["HEAVY RAIL","CONSTRUCTION","TRACK MILE","UNDERGROUND","NE",163642,4592,168234,5333,"/mi",1089738,46882,1136620,48863,"/mi"]
["HEAVY RAIL","CONSTRUCTION","TRACK MILE","UNDERGROUND","NV",163642,4592,168234,4819,"/mi",1089738,46882,1136620,48863,"/mi"]
["HEAVY RAIL","CONSTRUCTION","TRACK MILE","UNDERGROUND","NH",163642,4592,168234,4374,"/mi",1089738,46882,1136620,48863,"/mi"]
["HEAVY RAIL","CONSTRUCTION","TRACK MILE","UNDERGROUND","NJ",163642,4592,168234,4612,"/mi",1089738,46882,1136620,48863,"/mi"]
["HEAVY RAIL","CONSTRUCTION","TRACK MILE","UNDERGROUND","NM",163642,4592,168234,5619,"/mi",1089738,46882,1136620,48863,"/mi"]
["HEAVY RAIL","CONSTRUCTION","TRACK MILE","UNDERGROUND","NY",163642,4592,168234,4523,"/mi",1089738,46882,1136620,48863,"/mi"]
["HEAVY RAIL","CONSTRUCTION","TRACK MILE","UNDERGROUND","NC",163642,4592,168234,4918,"/mi",1089738,46882,1136620,48863,"/mi"]
["HEAVY RAIL","CONSTRUCTION","TRACK MILE","UNDERGROUND","ND",163642,4592,168234,5718,"/mi",1089738,46882,1136620,48863,"/mi"]
["HEAVY RAIL","CONSTRUCTION","TRACK MILE","UNDERGROUND","OH",163642,4592,168234,5520,"/mi",1089738,46882,1136620,48863,"/mi"]
["HEAVY RAIL","CONSTRUCTION","TRACK MILE","UNDERGROUND","OK",163642,4592,168234,5096,"/mi",1089738,46882,1136620,48863,"/mi"]
["HEAVY RAIL","CONSTRUCTION","TRACK MILE","UNDERGROUND","OR",163642,4592,168234,4365,"/mi",1089738,46882,1136620,48863,"/mi"]
["HEAVY RAIL","CONSTRUCTION","TRACK MILE","UNDERGROUND","PA",163642,4592,168234,4908,"/mi",1089738,46882,1136620,48863,"/mi"]
["HEAVY RAIL","CONSTRUCTION","TRACK MILE","UNDERGROUND","RI",163642,4592,168234,4918,"/mi",1089738,46882,1136620,48863,"/mi"]
["HEAVY RAIL","CONSTRUCTION","TRACK MILE","UNDERGROUND","SC",163642,4592,168234,4681,"/mi",1089738,46882,1136620,48863,"/mi"]
["HEAVY RAIL","CONSTRUCTION","TRACK MILE","UNDERGROUND","SD",163642,4592,168234,4572,"/mi",1089738,46882,1136620,48863,"/mi"]
["HEAVY RAIL","CONSTRUCTION","TRACK MILE","UNDERGROUND","TN",163642,4592,168234,5046,"/mi",1089738,46882,1136620,48863,"/mi"]
["HEAVY RAIL","CONSTRUCTION","TRACK MILE","UNDERGROUND","TX",163642,4592,168234,5096,"/mi",1089738,46882,1136620,48863,"/mi"]
["HEAVY RAIL","CONSTRUCTION","TRACK MILE","UNDERGROUND","UT",163642,4592,168234,5678,"/mi",1089738,46882,1136620,48863,"/mi"]
["HEAVY RAIL","CONSTRUCTION","TRACK MILE","UNDERGROUND","VT",163642,4592,168234,4127,"/mi",1089738,46882,1136620,48863,"/mi"]
["HEAVY RAIL","CONSTRUCTION","TRACK MILE","UNDERGROUND","VA",163642,4592,168234,4868,"/mi",1089738,46882,1136620,48863,"/mi"]
["HEAVY RAIL","CONSTRUCTION","TRACK MILE","UNDERGROUND","WA",163642,4592,168234,4246,"/mi",1089738,46882,1136620,48863,"/mi"]
["HEAVY RAIL","CONSTRUCTION","TRACK MILE","UNDERGROUND","WV",163642,4592,168234,6024,"/mi",1089738,46882,1136620,48863,"/mi"]
["HEAVY RAIL","CONSTRUCTION","TRACK MILE","UNDERGROUND","WI",163642,4592,168234,5441,"/mi",1089738,46882,1136620,48863,"/mi"]
["HEAVY RAIL","CONSTRUCTION","TRACK MILE","UNDERGROUND","WY",163642,4592,168234,6073,"/mi",1089738,46882,1136620,48863,"/mi"]
["HEAVY RAIL","CONSTRUCTION","TRACK MILE","ELEVATED","-",5343,167,5510,912,"/mi",47446,1704,49150,9309,"/mi"]
["HEAVY RAIL","CONSTRUCTION","TRACK MILE","AT GRADE","-",695,110,805,460,"/mi",6399,1121,7520,4699,"/mi"]
["HEAVY RAIL","CONSTRUCTION","CATENARY","-","-",3161,null,3161,null,"/mi",null,null,0,0,"/mi"]
["HEAVY RAIL","CONSTRUCTION","STATION","UNDERGROUND","-",209486,5964,215450,2085,"/facility",1373824,60887,1434711,21283,"/facility"]
["HEAVY RAIL","CONSTRUCTION","STATION","ELEVATED","-",194969,5573,200542,1442,"/facility",1273029,56896,1329925,14724,"/facility"]
["HEAVY RAIL","CONSTRUCTION","STATION","AT GRADE","-",119188,3433,122621,581,"/facility",778620,35048,813668,5932,"/facility"]
["HEAVY RAIL","MAINTENANCE","TRACK MILE","UNDERGROUND","-",null,null,null,4.42,"/mi/yr",null,null,null,45,"/mi/yr"]
["HEAVY RAIL","MAINTENANCE","TRACK MILE","ELEVATED","-",null,null,null,4.42,"/mi/yr",null,null,null,45,"/mi/yr"]
["HEAVY RAIL","MAINTENANCE","TRACK MILE","AT GRADE","-",null,null,null,4.42,"/mi/yr",null,null,null,45,"/mi/yr"]
["HEAVY RAIL","MAINTENANCE","VEHICLE","-","-",null,null,null,2.9E-4,"/veh-mil/yr",null,null,null,"-","/veh-mil/yr"]
["HEAVY RAIL","OPERATIONS","VEHICLE","ELECTRIC","US",1.09052213714236E-3,null,1.09052213714236E-3,null,"/veh-mile/yr",null,null,1.7652951618388455E-2,7.8899999999999999E-4,"/veh-mile/yr"]
["HEAVY RAIL","OPERATIONS","VEHICLE","ELECTRIC","AKGD",1.3940436824207406E-3,null,1.3940436824207406E-3,null,"/veh-mile/yr",null,null,2.303221629310408E-2,7.8899999999999999E-4,"/veh-mile/yr"]
["HEAVY RAIL","OPERATIONS","VEHICLE","ELECTRIC","AKMS",6.5569040384539496E-4,null,6.5569040384539496E-4,null,"/veh-mile/yr",null,null,1.6450992349133803E-2,7.8899999999999999E-4,"/veh-mile/yr"]
["HEAVY RAIL","OPERATIONS","VEHICLE","ELECTRIC","AZNM",1.0270849336454547E-3,null,1.0270849336454547E-3,null,"/veh-mile/yr",null,null,1.7338664991329633E-2,7.8899999999999999E-4,"/veh-mile/yr"]
["HEAVY RAIL","OPERATIONS","VEHICLE","ELECTRIC","CAMX",6.5795837150541762E-4,null,6.5795837150541762E-4,null,"/veh-mile/yr",null,null,1.6502613067659183E-2,7.8899999999999999E-4,"/veh-mile/yr"]
["HEAVY RAIL","OPERATIONS","VEHICLE","ELECTRIC","ERCT",1.0203851384196815E-3,null,1.0203851384196815E-3,null,"/veh-mile/yr",null,null,1.7859024386108251E-2,7.8899999999999999E-4,"/veh-mile/yr"]
["HEAVY RAIL","OPERATIONS","VEHICLE","ELECTRIC","FRCC",1.0765176674601628E-3,null,1.0765176674601628E-3,null,"/veh-mile/yr",null,null,1.9100527333334526E-2,7.8899999999999999E-4,"/veh-mile/yr"]
["HEAVY RAIL","OPERATIONS","VEHICLE","ELECTRIC","HIMS",1.5327099398630593E-3,null,1.5327099398630593E-3,null,"/veh-mile/yr",null,null,2.3691425048099554E-2,7.8899999999999999E-4,"/veh-mile/yr"]
["HEAVY RAIL","OPERATIONS","VEHICLE","ELECTRIC","HIOA",2.0913099791807529E-3,null,2.0913099791807529E-3,null,"/veh-mile/yr",null,null,2.9108531523840794E-2,7.8899999999999999E-4,"/veh-mile/yr"]
["HEAVY RAIL","OPERATIONS","VEHICLE","ELECTRIC","MROE",1.9618223357721694E-3,null,1.9618223357721694E-3,null,"/veh-mile/yr",null,null,2.7388167670861961E-2,7.8899999999999999E-4,"/veh-mile/yr"]
["HEAVY RAIL","OPERATIONS","VEHICLE","ELECTRIC","MROW",1.2432548017915831E-3,null,1.2432548017915831E-3,null,"/veh-mile/yr",null,null,1.8358408060104494E-2,7.8899999999999999E-4,"/veh-mile/yr"]
["HEAVY RAIL","OPERATIONS","VEHICLE","ELECTRIC","NEWE",7.1225517773915159E-4,null,7.1225517773915159E-4,null,"/veh-mile/yr",null,null,1.5407115333298435E-2,7.8899999999999999E-4,"/veh-mile/yr"]
["HEAVY RAIL","OPERATIONS","VEHICLE","ELECTRIC","NWPP",7.9843004190196707E-4,null,7.9843004190196707E-4,null,"/veh-mile/yr",null,null,1.6289725534431452E-2,7.8899999999999999E-4,"/veh-mile/yr"]
["HEAVY RAIL","OPERATIONS","VEHICLE","ELECTRIC","NYCW",1.1683525671254754E-3,null,1.1683525671254754E-3,null,"/veh-mile/yr",null,null,2.1634556744287832E-2,7.8899999999999999E-4,"/veh-mile/yr"]
["HEAVY RAIL","OPERATIONS","VEHICLE","ELECTRIC","NYLI",1.5936538285355813E-3,null,1.5936538285355813E-3,null,"/veh-mile/yr",null,null,2.9458915509726142E-2,7.8899999999999999E-4,"/veh-mile/yr"]
["HEAVY RAIL","OPERATIONS","VEHICLE","ELECTRIC","NYUP",3.6291304237419928E-4,null,3.6291304237419928E-4,null,"/veh-mile/yr",null,null,1.0945467660591382E-2,7.8899999999999999E-4,"/veh-mile/yr"]
["HEAVY RAIL","OPERATIONS","VEHICLE","ELECTRIC","PRMS",2.10840868945896E-3,null,2.10840868945896E-3,null,"/veh-mile/yr",null,null,2.9991818648824286E-2,7.8899999999999999E-4,"/veh-mile/yr"]
["HEAVY RAIL","OPERATIONS","VEHICLE","ELECTRIC","RFCE",8.7017082716865917E-4,null,8.7017082716865917E-4,null,"/veh-mile/yr",null,null,1.442359521726048E-2,7.8899999999999999E-4,"/veh-mile/yr"]
["HEAVY RAIL","OPERATIONS","VEHICLE","ELECTRIC","RFCM",1.6132577140152431E-3,null,1.6132577140152431E-3,null,"/veh-mile/yr",null,null,2.2439384935928463E-2,7.8899999999999999E-4,"/veh-mile/yr"]
["HEAVY RAIL","OPERATIONS","VEHICLE","ELECTRIC","RFCW",1.3256000819799501E-3,null,1.3256000819799501E-3,null,"/veh-mile/yr",null,null,1.7874242757142288E-2,7.8899999999999999E-4,"/veh-mile/yr"]
["HEAVY RAIL","OPERATIONS","VEHICLE","ELECTRIC","RMPA",1.4914200138178347E-3,null,1.4914200138178347E-3,null,"/veh-mile/yr",null,null,2.2444832905367567E-2,7.8899999999999999E-4,"/veh-mile/yr"]
["HEAVY RAIL","OPERATIONS","VEHICLE","ELECTRIC","SPNO",1.264291157257558E-3,null,1.264291157257558E-3,null,"/veh-mile/yr",null,null,1.8496026123236507E-2,7.8899999999999999E-4,"/veh-mile/yr"]
["HEAVY RAIL","OPERATIONS","VEHICLE","ELECTRIC","SPSO",1.2852075911331422E-3,null,1.2852075911331422E-3,null,"/veh-mile/yr",null,null,2.1307714020441001E-2,7.8899999999999999E-4,"/veh-mile/yr"]
["HEAVY RAIL","OPERATIONS","VEHICLE","ELECTRIC","SRMV",1.0590763240665539E-3,null,1.0590763240665539E-3,null,"/veh-mile/yr",null,null,1.7364572920204286E-2,7.8899999999999999E-4,"/veh-mile/yr"]
["HEAVY RAIL","OPERATIONS","VEHICLE","ELECTRIC","SRMW",1.8187940952068551E-3,null,1.8187940952068551E-3,null,"/veh-mile/yr",null,null,2.1499316761831342E-2,7.8899999999999999E-4,"/veh-mile/yr"]
["HEAVY RAIL","OPERATIONS","VEHICLE","ELECTRIC","SRSO",1.1829526913006013E-3,null,1.1829526913006013E-3,null,"/veh-mile/yr",null,null,1.8942461745921318E-2,7.8899999999999999E-4,"/veh-mile/yr"]
["HEAVY RAIL","OPERATIONS","VEHICLE","ELECTRIC","SRTV",1.2369384920911247E-3,null,1.2369384920911247E-3,null,"/veh-mile/yr",null,null,1.7075449754986007E-2,7.8899999999999999E-4,"/veh-mile/yr"]
["HEAVY RAIL","OPERATIONS","VEHICLE","ELECTRIC","SRVC",8.24789071033736E-4,null,8.24789071033736E-4,null,"/veh-mile/yr",null,null,1.4125168488287564E-2,7.8899999999999999E-4,"/veh-mile/yr"]
["HEAVY RAIL","OPERATIONS","VEHICLE","ELECTRIC","100% renewable energy",null,null,0,null,"/veh-mile/yr",null,null,4.0000000000000002E-4,7.8899999999999999E-4,"/veh-mile/yr"]
["HEAVY RAIL","OPERATIONS","STATION","ELECTRICITY","-",null,null,null,7.3920000000000001E-3,"/sq-ft/yr",null,null,null,5.7321999999999998E-2,"/sq-ft/yr"]
["HEAVY RAIL","OPERATIONS","MAINT/STORAGE FAC","ELECTRICITY","-",null,null,null,5.5880000000000001E-3,"/sq-ft/yr",null,null,null,4.3332000000000002E-2,"/sq-ft/yr"]
["HEAVY RAIL","OPERATIONS","MAINT/STORAGE FAC","HEAT","-",null,null,null,1.7928326000000003E-3,"/sq-ft/yr",null,null,null,8.8710000000000004E-3,"/sq-ft/yr"]
["COMMUTER RAIL","CONSTRUCTION","TRACK MILE","UNDERGROUND","Average US ",163642,4592,168234,5046,"/mi",1089738,46882,1136620,48863,"/mi"]
["COMMUTER RAIL","CONSTRUCTION","TRACK MILE","UNDERGROUND","AL",163642,4592,168234,4967,"/mi",1089738,46882,1136620,48863,"/mi"]
["COMMUTER RAIL","CONSTRUCTION","TRACK MILE","UNDERGROUND","AK",163642,4592,168234,4977,"/mi",1089738,46882,1136620,48863,"/mi"]
["COMMUTER RAIL","CONSTRUCTION","TRACK MILE","UNDERGROUND","AZ",163642,4592,168234,4987,"/mi",1089738,46882,1136620,48863,"/mi"]
["COMMUTER RAIL","CONSTRUCTION","TRACK MILE","UNDERGROUND","AR",163642,4592,168234,5165,"/mi",1089738,46882,1136620,48863,"/mi"]
["COMMUTER RAIL","CONSTRUCTION","TRACK MILE","UNDERGROUND","CA",163642,4592,168234,4503,"/mi",1089738,46882,1136620,48863,"/mi"]
["COMMUTER RAIL","CONSTRUCTION","TRACK MILE","UNDERGROUND","CO",163642,4592,168234,5520,"/mi",1089738,46882,1136620,48863,"/mi"]
["COMMUTER RAIL","CONSTRUCTION","TRACK MILE","UNDERGROUND","CT",163642,4592,168234,4552,"/mi",1089738,46882,1136620,48863,"/mi"]
["COMMUTER RAIL","CONSTRUCTION","TRACK MILE","UNDERGROUND","DE",163642,4592,168234,4937,"/mi",1089738,46882,1136620,48863,"/mi"]
["COMMUTER RAIL","CONSTRUCTION","TRACK MILE","UNDERGROUND","DC",163642,4592,168234,4532,"/mi",1089738,46882,1136620,48863,"/mi"]
["COMMUTER RAIL","CONSTRUCTION","TRACK MILE","UNDERGROUND","FL",163642,4592,168234,5076,"/mi",1089738,46882,1136620,48863,"/mi"]
["COMMUTER RAIL","CONSTRUCTION","TRACK MILE","UNDERGROUND","GA",163642,4592,168234,5056,"/mi",1089738,46882,1136620,48863,"/mi"]
["COMMUTER RAIL","CONSTRUCTION","TRACK MILE","UNDERGROUND","HI",163642,4592,168234,5570,"/mi",1089738,46882,1136620,48863,"/mi"]
["COMMUTER RAIL","CONSTRUCTION","TRACK MILE","UNDERGROUND","ID",163642,4592,168234,4246,"/mi",1089738,46882,1136620,48863,"/mi"]
["COMMUTER RAIL","CONSTRUCTION","TRACK MILE","UNDERGROUND","IL",163642,4592,168234,4868,"/mi",1089738,46882,1136620,48863,"/mi"]
["COMMUTER RAIL","CONSTRUCTION","TRACK MILE","UNDERGROUND","IN",163642,4592,168234,5886,"/mi",1089738,46882,1136620,48863,"/mi"]
["COMMUTER RAIL","CONSTRUCTION","TRACK MILE","UNDERGROUND","IA",163642,4592,168234,5046,"/mi",1089738,46882,1136620,48863,"/mi"]
["COMMUTER RAIL","CONSTRUCTION","TRACK MILE","UNDERGROUND","KS",163642,4592,168234,5244,"/mi",1089738,46882,1136620,48863,"/mi"]
["COMMUTER RAIL","CONSTRUCTION","TRACK MILE","UNDERGROUND","KY",163642,4592,168234,6004,"/mi",1089738,46882,1136620,48863,"/mi"]
["COMMUTER RAIL","CONSTRUCTION","TRACK MILE","UNDERGROUND","LA",163642,4592,168234,4928,"/mi",1089738,46882,1136620,48863,"/mi"]
["COMMUTER RAIL","CONSTRUCTION","TRACK MILE","UNDERGROUND","ME",163642,4592,168234,4404,"/mi",1089738,46882,1136620,48863,"/mi"]
["COMMUTER RAIL","CONSTRUCTION","TRACK MILE","UNDERGROUND","MD",163642,4592,168234,5066,"/mi",1089738,46882,1136620,48863,"/mi"]
["COMMUTER RAIL","CONSTRUCTION","TRACK MILE","UNDERGROUND","MA",163642,4592,168234,4878,"/mi",1089738,46882,1136620,48863,"/mi"]
["COMMUTER RAIL","CONSTRUCTION","TRACK MILE","UNDERGROUND","MI",163642,4592,168234,5155,"/mi",1089738,46882,1136620,48863,"/mi"]
["COMMUTER RAIL","CONSTRUCTION","TRACK MILE","UNDERGROUND","MN",163642,4592,168234,5066,"/mi",1089738,46882,1136620,48863,"/mi"]
["COMMUTER RAIL","CONSTRUCTION","TRACK MILE","UNDERGROUND","MS",163642,4592,168234,4987,"/mi",1089738,46882,1136620,48863,"/mi"]
["COMMUTER RAIL","CONSTRUCTION","TRACK MILE","UNDERGROUND","MO",163642,4592,168234,5738,"/mi",1089738,46882,1136620,48863,"/mi"]
["COMMUTER RAIL","CONSTRUCTION","TRACK MILE","UNDERGROUND","MT",163642,4592,168234,5303,"/mi",1089738,46882,1136620,48863,"/mi"]
["COMMUTER RAIL","CONSTRUCTION","TRACK MILE","UNDERGROUND","NE",163642,4592,168234,5333,"/mi",1089738,46882,1136620,48863,"/mi"]
["COMMUTER RAIL","CONSTRUCTION","TRACK MILE","UNDERGROUND","NV",163642,4592,168234,4819,"/mi",1089738,46882,1136620,48863,"/mi"]
["COMMUTER RAIL","CONSTRUCTION","TRACK MILE","UNDERGROUND","NH",163642,4592,168234,4374,"/mi",1089738,46882,1136620,48863,"/mi"]
["COMMUTER RAIL","CONSTRUCTION","TRACK MILE","UNDERGROUND","NJ",163642,4592,168234,4612,"/mi",1089738,46882,1136620,48863,"/mi"]
["COMMUTER RAIL","CONSTRUCTION","TRACK MILE","UNDERGROUND","NM",163642,4592,168234,5619,"/mi",1089738,46882,1136620,48863,"/mi"]
["COMMUTER RAIL","CONSTRUCTION","TRACK MILE","UNDERGROUND","NY",163642,4592,168234,4523,"/mi",1089738,46882,1136620,48863,"/mi"]
["COMMUTER RAIL","CONSTRUCTION","TRACK MILE","UNDERGROUND","NC",163642,4592,168234,4918,"/mi",1089738,46882,1136620,48863,"/mi"]
["COMMUTER RAIL","CONSTRUCTION","TRACK MILE","UNDERGROUND","ND",163642,4592,168234,5718,"/mi",1089738,46882,1136620,48863,"/mi"]
["COMMUTER RAIL","CONSTRUCTION","TRACK MILE","UNDERGROUND","OH",163642,4592,168234,5520,"/mi",1089738,46882,1136620,48863,"/mi"]
["COMMUTER RAIL","CONSTRUCTION","TRACK MILE","UNDERGROUND","OK",163642,4592,168234,5096,"/mi",1089738,46882,1136620,48863,"/mi"]
["COMMUTER RAIL","CONSTRUCTION","TRACK MILE","UNDERGROUND","OR",163642,4592,168234,4365,"/mi",1089738,46882,1136620,48863,"/mi"]
["COMMUTER RAIL","CONSTRUCTION","TRACK MILE","UNDERGROUND","PA",163642,4592,168234,4908,"/mi",1089738,46882,1136620,48863,"/mi"]
["COMMUTER RAIL","CONSTRUCTION","TRACK MILE","UNDERGROUND","RI",163642,4592,168234,4918,"/mi",1089738,46882,1136620,48863,"/mi"]
["COMMUTER RAIL","CONSTRUCTION","TRACK MILE","UNDERGROUND","SC",163642,4592,168234,4681,"/mi",1089738,46882,1136620,48863,"/mi"]
["COMMUTER RAIL","CONSTRUCTION","TRACK MILE","UNDERGROUND","SD",163642,4592,168234,4572,"/mi",1089738,46882,1136620,48863,"/mi"]
["COMMUTER RAIL","CONSTRUCTION","TRACK MILE","UNDERGROUND","TN",163642,4592,168234,5046,"/mi",1089738,46882,1136620,48863,"/mi"]
["COMMUTER RAIL","CONSTRUCTION","TRACK MILE","UNDERGROUND","TX",163642,4592,168234,5096,"/mi",1089738,46882,1136620,48863,"/mi"]
["COMMUTER RAIL","CONSTRUCTION","TRACK MILE","UNDERGROUND","UT",163642,4592,168234,5678,"/mi",1089738,46882,1136620,48863,"/mi"]
["COMMUTER RAIL","CONSTRUCTION","TRACK MILE","UNDERGROUND","VT",163642,4592,168234,4127,"/mi",1089738,46882,1136620,48863,"/mi"]
["COMMUTER RAIL","CONSTRUCTION","TRACK MILE","UNDERGROUND","VA",163642,4592,168234,4868,"/mi",1089738,46882,1136620,48863,"/mi"]
["COMMUTER RAIL","CONSTRUCTION","TRACK MILE","UNDERGROUND","WA",163642,4592,168234,4246,"/mi",1089738,46882,1136620,48863,"/mi"]
["COMMUTER RAIL","CONSTRUCTION","TRACK MILE","UNDERGROUND","WV",163642,4592,168234,6024,"/mi",1089738,46882,1136620,48863,"/mi"]
["COMMUTER RAIL","CONSTRUCTION","TRACK MILE","UNDERGROUND","WI",163642,4592,168234,5441,"/mi",1089738,46882,1136620,48863,"/mi"]
["COMMUTER RAIL","CONSTRUCTION","TRACK MILE","UNDERGROUND","WY",163642,4592,168234,6073,"/mi",1089738,46882,1136620,48863,"/mi"]
["COMMUTER RAIL","CONSTRUCTION","TRACK MILE","ELEVATED","-",5343,167,5510,912,"/mi",47446,1704,49150,9309,"/mi"]
["COMMUTER RAIL","CONSTRUCTION","TRACK MILE","AT GRADE","-",695,110,805,460,"/mi",6399,1121,7520,4699,"/mi"]
["COMMUTER RAIL","CONSTRUCTION","CATENARY","-","-",3161,null,3161,null,"/mi",null,null,0,"-","/mi"]
["COMMUTER RAIL","CONSTRUCTION","STATION","UNDERGROUND","-",209486,5964,215450,2085,"/facility",1373824,60887,1434711,21283,"/facility"]
["COMMUTER RAIL","CONSTRUCTION","STATION","ELEVATED","-",194969,5573,200542,1442,"/facility",1273029,56896,1329925,14724,"/facility"]
["COMMUTER RAIL","CONSTRUCTION","STATION","AT GRADE","-",119188,3433,122621,581,"/facility",778620,35048,813668,5932,"/facility"]
["COMMUTER RAIL","MAINTENANCE","TRACK MILE","UNDERGROUND","-",null,null,null,4.42,"/mi/yr",null,null,null,45,"/mi/yr"]
["COMMUTER RAIL","MAINTENANCE","TRACK MILE","ELEVATED","-",null,null,null,4.42,"/mi/yr",null,null,null,45,"/mi/yr"]
["COMMUTER RAIL","MAINTENANCE","TRACK MILE","AT GRADE","-",null,null,null,4.42,"/mi/yr",null,null,null,45,"/mi/yr"]
["COMMUTER RAIL","MAINTENANCE","VEHICLE","-","-",null,null,null,9.7499999999999996E-4,"/veh-mil/yr",null,null,null,"-","/veh-mil/yr"]
["COMMUTER RAIL","OPERATIONS","VEHICLE","ELECTRIC","US MIX",1.9300938416257911E-3,null,1.9300938416257911E-3,null," /veh-mile/yr ",null,null,3.1243614452846045E-2,1.7544603683632261E-2," /veh-mile/yr "]
["COMMUTER RAIL","OPERATIONS","VEHICLE","ELECTRIC","AKGD",2.4672906993417295E-3,null,2.4672906993417295E-3,null," /veh-mile/yr ",null,null,4.0764269987955501E-2,1.7544603683632261E-2," /veh-mile/yr "]
["COMMUTER RAIL","OPERATIONS","VEHICLE","ELECTRIC","AKMS",1.1604936455406562E-3,null,1.1604936455406562E-3,null," /veh-mile/yr ",null,null,2.9116290206542748E-2,1.7544603683632261E-2," /veh-mile/yr "]
["COMMUTER RAIL","OPERATIONS","VEHICLE","ELECTRIC","AZNM",1.8178175735619588E-3,null,1.8178175735619588E-3,null," /veh-mile/yr ",null,null,3.0687364687040166E-2,1.7544603683632261E-2," /veh-mile/yr "]
["COMMUTER RAIL","OPERATIONS","VEHICLE","ELECTRIC","CAMX",1.1645076772274286E-3,null,1.1645076772274286E-3,null," /veh-mile/yr ",null,null,2.9207652708533965E-2,1.7544603683632261E-2," /veh-mile/yr "]
["COMMUTER RAIL","OPERATIONS","VEHICLE","ELECTRIC","ERCT",1.8059597367836022E-3,null,1.8059597367836022E-3,null," /veh-mile/yr ",null,null,3.1608338621531895E-2,1.7544603683632261E-2," /veh-mile/yr "]
["COMMUTER RAIL","OPERATIONS","VEHICLE","ELECTRIC","FRCC",1.9053076041270513E-3,null,1.9053076041270513E-3,null," /veh-mile/yr ",null,null,3.3805650451515318E-2,1.7544603683632261E-2," /veh-mile/yr "]
["COMMUTER RAIL","OPERATIONS","VEHICLE","ELECTRIC","HIMS",2.7127134013806321E-3,null,2.7127134013806321E-3,null," /veh-mile/yr ",null,null,4.1930990694512296E-2,1.7544603683632261E-2," /veh-mile/yr "]
["COMMUTER RAIL","OPERATIONS","VEHICLE","ELECTRIC","HIOA",3.701368706117706E-3,null,3.701368706117706E-3,null," /veh-mile/yr ",null,null,5.1518621694518735E-2,1.7544603683632261E-2," /veh-mile/yr "]
["COMMUTER RAIL","OPERATIONS","VEHICLE","ELECTRIC","MROE",3.4721910538744872E-3,null,3.4721910538744872E-3,null," /veh-mile/yr ",null,null,4.847378329564761E-2,1.7544603683632261E-2," /veh-mile/yr "]
["COMMUTER RAIL","OPERATIONS","VEHICLE","ELECTRIC","MROW",2.200412403179283E-3,null,2.200412403179283E-3,null," /veh-mile/yr ",null,null,3.2492188037293722E-2,1.7544603683632261E-2," /veh-mile/yr "]
["COMMUTER RAIL","OPERATIONS","VEHICLE","ELECTRIC","NEWE",1.2606065346117408E-3,null,1.2606065346117408E-3,null," /veh-mile/yr ",null,null,2.7268752654523717E-2,1.7544603683632261E-2," /veh-mile/yr "]
["COMMUTER RAIL","OPERATIONS","VEHICLE","ELECTRIC","NWPP",1.4131257444092E-3,null,1.4131257444092E-3,null," /veh-mile/yr ",null,null,2.883086721941178E-2,1.7544603683632261E-2," /veh-mile/yr "]
["COMMUTER RAIL","OPERATIONS","VEHICLE","ELECTRIC","NYCW",2.0678444002665722E-3,null,2.0678444002665722E-3,null," /veh-mile/yr ",null,null,3.8290579637268403E-2,1.7544603683632261E-2," /veh-mile/yr "]
["COMMUTER RAIL","OPERATIONS","VEHICLE","ELECTRIC","NYLI",2.8205768002106616E-3,null,2.8205768002106616E-3,null," /veh-mile/yr ",null,null,5.2138759471028008E-2,1.7544603683632261E-2," /veh-mile/yr "]
["COMMUTER RAIL","OPERATIONS","VEHICLE","ELECTRIC","NYUP",6.4231270899976431E-4,null,6.4231270899976431E-4,null," /veh-mile/yr ",null,null,1.93721695377779E-2,1.7544603683632261E-2," /veh-mile/yr "]
["COMMUTER RAIL","OPERATIONS","VEHICLE","ELECTRIC","PRMS",3.7316313796423271E-3,null,3.7316313796423271E-3,null," /veh-mile/yr ",null,null,5.3081934333715011E-2,1.7544603683632261E-2," /veh-mile/yr "]
["COMMUTER RAIL","OPERATIONS","VEHICLE","ELECTRIC","RFCE",1.5400983597469156E-3,null,1.5400983597469156E-3,null," /veh-mile/yr ",null,null,2.5528039601183716E-2,1.7544603683632261E-2," /veh-mile/yr "]
["COMMUTER RAIL","OPERATIONS","VEHICLE","ELECTRIC","RFCM",2.8552733344189289E-3,null,2.8552733344189289E-3,null," /veh-mile/yr ",null,null,3.9715029341996971E-2,1.7544603683632261E-2," /veh-mile/yr "]
["COMMUTER RAIL","OPERATIONS","VEHICLE","ELECTRIC","RFCW",2.3461537070605539E-3,null,2.3461537070605539E-3,null," /veh-mile/yr ",null,null,3.1635273319335779E-2,1.7544603683632261E-2," /veh-mile/yr "]
["COMMUTER RAIL","OPERATIONS","VEHICLE","ELECTRIC","RMPA",2.6396351673248762E-3,null,2.6396351673248762E-3,null," /veh-mile/yr ",null,null,3.9724671596753337E-2,1.7544603683632261E-2," /veh-mile/yr "]
["COMMUTER RAIL","OPERATIONS","VEHICLE","ELECTRIC","SPNO",2.2376442380520022E-3,null,2.2376442380520022E-3,null," /veh-mile/yr ",null,null,3.2735755560685399E-2,1.7544603683632261E-2," /veh-mile/yr "]
["COMMUTER RAIL","OPERATIONS","VEHICLE","ELECTRIC","SPSO",2.274663826042969E-3,null,2.274663826042969E-3,null," /veh-mile/yr ",null,null,3.7712107080874427E-2,1.7544603683632261E-2," /veh-mile/yr "]
["COMMUTER RAIL","OPERATIONS","VEHICLE","ELECTRIC","SRMV",1.8744385109402794E-3,null,1.8744385109402794E-3,null," /veh-mile/yr ",null,null,3.0733218624587253E-2,1.7544603683632261E-2," /veh-mile/yr "]
["COMMUTER RAIL","OPERATIONS","VEHICLE","ELECTRIC","SRMW",3.2190481630597475E-3,null,3.2190481630597475E-3,null," /veh-mile/yr ",null,null,3.8051221032440026E-2,1.7544603683632261E-2," /veh-mile/yr "]
["COMMUTER RAIL","OPERATIONS","VEHICLE","ELECTRIC","SRSO",2.0936848750241275E-3,null,2.0936848750241275E-3,null," /veh-mile/yr ",null,null,3.3525893254069843E-2,1.7544603683632261E-2," /veh-mile/yr "]
["COMMUTER RAIL","OPERATIONS","VEHICLE","ELECTRIC","SRTV",2.1892332899458721E-3,null,2.1892332899458721E-3,null," /veh-mile/yr ",null,null,3.0221505178658088E-2,1.7544603683632261E-2," /veh-mile/yr "]
["COMMUTER RAIL","OPERATIONS","VEHICLE","ELECTRIC","SRVC",1.459778075495094E-3,null,1.459778075495094E-3,null," /veh-mile/yr ",null,null,2.4999859959387076E-2,1.7544603683632261E-2," /veh-mile/yr "]
["COMMUTER RAIL","OPERATIONS","VEHICLE","ELECTRIC","100% renewable energy",null,null,0,null,"/veh-mile/yr",null,null,4.0000000000000002E-4,1.7544603683632261E-2,"/veh-mile/yr"]
["COMMUTER RAIL","OPERATIONS","VEHICLE","DIESEL","-",null,null,null,1.5800000000000002E-2," /veh-mile/yr ",null,null,null,0.21330942811645645," /veh-mile/yr "]
["COMMUTER RAIL","OPERATIONS","STATION","-","-",null,null,null,7.3920000000000001E-3,"/sq-ft/yr",null,null,null,5.7321999999999998E-2,"/sq-ft/yr"]
["COMMUTER RAIL","OPERATIONS","MAINT/STORAGE FAC","ELECTRICITY","-",null,null,null,5.5880000000000001E-3,"/sq-ft/yr",null,null,null,4.3332000000000002E-2,"/sq-ft/yr"]
["COMMUTER RAIL","OPERATIONS","MAINT/STORAGE FAC","HEAT","-",null,null,null,1.7928326000000003E-3,"/sq-ft/yr",null,null,null,8.8710000000000004E-3,"/sq-ft/yr"]
["LIGHT RAIL & STREETCAR","CONSTRUCTION","TRACK MILE","UNDERGROUND","US MIX",163642,4592,168234,5046,"/mi",1089738,46882,1136620,48863,"/mi"]
["LIGHT RAIL & STREETCAR","CONSTRUCTION","TRACK MILE","UNDERGROUND","AL",163642,4592,168234,4967,"/mi",1089738,46882,1136620,48863,"/mi"]
["LIGHT RAIL & STREETCAR","CONSTRUCTION","TRACK MILE","UNDERGROUND","AK",163642,4592,168234,4977,"/mi",1089738,46882,1136620,48863,"/mi"]
["LIGHT RAIL & STREETCAR","CONSTRUCTION","TRACK MILE","UNDERGROUND","AZ",163642,4592,168234,4987,"/mi",1089738,46882,1136620,48863,"/mi"]
["LIGHT RAIL & STREETCAR","CONSTRUCTION","TRACK MILE","UNDERGROUND","AR",163642,4592,168234,5165,"/mi",1089738,46882,1136620,48863,"/mi"]
["LIGHT RAIL & STREETCAR","CONSTRUCTION","TRACK MILE","UNDERGROUND","CA",163642,4592,168234,4503,"/mi",1089738,46882,1136620,48863,"/mi"]
["LIGHT RAIL & STREETCAR","CONSTRUCTION","TRACK MILE","UNDERGROUND","CO",163642,4592,168234,5520,"/mi",1089738,46882,1136620,48863,"/mi"]
["LIGHT RAIL & STREETCAR","CONSTRUCTION","TRACK MILE","UNDERGROUND","CT",163642,4592,168234,4552,"/mi",1089738,46882,1136620,48863,"/mi"]
["LIGHT RAIL & STREETCAR","CONSTRUCTION","TRACK MILE","UNDERGROUND","DC",163642,4592,168234,4532,"/mi",1089738,46882,1136620,48863,"/mi"]
["LIGHT RAIL & STREETCAR","CONSTRUCTION","TRACK MILE","UNDERGROUND","DE",163642,4592,168234,4937,"/mi",1089738,46882,1136620,48863,"/mi"]
["LIGHT RAIL & STREETCAR","CONSTRUCTION","TRACK MILE","UNDERGROUND","FL",163642,4592,168234,5076,"/mi",1089738,46882,1136620,48863,"/mi"]
["LIGHT RAIL & STREETCAR","CONSTRUCTION","TRACK MILE","UNDERGROUND","GA",163642,4592,168234,5056,"/mi",1089738,46882,1136620,48863,"/mi"]
["LIGHT RAIL & STREETCAR","CONSTRUCTION","TRACK MILE","UNDERGROUND","HI",163642,4592,168234,5570,"/mi",1089738,46882,1136620,48863,"/mi"]
["LIGHT RAIL & STREETCAR","CONSTRUCTION","TRACK MILE","UNDERGROUND","ID",163642,4592,168234,4246,"/mi",1089738,46882,1136620,48863,"/mi"]
["LIGHT RAIL & STREETCAR","CONSTRUCTION","TRACK MILE","UNDERGROUND","IL",163642,4592,168234,4868,"/mi",1089738,46882,1136620,48863,"/mi"]
["LIGHT RAIL & STREETCAR","CONSTRUCTION","TRACK MILE","UNDERGROUND","IN",163642,4592,168234,5886,"/mi",1089738,46882,1136620,48863,"/mi"]
["LIGHT RAIL & STREETCAR","CONSTRUCTION","TRACK MILE","UNDERGROUND","IA",163642,4592,168234,5046,"/mi",1089738,46882,1136620,48863,"/mi"]
["LIGHT RAIL & STREETCAR","CONSTRUCTION","TRACK MILE","UNDERGROUND","KS",163642,4592,168234,5244,"/mi",1089738,46882,1136620,48863,"/mi"]
["LIGHT RAIL & STREETCAR","CONSTRUCTION","TRACK MILE","UNDERGROUND","KY",163642,4592,168234,6004,"/mi",1089738,46882,1136620,48863,"/mi"]
["LIGHT RAIL & STREETCAR","CONSTRUCTION","TRACK MILE","UNDERGROUND","LA",163642,4592,168234,4928,"/mi",1089738,46882,1136620,48863,"/mi"]
["LIGHT RAIL & STREETCAR","CONSTRUCTION","TRACK MILE","UNDERGROUND","ME",163642,4592,168234,4404,"/mi",1089738,46882,1136620,48863,"/mi"]
["LIGHT RAIL & STREETCAR","CONSTRUCTION","TRACK MILE","UNDERGROUND","MD",163642,4592,168234,5066,"/mi",1089738,46882,1136620,48863,"/mi"]
["LIGHT RAIL & STREETCAR","CONSTRUCTION","TRACK MILE","UNDERGROUND","MA",163642,4592,168234,4878,"/mi",1089738,46882,1136620,48863,"/mi"]
["LIGHT RAIL & STREETCAR","CONSTRUCTION","TRACK MILE","UNDERGROUND","MI",163642,4592,168234,5155,"/mi",1089738,46882,1136620,48863,"/mi"]
["LIGHT RAIL & STREETCAR","CONSTRUCTION","TRACK MILE","UNDERGROUND","MN",163642,4592,168234,5066,"/mi",1089738,46882,1136620,48863,"/mi"]
["LIGHT RAIL & STREETCAR","CONSTRUCTION","TRACK MILE","UNDERGROUND","MS",163642,4592,168234,4987,"/mi",1089738,46882,1136620,48863,"/mi"]
["LIGHT RAIL & STREETCAR","CONSTRUCTION","TRACK MILE","UNDERGROUND","MO",163642,4592,168234,5738,"/mi",1089738,46882,1136620,48863,"/mi"]
["LIGHT RAIL & STREETCAR","CONSTRUCTION","TRACK MILE","UNDERGROUND","MT",163642,4592,168234,5303,"/mi",1089738,46882,1136620,48863,"/mi"]
["LIGHT RAIL & STREETCAR","CONSTRUCTION","TRACK MILE","UNDERGROUND","NE",163642,4592,168234,5333,"/mi",1089738,46882,1136620,48863,"/mi"]
["LIGHT RAIL & STREETCAR","CONSTRUCTION","TRACK MILE","UNDERGROUND","NV",163642,4592,168234,4819,"/mi",1089738,46882,1136620,48863,"/mi"]
["LIGHT RAIL & STREETCAR","CONSTRUCTION","TRACK MILE","UNDERGROUND","NH",163642,4592,168234,4374,"/mi",1089738,46882,1136620,48863,"/mi"]
["LIGHT RAIL & STREETCAR","CONSTRUCTION","TRACK MILE","UNDERGROUND","NJ",163642,4592,168234,4612,"/mi",1089738,46882,1136620,48863,"/mi"]
["LIGHT RAIL & STREETCAR","CONSTRUCTION","TRACK MILE","UNDERGROUND","NM",163642,4592,168234,5619,"/mi",1089738,46882,1136620,48863,"/mi"]
["LIGHT RAIL & STREETCAR","CONSTRUCTION","TRACK MILE","UNDERGROUND","NY",163642,4592,168234,4523,"/mi",1089738,46882,1136620,48863,"/mi"]
["LIGHT RAIL & STREETCAR","CONSTRUCTION","TRACK MILE","UNDERGROUND","NC",163642,4592,168234,4918,"/mi",1089738,46882,1136620,48863,"/mi"]
["LIGHT RAIL & STREETCAR","CONSTRUCTION","TRACK MILE","UNDERGROUND","ND",163642,4592,168234,5718,"/mi",1089738,46882,1136620,48863,"/mi"]
["LIGHT RAIL & STREETCAR","CONSTRUCTION","TRACK MILE","UNDERGROUND","OH",163642,4592,168234,5520,"/mi",1089738,46882,1136620,48863,"/mi"]
["LIGHT RAIL & STREETCAR","CONSTRUCTION","TRACK MILE","UNDERGROUND","OK",163642,4592,168234,5096,"/mi",1089738,46882,1136620,48863,"/mi"]
["LIGHT RAIL & STREETCAR","CONSTRUCTION","TRACK MILE","UNDERGROUND","OR",163642,4592,168234,4365,"/mi",1089738,46882,1136620,48863,"/mi"]
["LIGHT RAIL & STREETCAR","CONSTRUCTION","TRACK MILE","UNDERGROUND","PA",163642,4592,168234,4908,"/mi",1089738,46882,1136620,48863,"/mi"]
["LIGHT RAIL & STREETCAR","CONSTRUCTION","TRACK MILE","UNDERGROUND","RI",163642,4592,168234,4918,"/mi",1089738,46882,1136620,48863,"/mi"]
["LIGHT RAIL & STREETCAR","CONSTRUCTION","TRACK MILE","UNDERGROUND","SC",163642,4592,168234,4681,"/mi",1089738,46882,1136620,48863,"/mi"]
["LIGHT RAIL & STREETCAR","CONSTRUCTION","TRACK MILE","UNDERGROUND","SD",163642,4592,168234,4572,"/mi",1089738,46882,1136620,48863,"/mi"]
["LIGHT RAIL & STREETCAR","CONSTRUCTION","TRACK MILE","UNDERGROUND","TN",163642,4592,168234,5046,"/mi",1089738,46882,1136620,48863,"/mi"]
["LIGHT RAIL & STREETCAR","CONSTRUCTION","TRACK MILE","UNDERGROUND","TX",163642,4592,168234,5096,"/mi",1089738,46882,1136620,48863,"/mi"]
["LIGHT RAIL & STREETCAR","CONSTRUCTION","TRACK MILE","UNDERGROUND","UT",163642,4592,168234,5678,"/mi",1089738,46882,1136620,48863,"/mi"]
["LIGHT RAIL & STREETCAR","CONSTRUCTION","TRACK MILE","UNDERGROUND","VT",163642,4592,168234,4127,"/mi",1089738,46882,1136620,48863,"/mi"]
["LIGHT RAIL & STREETCAR","CONSTRUCTION","TRACK MILE","UNDERGROUND","VA",163642,4592,168234,4868,"/mi",1089738,46882,1136620,48863,"/mi"]
["LIGHT RAIL & STREETCAR","CONSTRUCTION","TRACK MILE","UNDERGROUND","WA",163642,4592,168234,4246,"/mi",1089738,46882,1136620,48863,"/mi"]
["LIGHT RAIL & STREETCAR","CONSTRUCTION","TRACK MILE","UNDERGROUND","WV",163642,4592,168234,6024,"/mi",1089738,46882,1136620,48863,"/mi"]
["LIGHT RAIL & STREETCAR","CONSTRUCTION","TRACK MILE","UNDERGROUND","WI",163642,4592,168234,5441,"/mi",1089738,46882,1136620,48863,"/mi"]
["LIGHT RAIL & STREETCAR","CONSTRUCTION","TRACK MILE","UNDERGROUND","WY",163642,4592,168234,6073,"/mi",1089738,46882,1136620,48863,"/mi"]
["LIGHT RAIL & STREETCAR","CONSTRUCTION","TRACK MILE","ELEVATED","-",4901,146,5047,793,"/mi",44466,1492,45958,8094,"/mi"]
["LIGHT RAIL & STREETCAR","CONSTRUCTION","TRACK MILE","AT GRADE","-",348,77,425,138,"/mi",3820,783,4603,1413,"/mi"]
["LIGHT RAIL & STREETCAR","CONSTRUCTION","TRACK MILE","CONV/UPGRADED","-",201,68,269,95,"/mi",2941,697,3638,965,"/mi"]
["LIGHT RAIL & STREETCAR","CONSTRUCTION","CATENARY","-","-",3161,null,3161,null,"/mi",3161,null,3161,"-","/mi"]
["LIGHT RAIL & STREETCAR","CONSTRUCTION","STATION","UNDERGROUND","-",52253,1487,53740,782,"/facility",342790,15183,357973,7984,"/facility"]
["LIGHT RAIL & STREETCAR","CONSTRUCTION","STATION","ELEVATED","-",8337,2399,10736,383,"/facility",548011,24497,572508,3908,"/facility"]
["LIGHT RAIL & STREETCAR","CONSTRUCTION","STATION","AT GRADE","-",3674,112,3786,11,"/facility",24137,1145,25282,113,"/facility"]
["LIGHT RAIL & STREETCAR","MAINTENANCE","TRACK MILE","UNDERGROUND","-",null,null,null,4.42,"/mi/yr",null,null,null,45,"/mi/yr"]
["LIGHT RAIL & STREETCAR","MAINTENANCE","TRACK MILE","ELEVATED","-",null,null,null,4.42,"/mi/yr",null,null,null,45,"/mi/yr"]
["LIGHT RAIL & STREETCAR","MAINTENANCE","TRACK MILE","AT GRADE","-",null,null,null,4.42,"/mi/yr",null,null,null,45,"/mi/yr"]
["LIGHT RAIL & STREETCAR","MAINTENANCE","TRACK MILE","CONV/UPGRADED","-",null,null,null,4.42,"/mi/yr",null,null,null,45,"/mi/yr"]
["LIGHT RAIL & STREETCAR","MAINTENANCE","VEHICLE","-","-",null,null,null,1.2E-5,"/veh-mile/yr",null,null,null,"-","/veh-mile/yr"]
["LIGHT RAIL & STREETCAR","OPERATIONS","VEHICLE","ELECTRIC","US",1.3186176101648449E-3,null,1.3186176101648449E-3,null,"/veh-mile/yr",null,null,2.134527313346625E-2,1.1986268688942781E-2,"/veh-mile/yr"]
["LIGHT RAIL & STREETCAR","OPERATIONS","VEHICLE","ELECTRIC","AKGD",1.68562424032578E-3,null,1.68562424032578E-3,null,"/veh-mile/yr",null,null,2.7849673996345501E-2,1.1986268688942781E-2,"/veh-mile/yr"]
["LIGHT RAIL & STREETCAR","OPERATIONS","VEHICLE","ELECTRIC","AKMS",7.928357287567549E-4,null,7.928357287567549E-4,null,"/veh-mile/yr",null,null,1.9891910010280841E-2,1.1986268688942781E-2,"/veh-mile/yr"]
["LIGHT RAIL & STREETCAR","OPERATIONS","VEHICLE","ELECTRIC","AZNM",1.2419117728218014E-3,null,1.2419117728218014E-3,null,"/veh-mile/yr",null,null,2.0965249778630887E-2,1.1986268688942781E-2,"/veh-mile/yr"]
["LIGHT RAIL & STREETCAR","OPERATIONS","VEHICLE","ELECTRIC","CAMX",7.9557806840666501E-4,null,7.9557806840666501E-4,null,"/veh-mile/yr",null,null,1.9954327806470926E-2,1.1986268688942781E-2,"/veh-mile/yr"]
["LIGHT RAIL & STREETCAR","OPERATIONS","VEHICLE","ELECTRIC","ERCT",1.2338106369820898E-3,null,1.2338106369820898E-3,null,"/veh-mile/yr",null,null,2.1594448433293532E-2,1.1986268688942781E-2,"/veh-mile/yr"]
["LIGHT RAIL & STREETCAR","OPERATIONS","VEHICLE","ELECTRIC","FRCC",1.3016839416816399E-3,null,1.3016839416816399E-3,null,"/veh-mile/yr",null,null,2.3095626257683185E-2,1.1986268688942781E-2,"/veh-mile/yr"]
["LIGHT RAIL & STREETCAR","OPERATIONS","VEHICLE","ELECTRIC","HIMS",1.8532941690428937E-3,null,1.8532941690428937E-3,null,"/veh-mile/yr",null,null,2.8646763980588897E-2,1.1986268688942781E-2,"/veh-mile/yr"]
["LIGHT RAIL & STREETCAR","OPERATIONS","VEHICLE","ELECTRIC","HIOA",2.5287319467786518E-3,null,2.5287319467786518E-3,null,"/veh-mile/yr",null,null,3.5196921700237221E-2,1.1986268688942781E-2,"/veh-mile/yr"]
["LIGHT RAIL & STREETCAR","OPERATIONS","VEHICLE","ELECTRIC","MROE",2.3721604466853765E-3,null,2.3721604466853765E-3,null,"/veh-mile/yr",null,null,3.3116723605062931E-2,1.1986268688942781E-2,"/veh-mile/yr"]
["LIGHT RAIL & STREETCAR","OPERATIONS","VEHICLE","ELECTRIC","MROW",1.5032960998483391E-3,null,1.5032960998483391E-3,null,"/veh-mile/yr",null,null,2.2198284049584471E-2,1.1986268688942781E-2,"/veh-mile/yr"]
["LIGHT RAIL & STREETCAR","OPERATIONS","VEHICLE","ELECTRIC","NEWE",8.6123168738144751E-4,null,8.6123168738144751E-4,null,"/veh-mile/yr",null,null,1.862969389467423E-2,1.1986268688942781E-2,"/veh-mile/yr"]
["LIGHT RAIL & STREETCAR","OPERATIONS","VEHICLE","ELECTRIC","NWPP",9.6543103333550221E-4,null,9.6543103333550221E-4,null,"/veh-mile/yr",null,null,1.9696912353141166E-2,1.1986268688942781E-2,"/veh-mile/yr"]
["LIGHT RAIL & STREETCAR","OPERATIONS","VEHICLE","ELECTRIC","NYCW",1.4127271858323039E-3,null,1.4127271858323039E-3,null,"/veh-mile/yr",null,null,2.6159677588832347E-2,1.1986268688942781E-2,"/veh-mile/yr"]
["LIGHT RAIL & STREETCAR","OPERATIONS","VEHICLE","ELECTRIC","NYLI",1.9269851855738332E-3,null,1.9269851855738332E-3,null,"/veh-mile/yr",null,null,3.5620592599132375E-2,1.1986268688942781E-2,"/veh-mile/yr"]
["LIGHT RAIL & STREETCAR","OPERATIONS","VEHICLE","ELECTRIC","NYUP",4.3882055424121047E-4,null,4.3882055424121047E-4,null,"/veh-mile/yr",null,null,1.3234840373406829E-2,1.1986268688942781E-2,"/veh-mile/yr"]
["LIGHT RAIL & STREETCAR","OPERATIONS","VEHICLE","ELECTRIC","PRMS",2.5494070525064758E-3,null,2.5494070525064758E-3,null,"/veh-mile/yr",null,null,3.6264958669103509E-2,1.1986268688942781E-2,"/veh-mile/yr"]
["LIGHT RAIL & STREETCAR","OPERATIONS","VEHICLE","ELECTRIC","RFCE",1.0521772437953872E-3,null,1.0521772437953872E-3,null,"/veh-mile/yr",null,null,1.7440459031127651E-2,1.1986268688942781E-2,"/veh-mile/yr"]
["LIGHT RAIL & STREETCAR","OPERATIONS","VEHICLE","ELECTRIC","RFCM",1.9506894532275603E-3,null,1.9506894532275603E-3,null,"/veh-mile/yr",null,null,2.7132845019835101E-2,1.1986268688942781E-2,"/veh-mile/yr"]
["LIGHT RAIL & STREETCAR","OPERATIONS","VEHICLE","ELECTRIC","RFCW",1.6028648595021969E-3,null,1.6028648595021969E-3,null,"/veh-mile/yr",null,null,2.1612849904808901E-2,1.1986268688942781E-2,"/veh-mile/yr"]
["LIGHT RAIL & STREETCAR","OPERATIONS","VEHICLE","ELECTRIC","RMPA",1.8033679715350574E-3,null,1.8033679715350574E-3,null,"/veh-mile/yr",null,null,2.7139432495868251E-2,1.1986268688942781E-2,"/veh-mile/yr"]
["LIGHT RAIL & STREETCAR","OPERATIONS","VEHICLE","ELECTRIC","SPNO",1.528732455357646E-3,null,1.528732455357646E-3,null,"/veh-mile/yr",null,null,2.2364686541878814E-2,1.1986268688942781E-2,"/veh-mile/yr"]
["LIGHT RAIL & STREETCAR","OPERATIONS","VEHICLE","ELECTRIC","SPSO",1.5540238062718671E-3,null,1.5540238062718671E-3,null,"/veh-mile/yr",null,null,2.5764471882556605E-2,1.1986268688942781E-2,"/veh-mile/yr"]
["LIGHT RAIL & STREETCAR","OPERATIONS","VEHICLE","ELECTRIC","SRMV",1.2805945371107152E-3,null,1.2805945371107152E-3,null,"/veh-mile/yr",null,null,2.0996576654164597E-2,1.1986268688942781E-2,"/veh-mile/yr"]
["LIGHT RAIL & STREETCAR","OPERATIONS","VEHICLE","ELECTRIC","SRMW",2.1992161750041708E-3,null,2.1992161750041708E-3,null,"/veh-mile/yr",null,null,2.5996150580629821E-2,1.1986268688942781E-2,"/veh-mile/yr"]
["LIGHT RAIL & STREETCAR","OPERATIONS","VEHICLE","ELECTRIC","SRSO",1.430381096919669E-3,null,1.430381096919669E-3,null,"/veh-mile/yr",null,null,2.2904499402000754E-2,1.1986268688942781E-2,"/veh-mile/yr"]
["LIGHT RAIL & STREETCAR","OPERATIONS","VEHICLE","ELECTRIC","SRTV",1.495658660021483E-3,null,1.495658660021483E-3,null,"/veh-mile/yr",null,null,2.064697999383229E-2,1.1986268688942781E-2,"/veh-mile/yr"]
["LIGHT RAIL & STREETCAR","OPERATIONS","VEHICLE","ELECTRIC","SRVC",9.9730336202667248E-4,null,9.9730336202667248E-4,null,"/veh-mile/yr",null,null,1.7079612857753539E-2,1.1986268688942781E-2,"/veh-mile/yr"]
["LIGHT RAIL & STREETCAR","OPERATIONS","VEHICLE","ELECTRIC","100% renewable energy",null,null,null,null,"/veh-mile/yr",null,null,null,1.1986268688942781E-2,"/veh-mile/yr"]
["LIGHT RAIL & STREETCAR","OPERATIONS","STATION","-","-",null,null,null,7.3920000000000001E-3,"/sq-ft/yr",null,null,null,5.7321999999999998E-2,"/sq-ft/yr"]
["LIGHT RAIL & STREETCAR","OPERATIONS","MAINT/STORAGE FAC","ELECTRICITY","-",null,null,null,5.5880000000000001E-3,"/sq-ft/yr",null,null,null,4.3332000000000002E-2,"/sq-ft/yr"]
["LIGHT RAIL & STREETCAR","OPERATIONS","MAINT/STORAGE FAC","HEAT","-",null,null,null,1.7928326000000003E-3,"/sq-ft/yr",null,null,null,8.8710000000000004E-3,"/sq-ft/yr"]
["BUS/BRT","CONSTRUCTION","NEW BRT LANE/ROW","-","-",196,24,220,250,"/mi",1176,248,1424,2551,"/mi"]
["BUS/BRT","CONSTRUCTION","CONV/UPGRADED LANE/ROW","-","-",98,13,111,89,"/mi",975,132,1107,909,"/mi"]
["BUS/BRT","CONSTRUCTION","TROLLEYBUS CATENARY","-","-",902,null,902,null,"/mi",null,null,null,null,"/mi"]
["BUS/BRT","CONSTRUCTION","STATION","-","-",3674,112,3786,11,"/facility",24137,1145,25282,113,"/facility"]
["BUS/BRT","MAINTENANCE","PAVEMENT, BRT","-","-",null,null,null,0.50631999999999999,"/mi/yr",null,null,null,0.50631999999999999,"/mi/yr"]
["BUS/BRT","MAINTENANCE","VEHICLE","-","-",null,null,null,5.0000000000000002E-5,"/veh-mile/yr",null,null,null,5.0000000000000002E-5,"/veh-mile/yr"]
["BUS/BRT","OPERATIONS","VEHICLE","DIESEL","-",1.3799999999999999E-4,1.4300000000000001E-4,2.81E-4,1.3799999999999999E-3,"/veh-mile/yr",1.0920000000000001E-3,2.0590000000000001E-3,3.1510000000000002E-3,1.7440000000000001E-2,"/veh-mile/yr"]
["BUS/BRT","OPERATIONS","VEHICLE","CNG","-",2.9599999999999998E-4,6.4999999999999994E-5,3.6099999999999999E-4,1.2830000000000001E-3,"/veh-mile/yr",2.3930000000000002E-3,9.1799999999999998E-4,3.3110000000000001E-3,2.0518000000000002E-2,"/veh-mile/yr"]
["BUS/BRT","OPERATIONS","VEHICLE","HYBRID DIESEL","-",1.3100000000000001E-4,1.36E-4,2.6699999999999998E-4,1.3140000000000001E-3,"/veh-mile/yr",1.039E-3,1.9589999999999998E-3,2.9979999999999998E-3,1.6596E-2,"/veh-mile/yr"]
["BUS/BRT","OPERATIONS","VEHICLE","GAS","-",0,0,0,null,"/veh-mile/yr",0,0,0,0,"/veh-mile/yr","**No longer an option in GREET"]
["BUS/BRT","OPERATIONS","VEHICLE","ELECTRIC","US MIX",1.0399999999999999E-4,8.7600000000000004E-4,9.7999999999999997E-4,0,"/veh-mile/yr",7.5900000000000002E-4,7.0619999999999997E-3,7.8209999999999998E-3,7.613E-3,"/veh-mile/yr"]
["BUS/BRT","OPERATIONS","VEHICLE","ELECTRIC","ASCC",1.6899999999999999E-4,1.193E-3,1.3619999999999999E-3,0,"/veh-mile/yr",1.413E-3,1.0839E-2,1.2251999999999999E-2,7.613E-3,"/veh-mile/yr"]
["BUS/BRT","OPERATIONS","VEHICLE","ELECTRIC","FRCC",1.46E-4,9.3300000000000002E-4,1.0790000000000001E-3,0,"/veh-mile/yr",1.1850000000000001E-3,7.8890000000000002E-3,9.0740000000000005E-3,7.613E-3,"/veh-mile/yr"]
["BUS/BRT","OPERATIONS","VEHICLE","ELECTRIC","HICC",2.5599999999999999E-4,1.7030000000000001E-3,1.9590000000000002E-3,0,"/veh-mile/yr",2.4710000000000001E-3,1.4385E-2,1.6855999999999999E-2,7.613E-3,"/veh-mile/yr"]
["BUS/BRT","OPERATIONS","VEHICLE","ELECTRIC","MRO",1.1900000000000001E-4,1.2110000000000001E-3,1.33E-3,0,"/veh-mile/yr",7.6499999999999995E-4,9.3640000000000008E-3,1.0129000000000001E-2,7.613E-3,"/veh-mile/yr"]
["BUS/BRT","OPERATIONS","VEHICLE","ELECTRIC","NPCC",1.01E-4,5.3700000000000004E-4,6.38E-4,0,"/veh-mile/yr",8.7299999999999997E-4,5.4510000000000001E-3,6.3239999999999998E-3,7.613E-3,"/veh-mile/yr"]
["BUS/BRT","OPERATIONS","VEHICLE","ELECTRIC","RFC",1.12E-4,8.7500000000000002E-4,9.8700000000000003E-4,0,"/veh-mile/yr",8.4599999999999996E-4,7.1669999999999998E-3,8.0129999999999993E-3,7.613E-3,"/veh-mile/yr"]
["BUS/BRT","OPERATIONS","VEHICLE","ELECTRIC","SERC",1.05E-4,9.4700000000000003E-4,1.052E-3,0,"/veh-mile/yr",7.3300000000000004E-4,7.417E-3,8.1499999999999993E-3,7.613E-3,"/veh-mile/yr"]
["BUS/BRT","OPERATIONS","VEHICLE","ELECTRIC","SPP",8.5000000000000006E-5,8.6499999999999999E-4,9.5E-4,0,"/veh-mile/yr",5.4900000000000001E-4,6.705E-3,7.254E-3,7.613E-3,"/veh-mile/yr"]
["BUS/BRT","OPERATIONS","VEHICLE","ELECTRIC","TRE",1.06E-4,7.8200000000000003E-4,8.8800000000000001E-4,0,"/veh-mile/yr",8.1599999999999999E-4,6.5789999999999998E-3,7.3949999999999997E-3,7.613E-3,"/veh-mile/yr"]
["BUS/BRT","OPERATIONS","VEHICLE","ELECTRIC","WECC",8.2000000000000001E-5,6.9499999999999998E-4,7.7700000000000002E-4,0,"/veh-mile/yr",5.9900000000000003E-4,5.7590000000000002E-3,6.3579999999999999E-3,7.613E-3,"/veh-mile/yr"]
["BUS/BRT","OPERATIONS","VEHICLE","ELECTRIC","100% renewable energy",0,3.9999999999999998E-6,3.9999999999999998E-6,0,"/veh-mile/yr",0,3.8900000000000002E-4,3.8900000000000002E-4,7.613E-3,"/veh-mile/yr"]
["BUS/BRT","OPERATIONS","STATION","ELECTRICITY","-",null,null,null,7.3920000000000001E-3,"/sq-ft/yr",null,null,null,5.7321999999999998E-2,"/sq-ft/yr"]
["BUS/BRT","OPERATIONS","STATION","HEAT","-",null,null,null,1.6549224E-3,"/sq-ft/yr",null,null,null,null,"/sq-ft/yr"]
["BUS/BRT","OPERATIONS","MAINT/STORAGE FAC","ELECTRICITY","-",null,null,null,9.7680000000000006E-3,"/sq-ft/yr",null,null,null,7.5745999999999994E-2,"/sq-ft/yr"]
["BUS/BRT","OPERATIONS","MAINT/STORAGE FAC","HEAT","-",null,null,null,1.0343265000000001E-3,"/sq-ft/yr",null,null,null,5.1180000000000002E-3,"/sq-ft/yr"]
["VP, SB, DR, DISPLACED AUTOS","OPERATIONS","VANPOOL","DIESEL","-",1.07E-4,1.12E-4,2.1900000000000001E-4,1.0759999999999999E-3,"/veh-mile/yr",8.4999999999999995E-4,1.6019999999999999E-3,2.4519999999999998E-3,1.3573999999999999E-2,"/veh-mile/yr"]
["VP, SB, DR, DISPLACED AUTOS","OPERATIONS","VANPOOL","GAS","-",0,0,0,0,null,0,0,0,0,"/veh-mile/yr","**No longer an option in GREET"]
["VP, SB, DR, DISPLACED AUTOS","OPERATIONS","SCHOOL BUS","DIESEL","-",1.07E-4,1.12E-4,2.1900000000000001E-4,1.073E-3,"/veh-mile/yr",8.4999999999999995E-4,1.6019999999999999E-3,2.4519999999999998E-3,1.3573999999999999E-2,"/veh-mile/yr"]
["VP, SB, DR, DISPLACED AUTOS","OPERATIONS","SCHOOL BUS","CNG","-",2.43E-4,5.3000000000000001E-5,2.9599999999999998E-4,1.0499999999999999E-3,"/veh-mile/yr",1.9650000000000002E-3,7.54E-4,2.7190000000000001E-3,1.685E-2,"/veh-mile/yr"]
["VP, SB, DR, DISPLACED AUTOS","OPERATIONS","DR BUS","DIESEL","-",1.07E-4,1.12E-4,2.1900000000000001E-4,1.0759999999999999E-3,"/veh-mile/yr",8.4999999999999995E-4,1.6019999999999999E-3,2.4519999999999998E-3,1.3573999999999999E-2,"/veh-mile/yr"]
["VP, SB, DR, DISPLACED AUTOS","OPERATIONS","DR BUS","CNG","-",2.31E-4,5.0000000000000002E-5,2.81E-4,9.9500000000000001E-4,"/veh-mile/yr",1.8630000000000001E-3,7.1500000000000003E-4,2.578E-3,1.5970000000000002E-2,"/veh-mile/yr"]
["VP, SB, DR, DISPLACED AUTOS","OPERATIONS","SEDAN/AUTO","GAS","-",6.0000000000000002E-6,7.1000000000000005E-5,7.7000000000000001E-5,3.3E-4,"/veh-mile/yr",2.1599999999999999E-4,9.4399999999999996E-4,1.16E-3,4.2890000000000003E-3,"/veh-mile/yr"]
["VP, SB, DR, DISPLACED AUTOS","OPERATIONS","SEDAN/AUTO","DIESEL","-",2.8E-5,2.9E-5,5.7000000000000003E-5,2.8400000000000002E-4,"/veh-mile/yr",2.22E-4,4.1899999999999999E-4,6.4099999999999997E-4,3.5530000000000002E-3,"/veh-mile/yr"]
["VP, SB, DR, DISPLACED AUTOS","OPERATIONS","SEDAN/AUTO","SI HEV-GAS","-",3.9999999999999998E-6,5.1E-5,5.5000000000000002E-5,2.3699999999999999E-4,"/veh-mile/yr",1.55E-4,6.7699999999999998E-4,8.3199999999999995E-4,3.0760000000000002E-3,"/veh-mile/yr"]
["VP, SB, DR, DISPLACED AUTOS","OPERATIONS","SEDAN/AUTO","ALL ELECTRIC","US MIX",1.8E-5,1.4799999999999999E-4,1.66E-4,0,"/veh-mile/yr",1.2799999999999999E-4,1.1900000000000001E-3,1.3180000000000002E-3,1.2830000000000001E-3,"/veh-mile/yr"]
["VP, SB, DR, DISPLACED AUTOS","OPERATIONS","SEDAN/AUTO","ALL ELECTRIC","ASCC",2.9E-5,2.0100000000000001E-4,2.3000000000000001E-4,0,"/veh-mile/yr",2.3800000000000001E-4,1.8270000000000001E-3,2.065E-3,1.2830000000000001E-3,"/veh-mile/yr"]
["VP, SB, DR, DISPLACED AUTOS","OPERATIONS","SEDAN/AUTO","ALL ELECTRIC","FRCC",2.5000000000000001E-5,1.5699999999999999E-4,1.8200000000000001E-4,0,"/veh-mile/yr",2.0000000000000001E-4,1.33E-3,1.5300000000000001E-3,1.2830000000000001E-3,"/veh-mile/yr"]
["VP, SB, DR, DISPLACED AUTOS","OPERATIONS","SEDAN/AUTO","ALL ELECTRIC","HICC",4.3000000000000002E-5,2.8699999999999998E-4,3.3E-4,0,"/veh-mile/yr",4.17E-4,2.4250000000000001E-3,2.8419999999999999E-3,1.2830000000000001E-3,"/veh-mile/yr"]
["VP, SB, DR, DISPLACED AUTOS","OPERATIONS","SEDAN/AUTO","ALL ELECTRIC","MRO",2.0000000000000002E-5,2.04E-4,2.24E-4,0,"/veh-mile/yr",1.2899999999999999E-4,1.5790000000000001E-3,1.7080000000000001E-3,1.2830000000000001E-3,"/veh-mile/yr"]
["VP, SB, DR, DISPLACED AUTOS","OPERATIONS","SEDAN/AUTO","ALL ELECTRIC","NPCC",1.7E-5,9.0000000000000006E-5,1.07E-4,0,"/veh-mile/yr",1.47E-4,6.2299999999999996E-4,7.6999999999999996E-4,1.2830000000000001E-3,"/veh-mile/yr"]
["VP, SB, DR, DISPLACED AUTOS","OPERATIONS","SEDAN/AUTO","ALL ELECTRIC","RFC",1.9000000000000001E-5,1.4799999999999999E-4,1.6699999999999999E-4,0,"/veh-mile/yr",1.4300000000000001E-4,1.2080000000000001E-3,1.3510000000000002E-3,1.2830000000000001E-3,"/veh-mile/yr"]
["VP, SB, DR, DISPLACED AUTOS","OPERATIONS","SEDAN/AUTO","ALL ELECTRIC","SERC",1.8E-5,1.6000000000000001E-4,1.7800000000000002E-4,0,"/veh-mile/yr",1.2300000000000001E-4,1.25E-3,1.3730000000000001E-3,1.2830000000000001E-3,"/veh-mile/yr"]
["VP, SB, DR, DISPLACED AUTOS","OPERATIONS","SEDAN/AUTO","ALL ELECTRIC","SPP",1.4E-5,1.46E-4,1.5999999999999999E-4,0,"/veh-mile/yr",9.2999999999999997E-5,1.1299999999999999E-3,1.2229999999999999E-3,1.2830000000000001E-3,"/veh-mile/yr"]
["VP, SB, DR, DISPLACED AUTOS","OPERATIONS","SEDAN/AUTO","ALL ELECTRIC","TRE",1.8E-5,1.3200000000000001E-4,1.5000000000000001E-4,0,"/veh-mile/yr",1.3799999999999999E-4,1.109E-3,1.2469999999999998E-3,1.2830000000000001E-3,"/veh-mile/yr"]
["VP, SB, DR, DISPLACED AUTOS","OPERATIONS","SEDAN/AUTO","ALL ELECTRIC","WECC",1.4E-5,1.17E-4,1.3099999999999999E-4,0,"/veh-mile/yr",1.01E-4,9.7099999999999997E-4,1.072E-3,1.2830000000000001E-3,"/veh-mile/yr"]
["VP, SB, DR, DISPLACED AUTOS","OPERATIONS","SEDAN/AUTO","ALL ELECTRIC","100% renewable energy",0,0,0,0,"/veh-mile/yr",0,6.6000000000000005E-5,6.6000000000000005E-5,1.2830000000000001E-3,"/veh-mile/yr"]
["VP, SB, DR, DISPLACED AUTOS","OPERATIONS","SEDAN/AUTO","PHEV-GAS","US MIX",1.2999999999999999E-5,1.1400000000000001E-4,1.27E-4,1.02E-4,"/veh-mile/yr",1.46E-4,1.034E-3,1.1800000000000001E-3,2.1210000000000001E-3,"/veh-mile/yr"]
["VP, SB, DR, DISPLACED AUTOS","OPERATIONS","SEDAN/AUTO","PHEV-GAS","ASCC",2.0000000000000002E-5,1.4799999999999999E-4,1.6799999999999999E-4,1.02E-4,"/veh-mile/yr",2.2100000000000001E-4,1.438E-3,1.6590000000000001E-3,2.1210000000000001E-3,"/veh-mile/yr"]
["VP, SB, DR, DISPLACED AUTOS","OPERATIONS","SEDAN/AUTO","PHEV-GAS","FRCC",1.7E-5,1.2E-4,1.37E-4,1.02E-4,"/veh-mile/yr",1.93E-4,1.1230000000000001E-3,1.3160000000000001E-3,2.1210000000000001E-3,"/veh-mile/yr"]
["VP, SB, DR, DISPLACED AUTOS","OPERATIONS","SEDAN/AUTO","PHEV-GAS","HICC",3.0000000000000001E-5,2.03E-4,2.33E-4,1.02E-4,"/veh-mile/yr",3.28E-4,1.8190000000000001E-3,2.147E-3,2.1210000000000001E-3,"/veh-mile/yr"]
["VP, SB, DR, DISPLACED AUTOS","OPERATIONS","SEDAN/AUTO","PHEV-GAS","MRO",1.5E-5,1.4999999999999999E-4,1.65E-4,1.02E-4,"/veh-mile/yr",1.4999999999999999E-4,1.2800000000000001E-3,1.4300000000000001E-3,2.1210000000000001E-3,"/veh-mile/yr"]
["VP, SB, DR, DISPLACED AUTOS","OPERATIONS","SEDAN/AUTO","PHEV-GAS","NPCC",1.2E-5,7.7999999999999999E-5,8.9999999999999992E-5,1.02E-4,"/veh-mile/yr",1.56E-4,8.6200000000000003E-4,1.018E-3,2.1210000000000001E-3,"/veh-mile/yr"]
["VP, SB, DR, DISPLACED AUTOS","OPERATIONS","SEDAN/AUTO","PHEV-GAS","RFC",1.4E-5,1.1400000000000001E-4,1.2799999999999999E-4,1.02E-4,"/veh-mile/yr",1.56E-4,1.0449999999999999E-3,1.2009999999999998E-3,2.1210000000000001E-3,"/veh-mile/yr"]
["VP, SB, DR, DISPLACED AUTOS","OPERATIONS","SEDAN/AUTO","PHEV-GAS","SERC",1.2999999999999999E-5,1.22E-4,1.35E-4,1.02E-4,"/veh-mile/yr",1.44E-4,1.072E-3,1.2160000000000001E-3,2.1210000000000001E-3,"/veh-mile/yr"]
["VP, SB, DR, DISPLACED AUTOS","OPERATIONS","SEDAN/AUTO","PHEV-GAS","SPP",1.1E-5,1.13E-4,1.2400000000000001E-4,1.02E-4,"/veh-mile/yr",1.2400000000000001E-4,9.9500000000000001E-4,1.119E-3,2.1210000000000001E-3,"/veh-mile/yr"]
["VP, SB, DR, DISPLACED AUTOS","OPERATIONS","SEDAN/AUTO","PHEV-GAS","TRE",1.2999999999999999E-5,1.0399999999999999E-4,1.17E-4,1.02E-4,"/veh-mile/yr",1.5200000000000001E-4,9.8200000000000002E-4,1.134E-3,2.1210000000000001E-3,"/veh-mile/yr"]
["VP, SB, DR, DISPLACED AUTOS","OPERATIONS","SEDAN/AUTO","PHEV-GAS","WECC",1.0000000000000001E-5,9.5000000000000005E-5,1.05E-4,1.02E-4,"/veh-mile/yr",1.2799999999999999E-4,8.9400000000000005E-4,1.0220000000000001E-3,2.1210000000000001E-3,"/veh-mile/yr"]
["VP, SB, DR, DISPLACED AUTOS","OPERATIONS","SEDAN/AUTO","PHEV-GAS","100% renewable energy",9.9999999999999995E-7,2.1999999999999999E-5,2.3E-5,1.02E-4,"/veh-mile/yr",6.3999999999999997E-5,3.28E-4,3.9199999999999999E-4,2.1210000000000001E-3,"/veh-mile/yr"]
["PARKING","CONSTRUCTION","LOT < 50","-","-",0.17,7.0000000000000007E-2,0.24000000000000002,0.18,"/space",2.5796000000000001,0.67223999999999995,3.2518400000000001,1.8245,"/space"]
["PARKING","CONSTRUCTION","GARAGE < 50","-","-",5.3,0.14000000000000001,5.4399999999999995,1,"/space",44.043999999999997,1.4590000000000001,45.503,10.304500000000001,"/space"]
["PARKING","CONSTRUCTION","LOT 50 - 500","-","-",0.2114,9.1199999999999989E-2,0.30259999999999998,0.2082,"/space",3.2316363636363636,0.93099999999999994,4.1626363636363637,2.1272727272727274,"/space"]
["PARKING","CONSTRUCTION","GARAGE 50 - 500","-","-",5.3688000000000002,0.14660000000000001,5.5154000000000005,0.74739999999999995,"/space",44.36,1.4975999999999998,45.857599999999998,7.6308000000000007,"/space"]
["PARKING","CONSTRUCTION","LOT > 500","-","-",0.22838,0.1128,0.34117999999999998,0.20827999999999999,"/space",3.5688727272727276,1.1515636363636363,4.720436363636364,2.1261090909090909,"/space"]
["PARKING","CONSTRUCTION","GARAGE > 500","-","-",5.4148999999999994,0.15424000000000002,5.5691399999999991,0.74221999999999999,"/space",44.992727272727272,1.73214,46.724867272727273,7.5768363636363638,"/space"]
["C STORAGE","CARBON SEQUESTRATION LOSS DUE TO TREE REMOVAL",null,null,null,null,null,null,0.83679999999999999,"/tree/yr",null,null,null,null,"/tree/yr"]